{"text_format":"1","workbook":"xlsx","n_sheets":3,"sheets":["BD","Romaneio da Carga","Plan3"],"not_rendered":{"charts":0,"images":0,"macros":1,"external_links":0,"defined_names":1,"comments":0,"pivot_tables":0},"unopened":[],"bounds":{"document_bytes":16777216,"sheet_cells":100000,"rows_first":2000,"rows_last":500,"rows_between":2000,"halvings":0,"cell_chars":16384,"cell_head_chars":4096},"cells_cut":0,"cells_raw":0,"read":"whole","date_system":"1900"}

{"sheet":"BD","index":0,"n_rows":5000,"n_cols":2,"rows_kept":5000,"cut":false,"hidden":false,"merged":[]}
[null,{"$f":"IFERROR(IF(A1=\"\",\"\",IF(VLOOKUP(A1,'Romaneio da Carga'!E:E,1,0)=BD!A1,\"Volume Ok\",\"Volume não pertence a carga\")),\"Volume não pertence a carga\")","v":""}]
[null,{"$f":"IFERROR(IF(A2=\"\",\"\",IF(VLOOKUP(A2,'Romaneio da Carga'!E:E,1,0)=BD!A2,\"Volume Ok\",\"Volume não pertence a carga\")),\"Volume não pertence a carga\")","v":""}]
[null,{"$f":"IFERROR(IF(A3=\"\",\"\",IF(VLOOKUP(A3,'Romaneio da Carga'!E:E,1,0)=BD!A3,\"Volume Ok\",\"Volume não pertence a carga\")),\"Volume não pertence a carga\")","v":""}]
[null,{"$f":"IFERROR(IF(A4=\"\",\"\",IF(VLOOKUP(A4,'Romaneio da Carga'!E:E,1,0)=BD!A4,\"Volume Ok\",\"Volume não pertence a carga\")),\"Volume não pertence a carga\")","v":""}]
[null,{"$f":"IFERROR(IF(A5=\"\",\"\",IF(VLOOKUP(A5,'Romaneio da Carga'!E:E,1,0)=BD!A5,\"Volume Ok\",\"Volume não pertence a carga\")),\"Volume não pertence a carga\")","v":""}]
[null,{"$f":"IFERROR(IF(A6=\"\",\"\",IF(VLOOKUP(A6,'Romaneio da Carga'!E:E,1,0)=BD!A6,\"Volume Ok\",\"Volume não pertence a carga\")),\"Volume não pertence a carga\")","v":""}]
[null,{"$f":"IFERROR(IF(A7=\"\",\"\",IF(VLOOKUP(A7,'Romaneio da Carga'!E:E,1,0)=BD!A7,\"Volume Ok\",\"Volume não pertence a carga\")),\"Volume não pertence a carga\")","v":""}]
[null,{"$f":"IFERROR(IF(A8=\"\",\"\",IF(VLOOKUP(A8,'Romaneio da Carga'!E:E,1,0)=BD!A8,\"Volume Ok\",\"Volume não pertence a carga\")),\"Volume não pertence a carga\")","v":""}]
[null,{"$f":"IFERROR(IF(A9=\"\",\"\",IF(VLOOKUP(A9,'Romaneio da Carga'!E:E,1,0)=BD!A9,\"Volume Ok\",\"Volume não pertence a carga\")),\"Volume não pertence a carga\")","v":""}]
[null,{"$f":"IFERROR(IF(A10=\"\",\"\",IF(VLOOKUP(A10,'Romaneio da Carga'!E:E,1,0)=BD!A10,\"Volume Ok\",\"Volume não pertence a carga\")),\"Volume não pertence a carga\")","v":""}]
[null,{"$f":"IFERROR(IF(A11=\"\",\"\",IF(VLOOKUP(A11,'Romaneio da Carga'!E:E,1,0)=BD!A11,\"Volume Ok\",\"Volume não pertence a carga\")),\"Volume não pertence a carga\")","v":""}]
[null,{"$f":"IFERROR(IF(A12=\"\",\"\",IF(VLOOKUP(A12,'Romaneio da Carga'!E:E,1,0)=BD!A12,\"Volume Ok\",\"Volume não pertence a carga\")),\"Volume não pertence a carga\")","v":""}]
[null,{"$f":"IFERROR(IF(A13=\"\",\"\",IF(VLOOKUP(A13,'Romaneio da Carga'!E:E,1,0)=BD!A13,\"Volume Ok\",\"Volume não pertence a carga\")),\"Volume não pertence a carga\")","v":""}]
[null,{"$f":"IFERROR(IF(A14=\"\",\"\",IF(VLOOKUP(A14,'Romaneio da Carga'!E:E,1,0)=BD!A14,\"Volume Ok\",\"Volume não pertence a carga\")),\"Volume não pertence a carga\")","v":""}]
[null,{"$f":"IFERROR(IF(A15=\"\",\"\",IF(VLOOKUP(A15,'Romaneio da Carga'!E:E,1,0)=BD!A15,\"Volume Ok\",\"Volume não pertence a carga\")),\"Volume não pertence a carga\")","v":""}]
[null,{"$f":"IFERROR(IF(A16=\"\",\"\",IF(VLOOKUP(A16,'Romaneio da Carga'!E:E,1,0)=BD!A16,\"Volume Ok\",\"Volume não pertence a carga\")),\"Volume não pertence a carga\")","v":""}]
[null,{"$f":"IFERROR(IF(A17=\"\",\"\",IF(VLOOKUP(A17,'Romaneio da Carga'!E:E,1,0)=BD!A17,\"Volume Ok\",\"Volume não pertence a carga\")),\"Volume não pertence a carga\")","v":""}]
[null,{"$f":"IFERROR(IF(A18=\"\",\"\",IF(VLOOKUP(A18,'Romaneio da Carga'!E:E,1,0)=BD!A18,\"Volume Ok\",\"Volume não pertence a carga\")),\"Volume não pertence a carga\")","v":""}]
[null,{"$f":"IFERROR(IF(A19=\"\",\"\",IF(VLOOKUP(A19,'Romaneio da Carga'!E:E,1,0)=BD!A19,\"Volume Ok\",\"Volume não pertence a carga\")),\"Volume não pertence a carga\")","v":""}]
[null,{"$f":"IFERROR(IF(A20=\"\",\"\",IF(VLOOKUP(A20,'Romaneio da Carga'!E:E,1,0)=BD!A20,\"Volume Ok\",\"Volume não pertence a carga\")),\"Volume não pertence a carga\")","v":""}]
[null,{"$f":"IFERROR(IF(A21=\"\",\"\",IF(VLOOKUP(A21,'Romaneio da Carga'!E:E,1,0)=BD!A21,\"Volume Ok\",\"Volume não pertence a carga\")),\"Volume não pertence a carga\")","v":""}]
[null,{"$f":"IFERROR(IF(A22=\"\",\"\",IF(VLOOKUP(A22,'Romaneio da Carga'!E:E,1,0)=BD!A22,\"Volume Ok\",\"Volume não pertence a carga\")),\"Volume não pertence a carga\")","v":""}]
[null,{"$f":"IFERROR(IF(A23=\"\",\"\",IF(VLOOKUP(A23,'Romaneio da Carga'!E:E,1,0)=BD!A23,\"Volume Ok\",\"Volume não pertence a carga\")),\"Volume não pertence a carga\")","v":""}]
[null,{"$f":"IFERROR(IF(A24=\"\",\"\",IF(VLOOKUP(A24,'Romaneio da Carga'!E:E,1,0)=BD!A24,\"Volume Ok\",\"Volume não pertence a carga\")),\"Volume não pertence a carga\")","v":""}]
[null,{"$f":"IFERROR(IF(A25=\"\",\"\",IF(VLOOKUP(A25,'Romaneio da Carga'!E:E,1,0)=BD!A25,\"Volume Ok\",\"Volume não pertence a carga\")),\"Volume não pertence a carga\")","v":""}]
[null,{"$f":"IFERROR(IF(A26=\"\",\"\",IF(VLOOKUP(A26,'Romaneio da Carga'!E:E,1,0)=BD!A26,\"Volume Ok\",\"Volume não pertence a carga\")),\"Volume não pertence a carga\")","v":""}]
[null,{"$f":"IFERROR(IF(A27=\"\",\"\",IF(VLOOKUP(A27,'Romaneio da Carga'!E:E,1,0)=BD!A27,\"Volume Ok\",\"Volume não pertence a carga\")),\"Volume não pertence a carga\")","v":""}]
[null,{"$f":"IFERROR(IF(A28=\"\",\"\",IF(VLOOKUP(A28,'Romaneio da Carga'!E:E,1,0)=BD!A28,\"Volume Ok\",\"Volume não pertence a carga\")),\"Volume não pertence a carga\")","v":""}]
[null,{"$f":"IFERROR(IF(A29=\"\",\"\",IF(VLOOKUP(A29,'Romaneio da Carga'!E:E,1,0)=BD!A29,\"Volume Ok\",\"Volume não pertence a carga\")),\"Volume não pertence a carga\")","v":""}]
[null,{"$f":"IFERROR(IF(A30=\"\",\"\",IF(VLOOKUP(A30,'Romaneio da Carga'!E:E,1,0)=BD!A30,\"Volume Ok\",\"Volume não pertence a carga\")),\"Volume não pertence a carga\")","v":""}]
[null,{"$f":"IFERROR(IF(A31=\"\",\"\",IF(VLOOKUP(A31,'Romaneio da Carga'!E:E,1,0)=BD!A31,\"Volume Ok\",\"Volume não pertence a carga\")),\"Volume não pertence a carga\")","v":""}]
[null,{"$f":"IFERROR(IF(A32=\"\",\"\",IF(VLOOKUP(A32,'Romaneio da Carga'!E:E,1,0)=BD!A32,\"Volume Ok\",\"Volume não pertence a carga\")),\"Volume não pertence a carga\")","v":""}]
[null,{"$f":"IFERROR(IF(A33=\"\",\"\",IF(VLOOKUP(A33,'Romaneio da Carga'!E:E,1,0)=BD!A33,\"Volume Ok\",\"Volume não pertence a carga\")),\"Volume não pertence a carga\")","v":""}]
[null,{"$f":"IFERROR(IF(A34=\"\",\"\",IF(VLOOKUP(A34,'Romaneio da Carga'!E:E,1,0)=BD!A34,\"Volume Ok\",\"Volume não pertence a carga\")),\"Volume não pertence a carga\")","v":""}]
[null,{"$f":"IFERROR(IF(A35=\"\",\"\",IF(VLOOKUP(A35,'Romaneio da Carga'!E:E,1,0)=BD!A35,\"Volume Ok\",\"Volume não pertence a carga\")),\"Volume não pertence a carga\")","v":""}]
[null,{"$f":"IFERROR(IF(A36=\"\",\"\",IF(VLOOKUP(A36,'Romaneio da Carga'!E:E,1,0)=BD!A36,\"Volume Ok\",\"Volume não pertence a carga\")),\"Volume não pertence a carga\")","v":""}]
[null,{"$f":"IFERROR(IF(A37=\"\",\"\",IF(VLOOKUP(A37,'Romaneio da Carga'!E:E,1,0)=BD!A37,\"Volume Ok\",\"Volume não pertence a carga\")),\"Volume não pertence a carga\")","v":""}]
[null,{"$f":"IFERROR(IF(A38=\"\",\"\",IF(VLOOKUP(A38,'Romaneio da Carga'!E:E,1,0)=BD!A38,\"Volume Ok\",\"Volume não pertence a carga\")),\"Volume não pertence a carga\")","v":""}]
[null,{"$f":"IFERROR(IF(A39=\"\",\"\",IF(VLOOKUP(A39,'Romaneio da Carga'!E:E,1,0)=BD!A39,\"Volume Ok\",\"Volume não pertence a carga\")),\"Volume não pertence a carga\")","v":""}]
[null,{"$f":"IFERROR(IF(A40=\"\",\"\",IF(VLOOKUP(A40,'Romaneio da Carga'!E:E,1,0)=BD!A40,\"Volume Ok\",\"Volume não pertence a carga\")),\"Volume não pertence a carga\")","v":""}]
[null,{"$f":"IFERROR(IF(A41=\"\",\"\",IF(VLOOKUP(A41,'Romaneio da Carga'!E:E,1,0)=BD!A41,\"Volume Ok\",\"Volume não pertence a carga\")),\"Volume não pertence a carga\")","v":""}]
[null,{"$f":"IFERROR(IF(A42=\"\",\"\",IF(VLOOKUP(A42,'Romaneio da Carga'!E:E,1,0)=BD!A42,\"Volume Ok\",\"Volume não pertence a carga\")),\"Volume não pertence a carga\")","v":""}]
[null,{"$f":"IFERROR(IF(A43=\"\",\"\",IF(VLOOKUP(A43,'Romaneio da Carga'!E:E,1,0)=BD!A43,\"Volume Ok\",\"Volume não pertence a carga\")),\"Volume não pertence a carga\")","v":""}]
[null,{"$f":"IFERROR(IF(A44=\"\",\"\",IF(VLOOKUP(A44,'Romaneio da Carga'!E:E,1,0)=BD!A44,\"Volume Ok\",\"Volume não pertence a carga\")),\"Volume não pertence a carga\")","v":""}]
[null,{"$f":"IFERROR(IF(A45=\"\",\"\",IF(VLOOKUP(A45,'Romaneio da Carga'!E:E,1,0)=BD!A45,\"Volume Ok\",\"Volume não pertence a carga\")),\"Volume não pertence a carga\")","v":""}]
[null,{"$f":"IFERROR(IF(A46=\"\",\"\",IF(VLOOKUP(A46,'Romaneio da Carga'!E:E,1,0)=BD!A46,\"Volume Ok\",\"Volume não pertence a carga\")),\"Volume não pertence a carga\")","v":""}]
[null,{"$f":"IFERROR(IF(A47=\"\",\"\",IF(VLOOKUP(A47,'Romaneio da Carga'!E:E,1,0)=BD!A47,\"Volume Ok\",\"Volume não pertence a carga\")),\"Volume não pertence a carga\")","v":""}]
[null,{"$f":"IFERROR(IF(A48=\"\",\"\",IF(VLOOKUP(A48,'Romaneio da Carga'!E:E,1,0)=BD!A48,\"Volume Ok\",\"Volume não pertence a carga\")),\"Volume não pertence a carga\")","v":""}]
[null,{"$f":"IFERROR(IF(A49=\"\",\"\",IF(VLOOKUP(A49,'Romaneio da Carga'!E:E,1,0)=BD!A49,\"Volume Ok\",\"Volume não pertence a carga\")),\"Volume não pertence a carga\")","v":""}]
[null,{"$f":"IFERROR(IF(A50=\"\",\"\",IF(VLOOKUP(A50,'Romaneio da Carga'!E:E,1,0)=BD!A50,\"Volume Ok\",\"Volume não pertence a carga\")),\"Volume não pertence a carga\")","v":""}]
[null,{"$f":"IFERROR(IF(A51=\"\",\"\",IF(VLOOKUP(A51,'Romaneio da Carga'!E:E,1,0)=BD!A51,\"Volume Ok\",\"Volume não pertence a carga\")),\"Volume não pertence a carga\")","v":""}]
[null,{"$f":"IFERROR(IF(A52=\"\",\"\",IF(VLOOKUP(A52,'Romaneio da Carga'!E:E,1,0)=BD!A52,\"Volume Ok\",\"Volume não pertence a carga\")),\"Volume não pertence a carga\")","v":""}]
[null,{"$f":"IFERROR(IF(A53=\"\",\"\",IF(VLOOKUP(A53,'Romaneio da Carga'!E:E,1,0)=BD!A53,\"Volume Ok\",\"Volume não pertence a carga\")),\"Volume não pertence a carga\")","v":""}]
[null,{"$f":"IFERROR(IF(A54=\"\",\"\",IF(VLOOKUP(A54,'Romaneio da Carga'!E:E,1,0)=BD!A54,\"Volume Ok\",\"Volume não pertence a carga\")),\"Volume não pertence a carga\")","v":""}]
[null,{"$f":"IFERROR(IF(A55=\"\",\"\",IF(VLOOKUP(A55,'Romaneio da Carga'!E:E,1,0)=BD!A55,\"Volume Ok\",\"Volume não pertence a carga\")),\"Volume não pertence a carga\")","v":""}]
[null,{"$f":"IFERROR(IF(A56=\"\",\"\",IF(VLOOKUP(A56,'Romaneio da Carga'!E:E,1,0)=BD!A56,\"Volume Ok\",\"Volume não pertence a carga\")),\"Volume não pertence a carga\")","v":""}]
[null,{"$f":"IFERROR(IF(A57=\"\",\"\",IF(VLOOKUP(A57,'Romaneio da Carga'!E:E,1,0)=BD!A57,\"Volume Ok\",\"Volume não pertence a carga\")),\"Volume não pertence a carga\")","v":""}]
[null,{"$f":"IFERROR(IF(A58=\"\",\"\",IF(VLOOKUP(A58,'Romaneio da Carga'!E:E,1,0)=BD!A58,\"Volume Ok\",\"Volume não pertence a carga\")),\"Volume não pertence a carga\")","v":""}]
[null,{"$f":"IFERROR(IF(A59=\"\",\"\",IF(VLOOKUP(A59,'Romaneio da Carga'!E:E,1,0)=BD!A59,\"Volume Ok\",\"Volume não pertence a carga\")),\"Volume não pertence a carga\")","v":""}]
[null,{"$f":"IFERROR(IF(A60=\"\",\"\",IF(VLOOKUP(A60,'Romaneio da Carga'!E:E,1,0)=BD!A60,\"Volume Ok\",\"Volume não pertence a carga\")),\"Volume não pertence a carga\")","v":""}]
[null,{"$f":"IFERROR(IF(A61=\"\",\"\",IF(VLOOKUP(A61,'Romaneio da Carga'!E:E,1,0)=BD!A61,\"Volume Ok\",\"Volume não pertence a carga\")),\"Volume não pertence a carga\")","v":""}]
[null,{"$f":"IFERROR(IF(A62=\"\",\"\",IF(VLOOKUP(A62,'Romaneio da Carga'!E:E,1,0)=BD!A62,\"Volume Ok\",\"Volume não pertence a carga\")),\"Volume não pertence a carga\")","v":""}]
[null,{"$f":"IFERROR(IF(A63=\"\",\"\",IF(VLOOKUP(A63,'Romaneio da Carga'!E:E,1,0)=BD!A63,\"Volume Ok\",\"Volume não pertence a carga\")),\"Volume não pertence a carga\")","v":""}]
[null,{"$f":"IFERROR(IF(A64=\"\",\"\",IF(VLOOKUP(A64,'Romaneio da Carga'!E:E,1,0)=BD!A64,\"Volume Ok\",\"Volume não pertence a carga\")),\"Volume não pertence a carga\")","v":""}]
[null,{"$f":"IFERROR(IF(A65=\"\",\"\",IF(VLOOKUP(A65,'Romaneio da Carga'!E:E,1,0)=BD!A65,\"Volume Ok\",\"Volume não pertence a carga\")),\"Volume não pertence a carga\")","v":""}]
[null,{"$f":"IFERROR(IF(A66=\"\",\"\",IF(VLOOKUP(A66,'Romaneio da Carga'!E:E,1,0)=BD!A66,\"Volume Ok\",\"Volume não pertence a carga\")),\"Volume não pertence a carga\")","v":""}]
[null,{"$f":"IFERROR(IF(A67=\"\",\"\",IF(VLOOKUP(A67,'Romaneio da Carga'!E:E,1,0)=BD!A67,\"Volume Ok\",\"Volume não pertence a carga\")),\"Volume não pertence a carga\")","v":""}]
[null,{"$f":"IFERROR(IF(A68=\"\",\"\",IF(VLOOKUP(A68,'Romaneio da Carga'!E:E,1,0)=BD!A68,\"Volume Ok\",\"Volume não pertence a carga\")),\"Volume não pertence a carga\")","v":""}]
[null,{"$f":"IFERROR(IF(A69=\"\",\"\",IF(VLOOKUP(A69,'Romaneio da Carga'!E:E,1,0)=BD!A69,\"Volume Ok\",\"Volume não pertence a carga\")),\"Volume não pertence a carga\")","v":""}]
[null,{"$f":"IFERROR(IF(A70=\"\",\"\",IF(VLOOKUP(A70,'Romaneio da Carga'!E:E,1,0)=BD!A70,\"Volume Ok\",\"Volume não pertence a carga\")),\"Volume não pertence a carga\")","v":""}]
[null,{"$f":"IFERROR(IF(A71=\"\",\"\",IF(VLOOKUP(A71,'Romaneio da Carga'!E:E,1,0)=BD!A71,\"Volume Ok\",\"Volume não pertence a carga\")),\"Volume não pertence a carga\")","v":""}]
[null,{"$f":"IFERROR(IF(A72=\"\",\"\",IF(VLOOKUP(A72,'Romaneio da Carga'!E:E,1,0)=BD!A72,\"Volume Ok\",\"Volume não pertence a carga\")),\"Volume não pertence a carga\")","v":""}]
[null,{"$f":"IFERROR(IF(A73=\"\",\"\",IF(VLOOKUP(A73,'Romaneio da Carga'!E:E,1,0)=BD!A73,\"Volume Ok\",\"Volume não pertence a carga\")),\"Volume não pertence a carga\")","v":""}]
[null,{"$f":"IFERROR(IF(A74=\"\",\"\",IF(VLOOKUP(A74,'Romaneio da Carga'!E:E,1,0)=BD!A74,\"Volume Ok\",\"Volume não pertence a carga\")),\"Volume não pertence a carga\")","v":""}]
[null,{"$f":"IFERROR(IF(A75=\"\",\"\",IF(VLOOKUP(A75,'Romaneio da Carga'!E:E,1,0)=BD!A75,\"Volume Ok\",\"Volume não pertence a carga\")),\"Volume não pertence a carga\")","v":""}]
[null,{"$f":"IFERROR(IF(A76=\"\",\"\",IF(VLOOKUP(A76,'Romaneio da Carga'!E:E,1,0)=BD!A76,\"Volume Ok\",\"Volume não pertence a carga\")),\"Volume não pertence a carga\")","v":""}]
[null,{"$f":"IFERROR(IF(A77=\"\",\"\",IF(VLOOKUP(A77,'Romaneio da Carga'!E:E,1,0)=BD!A77,\"Volume Ok\",\"Volume não pertence a carga\")),\"Volume não pertence a carga\")","v":""}]
[null,{"$f":"IFERROR(IF(A78=\"\",\"\",IF(VLOOKUP(A78,'Romaneio da Carga'!E:E,1,0)=BD!A78,\"Volume Ok\",\"Volume não pertence a carga\")),\"Volume não pertence a carga\")","v":""}]
[null,{"$f":"IFERROR(IF(A79=\"\",\"\",IF(VLOOKUP(A79,'Romaneio da Carga'!E:E,1,0)=BD!A79,\"Volume Ok\",\"Volume não pertence a carga\")),\"Volume não pertence a carga\")","v":""}]
[null,{"$f":"IFERROR(IF(A80=\"\",\"\",IF(VLOOKUP(A80,'Romaneio da Carga'!E:E,1,0)=BD!A80,\"Volume Ok\",\"Volume não pertence a carga\")),\"Volume não pertence a carga\")","v":""}]
[null,{"$f":"IFERROR(IF(A81=\"\",\"\",IF(VLOOKUP(A81,'Romaneio da Carga'!E:E,1,0)=BD!A81,\"Volume Ok\",\"Volume não pertence a carga\")),\"Volume não pertence a carga\")","v":""}]
[null,{"$f":"IFERROR(IF(A82=\"\",\"\",IF(VLOOKUP(A82,'Romaneio da Carga'!E:E,1,0)=BD!A82,\"Volume Ok\",\"Volume não pertence a carga\")),\"Volume não pertence a carga\")","v":""}]
[null,{"$f":"IFERROR(IF(A83=\"\",\"\",IF(VLOOKUP(A83,'Romaneio da Carga'!E:E,1,0)=BD!A83,\"Volume Ok\",\"Volume não pertence a carga\")),\"Volume não pertence a carga\")","v":""}]
[null,{"$f":"IFERROR(IF(A84=\"\",\"\",IF(VLOOKUP(A84,'Romaneio da Carga'!E:E,1,0)=BD!A84,\"Volume Ok\",\"Volume não pertence a carga\")),\"Volume não pertence a carga\")","v":""}]
[null,{"$f":"IFERROR(IF(A85=\"\",\"\",IF(VLOOKUP(A85,'Romaneio da Carga'!E:E,1,0)=BD!A85,\"Volume Ok\",\"Volume não pertence a carga\")),\"Volume não pertence a carga\")","v":""}]
[null,{"$f":"IFERROR(IF(A86=\"\",\"\",IF(VLOOKUP(A86,'Romaneio da Carga'!E:E,1,0)=BD!A86,\"Volume Ok\",\"Volume não pertence a carga\")),\"Volume não pertence a carga\")","v":""}]
[null,{"$f":"IFERROR(IF(A87=\"\",\"\",IF(VLOOKUP(A87,'Romaneio da Carga'!E:E,1,0)=BD!A87,\"Volume Ok\",\"Volume não pertence a carga\")),\"Volume não pertence a carga\")","v":""}]
[null,{"$f":"IFERROR(IF(A88=\"\",\"\",IF(VLOOKUP(A88,'Romaneio da Carga'!E:E,1,0)=BD!A88,\"Volume Ok\",\"Volume não pertence a carga\")),\"Volume não pertence a carga\")","v":""}]
[null,{"$f":"IFERROR(IF(A89=\"\",\"\",IF(VLOOKUP(A89,'Romaneio da Carga'!E:E,1,0)=BD!A89,\"Volume Ok\",\"Volume não pertence a carga\")),\"Volume não pertence a carga\")","v":""}]
[null,{"$f":"IFERROR(IF(A90=\"\",\"\",IF(VLOOKUP(A90,'Romaneio da Carga'!E:E,1,0)=BD!A90,\"Volume Ok\",\"Volume não pertence a carga\")),\"Volume não pertence a carga\")","v":""}]
[null,{"$f":"IFERROR(IF(A91=\"\",\"\",IF(VLOOKUP(A91,'Romaneio da Carga'!E:E,1,0)=BD!A91,\"Volume Ok\",\"Volume não pertence a carga\")),\"Volume não pertence a carga\")","v":""}]
[null,{"$f":"IFERROR(IF(A92=\"\",\"\",IF(VLOOKUP(A92,'Romaneio da Carga'!E:E,1,0)=BD!A92,\"Volume Ok\",\"Volume não pertence a carga\")),\"Volume não pertence a carga\")","v":""}]
[null,{"$f":"IFERROR(IF(A93=\"\",\"\",IF(VLOOKUP(A93,'Romaneio da Carga'!E:E,1,0)=BD!A93,\"Volume Ok\",\"Volume não pertence a carga\")),\"Volume não pertence a carga\")","v":""}]
[null,{"$f":"IFERROR(IF(A94=\"\",\"\",IF(VLOOKUP(A94,'Romaneio da Carga'!E:E,1,0)=BD!A94,\"Volume Ok\",\"Volume não pertence a carga\")),\"Volume não pertence a carga\")","v":""}]
[null,{"$f":"IFERROR(IF(A95=\"\",\"\",IF(VLOOKUP(A95,'Romaneio da Carga'!E:E,1,0)=BD!A95,\"Volume Ok\",\"Volume não pertence a carga\")),\"Volume não pertence a carga\")","v":""}]
[null,{"$f":"IFERROR(IF(A96=\"\",\"\",IF(VLOOKUP(A96,'Romaneio da Carga'!E:E,1,0)=BD!A96,\"Volume Ok\",\"Volume não pertence a carga\")),\"Volume não pertence a carga\")","v":""}]
[null,{"$f":"IFERROR(IF(A97=\"\",\"\",IF(VLOOKUP(A97,'Romaneio da Carga'!E:E,1,0)=BD!A97,\"Volume Ok\",\"Volume não pertence a carga\")),\"Volume não pertence a carga\")","v":""}]
[null,{"$f":"IFERROR(IF(A98=\"\",\"\",IF(VLOOKUP(A98,'Romaneio da Carga'!E:E,1,0)=BD!A98,\"Volume Ok\",\"Volume não pertence a carga\")),\"Volume não pertence a carga\")","v":""}]
[null,{"$f":"IFERROR(IF(A99=\"\",\"\",IF(VLOOKUP(A99,'Romaneio da Carga'!E:E,1,0)=BD!A99,\"Volume Ok\",\"Volume não pertence a carga\")),\"Volume não pertence a carga\")","v":""}]
[null,{"$f":"IFERROR(IF(A100=\"\",\"\",IF(VLOOKUP(A100,'Romaneio da Carga'!E:E,1,0)=BD!A100,\"Volume Ok\",\"Volume não pertence a carga\")),\"Volume não pertence a carga\")","v":""}]
[null,{"$f":"IFERROR(IF(A101=\"\",\"\",IF(VLOOKUP(A101,'Romaneio da Carga'!E:E,1,0)=BD!A101,\"Volume Ok\",\"Volume não pertence a carga\")),\"Volume não pertence a carga\")","v":""}]
[null,{"$f":"IFERROR(IF(A102=\"\",\"\",IF(VLOOKUP(A102,'Romaneio da Carga'!E:E,1,0)=BD!A102,\"Volume Ok\",\"Volume não pertence a carga\")),\"Volume não pertence a carga\")","v":""}]
[null,{"$f":"IFERROR(IF(A103=\"\",\"\",IF(VLOOKUP(A103,'Romaneio da Carga'!E:E,1,0)=BD!A103,\"Volume Ok\",\"Volume não pertence a carga\")),\"Volume não pertence a carga\")","v":""}]
[null,{"$f":"IFERROR(IF(A104=\"\",\"\",IF(VLOOKUP(A104,'Romaneio da Carga'!E:E,1,0)=BD!A104,\"Volume Ok\",\"Volume não pertence a carga\")),\"Volume não pertence a carga\")","v":""}]
[null,{"$f":"IFERROR(IF(A105=\"\",\"\",IF(VLOOKUP(A105,'Romaneio da Carga'!E:E,1,0)=BD!A105,\"Volume Ok\",\"Volume não pertence a carga\")),\"Volume não pertence a carga\")","v":""}]
[null,{"$f":"IFERROR(IF(A106=\"\",\"\",IF(VLOOKUP(A106,'Romaneio da Carga'!E:E,1,0)=BD!A106,\"Volume Ok\",\"Volume não pertence a carga\")),\"Volume não pertence a carga\")","v":""}]
[null,{"$f":"IFERROR(IF(A107=\"\",\"\",IF(VLOOKUP(A107,'Romaneio da Carga'!E:E,1,0)=BD!A107,\"Volume Ok\",\"Volume não pertence a carga\")),\"Volume não pertence a carga\")","v":""}]
[null,{"$f":"IFERROR(IF(A108=\"\",\"\",IF(VLOOKUP(A108,'Romaneio da Carga'!E:E,1,0)=BD!A108,\"Volume Ok\",\"Volume não pertence a carga\")),\"Volume não pertence a carga\")","v":""}]
[null,{"$f":"IFERROR(IF(A109=\"\",\"\",IF(VLOOKUP(A109,'Romaneio da Carga'!E:E,1,0)=BD!A109,\"Volume Ok\",\"Volume não pertence a carga\")),\"Volume não pertence a carga\")","v":""}]
[null,{"$f":"IFERROR(IF(A110=\"\",\"\",IF(VLOOKUP(A110,'Romaneio da Carga'!E:E,1,0)=BD!A110,\"Volume Ok\",\"Volume não pertence a carga\")),\"Volume não pertence a carga\")","v":""}]
[null,{"$f":"IFERROR(IF(A111=\"\",\"\",IF(VLOOKUP(A111,'Romaneio da Carga'!E:E,1,0)=BD!A111,\"Volume Ok\",\"Volume não pertence a carga\")),\"Volume não pertence a carga\")","v":""}]
[null,{"$f":"IFERROR(IF(A112=\"\",\"\",IF(VLOOKUP(A112,'Romaneio da Carga'!E:E,1,0)=BD!A112,\"Volume Ok\",\"Volume não pertence a carga\")),\"Volume não pertence a carga\")","v":""}]
[null,{"$f":"IFERROR(IF(A113=\"\",\"\",IF(VLOOKUP(A113,'Romaneio da Carga'!E:E,1,0)=BD!A113,\"Volume Ok\",\"Volume não pertence a carga\")),\"Volume não pertence a carga\")","v":""}]
[null,{"$f":"IFERROR(IF(A114=\"\",\"\",IF(VLOOKUP(A114,'Romaneio da Carga'!E:E,1,0)=BD!A114,\"Volume Ok\",\"Volume não pertence a carga\")),\"Volume não pertence a carga\")","v":""}]
[null,{"$f":"IFERROR(IF(A115=\"\",\"\",IF(VLOOKUP(A115,'Romaneio da Carga'!E:E,1,0)=BD!A115,\"Volume Ok\",\"Volume não pertence a carga\")),\"Volume não pertence a carga\")","v":""}]
[null,{"$f":"IFERROR(IF(A116=\"\",\"\",IF(VLOOKUP(A116,'Romaneio da Carga'!E:E,1,0)=BD!A116,\"Volume Ok\",\"Volume não pertence a carga\")),\"Volume não pertence a carga\")","v":""}]
[null,{"$f":"IFERROR(IF(A117=\"\",\"\",IF(VLOOKUP(A117,'Romaneio da Carga'!E:E,1,0)=BD!A117,\"Volume Ok\",\"Volume não pertence a carga\")),\"Volume não pertence a carga\")","v":""}]
[null,{"$f":"IFERROR(IF(A118=\"\",\"\",IF(VLOOKUP(A118,'Romaneio da Carga'!E:E,1,0)=BD!A118,\"Volume Ok\",\"Volume não pertence a carga\")),\"Volume não pertence a carga\")","v":""}]
[null,{"$f":"IFERROR(IF(A119=\"\",\"\",IF(VLOOKUP(A119,'Romaneio da Carga'!E:E,1,0)=BD!A119,\"Volume Ok\",\"Volume não pertence a carga\")),\"Volume não pertence a carga\")","v":""}]
[null,{"$f":"IFERROR(IF(A120=\"\",\"\",IF(VLOOKUP(A120,'Romaneio da Carga'!E:E,1,0)=BD!A120,\"Volume Ok\",\"Volume não pertence a carga\")),\"Volume não pertence a carga\")","v":""}]
[null,{"$f":"IFERROR(IF(A121=\"\",\"\",IF(VLOOKUP(A121,'Romaneio da Carga'!E:E,1,0)=BD!A121,\"Volume Ok\",\"Volume não pertence a carga\")),\"Volume não pertence a carga\")","v":""}]
[null,{"$f":"IFERROR(IF(A122=\"\",\"\",IF(VLOOKUP(A122,'Romaneio da Carga'!E:E,1,0)=BD!A122,\"Volume Ok\",\"Volume não pertence a carga\")),\"Volume não pertence a carga\")","v":""}]
[null,{"$f":"IFERROR(IF(A123=\"\",\"\",IF(VLOOKUP(A123,'Romaneio da Carga'!E:E,1,0)=BD!A123,\"Volume Ok\",\"Volume não pertence a carga\")),\"Volume não pertence a carga\")","v":""}]
[null,{"$f":"IFERROR(IF(A124=\"\",\"\",IF(VLOOKUP(A124,'Romaneio da Carga'!E:E,1,0)=BD!A124,\"Volume Ok\",\"Volume não pertence a carga\")),\"Volume não pertence a carga\")","v":""}]
[null,{"$f":"IFERROR(IF(A125=\"\",\"\",IF(VLOOKUP(A125,'Romaneio da Carga'!E:E,1,0)=BD!A125,\"Volume Ok\",\"Volume não pertence a carga\")),\"Volume não pertence a carga\")","v":""}]
[null,{"$f":"IFERROR(IF(A126=\"\",\"\",IF(VLOOKUP(A126,'Romaneio da Carga'!E:E,1,0)=BD!A126,\"Volume Ok\",\"Volume não pertence a carga\")),\"Volume não pertence a carga\")","v":""}]
[null,{"$f":"IFERROR(IF(A127=\"\",\"\",IF(VLOOKUP(A127,'Romaneio da Carga'!E:E,1,0)=BD!A127,\"Volume Ok\",\"Volume não pertence a carga\")),\"Volume não pertence a carga\")","v":""}]
[null,{"$f":"IFERROR(IF(A128=\"\",\"\",IF(VLOOKUP(A128,'Romaneio da Carga'!E:E,1,0)=BD!A128,\"Volume Ok\",\"Volume não pertence a carga\")),\"Volume não pertence a carga\")","v":""}]
[null,{"$f":"IFERROR(IF(A129=\"\",\"\",IF(VLOOKUP(A129,'Romaneio da Carga'!E:E,1,0)=BD!A129,\"Volume Ok\",\"Volume não pertence a carga\")),\"Volume não pertence a carga\")","v":""}]
[null,{"$f":"IFERROR(IF(A130=\"\",\"\",IF(VLOOKUP(A130,'Romaneio da Carga'!E:E,1,0)=BD!A130,\"Volume Ok\",\"Volume não pertence a carga\")),\"Volume não pertence a carga\")","v":""}]
[null,{"$f":"IFERROR(IF(A131=\"\",\"\",IF(VLOOKUP(A131,'Romaneio da Carga'!E:E,1,0)=BD!A131,\"Volume Ok\",\"Volume não pertence a carga\")),\"Volume não pertence a carga\")","v":""}]
[null,{"$f":"IFERROR(IF(A132=\"\",\"\",IF(VLOOKUP(A132,'Romaneio da Carga'!E:E,1,0)=BD!A132,\"Volume Ok\",\"Volume não pertence a carga\")),\"Volume não pertence a carga\")","v":""}]
[null,{"$f":"IFERROR(IF(A133=\"\",\"\",IF(VLOOKUP(A133,'Romaneio da Carga'!E:E,1,0)=BD!A133,\"Volume Ok\",\"Volume não pertence a carga\")),\"Volume não pertence a carga\")","v":""}]
[null,{"$f":"IFERROR(IF(A134=\"\",\"\",IF(VLOOKUP(A134,'Romaneio da Carga'!E:E,1,0)=BD!A134,\"Volume Ok\",\"Volume não pertence a carga\")),\"Volume não pertence a carga\")","v":""}]
[null,{"$f":"IFERROR(IF(A135=\"\",\"\",IF(VLOOKUP(A135,'Romaneio da Carga'!E:E,1,0)=BD!A135,\"Volume Ok\",\"Volume não pertence a carga\")),\"Volume não pertence a carga\")","v":""}]
[null,{"$f":"IFERROR(IF(A136=\"\",\"\",IF(VLOOKUP(A136,'Romaneio da Carga'!E:E,1,0)=BD!A136,\"Volume Ok\",\"Volume não pertence a carga\")),\"Volume não pertence a carga\")","v":""}]
[null,{"$f":"IFERROR(IF(A137=\"\",\"\",IF(VLOOKUP(A137,'Romaneio da Carga'!E:E,1,0)=BD!A137,\"Volume Ok\",\"Volume não pertence a carga\")),\"Volume não pertence a carga\")","v":""}]
[null,{"$f":"IFERROR(IF(A138=\"\",\"\",IF(VLOOKUP(A138,'Romaneio da Carga'!E:E,1,0)=BD!A138,\"Volume Ok\",\"Volume não pertence a carga\")),\"Volume não pertence a carga\")","v":""}]
[null,{"$f":"IFERROR(IF(A139=\"\",\"\",IF(VLOOKUP(A139,'Romaneio da Carga'!E:E,1,0)=BD!A139,\"Volume Ok\",\"Volume não pertence a carga\")),\"Volume não pertence a carga\")","v":""}]
[null,{"$f":"IFERROR(IF(A140=\"\",\"\",IF(VLOOKUP(A140,'Romaneio da Carga'!E:E,1,0)=BD!A140,\"Volume Ok\",\"Volume não pertence a carga\")),\"Volume não pertence a carga\")","v":""}]
[null,{"$f":"IFERROR(IF(A141=\"\",\"\",IF(VLOOKUP(A141,'Romaneio da Carga'!E:E,1,0)=BD!A141,\"Volume Ok\",\"Volume não pertence a carga\")),\"Volume não pertence a carga\")","v":""}]
[null,{"$f":"IFERROR(IF(A142=\"\",\"\",IF(VLOOKUP(A142,'Romaneio da Carga'!E:E,1,0)=BD!A142,\"Volume Ok\",\"Volume não pertence a carga\")),\"Volume não pertence a carga\")","v":""}]
[null,{"$f":"IFERROR(IF(A143=\"\",\"\",IF(VLOOKUP(A143,'Romaneio da Carga'!E:E,1,0)=BD!A143,\"Volume Ok\",\"Volume não pertence a carga\")),\"Volume não pertence a carga\")","v":""}]
[null,{"$f":"IFERROR(IF(A144=\"\",\"\",IF(VLOOKUP(A144,'Romaneio da Carga'!E:E,1,0)=BD!A144,\"Volume Ok\",\"Volume não pertence a carga\")),\"Volume não pertence a carga\")","v":""}]
[null,{"$f":"IFERROR(IF(A145=\"\",\"\",IF(VLOOKUP(A145,'Romaneio da Carga'!E:E,1,0)=BD!A145,\"Volume Ok\",\"Volume não pertence a carga\")),\"Volume não pertence a carga\")","v":""}]
[null,{"$f":"IFERROR(IF(A146=\"\",\"\",IF(VLOOKUP(A146,'Romaneio da Carga'!E:E,1,0)=BD!A146,\"Volume Ok\",\"Volume não pertence a carga\")),\"Volume não pertence a carga\")","v":""}]
[null,{"$f":"IFERROR(IF(A147=\"\",\"\",IF(VLOOKUP(A147,'Romaneio da Carga'!E:E,1,0)=BD!A147,\"Volume Ok\",\"Volume não pertence a carga\")),\"Volume não pertence a carga\")","v":""}]
[null,{"$f":"IFERROR(IF(A148=\"\",\"\",IF(VLOOKUP(A148,'Romaneio da Carga'!E:E,1,0)=BD!A148,\"Volume Ok\",\"Volume não pertence a carga\")),\"Volume não pertence a carga\")","v":""}]
[null,{"$f":"IFERROR(IF(A149=\"\",\"\",IF(VLOOKUP(A149,'Romaneio da Carga'!E:E,1,0)=BD!A149,\"Volume Ok\",\"Volume não pertence a carga\")),\"Volume não pertence a carga\")","v":""}]
[null,{"$f":"IFERROR(IF(A150=\"\",\"\",IF(VLOOKUP(A150,'Romaneio da Carga'!E:E,1,0)=BD!A150,\"Volume Ok\",\"Volume não pertence a carga\")),\"Volume não pertence a carga\")","v":""}]
[null,{"$f":"IFERROR(IF(A151=\"\",\"\",IF(VLOOKUP(A151,'Romaneio da Carga'!E:E,1,0)=BD!A151,\"Volume Ok\",\"Volume não pertence a carga\")),\"Volume não pertence a carga\")","v":""}]
[null,{"$f":"IFERROR(IF(A152=\"\",\"\",IF(VLOOKUP(A152,'Romaneio da Carga'!E:E,1,0)=BD!A152,\"Volume Ok\",\"Volume não pertence a carga\")),\"Volume não pertence a carga\")","v":""}]
[null,{"$f":"IFERROR(IF(A153=\"\",\"\",IF(VLOOKUP(A153,'Romaneio da Carga'!E:E,1,0)=BD!A153,\"Volume Ok\",\"Volume não pertence a carga\")),\"Volume não pertence a carga\")","v":""}]
[null,{"$f":"IFERROR(IF(A154=\"\",\"\",IF(VLOOKUP(A154,'Romaneio da Carga'!E:E,1,0)=BD!A154,\"Volume Ok\",\"Volume não pertence a carga\")),\"Volume não pertence a carga\")","v":""}]
[null,{"$f":"IFERROR(IF(A155=\"\",\"\",IF(VLOOKUP(A155,'Romaneio da Carga'!E:E,1,0)=BD!A155,\"Volume Ok\",\"Volume não pertence a carga\")),\"Volume não pertence a carga\")","v":""}]
[null,{"$f":"IFERROR(IF(A156=\"\",\"\",IF(VLOOKUP(A156,'Romaneio da Carga'!E:E,1,0)=BD!A156,\"Volume Ok\",\"Volume não pertence a carga\")),\"Volume não pertence a carga\")","v":""}]
[null,{"$f":"IFERROR(IF(A157=\"\",\"\",IF(VLOOKUP(A157,'Romaneio da Carga'!E:E,1,0)=BD!A157,\"Volume Ok\",\"Volume não pertence a carga\")),\"Volume não pertence a carga\")","v":""}]
[null,{"$f":"IFERROR(IF(A158=\"\",\"\",IF(VLOOKUP(A158,'Romaneio da Carga'!E:E,1,0)=BD!A158,\"Volume Ok\",\"Volume não pertence a carga\")),\"Volume não pertence a carga\")","v":""}]
[null,{"$f":"IFERROR(IF(A159=\"\",\"\",IF(VLOOKUP(A159,'Romaneio da Carga'!E:E,1,0)=BD!A159,\"Volume Ok\",\"Volume não pertence a carga\")),\"Volume não pertence a carga\")","v":""}]
[null,{"$f":"IFERROR(IF(A160=\"\",\"\",IF(VLOOKUP(A160,'Romaneio da Carga'!E:E,1,0)=BD!A160,\"Volume Ok\",\"Volume não pertence a carga\")),\"Volume não pertence a carga\")","v":""}]
[null,{"$f":"IFERROR(IF(A161=\"\",\"\",IF(VLOOKUP(A161,'Romaneio da Carga'!E:E,1,0)=BD!A161,\"Volume Ok\",\"Volume não pertence a carga\")),\"Volume não pertence a carga\")","v":""}]
[null,{"$f":"IFERROR(IF(A162=\"\",\"\",IF(VLOOKUP(A162,'Romaneio da Carga'!E:E,1,0)=BD!A162,\"Volume Ok\",\"Volume não pertence a carga\")),\"Volume não pertence a carga\")","v":""}]
[null,{"$f":"IFERROR(IF(A163=\"\",\"\",IF(VLOOKUP(A163,'Romaneio da Carga'!E:E,1,0)=BD!A163,\"Volume Ok\",\"Volume não pertence a carga\")),\"Volume não pertence a carga\")","v":""}]
[null,{"$f":"IFERROR(IF(A164=\"\",\"\",IF(VLOOKUP(A164,'Romaneio da Carga'!E:E,1,0)=BD!A164,\"Volume Ok\",\"Volume não pertence a carga\")),\"Volume não pertence a carga\")","v":""}]
[null,{"$f":"IFERROR(IF(A165=\"\",\"\",IF(VLOOKUP(A165,'Romaneio da Carga'!E:E,1,0)=BD!A165,\"Volume Ok\",\"Volume não pertence a carga\")),\"Volume não pertence a carga\")","v":""}]
[null,{"$f":"IFERROR(IF(A166=\"\",\"\",IF(VLOOKUP(A166,'Romaneio da Carga'!E:E,1,0)=BD!A166,\"Volume Ok\",\"Volume não pertence a carga\")),\"Volume não pertence a carga\")","v":""}]
[null,{"$f":"IFERROR(IF(A167=\"\",\"\",IF(VLOOKUP(A167,'Romaneio da Carga'!E:E,1,0)=BD!A167,\"Volume Ok\",\"Volume não pertence a carga\")),\"Volume não pertence a carga\")","v":""}]
[null,{"$f":"IFERROR(IF(A168=\"\",\"\",IF(VLOOKUP(A168,'Romaneio da Carga'!E:E,1,0)=BD!A168,\"Volume Ok\",\"Volume não pertence a carga\")),\"Volume não pertence a carga\")","v":""}]
[null,{"$f":"IFERROR(IF(A169=\"\",\"\",IF(VLOOKUP(A169,'Romaneio da Carga'!E:E,1,0)=BD!A169,\"Volume Ok\",\"Volume não pertence a carga\")),\"Volume não pertence a carga\")","v":""}]
[null,{"$f":"IFERROR(IF(A170=\"\",\"\",IF(VLOOKUP(A170,'Romaneio da Carga'!E:E,1,0)=BD!A170,\"Volume Ok\",\"Volume não pertence a carga\")),\"Volume não pertence a carga\")","v":""}]
[null,{"$f":"IFERROR(IF(A171=\"\",\"\",IF(VLOOKUP(A171,'Romaneio da Carga'!E:E,1,0)=BD!A171,\"Volume Ok\",\"Volume não pertence a carga\")),\"Volume não pertence a carga\")","v":""}]
[null,{"$f":"IFERROR(IF(A172=\"\",\"\",IF(VLOOKUP(A172,'Romaneio da Carga'!E:E,1,0)=BD!A172,\"Volume Ok\",\"Volume não pertence a carga\")),\"Volume não pertence a carga\")","v":""}]
[null,{"$f":"IFERROR(IF(A173=\"\",\"\",IF(VLOOKUP(A173,'Romaneio da Carga'!E:E,1,0)=BD!A173,\"Volume Ok\",\"Volume não pertence a carga\")),\"Volume não pertence a carga\")","v":""}]
[null,{"$f":"IFERROR(IF(A174=\"\",\"\",IF(VLOOKUP(A174,'Romaneio da Carga'!E:E,1,0)=BD!A174,\"Volume Ok\",\"Volume não pertence a carga\")),\"Volume não pertence a carga\")","v":""}]
[null,{"$f":"IFERROR(IF(A175=\"\",\"\",IF(VLOOKUP(A175,'Romaneio da Carga'!E:E,1,0)=BD!A175,\"Volume Ok\",\"Volume não pertence a carga\")),\"Volume não pertence a carga\")","v":""}]
[null,{"$f":"IFERROR(IF(A176=\"\",\"\",IF(VLOOKUP(A176,'Romaneio da Carga'!E:E,1,0)=BD!A176,\"Volume Ok\",\"Volume não pertence a carga\")),\"Volume não pertence a carga\")","v":""}]
[null,{"$f":"IFERROR(IF(A177=\"\",\"\",IF(VLOOKUP(A177,'Romaneio da Carga'!E:E,1,0)=BD!A177,\"Volume Ok\",\"Volume não pertence a carga\")),\"Volume não pertence a carga\")","v":""}]
[null,{"$f":"IFERROR(IF(A178=\"\",\"\",IF(VLOOKUP(A178,'Romaneio da Carga'!E:E,1,0)=BD!A178,\"Volume Ok\",\"Volume não pertence a carga\")),\"Volume não pertence a carga\")","v":""}]
[null,{"$f":"IFERROR(IF(A179=\"\",\"\",IF(VLOOKUP(A179,'Romaneio da Carga'!E:E,1,0)=BD!A179,\"Volume Ok\",\"Volume não pertence a carga\")),\"Volume não pertence a carga\")","v":""}]
[null,{"$f":"IFERROR(IF(A180=\"\",\"\",IF(VLOOKUP(A180,'Romaneio da Carga'!E:E,1,0)=BD!A180,\"Volume Ok\",\"Volume não pertence a carga\")),\"Volume não pertence a carga\")","v":""}]
[null,{"$f":"IFERROR(IF(A181=\"\",\"\",IF(VLOOKUP(A181,'Romaneio da Carga'!E:E,1,0)=BD!A181,\"Volume Ok\",\"Volume não pertence a carga\")),\"Volume não pertence a carga\")","v":""}]
[null,{"$f":"IFERROR(IF(A182=\"\",\"\",IF(VLOOKUP(A182,'Romaneio da Carga'!E:E,1,0)=BD!A182,\"Volume Ok\",\"Volume não pertence a carga\")),\"Volume não pertence a carga\")","v":""}]
[null,{"$f":"IFERROR(IF(A183=\"\",\"\",IF(VLOOKUP(A183,'Romaneio da Carga'!E:E,1,0)=BD!A183,\"Volume Ok\",\"Volume não pertence a carga\")),\"Volume não pertence a carga\")","v":""}]
[null,{"$f":"IFERROR(IF(A184=\"\",\"\",IF(VLOOKUP(A184,'Romaneio da Carga'!E:E,1,0)=BD!A184,\"Volume Ok\",\"Volume não pertence a carga\")),\"Volume não pertence a carga\")","v":""}]
[null,{"$f":"IFERROR(IF(A185=\"\",\"\",IF(VLOOKUP(A185,'Romaneio da Carga'!E:E,1,0)=BD!A185,\"Volume Ok\",\"Volume não pertence a carga\")),\"Volume não pertence a carga\")","v":""}]
[null,{"$f":"IFERROR(IF(A186=\"\",\"\",IF(VLOOKUP(A186,'Romaneio da Carga'!E:E,1,0)=BD!A186,\"Volume Ok\",\"Volume não pertence a carga\")),\"Volume não pertence a carga\")","v":""}]
[null,{"$f":"IFERROR(IF(A187=\"\",\"\",IF(VLOOKUP(A187,'Romaneio da Carga'!E:E,1,0)=BD!A187,\"Volume Ok\",\"Volume não pertence a carga\")),\"Volume não pertence a carga\")","v":""}]
[null,{"$f":"IFERROR(IF(A188=\"\",\"\",IF(VLOOKUP(A188,'Romaneio da Carga'!E:E,1,0)=BD!A188,\"Volume Ok\",\"Volume não pertence a carga\")),\"Volume não pertence a carga\")","v":""}]
[null,{"$f":"IFERROR(IF(A189=\"\",\"\",IF(VLOOKUP(A189,'Romaneio da Carga'!E:E,1,0)=BD!A189,\"Volume Ok\",\"Volume não pertence a carga\")),\"Volume não pertence a carga\")","v":""}]
[null,{"$f":"IFERROR(IF(A190=\"\",\"\",IF(VLOOKUP(A190,'Romaneio da Carga'!E:E,1,0)=BD!A190,\"Volume Ok\",\"Volume não pertence a carga\")),\"Volume não pertence a carga\")","v":""}]
[null,{"$f":"IFERROR(IF(A191=\"\",\"\",IF(VLOOKUP(A191,'Romaneio da Carga'!E:E,1,0)=BD!A191,\"Volume Ok\",\"Volume não pertence a carga\")),\"Volume não pertence a carga\")","v":""}]
[null,{"$f":"IFERROR(IF(A192=\"\",\"\",IF(VLOOKUP(A192,'Romaneio da Carga'!E:E,1,0)=BD!A192,\"Volume Ok\",\"Volume não pertence a carga\")),\"Volume não pertence a carga\")","v":""}]
[null,{"$f":"IFERROR(IF(A193=\"\",\"\",IF(VLOOKUP(A193,'Romaneio da Carga'!E:E,1,0)=BD!A193,\"Volume Ok\",\"Volume não pertence a carga\")),\"Volume não pertence a carga\")","v":""}]
[null,{"$f":"IFERROR(IF(A194=\"\",\"\",IF(VLOOKUP(A194,'Romaneio da Carga'!E:E,1,0)=BD!A194,\"Volume Ok\",\"Volume não pertence a carga\")),\"Volume não pertence a carga\")","v":""}]
[null,{"$f":"IFERROR(IF(A195=\"\",\"\",IF(VLOOKUP(A195,'Romaneio da Carga'!E:E,1,0)=BD!A195,\"Volume Ok\",\"Volume não pertence a carga\")),\"Volume não pertence a carga\")","v":""}]
[null,{"$f":"IFERROR(IF(A196=\"\",\"\",IF(VLOOKUP(A196,'Romaneio da Carga'!E:E,1,0)=BD!A196,\"Volume Ok\",\"Volume não pertence a carga\")),\"Volume não pertence a carga\")","v":""}]
[null,{"$f":"IFERROR(IF(A197=\"\",\"\",IF(VLOOKUP(A197,'Romaneio da Carga'!E:E,1,0)=BD!A197,\"Volume Ok\",\"Volume não pertence a carga\")),\"Volume não pertence a carga\")","v":""}]
[null,{"$f":"IFERROR(IF(A198=\"\",\"\",IF(VLOOKUP(A198,'Romaneio da Carga'!E:E,1,0)=BD!A198,\"Volume Ok\",\"Volume não pertence a carga\")),\"Volume não pertence a carga\")","v":""}]
[null,{"$f":"IFERROR(IF(A199=\"\",\"\",IF(VLOOKUP(A199,'Romaneio da Carga'!E:E,1,0)=BD!A199,\"Volume Ok\",\"Volume não pertence a carga\")),\"Volume não pertence a carga\")","v":""}]
[null,{"$f":"IFERROR(IF(A200=\"\",\"\",IF(VLOOKUP(A200,'Romaneio da Carga'!E:E,1,0)=BD!A200,\"Volume Ok\",\"Volume não pertence a carga\")),\"Volume não pertence a carga\")","v":""}]
[null,{"$f":"IFERROR(IF(A201=\"\",\"\",IF(VLOOKUP(A201,'Romaneio da Carga'!E:E,1,0)=BD!A201,\"Volume Ok\",\"Volume não pertence a carga\")),\"Volume não pertence a carga\")","v":""}]
[null,{"$f":"IFERROR(IF(A202=\"\",\"\",IF(VLOOKUP(A202,'Romaneio da Carga'!E:E,1,0)=BD!A202,\"Volume Ok\",\"Volume não pertence a carga\")),\"Volume não pertence a carga\")","v":""}]
[null,{"$f":"IFERROR(IF(A203=\"\",\"\",IF(VLOOKUP(A203,'Romaneio da Carga'!E:E,1,0)=BD!A203,\"Volume Ok\",\"Volume não pertence a carga\")),\"Volume não pertence a carga\")","v":""}]
[null,{"$f":"IFERROR(IF(A204=\"\",\"\",IF(VLOOKUP(A204,'Romaneio da Carga'!E:E,1,0)=BD!A204,\"Volume Ok\",\"Volume não pertence a carga\")),\"Volume não pertence a carga\")","v":""}]
[null,{"$f":"IFERROR(IF(A205=\"\",\"\",IF(VLOOKUP(A205,'Romaneio da Carga'!E:E,1,0)=BD!A205,\"Volume Ok\",\"Volume não pertence a carga\")),\"Volume não pertence a carga\")","v":""}]
[null,{"$f":"IFERROR(IF(A206=\"\",\"\",IF(VLOOKUP(A206,'Romaneio da Carga'!E:E,1,0)=BD!A206,\"Volume Ok\",\"Volume não pertence a carga\")),\"Volume não pertence a carga\")","v":""}]
[null,{"$f":"IFERROR(IF(A207=\"\",\"\",IF(VLOOKUP(A207,'Romaneio da Carga'!E:E,1,0)=BD!A207,\"Volume Ok\",\"Volume não pertence a carga\")),\"Volume não pertence a carga\")","v":""}]
[null,{"$f":"IFERROR(IF(A208=\"\",\"\",IF(VLOOKUP(A208,'Romaneio da Carga'!E:E,1,0)=BD!A208,\"Volume Ok\",\"Volume não pertence a carga\")),\"Volume não pertence a carga\")","v":""}]
[null,{"$f":"IFERROR(IF(A209=\"\",\"\",IF(VLOOKUP(A209,'Romaneio da Carga'!E:E,1,0)=BD!A209,\"Volume Ok\",\"Volume não pertence a carga\")),\"Volume não pertence a carga\")","v":""}]
[null,{"$f":"IFERROR(IF(A210=\"\",\"\",IF(VLOOKUP(A210,'Romaneio da Carga'!E:E,1,0)=BD!A210,\"Volume Ok\",\"Volume não pertence a carga\")),\"Volume não pertence a carga\")","v":""}]
[null,{"$f":"IFERROR(IF(A211=\"\",\"\",IF(VLOOKUP(A211,'Romaneio da Carga'!E:E,1,0)=BD!A211,\"Volume Ok\",\"Volume não pertence a carga\")),\"Volume não pertence a carga\")","v":""}]
[null,{"$f":"IFERROR(IF(A212=\"\",\"\",IF(VLOOKUP(A212,'Romaneio da Carga'!E:E,1,0)=BD!A212,\"Volume Ok\",\"Volume não pertence a carga\")),\"Volume não pertence a carga\")","v":""}]
[null,{"$f":"IFERROR(IF(A213=\"\",\"\",IF(VLOOKUP(A213,'Romaneio da Carga'!E:E,1,0)=BD!A213,\"Volume Ok\",\"Volume não pertence a carga\")),\"Volume não pertence a carga\")","v":""}]
[null,{"$f":"IFERROR(IF(A214=\"\",\"\",IF(VLOOKUP(A214,'Romaneio da Carga'!E:E,1,0)=BD!A214,\"Volume Ok\",\"Volume não pertence a carga\")),\"Volume não pertence a carga\")","v":""}]
[null,{"$f":"IFERROR(IF(A215=\"\",\"\",IF(VLOOKUP(A215,'Romaneio da Carga'!E:E,1,0)=BD!A215,\"Volume Ok\",\"Volume não pertence a carga\")),\"Volume não pertence a carga\")","v":""}]
[null,{"$f":"IFERROR(IF(A216=\"\",\"\",IF(VLOOKUP(A216,'Romaneio da Carga'!E:E,1,0)=BD!A216,\"Volume Ok\",\"Volume não pertence a carga\")),\"Volume não pertence a carga\")","v":""}]
[null,{"$f":"IFERROR(IF(A217=\"\",\"\",IF(VLOOKUP(A217,'Romaneio da Carga'!E:E,1,0)=BD!A217,\"Volume Ok\",\"Volume não pertence a carga\")),\"Volume não pertence a carga\")","v":""}]
[null,{"$f":"IFERROR(IF(A218=\"\",\"\",IF(VLOOKUP(A218,'Romaneio da Carga'!E:E,1,0)=BD!A218,\"Volume Ok\",\"Volume não pertence a carga\")),\"Volume não pertence a carga\")","v":""}]
[null,{"$f":"IFERROR(IF(A219=\"\",\"\",IF(VLOOKUP(A219,'Romaneio da Carga'!E:E,1,0)=BD!A219,\"Volume Ok\",\"Volume não pertence a carga\")),\"Volume não pertence a carga\")","v":""}]
[null,{"$f":"IFERROR(IF(A220=\"\",\"\",IF(VLOOKUP(A220,'Romaneio da Carga'!E:E,1,0)=BD!A220,\"Volume Ok\",\"Volume não pertence a carga\")),\"Volume não pertence a carga\")","v":""}]
[null,{"$f":"IFERROR(IF(A221=\"\",\"\",IF(VLOOKUP(A221,'Romaneio da Carga'!E:E,1,0)=BD!A221,\"Volume Ok\",\"Volume não pertence a carga\")),\"Volume não pertence a carga\")","v":""}]
[null,{"$f":"IFERROR(IF(A222=\"\",\"\",IF(VLOOKUP(A222,'Romaneio da Carga'!E:E,1,0)=BD!A222,\"Volume Ok\",\"Volume não pertence a carga\")),\"Volume não pertence a carga\")","v":""}]
[null,{"$f":"IFERROR(IF(A223=\"\",\"\",IF(VLOOKUP(A223,'Romaneio da Carga'!E:E,1,0)=BD!A223,\"Volume Ok\",\"Volume não pertence a carga\")),\"Volume não pertence a carga\")","v":""}]
[null,{"$f":"IFERROR(IF(A224=\"\",\"\",IF(VLOOKUP(A224,'Romaneio da Carga'!E:E,1,0)=BD!A224,\"Volume Ok\",\"Volume não pertence a carga\")),\"Volume não pertence a carga\")","v":""}]
[null,{"$f":"IFERROR(IF(A225=\"\",\"\",IF(VLOOKUP(A225,'Romaneio da Carga'!E:E,1,0)=BD!A225,\"Volume Ok\",\"Volume não pertence a carga\")),\"Volume não pertence a carga\")","v":""}]
[null,{"$f":"IFERROR(IF(A226=\"\",\"\",IF(VLOOKUP(A226,'Romaneio da Carga'!E:E,1,0)=BD!A226,\"Volume Ok\",\"Volume não pertence a carga\")),\"Volume não pertence a carga\")","v":""}]
[null,{"$f":"IFERROR(IF(A227=\"\",\"\",IF(VLOOKUP(A227,'Romaneio da Carga'!E:E,1,0)=BD!A227,\"Volume Ok\",\"Volume não pertence a carga\")),\"Volume não pertence a carga\")","v":""}]
[null,{"$f":"IFERROR(IF(A228=\"\",\"\",IF(VLOOKUP(A228,'Romaneio da Carga'!E:E,1,0)=BD!A228,\"Volume Ok\",\"Volume não pertence a carga\")),\"Volume não pertence a carga\")","v":""}]
[null,{"$f":"IFERROR(IF(A229=\"\",\"\",IF(VLOOKUP(A229,'Romaneio da Carga'!E:E,1,0)=BD!A229,\"Volume Ok\",\"Volume não pertence a carga\")),\"Volume não pertence a carga\")","v":""}]
[null,{"$f":"IFERROR(IF(A230=\"\",\"\",IF(VLOOKUP(A230,'Romaneio da Carga'!E:E,1,0)=BD!A230,\"Volume Ok\",\"Volume não pertence a carga\")),\"Volume não pertence a carga\")","v":""}]
[null,{"$f":"IFERROR(IF(A231=\"\",\"\",IF(VLOOKUP(A231,'Romaneio da Carga'!E:E,1,0)=BD!A231,\"Volume Ok\",\"Volume não pertence a carga\")),\"Volume não pertence a carga\")","v":""}]
[null,{"$f":"IFERROR(IF(A232=\"\",\"\",IF(VLOOKUP(A232,'Romaneio da Carga'!E:E,1,0)=BD!A232,\"Volume Ok\",\"Volume não pertence a carga\")),\"Volume não pertence a carga\")","v":""}]
[null,{"$f":"IFERROR(IF(A233=\"\",\"\",IF(VLOOKUP(A233,'Romaneio da Carga'!E:E,1,0)=BD!A233,\"Volume Ok\",\"Volume não pertence a carga\")),\"Volume não pertence a carga\")","v":""}]
[null,{"$f":"IFERROR(IF(A234=\"\",\"\",IF(VLOOKUP(A234,'Romaneio da Carga'!E:E,1,0)=BD!A234,\"Volume Ok\",\"Volume não pertence a carga\")),\"Volume não pertence a carga\")","v":""}]
[null,{"$f":"IFERROR(IF(A235=\"\",\"\",IF(VLOOKUP(A235,'Romaneio da Carga'!E:E,1,0)=BD!A235,\"Volume Ok\",\"Volume não pertence a carga\")),\"Volume não pertence a carga\")","v":""}]
[null,{"$f":"IFERROR(IF(A236=\"\",\"\",IF(VLOOKUP(A236,'Romaneio da Carga'!E:E,1,0)=BD!A236,\"Volume Ok\",\"Volume não pertence a carga\")),\"Volume não pertence a carga\")","v":""}]
[null,{"$f":"IFERROR(IF(A237=\"\",\"\",IF(VLOOKUP(A237,'Romaneio da Carga'!E:E,1,0)=BD!A237,\"Volume Ok\",\"Volume não pertence a carga\")),\"Volume não pertence a carga\")","v":""}]
[null,{"$f":"IFERROR(IF(A238=\"\",\"\",IF(VLOOKUP(A238,'Romaneio da Carga'!E:E,1,0)=BD!A238,\"Volume Ok\",\"Volume não pertence a carga\")),\"Volume não pertence a carga\")","v":""}]
[null,{"$f":"IFERROR(IF(A239=\"\",\"\",IF(VLOOKUP(A239,'Romaneio da Carga'!E:E,1,0)=BD!A239,\"Volume Ok\",\"Volume não pertence a carga\")),\"Volume não pertence a carga\")","v":""}]
[null,{"$f":"IFERROR(IF(A240=\"\",\"\",IF(VLOOKUP(A240,'Romaneio da Carga'!E:E,1,0)=BD!A240,\"Volume Ok\",\"Volume não pertence a carga\")),\"Volume não pertence a carga\")","v":""}]
[null,{"$f":"IFERROR(IF(A241=\"\",\"\",IF(VLOOKUP(A241,'Romaneio da Carga'!E:E,1,0)=BD!A241,\"Volume Ok\",\"Volume não pertence a carga\")),\"Volume não pertence a carga\")","v":""}]
[null,{"$f":"IFERROR(IF(A242=\"\",\"\",IF(VLOOKUP(A242,'Romaneio da Carga'!E:E,1,0)=BD!A242,\"Volume Ok\",\"Volume não pertence a carga\")),\"Volume não pertence a carga\")","v":""}]
[null,{"$f":"IFERROR(IF(A243=\"\",\"\",IF(VLOOKUP(A243,'Romaneio da Carga'!E:E,1,0)=BD!A243,\"Volume Ok\",\"Volume não pertence a carga\")),\"Volume não pertence a carga\")","v":""}]
[null,{"$f":"IFERROR(IF(A244=\"\",\"\",IF(VLOOKUP(A244,'Romaneio da Carga'!E:E,1,0)=BD!A244,\"Volume Ok\",\"Volume não pertence a carga\")),\"Volume não pertence a carga\")","v":""}]
[null,{"$f":"IFERROR(IF(A245=\"\",\"\",IF(VLOOKUP(A245,'Romaneio da Carga'!E:E,1,0)=BD!A245,\"Volume Ok\",\"Volume não pertence a carga\")),\"Volume não pertence a carga\")","v":""}]
[null,{"$f":"IFERROR(IF(A246=\"\",\"\",IF(VLOOKUP(A246,'Romaneio da Carga'!E:E,1,0)=BD!A246,\"Volume Ok\",\"Volume não pertence a carga\")),\"Volume não pertence a carga\")","v":""}]
[null,{"$f":"IFERROR(IF(A247=\"\",\"\",IF(VLOOKUP(A247,'Romaneio da Carga'!E:E,1,0)=BD!A247,\"Volume Ok\",\"Volume não pertence a carga\")),\"Volume não pertence a carga\")","v":""}]
[null,{"$f":"IFERROR(IF(A248=\"\",\"\",IF(VLOOKUP(A248,'Romaneio da Carga'!E:E,1,0)=BD!A248,\"Volume Ok\",\"Volume não pertence a carga\")),\"Volume não pertence a carga\")","v":""}]
[null,{"$f":"IFERROR(IF(A249=\"\",\"\",IF(VLOOKUP(A249,'Romaneio da Carga'!E:E,1,0)=BD!A249,\"Volume Ok\",\"Volume não pertence a carga\")),\"Volume não pertence a carga\")","v":""}]
[null,{"$f":"IFERROR(IF(A250=\"\",\"\",IF(VLOOKUP(A250,'Romaneio da Carga'!E:E,1,0)=BD!A250,\"Volume Ok\",\"Volume não pertence a carga\")),\"Volume não pertence a carga\")","v":""}]
[null,{"$f":"IFERROR(IF(A251=\"\",\"\",IF(VLOOKUP(A251,'Romaneio da Carga'!E:E,1,0)=BD!A251,\"Volume Ok\",\"Volume não pertence a carga\")),\"Volume não pertence a carga\")","v":""}]
[null,{"$f":"IFERROR(IF(A252=\"\",\"\",IF(VLOOKUP(A252,'Romaneio da Carga'!E:E,1,0)=BD!A252,\"Volume Ok\",\"Volume não pertence a carga\")),\"Volume não pertence a carga\")","v":""}]
[null,{"$f":"IFERROR(IF(A253=\"\",\"\",IF(VLOOKUP(A253,'Romaneio da Carga'!E:E,1,0)=BD!A253,\"Volume Ok\",\"Volume não pertence a carga\")),\"Volume não pertence a carga\")","v":""}]
[null,{"$f":"IFERROR(IF(A254=\"\",\"\",IF(VLOOKUP(A254,'Romaneio da Carga'!E:E,1,0)=BD!A254,\"Volume Ok\",\"Volume não pertence a carga\")),\"Volume não pertence a carga\")","v":""}]
[null,{"$f":"IFERROR(IF(A255=\"\",\"\",IF(VLOOKUP(A255,'Romaneio da Carga'!E:E,1,0)=BD!A255,\"Volume Ok\",\"Volume não pertence a carga\")),\"Volume não pertence a carga\")","v":""}]
[null,{"$f":"IFERROR(IF(A256=\"\",\"\",IF(VLOOKUP(A256,'Romaneio da Carga'!E:E,1,0)=BD!A256,\"Volume Ok\",\"Volume não pertence a carga\")),\"Volume não pertence a carga\")","v":""}]
[null,{"$f":"IFERROR(IF(A257=\"\",\"\",IF(VLOOKUP(A257,'Romaneio da Carga'!E:E,1,0)=BD!A257,\"Volume Ok\",\"Volume não pertence a carga\")),\"Volume não pertence a carga\")","v":""}]
[null,{"$f":"IFERROR(IF(A258=\"\",\"\",IF(VLOOKUP(A258,'Romaneio da Carga'!E:E,1,0)=BD!A258,\"Volume Ok\",\"Volume não pertence a carga\")),\"Volume não pertence a carga\")","v":""}]
[null,{"$f":"IFERROR(IF(A259=\"\",\"\",IF(VLOOKUP(A259,'Romaneio da Carga'!E:E,1,0)=BD!A259,\"Volume Ok\",\"Volume não pertence a carga\")),\"Volume não pertence a carga\")","v":""}]
[null,{"$f":"IFERROR(IF(A260=\"\",\"\",IF(VLOOKUP(A260,'Romaneio da Carga'!E:E,1,0)=BD!A260,\"Volume Ok\",\"Volume não pertence a carga\")),\"Volume não pertence a carga\")","v":""}]
[null,{"$f":"IFERROR(IF(A261=\"\",\"\",IF(VLOOKUP(A261,'Romaneio da Carga'!E:E,1,0)=BD!A261,\"Volume Ok\",\"Volume não pertence a carga\")),\"Volume não pertence a carga\")","v":""}]
[null,{"$f":"IFERROR(IF(A262=\"\",\"\",IF(VLOOKUP(A262,'Romaneio da Carga'!E:E,1,0)=BD!A262,\"Volume Ok\",\"Volume não pertence a carga\")),\"Volume não pertence a carga\")","v":""}]
[null,{"$f":"IFERROR(IF(A263=\"\",\"\",IF(VLOOKUP(A263,'Romaneio da Carga'!E:E,1,0)=BD!A263,\"Volume Ok\",\"Volume não pertence a carga\")),\"Volume não pertence a carga\")","v":""}]
[null,{"$f":"IFERROR(IF(A264=\"\",\"\",IF(VLOOKUP(A264,'Romaneio da Carga'!E:E,1,0)=BD!A264,\"Volume Ok\",\"Volume não pertence a carga\")),\"Volume não pertence a carga\")","v":""}]
[null,{"$f":"IFERROR(IF(A265=\"\",\"\",IF(VLOOKUP(A265,'Romaneio da Carga'!E:E,1,0)=BD!A265,\"Volume Ok\",\"Volume não pertence a carga\")),\"Volume não pertence a carga\")","v":""}]
[null,{"$f":"IFERROR(IF(A266=\"\",\"\",IF(VLOOKUP(A266,'Romaneio da Carga'!E:E,1,0)=BD!A266,\"Volume Ok\",\"Volume não pertence a carga\")),\"Volume não pertence a carga\")","v":""}]
[null,{"$f":"IFERROR(IF(A267=\"\",\"\",IF(VLOOKUP(A267,'Romaneio da Carga'!E:E,1,0)=BD!A267,\"Volume Ok\",\"Volume não pertence a carga\")),\"Volume não pertence a carga\")","v":""}]
[null,{"$f":"IFERROR(IF(A268=\"\",\"\",IF(VLOOKUP(A268,'Romaneio da Carga'!E:E,1,0)=BD!A268,\"Volume Ok\",\"Volume não pertence a carga\")),\"Volume não pertence a carga\")","v":""}]
[null,{"$f":"IFERROR(IF(A269=\"\",\"\",IF(VLOOKUP(A269,'Romaneio da Carga'!E:E,1,0)=BD!A269,\"Volume Ok\",\"Volume não pertence a carga\")),\"Volume não pertence a carga\")","v":""}]
[null,{"$f":"IFERROR(IF(A270=\"\",\"\",IF(VLOOKUP(A270,'Romaneio da Carga'!E:E,1,0)=BD!A270,\"Volume Ok\",\"Volume não pertence a carga\")),\"Volume não pertence a carga\")","v":""}]
[null,{"$f":"IFERROR(IF(A271=\"\",\"\",IF(VLOOKUP(A271,'Romaneio da Carga'!E:E,1,0)=BD!A271,\"Volume Ok\",\"Volume não pertence a carga\")),\"Volume não pertence a carga\")","v":""}]
[null,{"$f":"IFERROR(IF(A272=\"\",\"\",IF(VLOOKUP(A272,'Romaneio da Carga'!E:E,1,0)=BD!A272,\"Volume Ok\",\"Volume não pertence a carga\")),\"Volume não pertence a carga\")","v":""}]
[null,{"$f":"IFERROR(IF(A273=\"\",\"\",IF(VLOOKUP(A273,'Romaneio da Carga'!E:E,1,0)=BD!A273,\"Volume Ok\",\"Volume não pertence a carga\")),\"Volume não pertence a carga\")","v":""}]
[null,{"$f":"IFERROR(IF(A274=\"\",\"\",IF(VLOOKUP(A274,'Romaneio da Carga'!E:E,1,0)=BD!A274,\"Volume Ok\",\"Volume não pertence a carga\")),\"Volume não pertence a carga\")","v":""}]
[null,{"$f":"IFERROR(IF(A275=\"\",\"\",IF(VLOOKUP(A275,'Romaneio da Carga'!E:E,1,0)=BD!A275,\"Volume Ok\",\"Volume não pertence a carga\")),\"Volume não pertence a carga\")","v":""}]
[null,{"$f":"IFERROR(IF(A276=\"\",\"\",IF(VLOOKUP(A276,'Romaneio da Carga'!E:E,1,0)=BD!A276,\"Volume Ok\",\"Volume não pertence a carga\")),\"Volume não pertence a carga\")","v":""}]
[null,{"$f":"IFERROR(IF(A277=\"\",\"\",IF(VLOOKUP(A277,'Romaneio da Carga'!E:E,1,0)=BD!A277,\"Volume Ok\",\"Volume não pertence a carga\")),\"Volume não pertence a carga\")","v":""}]
[null,{"$f":"IFERROR(IF(A278=\"\",\"\",IF(VLOOKUP(A278,'Romaneio da Carga'!E:E,1,0)=BD!A278,\"Volume Ok\",\"Volume não pertence a carga\")),\"Volume não pertence a carga\")","v":""}]
[null,{"$f":"IFERROR(IF(A279=\"\",\"\",IF(VLOOKUP(A279,'Romaneio da Carga'!E:E,1,0)=BD!A279,\"Volume Ok\",\"Volume não pertence a carga\")),\"Volume não pertence a carga\")","v":""}]
[null,{"$f":"IFERROR(IF(A280=\"\",\"\",IF(VLOOKUP(A280,'Romaneio da Carga'!E:E,1,0)=BD!A280,\"Volume Ok\",\"Volume não pertence a carga\")),\"Volume não pertence a carga\")","v":""}]
[null,{"$f":"IFERROR(IF(A281=\"\",\"\",IF(VLOOKUP(A281,'Romaneio da Carga'!E:E,1,0)=BD!A281,\"Volume Ok\",\"Volume não pertence a carga\")),\"Volume não pertence a carga\")","v":""}]
[null,{"$f":"IFERROR(IF(A282=\"\",\"\",IF(VLOOKUP(A282,'Romaneio da Carga'!E:E,1,0)=BD!A282,\"Volume Ok\",\"Volume não pertence a carga\")),\"Volume não pertence a carga\")","v":""}]
[null,{"$f":"IFERROR(IF(A283=\"\",\"\",IF(VLOOKUP(A283,'Romaneio da Carga'!E:E,1,0)=BD!A283,\"Volume Ok\",\"Volume não pertence a carga\")),\"Volume não pertence a carga\")","v":""}]
[null,{"$f":"IFERROR(IF(A284=\"\",\"\",IF(VLOOKUP(A284,'Romaneio da Carga'!E:E,1,0)=BD!A284,\"Volume Ok\",\"Volume não pertence a carga\")),\"Volume não pertence a carga\")","v":""}]
[null,{"$f":"IFERROR(IF(A285=\"\",\"\",IF(VLOOKUP(A285,'Romaneio da Carga'!E:E,1,0)=BD!A285,\"Volume Ok\",\"Volume não pertence a carga\")),\"Volume não pertence a carga\")","v":""}]
[null,{"$f":"IFERROR(IF(A286=\"\",\"\",IF(VLOOKUP(A286,'Romaneio da Carga'!E:E,1,0)=BD!A286,\"Volume Ok\",\"Volume não pertence a carga\")),\"Volume não pertence a carga\")","v":""}]
[null,{"$f":"IFERROR(IF(A287=\"\",\"\",IF(VLOOKUP(A287,'Romaneio da Carga'!E:E,1,0)=BD!A287,\"Volume Ok\",\"Volume não pertence a carga\")),\"Volume não pertence a carga\")","v":""}]
[null,{"$f":"IFERROR(IF(A288=\"\",\"\",IF(VLOOKUP(A288,'Romaneio da Carga'!E:E,1,0)=BD!A288,\"Volume Ok\",\"Volume não pertence a carga\")),\"Volume não pertence a carga\")","v":""}]
[null,{"$f":"IFERROR(IF(A289=\"\",\"\",IF(VLOOKUP(A289,'Romaneio da Carga'!E:E,1,0)=BD!A289,\"Volume Ok\",\"Volume não pertence a carga\")),\"Volume não pertence a carga\")","v":""}]
[null,{"$f":"IFERROR(IF(A290=\"\",\"\",IF(VLOOKUP(A290,'Romaneio da Carga'!E:E,1,0)=BD!A290,\"Volume Ok\",\"Volume não pertence a carga\")),\"Volume não pertence a carga\")","v":""}]
[null,{"$f":"IFERROR(IF(A291=\"\",\"\",IF(VLOOKUP(A291,'Romaneio da Carga'!E:E,1,0)=BD!A291,\"Volume Ok\",\"Volume não pertence a carga\")),\"Volume não pertence a carga\")","v":""}]
[null,{"$f":"IFERROR(IF(A292=\"\",\"\",IF(VLOOKUP(A292,'Romaneio da Carga'!E:E,1,0)=BD!A292,\"Volume Ok\",\"Volume não pertence a carga\")),\"Volume não pertence a carga\")","v":""}]
[null,{"$f":"IFERROR(IF(A293=\"\",\"\",IF(VLOOKUP(A293,'Romaneio da Carga'!E:E,1,0)=BD!A293,\"Volume Ok\",\"Volume não pertence a carga\")),\"Volume não pertence a carga\")","v":""}]
[null,{"$f":"IFERROR(IF(A294=\"\",\"\",IF(VLOOKUP(A294,'Romaneio da Carga'!E:E,1,0)=BD!A294,\"Volume Ok\",\"Volume não pertence a carga\")),\"Volume não pertence a carga\")","v":""}]
[null,{"$f":"IFERROR(IF(A295=\"\",\"\",IF(VLOOKUP(A295,'Romaneio da Carga'!E:E,1,0)=BD!A295,\"Volume Ok\",\"Volume não pertence a carga\")),\"Volume não pertence a carga\")","v":""}]
[null,{"$f":"IFERROR(IF(A296=\"\",\"\",IF(VLOOKUP(A296,'Romaneio da Carga'!E:E,1,0)=BD!A296,\"Volume Ok\",\"Volume não pertence a carga\")),\"Volume não pertence a carga\")","v":""}]
[null,{"$f":"IFERROR(IF(A297=\"\",\"\",IF(VLOOKUP(A297,'Romaneio da Carga'!E:E,1,0)=BD!A297,\"Volume Ok\",\"Volume não pertence a carga\")),\"Volume não pertence a carga\")","v":""}]
[null,{"$f":"IFERROR(IF(A298=\"\",\"\",IF(VLOOKUP(A298,'Romaneio da Carga'!E:E,1,0)=BD!A298,\"Volume Ok\",\"Volume não pertence a carga\")),\"Volume não pertence a carga\")","v":""}]
[null,{"$f":"IFERROR(IF(A299=\"\",\"\",IF(VLOOKUP(A299,'Romaneio da Carga'!E:E,1,0)=BD!A299,\"Volume Ok\",\"Volume não pertence a carga\")),\"Volume não pertence a carga\")","v":""}]
[null,{"$f":"IFERROR(IF(A300=\"\",\"\",IF(VLOOKUP(A300,'Romaneio da Carga'!E:E,1,0)=BD!A300,\"Volume Ok\",\"Volume não pertence a carga\")),\"Volume não pertence a carga\")","v":""}]
[null,{"$f":"IFERROR(IF(A301=\"\",\"\",IF(VLOOKUP(A301,'Romaneio da Carga'!E:E,1,0)=BD!A301,\"Volume Ok\",\"Volume não pertence a carga\")),\"Volume não pertence a carga\")","v":""}]
[null,{"$f":"IFERROR(IF(A302=\"\",\"\",IF(VLOOKUP(A302,'Romaneio da Carga'!E:E,1,0)=BD!A302,\"Volume Ok\",\"Volume não pertence a carga\")),\"Volume não pertence a carga\")","v":""}]
[null,{"$f":"IFERROR(IF(A303=\"\",\"\",IF(VLOOKUP(A303,'Romaneio da Carga'!E:E,1,0)=BD!A303,\"Volume Ok\",\"Volume não pertence a carga\")),\"Volume não pertence a carga\")","v":""}]
[null,{"$f":"IFERROR(IF(A304=\"\",\"\",IF(VLOOKUP(A304,'Romaneio da Carga'!E:E,1,0)=BD!A304,\"Volume Ok\",\"Volume não pertence a carga\")),\"Volume não pertence a carga\")","v":""}]
[null,{"$f":"IFERROR(IF(A305=\"\",\"\",IF(VLOOKUP(A305,'Romaneio da Carga'!E:E,1,0)=BD!A305,\"Volume Ok\",\"Volume não pertence a carga\")),\"Volume não pertence a carga\")","v":""}]
[null,{"$f":"IFERROR(IF(A306=\"\",\"\",IF(VLOOKUP(A306,'Romaneio da Carga'!E:E,1,0)=BD!A306,\"Volume Ok\",\"Volume não pertence a carga\")),\"Volume não pertence a carga\")","v":""}]
[null,{"$f":"IFERROR(IF(A307=\"\",\"\",IF(VLOOKUP(A307,'Romaneio da Carga'!E:E,1,0)=BD!A307,\"Volume Ok\",\"Volume não pertence a carga\")),\"Volume não pertence a carga\")","v":""}]
[null,{"$f":"IFERROR(IF(A308=\"\",\"\",IF(VLOOKUP(A308,'Romaneio da Carga'!E:E,1,0)=BD!A308,\"Volume Ok\",\"Volume não pertence a carga\")),\"Volume não pertence a carga\")","v":""}]
[null,{"$f":"IFERROR(IF(A309=\"\",\"\",IF(VLOOKUP(A309,'Romaneio da Carga'!E:E,1,0)=BD!A309,\"Volume Ok\",\"Volume não pertence a carga\")),\"Volume não pertence a carga\")","v":""}]
[null,{"$f":"IFERROR(IF(A310=\"\",\"\",IF(VLOOKUP(A310,'Romaneio da Carga'!E:E,1,0)=BD!A310,\"Volume Ok\",\"Volume não pertence a carga\")),\"Volume não pertence a carga\")","v":""}]
[null,{"$f":"IFERROR(IF(A311=\"\",\"\",IF(VLOOKUP(A311,'Romaneio da Carga'!E:E,1,0)=BD!A311,\"Volume Ok\",\"Volume não pertence a carga\")),\"Volume não pertence a carga\")","v":""}]
[null,{"$f":"IFERROR(IF(A312=\"\",\"\",IF(VLOOKUP(A312,'Romaneio da Carga'!E:E,1,0)=BD!A312,\"Volume Ok\",\"Volume não pertence a carga\")),\"Volume não pertence a carga\")","v":""}]
[null,{"$f":"IFERROR(IF(A313=\"\",\"\",IF(VLOOKUP(A313,'Romaneio da Carga'!E:E,1,0)=BD!A313,\"Volume Ok\",\"Volume não pertence a carga\")),\"Volume não pertence a carga\")","v":""}]
[null,{"$f":"IFERROR(IF(A314=\"\",\"\",IF(VLOOKUP(A314,'Romaneio da Carga'!E:E,1,0)=BD!A314,\"Volume Ok\",\"Volume não pertence a carga\")),\"Volume não pertence a carga\")","v":""}]
[null,{"$f":"IFERROR(IF(A315=\"\",\"\",IF(VLOOKUP(A315,'Romaneio da Carga'!E:E,1,0)=BD!A315,\"Volume Ok\",\"Volume não pertence a carga\")),\"Volume não pertence a carga\")","v":""}]
[null,{"$f":"IFERROR(IF(A316=\"\",\"\",IF(VLOOKUP(A316,'Romaneio da Carga'!E:E,1,0)=BD!A316,\"Volume Ok\",\"Volume não pertence a carga\")),\"Volume não pertence a carga\")","v":""}]
[null,{"$f":"IFERROR(IF(A317=\"\",\"\",IF(VLOOKUP(A317,'Romaneio da Carga'!E:E,1,0)=BD!A317,\"Volume Ok\",\"Volume não pertence a carga\")),\"Volume não pertence a carga\")","v":""}]
[null,{"$f":"IFERROR(IF(A318=\"\",\"\",IF(VLOOKUP(A318,'Romaneio da Carga'!E:E,1,0)=BD!A318,\"Volume Ok\",\"Volume não pertence a carga\")),\"Volume não pertence a carga\")","v":""}]
[null,{"$f":"IFERROR(IF(A319=\"\",\"\",IF(VLOOKUP(A319,'Romaneio da Carga'!E:E,1,0)=BD!A319,\"Volume Ok\",\"Volume não pertence a carga\")),\"Volume não pertence a carga\")","v":""}]
[null,{"$f":"IFERROR(IF(A320=\"\",\"\",IF(VLOOKUP(A320,'Romaneio da Carga'!E:E,1,0)=BD!A320,\"Volume Ok\",\"Volume não pertence a carga\")),\"Volume não pertence a carga\")","v":""}]
[null,{"$f":"IFERROR(IF(A321=\"\",\"\",IF(VLOOKUP(A321,'Romaneio da Carga'!E:E,1,0)=BD!A321,\"Volume Ok\",\"Volume não pertence a carga\")),\"Volume não pertence a carga\")","v":""}]
[null,{"$f":"IFERROR(IF(A322=\"\",\"\",IF(VLOOKUP(A322,'Romaneio da Carga'!E:E,1,0)=BD!A322,\"Volume Ok\",\"Volume não pertence a carga\")),\"Volume não pertence a carga\")","v":""}]
[null,{"$f":"IFERROR(IF(A323=\"\",\"\",IF(VLOOKUP(A323,'Romaneio da Carga'!E:E,1,0)=BD!A323,\"Volume Ok\",\"Volume não pertence a carga\")),\"Volume não pertence a carga\")","v":""}]
[null,{"$f":"IFERROR(IF(A324=\"\",\"\",IF(VLOOKUP(A324,'Romaneio da Carga'!E:E,1,0)=BD!A324,\"Volume Ok\",\"Volume não pertence a carga\")),\"Volume não pertence a carga\")","v":""}]
[null,{"$f":"IFERROR(IF(A325=\"\",\"\",IF(VLOOKUP(A325,'Romaneio da Carga'!E:E,1,0)=BD!A325,\"Volume Ok\",\"Volume não pertence a carga\")),\"Volume não pertence a carga\")","v":""}]
[null,{"$f":"IFERROR(IF(A326=\"\",\"\",IF(VLOOKUP(A326,'Romaneio da Carga'!E:E,1,0)=BD!A326,\"Volume Ok\",\"Volume não pertence a carga\")),\"Volume não pertence a carga\")","v":""}]
[null,{"$f":"IFERROR(IF(A327=\"\",\"\",IF(VLOOKUP(A327,'Romaneio da Carga'!E:E,1,0)=BD!A327,\"Volume Ok\",\"Volume não pertence a carga\")),\"Volume não pertence a carga\")","v":""}]
[null,{"$f":"IFERROR(IF(A328=\"\",\"\",IF(VLOOKUP(A328,'Romaneio da Carga'!E:E,1,0)=BD!A328,\"Volume Ok\",\"Volume não pertence a carga\")),\"Volume não pertence a carga\")","v":""}]
[null,{"$f":"IFERROR(IF(A329=\"\",\"\",IF(VLOOKUP(A329,'Romaneio da Carga'!E:E,1,0)=BD!A329,\"Volume Ok\",\"Volume não pertence a carga\")),\"Volume não pertence a carga\")","v":""}]
[null,{"$f":"IFERROR(IF(A330=\"\",\"\",IF(VLOOKUP(A330,'Romaneio da Carga'!E:E,1,0)=BD!A330,\"Volume Ok\",\"Volume não pertence a carga\")),\"Volume não pertence a carga\")","v":""}]
[null,{"$f":"IFERROR(IF(A331=\"\",\"\",IF(VLOOKUP(A331,'Romaneio da Carga'!E:E,1,0)=BD!A331,\"Volume Ok\",\"Volume não pertence a carga\")),\"Volume não pertence a carga\")","v":""}]
[null,{"$f":"IFERROR(IF(A332=\"\",\"\",IF(VLOOKUP(A332,'Romaneio da Carga'!E:E,1,0)=BD!A332,\"Volume Ok\",\"Volume não pertence a carga\")),\"Volume não pertence a carga\")","v":""}]
[null,{"$f":"IFERROR(IF(A333=\"\",\"\",IF(VLOOKUP(A333,'Romaneio da Carga'!E:E,1,0)=BD!A333,\"Volume Ok\",\"Volume não pertence a carga\")),\"Volume não pertence a carga\")","v":""}]
[null,{"$f":"IFERROR(IF(A334=\"\",\"\",IF(VLOOKUP(A334,'Romaneio da Carga'!E:E,1,0)=BD!A334,\"Volume Ok\",\"Volume não pertence a carga\")),\"Volume não pertence a carga\")","v":""}]
[null,{"$f":"IFERROR(IF(A335=\"\",\"\",IF(VLOOKUP(A335,'Romaneio da Carga'!E:E,1,0)=BD!A335,\"Volume Ok\",\"Volume não pertence a carga\")),\"Volume não pertence a carga\")","v":""}]
[null,{"$f":"IFERROR(IF(A336=\"\",\"\",IF(VLOOKUP(A336,'Romaneio da Carga'!E:E,1,0)=BD!A336,\"Volume Ok\",\"Volume não pertence a carga\")),\"Volume não pertence a carga\")","v":""}]
[null,{"$f":"IFERROR(IF(A337=\"\",\"\",IF(VLOOKUP(A337,'Romaneio da Carga'!E:E,1,0)=BD!A337,\"Volume Ok\",\"Volume não pertence a carga\")),\"Volume não pertence a carga\")","v":""}]
[null,{"$f":"IFERROR(IF(A338=\"\",\"\",IF(VLOOKUP(A338,'Romaneio da Carga'!E:E,1,0)=BD!A338,\"Volume Ok\",\"Volume não pertence a carga\")),\"Volume não pertence a carga\")","v":""}]
[null,{"$f":"IFERROR(IF(A339=\"\",\"\",IF(VLOOKUP(A339,'Romaneio da Carga'!E:E,1,0)=BD!A339,\"Volume Ok\",\"Volume não pertence a carga\")),\"Volume não pertence a carga\")","v":""}]
[null,{"$f":"IFERROR(IF(A340=\"\",\"\",IF(VLOOKUP(A340,'Romaneio da Carga'!E:E,1,0)=BD!A340,\"Volume Ok\",\"Volume não pertence a carga\")),\"Volume não pertence a carga\")","v":""}]
[null,{"$f":"IFERROR(IF(A341=\"\",\"\",IF(VLOOKUP(A341,'Romaneio da Carga'!E:E,1,0)=BD!A341,\"Volume Ok\",\"Volume não pertence a carga\")),\"Volume não pertence a carga\")","v":""}]
[null,{"$f":"IFERROR(IF(A342=\"\",\"\",IF(VLOOKUP(A342,'Romaneio da Carga'!E:E,1,0)=BD!A342,\"Volume Ok\",\"Volume não pertence a carga\")),\"Volume não pertence a carga\")","v":""}]
[null,{"$f":"IFERROR(IF(A343=\"\",\"\",IF(VLOOKUP(A343,'Romaneio da Carga'!E:E,1,0)=BD!A343,\"Volume Ok\",\"Volume não pertence a carga\")),\"Volume não pertence a carga\")","v":""}]
[null,{"$f":"IFERROR(IF(A344=\"\",\"\",IF(VLOOKUP(A344,'Romaneio da Carga'!E:E,1,0)=BD!A344,\"Volume Ok\",\"Volume não pertence a carga\")),\"Volume não pertence a carga\")","v":""}]
[null,{"$f":"IFERROR(IF(A345=\"\",\"\",IF(VLOOKUP(A345,'Romaneio da Carga'!E:E,1,0)=BD!A345,\"Volume Ok\",\"Volume não pertence a carga\")),\"Volume não pertence a carga\")","v":""}]
[null,{"$f":"IFERROR(IF(A346=\"\",\"\",IF(VLOOKUP(A346,'Romaneio da Carga'!E:E,1,0)=BD!A346,\"Volume Ok\",\"Volume não pertence a carga\")),\"Volume não pertence a carga\")","v":""}]
[null,{"$f":"IFERROR(IF(A347=\"\",\"\",IF(VLOOKUP(A347,'Romaneio da Carga'!E:E,1,0)=BD!A347,\"Volume Ok\",\"Volume não pertence a carga\")),\"Volume não pertence a carga\")","v":""}]
[null,{"$f":"IFERROR(IF(A348=\"\",\"\",IF(VLOOKUP(A348,'Romaneio da Carga'!E:E,1,0)=BD!A348,\"Volume Ok\",\"Volume não pertence a carga\")),\"Volume não pertence a carga\")","v":""}]
[null,{"$f":"IFERROR(IF(A349=\"\",\"\",IF(VLOOKUP(A349,'Romaneio da Carga'!E:E,1,0)=BD!A349,\"Volume Ok\",\"Volume não pertence a carga\")),\"Volume não pertence a carga\")","v":""}]
[null,{"$f":"IFERROR(IF(A350=\"\",\"\",IF(VLOOKUP(A350,'Romaneio da Carga'!E:E,1,0)=BD!A350,\"Volume Ok\",\"Volume não pertence a carga\")),\"Volume não pertence a carga\")","v":""}]
[null,{"$f":"IFERROR(IF(A351=\"\",\"\",IF(VLOOKUP(A351,'Romaneio da Carga'!E:E,1,0)=BD!A351,\"Volume Ok\",\"Volume não pertence a carga\")),\"Volume não pertence a carga\")","v":""}]
[null,{"$f":"IFERROR(IF(A352=\"\",\"\",IF(VLOOKUP(A352,'Romaneio da Carga'!E:E,1,0)=BD!A352,\"Volume Ok\",\"Volume não pertence a carga\")),\"Volume não pertence a carga\")","v":""}]
[null,{"$f":"IFERROR(IF(A353=\"\",\"\",IF(VLOOKUP(A353,'Romaneio da Carga'!E:E,1,0)=BD!A353,\"Volume Ok\",\"Volume não pertence a carga\")),\"Volume não pertence a carga\")","v":""}]
[null,{"$f":"IFERROR(IF(A354=\"\",\"\",IF(VLOOKUP(A354,'Romaneio da Carga'!E:E,1,0)=BD!A354,\"Volume Ok\",\"Volume não pertence a carga\")),\"Volume não pertence a carga\")","v":""}]
[null,{"$f":"IFERROR(IF(A355=\"\",\"\",IF(VLOOKUP(A355,'Romaneio da Carga'!E:E,1,0)=BD!A355,\"Volume Ok\",\"Volume não pertence a carga\")),\"Volume não pertence a carga\")","v":""}]
[null,{"$f":"IFERROR(IF(A356=\"\",\"\",IF(VLOOKUP(A356,'Romaneio da Carga'!E:E,1,0)=BD!A356,\"Volume Ok\",\"Volume não pertence a carga\")),\"Volume não pertence a carga\")","v":""}]
[null,{"$f":"IFERROR(IF(A357=\"\",\"\",IF(VLOOKUP(A357,'Romaneio da Carga'!E:E,1,0)=BD!A357,\"Volume Ok\",\"Volume não pertence a carga\")),\"Volume não pertence a carga\")","v":""}]
[null,{"$f":"IFERROR(IF(A358=\"\",\"\",IF(VLOOKUP(A358,'Romaneio da Carga'!E:E,1,0)=BD!A358,\"Volume Ok\",\"Volume não pertence a carga\")),\"Volume não pertence a carga\")","v":""}]
[null,{"$f":"IFERROR(IF(A359=\"\",\"\",IF(VLOOKUP(A359,'Romaneio da Carga'!E:E,1,0)=BD!A359,\"Volume Ok\",\"Volume não pertence a carga\")),\"Volume não pertence a carga\")","v":""}]
[null,{"$f":"IFERROR(IF(A360=\"\",\"\",IF(VLOOKUP(A360,'Romaneio da Carga'!E:E,1,0)=BD!A360,\"Volume Ok\",\"Volume não pertence a carga\")),\"Volume não pertence a carga\")","v":""}]
[null,{"$f":"IFERROR(IF(A361=\"\",\"\",IF(VLOOKUP(A361,'Romaneio da Carga'!E:E,1,0)=BD!A361,\"Volume Ok\",\"Volume não pertence a carga\")),\"Volume não pertence a carga\")","v":""}]
[null,{"$f":"IFERROR(IF(A362=\"\",\"\",IF(VLOOKUP(A362,'Romaneio da Carga'!E:E,1,0)=BD!A362,\"Volume Ok\",\"Volume não pertence a carga\")),\"Volume não pertence a carga\")","v":""}]
[null,{"$f":"IFERROR(IF(A363=\"\",\"\",IF(VLOOKUP(A363,'Romaneio da Carga'!E:E,1,0)=BD!A363,\"Volume Ok\",\"Volume não pertence a carga\")),\"Volume não pertence a carga\")","v":""}]
[null,{"$f":"IFERROR(IF(A364=\"\",\"\",IF(VLOOKUP(A364,'Romaneio da Carga'!E:E,1,0)=BD!A364,\"Volume Ok\",\"Volume não pertence a carga\")),\"Volume não pertence a carga\")","v":""}]
[null,{"$f":"IFERROR(IF(A365=\"\",\"\",IF(VLOOKUP(A365,'Romaneio da Carga'!E:E,1,0)=BD!A365,\"Volume Ok\",\"Volume não pertence a carga\")),\"Volume não pertence a carga\")","v":""}]
[null,{"$f":"IFERROR(IF(A366=\"\",\"\",IF(VLOOKUP(A366,'Romaneio da Carga'!E:E,1,0)=BD!A366,\"Volume Ok\",\"Volume não pertence a carga\")),\"Volume não pertence a carga\")","v":""}]
[null,{"$f":"IFERROR(IF(A367=\"\",\"\",IF(VLOOKUP(A367,'Romaneio da Carga'!E:E,1,0)=BD!A367,\"Volume Ok\",\"Volume não pertence a carga\")),\"Volume não pertence a carga\")","v":""}]
[null,{"$f":"IFERROR(IF(A368=\"\",\"\",IF(VLOOKUP(A368,'Romaneio da Carga'!E:E,1,0)=BD!A368,\"Volume Ok\",\"Volume não pertence a carga\")),\"Volume não pertence a carga\")","v":""}]
[null,{"$f":"IFERROR(IF(A369=\"\",\"\",IF(VLOOKUP(A369,'Romaneio da Carga'!E:E,1,0)=BD!A369,\"Volume Ok\",\"Volume não pertence a carga\")),\"Volume não pertence a carga\")","v":""}]
[null,{"$f":"IFERROR(IF(A370=\"\",\"\",IF(VLOOKUP(A370,'Romaneio da Carga'!E:E,1,0)=BD!A370,\"Volume Ok\",\"Volume não pertence a carga\")),\"Volume não pertence a carga\")","v":""}]
[null,{"$f":"IFERROR(IF(A371=\"\",\"\",IF(VLOOKUP(A371,'Romaneio da Carga'!E:E,1,0)=BD!A371,\"Volume Ok\",\"Volume não pertence a carga\")),\"Volume não pertence a carga\")","v":""}]
[null,{"$f":"IFERROR(IF(A372=\"\",\"\",IF(VLOOKUP(A372,'Romaneio da Carga'!E:E,1,0)=BD!A372,\"Volume Ok\",\"Volume não pertence a carga\")),\"Volume não pertence a carga\")","v":""}]
[null,{"$f":"IFERROR(IF(A373=\"\",\"\",IF(VLOOKUP(A373,'Romaneio da Carga'!E:E,1,0)=BD!A373,\"Volume Ok\",\"Volume não pertence a carga\")),\"Volume não pertence a carga\")","v":""}]
[null,{"$f":"IFERROR(IF(A374=\"\",\"\",IF(VLOOKUP(A374,'Romaneio da Carga'!E:E,1,0)=BD!A374,\"Volume Ok\",\"Volume não pertence a carga\")),\"Volume não pertence a carga\")","v":""}]
[null,{"$f":"IFERROR(IF(A375=\"\",\"\",IF(VLOOKUP(A375,'Romaneio da Carga'!E:E,1,0)=BD!A375,\"Volume Ok\",\"Volume não pertence a carga\")),\"Volume não pertence a carga\")","v":""}]
[null,{"$f":"IFERROR(IF(A376=\"\",\"\",IF(VLOOKUP(A376,'Romaneio da Carga'!E:E,1,0)=BD!A376,\"Volume Ok\",\"Volume não pertence a carga\")),\"Volume não pertence a carga\")","v":""}]
[null,{"$f":"IFERROR(IF(A377=\"\",\"\",IF(VLOOKUP(A377,'Romaneio da Carga'!E:E,1,0)=BD!A377,\"Volume Ok\",\"Volume não pertence a carga\")),\"Volume não pertence a carga\")","v":""}]
[null,{"$f":"IFERROR(IF(A378=\"\",\"\",IF(VLOOKUP(A378,'Romaneio da Carga'!E:E,1,0)=BD!A378,\"Volume Ok\",\"Volume não pertence a carga\")),\"Volume não pertence a carga\")","v":""}]
[null,{"$f":"IFERROR(IF(A379=\"\",\"\",IF(VLOOKUP(A379,'Romaneio da Carga'!E:E,1,0)=BD!A379,\"Volume Ok\",\"Volume não pertence a carga\")),\"Volume não pertence a carga\")","v":""}]
[null,{"$f":"IFERROR(IF(A380=\"\",\"\",IF(VLOOKUP(A380,'Romaneio da Carga'!E:E,1,0)=BD!A380,\"Volume Ok\",\"Volume não pertence a carga\")),\"Volume não pertence a carga\")","v":""}]
[null,{"$f":"IFERROR(IF(A381=\"\",\"\",IF(VLOOKUP(A381,'Romaneio da Carga'!E:E,1,0)=BD!A381,\"Volume Ok\",\"Volume não pertence a carga\")),\"Volume não pertence a carga\")","v":""}]
[null,{"$f":"IFERROR(IF(A382=\"\",\"\",IF(VLOOKUP(A382,'Romaneio da Carga'!E:E,1,0)=BD!A382,\"Volume Ok\",\"Volume não pertence a carga\")),\"Volume não pertence a carga\")","v":""}]
[null,{"$f":"IFERROR(IF(A383=\"\",\"\",IF(VLOOKUP(A383,'Romaneio da Carga'!E:E,1,0)=BD!A383,\"Volume Ok\",\"Volume não pertence a carga\")),\"Volume não pertence a carga\")","v":""}]
[null,{"$f":"IFERROR(IF(A384=\"\",\"\",IF(VLOOKUP(A384,'Romaneio da Carga'!E:E,1,0)=BD!A384,\"Volume Ok\",\"Volume não pertence a carga\")),\"Volume não pertence a carga\")","v":""}]
[null,{"$f":"IFERROR(IF(A385=\"\",\"\",IF(VLOOKUP(A385,'Romaneio da Carga'!E:E,1,0)=BD!A385,\"Volume Ok\",\"Volume não pertence a carga\")),\"Volume não pertence a carga\")","v":""}]
[null,{"$f":"IFERROR(IF(A386=\"\",\"\",IF(VLOOKUP(A386,'Romaneio da Carga'!E:E,1,0)=BD!A386,\"Volume Ok\",\"Volume não pertence a carga\")),\"Volume não pertence a carga\")","v":""}]
[null,{"$f":"IFERROR(IF(A387=\"\",\"\",IF(VLOOKUP(A387,'Romaneio da Carga'!E:E,1,0)=BD!A387,\"Volume Ok\",\"Volume não pertence a carga\")),\"Volume não pertence a carga\")","v":""}]
[null,{"$f":"IFERROR(IF(A388=\"\",\"\",IF(VLOOKUP(A388,'Romaneio da Carga'!E:E,1,0)=BD!A388,\"Volume Ok\",\"Volume não pertence a carga\")),\"Volume não pertence a carga\")","v":""}]
[null,{"$f":"IFERROR(IF(A389=\"\",\"\",IF(VLOOKUP(A389,'Romaneio da Carga'!E:E,1,0)=BD!A389,\"Volume Ok\",\"Volume não pertence a carga\")),\"Volume não pertence a carga\")","v":""}]
[null,{"$f":"IFERROR(IF(A390=\"\",\"\",IF(VLOOKUP(A390,'Romaneio da Carga'!E:E,1,0)=BD!A390,\"Volume Ok\",\"Volume não pertence a carga\")),\"Volume não pertence a carga\")","v":""}]
[null,{"$f":"IFERROR(IF(A391=\"\",\"\",IF(VLOOKUP(A391,'Romaneio da Carga'!E:E,1,0)=BD!A391,\"Volume Ok\",\"Volume não pertence a carga\")),\"Volume não pertence a carga\")","v":""}]
[null,{"$f":"IFERROR(IF(A392=\"\",\"\",IF(VLOOKUP(A392,'Romaneio da Carga'!E:E,1,0)=BD!A392,\"Volume Ok\",\"Volume não pertence a carga\")),\"Volume não pertence a carga\")","v":""}]
[null,{"$f":"IFERROR(IF(A393=\"\",\"\",IF(VLOOKUP(A393,'Romaneio da Carga'!E:E,1,0)=BD!A393,\"Volume Ok\",\"Volume não pertence a carga\")),\"Volume não pertence a carga\")","v":""}]
[null,{"$f":"IFERROR(IF(A394=\"\",\"\",IF(VLOOKUP(A394,'Romaneio da Carga'!E:E,1,0)=BD!A394,\"Volume Ok\",\"Volume não pertence a carga\")),\"Volume não pertence a carga\")","v":""}]
[null,{"$f":"IFERROR(IF(A395=\"\",\"\",IF(VLOOKUP(A395,'Romaneio da Carga'!E:E,1,0)=BD!A395,\"Volume Ok\",\"Volume não pertence a carga\")),\"Volume não pertence a carga\")","v":""}]
[null,{"$f":"IFERROR(IF(A396=\"\",\"\",IF(VLOOKUP(A396,'Romaneio da Carga'!E:E,1,0)=BD!A396,\"Volume Ok\",\"Volume não pertence a carga\")),\"Volume não pertence a carga\")","v":""}]
[null,{"$f":"IFERROR(IF(A397=\"\",\"\",IF(VLOOKUP(A397,'Romaneio da Carga'!E:E,1,0)=BD!A397,\"Volume Ok\",\"Volume não pertence a carga\")),\"Volume não pertence a carga\")","v":""}]
[null,{"$f":"IFERROR(IF(A398=\"\",\"\",IF(VLOOKUP(A398,'Romaneio da Carga'!E:E,1,0)=BD!A398,\"Volume Ok\",\"Volume não pertence a carga\")),\"Volume não pertence a carga\")","v":""}]
[null,{"$f":"IFERROR(IF(A399=\"\",\"\",IF(VLOOKUP(A399,'Romaneio da Carga'!E:E,1,0)=BD!A399,\"Volume Ok\",\"Volume não pertence a carga\")),\"Volume não pertence a carga\")","v":""}]
[null,{"$f":"IFERROR(IF(A400=\"\",\"\",IF(VLOOKUP(A400,'Romaneio da Carga'!E:E,1,0)=BD!A400,\"Volume Ok\",\"Volume não pertence a carga\")),\"Volume não pertence a carga\")","v":""}]
[null,{"$f":"IFERROR(IF(A401=\"\",\"\",IF(VLOOKUP(A401,'Romaneio da Carga'!E:E,1,0)=BD!A401,\"Volume Ok\",\"Volume não pertence a carga\")),\"Volume não pertence a carga\")","v":""}]
[null,{"$f":"IFERROR(IF(A402=\"\",\"\",IF(VLOOKUP(A402,'Romaneio da Carga'!E:E,1,0)=BD!A402,\"Volume Ok\",\"Volume não pertence a carga\")),\"Volume não pertence a carga\")","v":""}]
[null,{"$f":"IFERROR(IF(A403=\"\",\"\",IF(VLOOKUP(A403,'Romaneio da Carga'!E:E,1,0)=BD!A403,\"Volume Ok\",\"Volume não pertence a carga\")),\"Volume não pertence a carga\")","v":""}]
[null,{"$f":"IFERROR(IF(A404=\"\",\"\",IF(VLOOKUP(A404,'Romaneio da Carga'!E:E,1,0)=BD!A404,\"Volume Ok\",\"Volume não pertence a carga\")),\"Volume não pertence a carga\")","v":""}]
[null,{"$f":"IFERROR(IF(A405=\"\",\"\",IF(VLOOKUP(A405,'Romaneio da Carga'!E:E,1,0)=BD!A405,\"Volume Ok\",\"Volume não pertence a carga\")),\"Volume não pertence a carga\")","v":""}]
[null,{"$f":"IFERROR(IF(A406=\"\",\"\",IF(VLOOKUP(A406,'Romaneio da Carga'!E:E,1,0)=BD!A406,\"Volume Ok\",\"Volume não pertence a carga\")),\"Volume não pertence a carga\")","v":""}]
[null,{"$f":"IFERROR(IF(A407=\"\",\"\",IF(VLOOKUP(A407,'Romaneio da Carga'!E:E,1,0)=BD!A407,\"Volume Ok\",\"Volume não pertence a carga\")),\"Volume não pertence a carga\")","v":""}]
[null,{"$f":"IFERROR(IF(A408=\"\",\"\",IF(VLOOKUP(A408,'Romaneio da Carga'!E:E,1,0)=BD!A408,\"Volume Ok\",\"Volume não pertence a carga\")),\"Volume não pertence a carga\")","v":""}]
[null,{"$f":"IFERROR(IF(A409=\"\",\"\",IF(VLOOKUP(A409,'Romaneio da Carga'!E:E,1,0)=BD!A409,\"Volume Ok\",\"Volume não pertence a carga\")),\"Volume não pertence a carga\")","v":""}]
[null,{"$f":"IFERROR(IF(A410=\"\",\"\",IF(VLOOKUP(A410,'Romaneio da Carga'!E:E,1,0)=BD!A410,\"Volume Ok\",\"Volume não pertence a carga\")),\"Volume não pertence a carga\")","v":""}]
[null,{"$f":"IFERROR(IF(A411=\"\",\"\",IF(VLOOKUP(A411,'Romaneio da Carga'!E:E,1,0)=BD!A411,\"Volume Ok\",\"Volume não pertence a carga\")),\"Volume não pertence a carga\")","v":""}]
[null,{"$f":"IFERROR(IF(A412=\"\",\"\",IF(VLOOKUP(A412,'Romaneio da Carga'!E:E,1,0)=BD!A412,\"Volume Ok\",\"Volume não pertence a carga\")),\"Volume não pertence a carga\")","v":""}]
[null,{"$f":"IFERROR(IF(A413=\"\",\"\",IF(VLOOKUP(A413,'Romaneio da Carga'!E:E,1,0)=BD!A413,\"Volume Ok\",\"Volume não pertence a carga\")),\"Volume não pertence a carga\")","v":""}]
[null,{"$f":"IFERROR(IF(A414=\"\",\"\",IF(VLOOKUP(A414,'Romaneio da Carga'!E:E,1,0)=BD!A414,\"Volume Ok\",\"Volume não pertence a carga\")),\"Volume não pertence a carga\")","v":""}]
[null,{"$f":"IFERROR(IF(A415=\"\",\"\",IF(VLOOKUP(A415,'Romaneio da Carga'!E:E,1,0)=BD!A415,\"Volume Ok\",\"Volume não pertence a carga\")),\"Volume não pertence a carga\")","v":""}]
[null,{"$f":"IFERROR(IF(A416=\"\",\"\",IF(VLOOKUP(A416,'Romaneio da Carga'!E:E,1,0)=BD!A416,\"Volume Ok\",\"Volume não pertence a carga\")),\"Volume não pertence a carga\")","v":""}]
[null,{"$f":"IFERROR(IF(A417=\"\",\"\",IF(VLOOKUP(A417,'Romaneio da Carga'!E:E,1,0)=BD!A417,\"Volume Ok\",\"Volume não pertence a carga\")),\"Volume não pertence a carga\")","v":""}]
[null,{"$f":"IFERROR(IF(A418=\"\",\"\",IF(VLOOKUP(A418,'Romaneio da Carga'!E:E,1,0)=BD!A418,\"Volume Ok\",\"Volume não pertence a carga\")),\"Volume não pertence a carga\")","v":""}]
[null,{"$f":"IFERROR(IF(A419=\"\",\"\",IF(VLOOKUP(A419,'Romaneio da Carga'!E:E,1,0)=BD!A419,\"Volume Ok\",\"Volume não pertence a carga\")),\"Volume não pertence a carga\")","v":""}]
[null,{"$f":"IFERROR(IF(A420=\"\",\"\",IF(VLOOKUP(A420,'Romaneio da Carga'!E:E,1,0)=BD!A420,\"Volume Ok\",\"Volume não pertence a carga\")),\"Volume não pertence a carga\")","v":""}]
[null,{"$f":"IFERROR(IF(A421=\"\",\"\",IF(VLOOKUP(A421,'Romaneio da Carga'!E:E,1,0)=BD!A421,\"Volume Ok\",\"Volume não pertence a carga\")),\"Volume não pertence a carga\")","v":""}]
[null,{"$f":"IFERROR(IF(A422=\"\",\"\",IF(VLOOKUP(A422,'Romaneio da Carga'!E:E,1,0)=BD!A422,\"Volume Ok\",\"Volume não pertence a carga\")),\"Volume não pertence a carga\")","v":""}]
[null,{"$f":"IFERROR(IF(A423=\"\",\"\",IF(VLOOKUP(A423,'Romaneio da Carga'!E:E,1,0)=BD!A423,\"Volume Ok\",\"Volume não pertence a carga\")),\"Volume não pertence a carga\")","v":""}]
[null,{"$f":"IFERROR(IF(A424=\"\",\"\",IF(VLOOKUP(A424,'Romaneio da Carga'!E:E,1,0)=BD!A424,\"Volume Ok\",\"Volume não pertence a carga\")),\"Volume não pertence a carga\")","v":""}]
[null,{"$f":"IFERROR(IF(A425=\"\",\"\",IF(VLOOKUP(A425,'Romaneio da Carga'!E:E,1,0)=BD!A425,\"Volume Ok\",\"Volume não pertence a carga\")),\"Volume não pertence a carga\")","v":""}]
[null,{"$f":"IFERROR(IF(A426=\"\",\"\",IF(VLOOKUP(A426,'Romaneio da Carga'!E:E,1,0)=BD!A426,\"Volume Ok\",\"Volume não pertence a carga\")),\"Volume não pertence a carga\")","v":""}]
[null,{"$f":"IFERROR(IF(A427=\"\",\"\",IF(VLOOKUP(A427,'Romaneio da Carga'!E:E,1,0)=BD!A427,\"Volume Ok\",\"Volume não pertence a carga\")),\"Volume não pertence a carga\")","v":""}]
[null,{"$f":"IFERROR(IF(A428=\"\",\"\",IF(VLOOKUP(A428,'Romaneio da Carga'!E:E,1,0)=BD!A428,\"Volume Ok\",\"Volume não pertence a carga\")),\"Volume não pertence a carga\")","v":""}]
[null,{"$f":"IFERROR(IF(A429=\"\",\"\",IF(VLOOKUP(A429,'Romaneio da Carga'!E:E,1,0)=BD!A429,\"Volume Ok\",\"Volume não pertence a carga\")),\"Volume não pertence a carga\")","v":""}]
[null,{"$f":"IFERROR(IF(A430=\"\",\"\",IF(VLOOKUP(A430,'Romaneio da Carga'!E:E,1,0)=BD!A430,\"Volume Ok\",\"Volume não pertence a carga\")),\"Volume não pertence a carga\")","v":""}]
[null,{"$f":"IFERROR(IF(A431=\"\",\"\",IF(VLOOKUP(A431,'Romaneio da Carga'!E:E,1,0)=BD!A431,\"Volume Ok\",\"Volume não pertence a carga\")),\"Volume não pertence a carga\")","v":""}]
[null,{"$f":"IFERROR(IF(A432=\"\",\"\",IF(VLOOKUP(A432,'Romaneio da Carga'!E:E,1,0)=BD!A432,\"Volume Ok\",\"Volume não pertence a carga\")),\"Volume não pertence a carga\")","v":""}]
[null,{"$f":"IFERROR(IF(A433=\"\",\"\",IF(VLOOKUP(A433,'Romaneio da Carga'!E:E,1,0)=BD!A433,\"Volume Ok\",\"Volume não pertence a carga\")),\"Volume não pertence a carga\")","v":""}]
[null,{"$f":"IFERROR(IF(A434=\"\",\"\",IF(VLOOKUP(A434,'Romaneio da Carga'!E:E,1,0)=BD!A434,\"Volume Ok\",\"Volume não pertence a carga\")),\"Volume não pertence a carga\")","v":""}]
[null,{"$f":"IFERROR(IF(A435=\"\",\"\",IF(VLOOKUP(A435,'Romaneio da Carga'!E:E,1,0)=BD!A435,\"Volume Ok\",\"Volume não pertence a carga\")),\"Volume não pertence a carga\")","v":""}]
[null,{"$f":"IFERROR(IF(A436=\"\",\"\",IF(VLOOKUP(A436,'Romaneio da Carga'!E:E,1,0)=BD!A436,\"Volume Ok\",\"Volume não pertence a carga\")),\"Volume não pertence a carga\")","v":""}]
[null,{"$f":"IFERROR(IF(A437=\"\",\"\",IF(VLOOKUP(A437,'Romaneio da Carga'!E:E,1,0)=BD!A437,\"Volume Ok\",\"Volume não pertence a carga\")),\"Volume não pertence a carga\")","v":""}]
[null,{"$f":"IFERROR(IF(A438=\"\",\"\",IF(VLOOKUP(A438,'Romaneio da Carga'!E:E,1,0)=BD!A438,\"Volume Ok\",\"Volume não pertence a carga\")),\"Volume não pertence a carga\")","v":""}]
[null,{"$f":"IFERROR(IF(A439=\"\",\"\",IF(VLOOKUP(A439,'Romaneio da Carga'!E:E,1,0)=BD!A439,\"Volume Ok\",\"Volume não pertence a carga\")),\"Volume não pertence a carga\")","v":""}]
[null,{"$f":"IFERROR(IF(A440=\"\",\"\",IF(VLOOKUP(A440,'Romaneio da Carga'!E:E,1,0)=BD!A440,\"Volume Ok\",\"Volume não pertence a carga\")),\"Volume não pertence a carga\")","v":""}]
[null,{"$f":"IFERROR(IF(A441=\"\",\"\",IF(VLOOKUP(A441,'Romaneio da Carga'!E:E,1,0)=BD!A441,\"Volume Ok\",\"Volume não pertence a carga\")),\"Volume não pertence a carga\")","v":""}]
[null,{"$f":"IFERROR(IF(A442=\"\",\"\",IF(VLOOKUP(A442,'Romaneio da Carga'!E:E,1,0)=BD!A442,\"Volume Ok\",\"Volume não pertence a carga\")),\"Volume não pertence a carga\")","v":""}]
[null,{"$f":"IFERROR(IF(A443=\"\",\"\",IF(VLOOKUP(A443,'Romaneio da Carga'!E:E,1,0)=BD!A443,\"Volume Ok\",\"Volume não pertence a carga\")),\"Volume não pertence a carga\")","v":""}]
[null,{"$f":"IFERROR(IF(A444=\"\",\"\",IF(VLOOKUP(A444,'Romaneio da Carga'!E:E,1,0)=BD!A444,\"Volume Ok\",\"Volume não pertence a carga\")),\"Volume não pertence a carga\")","v":""}]
[null,{"$f":"IFERROR(IF(A445=\"\",\"\",IF(VLOOKUP(A445,'Romaneio da Carga'!E:E,1,0)=BD!A445,\"Volume Ok\",\"Volume não pertence a carga\")),\"Volume não pertence a carga\")","v":""}]
[null,{"$f":"IFERROR(IF(A446=\"\",\"\",IF(VLOOKUP(A446,'Romaneio da Carga'!E:E,1,0)=BD!A446,\"Volume Ok\",\"Volume não pertence a carga\")),\"Volume não pertence a carga\")","v":""}]
[null,{"$f":"IFERROR(IF(A447=\"\",\"\",IF(VLOOKUP(A447,'Romaneio da Carga'!E:E,1,0)=BD!A447,\"Volume Ok\",\"Volume não pertence a carga\")),\"Volume não pertence a carga\")","v":""}]
[null,{"$f":"IFERROR(IF(A448=\"\",\"\",IF(VLOOKUP(A448,'Romaneio da Carga'!E:E,1,0)=BD!A448,\"Volume Ok\",\"Volume não pertence a carga\")),\"Volume não pertence a carga\")","v":""}]
[null,{"$f":"IFERROR(IF(A449=\"\",\"\",IF(VLOOKUP(A449,'Romaneio da Carga'!E:E,1,0)=BD!A449,\"Volume Ok\",\"Volume não pertence a carga\")),\"Volume não pertence a carga\")","v":""}]
[null,{"$f":"IFERROR(IF(A450=\"\",\"\",IF(VLOOKUP(A450,'Romaneio da Carga'!E:E,1,0)=BD!A450,\"Volume Ok\",\"Volume não pertence a carga\")),\"Volume não pertence a carga\")","v":""}]
[null,{"$f":"IFERROR(IF(A451=\"\",\"\",IF(VLOOKUP(A451,'Romaneio da Carga'!E:E,1,0)=BD!A451,\"Volume Ok\",\"Volume não pertence a carga\")),\"Volume não pertence a carga\")","v":""}]
[null,{"$f":"IFERROR(IF(A452=\"\",\"\",IF(VLOOKUP(A452,'Romaneio da Carga'!E:E,1,0)=BD!A452,\"Volume Ok\",\"Volume não pertence a carga\")),\"Volume não pertence a carga\")","v":""}]
[null,{"$f":"IFERROR(IF(A453=\"\",\"\",IF(VLOOKUP(A453,'Romaneio da Carga'!E:E,1,0)=BD!A453,\"Volume Ok\",\"Volume não pertence a carga\")),\"Volume não pertence a carga\")","v":""}]
[null,{"$f":"IFERROR(IF(A454=\"\",\"\",IF(VLOOKUP(A454,'Romaneio da Carga'!E:E,1,0)=BD!A454,\"Volume Ok\",\"Volume não pertence a carga\")),\"Volume não pertence a carga\")","v":""}]
[null,{"$f":"IFERROR(IF(A455=\"\",\"\",IF(VLOOKUP(A455,'Romaneio da Carga'!E:E,1,0)=BD!A455,\"Volume Ok\",\"Volume não pertence a carga\")),\"Volume não pertence a carga\")","v":""}]
[null,{"$f":"IFERROR(IF(A456=\"\",\"\",IF(VLOOKUP(A456,'Romaneio da Carga'!E:E,1,0)=BD!A456,\"Volume Ok\",\"Volume não pertence a carga\")),\"Volume não pertence a carga\")","v":""}]
[null,{"$f":"IFERROR(IF(A457=\"\",\"\",IF(VLOOKUP(A457,'Romaneio da Carga'!E:E,1,0)=BD!A457,\"Volume Ok\",\"Volume não pertence a carga\")),\"Volume não pertence a carga\")","v":""}]
[null,{"$f":"IFERROR(IF(A458=\"\",\"\",IF(VLOOKUP(A458,'Romaneio da Carga'!E:E,1,0)=BD!A458,\"Volume Ok\",\"Volume não pertence a carga\")),\"Volume não pertence a carga\")","v":""}]
[null,{"$f":"IFERROR(IF(A459=\"\",\"\",IF(VLOOKUP(A459,'Romaneio da Carga'!E:E,1,0)=BD!A459,\"Volume Ok\",\"Volume não pertence a carga\")),\"Volume não pertence a carga\")","v":""}]
[null,{"$f":"IFERROR(IF(A460=\"\",\"\",IF(VLOOKUP(A460,'Romaneio da Carga'!E:E,1,0)=BD!A460,\"Volume Ok\",\"Volume não pertence a carga\")),\"Volume não pertence a carga\")","v":""}]
[null,{"$f":"IFERROR(IF(A461=\"\",\"\",IF(VLOOKUP(A461,'Romaneio da Carga'!E:E,1,0)=BD!A461,\"Volume Ok\",\"Volume não pertence a carga\")),\"Volume não pertence a carga\")","v":""}]
[null,{"$f":"IFERROR(IF(A462=\"\",\"\",IF(VLOOKUP(A462,'Romaneio da Carga'!E:E,1,0)=BD!A462,\"Volume Ok\",\"Volume não pertence a carga\")),\"Volume não pertence a carga\")","v":""}]
[null,{"$f":"IFERROR(IF(A463=\"\",\"\",IF(VLOOKUP(A463,'Romaneio da Carga'!E:E,1,0)=BD!A463,\"Volume Ok\",\"Volume não pertence a carga\")),\"Volume não pertence a carga\")","v":""}]
[null,{"$f":"IFERROR(IF(A464=\"\",\"\",IF(VLOOKUP(A464,'Romaneio da Carga'!E:E,1,0)=BD!A464,\"Volume Ok\",\"Volume não pertence a carga\")),\"Volume não pertence a carga\")","v":""}]
[null,{"$f":"IFERROR(IF(A465=\"\",\"\",IF(VLOOKUP(A465,'Romaneio da Carga'!E:E,1,0)=BD!A465,\"Volume Ok\",\"Volume não pertence a carga\")),\"Volume não pertence a carga\")","v":""}]
[null,{"$f":"IFERROR(IF(A466=\"\",\"\",IF(VLOOKUP(A466,'Romaneio da Carga'!E:E,1,0)=BD!A466,\"Volume Ok\",\"Volume não pertence a carga\")),\"Volume não pertence a carga\")","v":""}]
[null,{"$f":"IFERROR(IF(A467=\"\",\"\",IF(VLOOKUP(A467,'Romaneio da Carga'!E:E,1,0)=BD!A467,\"Volume Ok\",\"Volume não pertence a carga\")),\"Volume não pertence a carga\")","v":""}]
[null,{"$f":"IFERROR(IF(A468=\"\",\"\",IF(VLOOKUP(A468,'Romaneio da Carga'!E:E,1,0)=BD!A468,\"Volume Ok\",\"Volume não pertence a carga\")),\"Volume não pertence a carga\")","v":""}]
[null,{"$f":"IFERROR(IF(A469=\"\",\"\",IF(VLOOKUP(A469,'Romaneio da Carga'!E:E,1,0)=BD!A469,\"Volume Ok\",\"Volume não pertence a carga\")),\"Volume não pertence a carga\")","v":""}]
[null,{"$f":"IFERROR(IF(A470=\"\",\"\",IF(VLOOKUP(A470,'Romaneio da Carga'!E:E,1,0)=BD!A470,\"Volume Ok\",\"Volume não pertence a carga\")),\"Volume não pertence a carga\")","v":""}]
[null,{"$f":"IFERROR(IF(A471=\"\",\"\",IF(VLOOKUP(A471,'Romaneio da Carga'!E:E,1,0)=BD!A471,\"Volume Ok\",\"Volume não pertence a carga\")),\"Volume não pertence a carga\")","v":""}]
[null,{"$f":"IFERROR(IF(A472=\"\",\"\",IF(VLOOKUP(A472,'Romaneio da Carga'!E:E,1,0)=BD!A472,\"Volume Ok\",\"Volume não pertence a carga\")),\"Volume não pertence a carga\")","v":""}]
[null,{"$f":"IFERROR(IF(A473=\"\",\"\",IF(VLOOKUP(A473,'Romaneio da Carga'!E:E,1,0)=BD!A473,\"Volume Ok\",\"Volume não pertence a carga\")),\"Volume não pertence a carga\")","v":""}]
[null,{"$f":"IFERROR(IF(A474=\"\",\"\",IF(VLOOKUP(A474,'Romaneio da Carga'!E:E,1,0)=BD!A474,\"Volume Ok\",\"Volume não pertence a carga\")),\"Volume não pertence a carga\")","v":""}]
[null,{"$f":"IFERROR(IF(A475=\"\",\"\",IF(VLOOKUP(A475,'Romaneio da Carga'!E:E,1,0)=BD!A475,\"Volume Ok\",\"Volume não pertence a carga\")),\"Volume não pertence a carga\")","v":""}]
[null,{"$f":"IFERROR(IF(A476=\"\",\"\",IF(VLOOKUP(A476,'Romaneio da Carga'!E:E,1,0)=BD!A476,\"Volume Ok\",\"Volume não pertence a carga\")),\"Volume não pertence a carga\")","v":""}]
[null,{"$f":"IFERROR(IF(A477=\"\",\"\",IF(VLOOKUP(A477,'Romaneio da Carga'!E:E,1,0)=BD!A477,\"Volume Ok\",\"Volume não pertence a carga\")),\"Volume não pertence a carga\")","v":""}]
[null,{"$f":"IFERROR(IF(A478=\"\",\"\",IF(VLOOKUP(A478,'Romaneio da Carga'!E:E,1,0)=BD!A478,\"Volume Ok\",\"Volume não pertence a carga\")),\"Volume não pertence a carga\")","v":""}]
[null,{"$f":"IFERROR(IF(A479=\"\",\"\",IF(VLOOKUP(A479,'Romaneio da Carga'!E:E,1,0)=BD!A479,\"Volume Ok\",\"Volume não pertence a carga\")),\"Volume não pertence a carga\")","v":""}]
[null,{"$f":"IFERROR(IF(A480=\"\",\"\",IF(VLOOKUP(A480,'Romaneio da Carga'!E:E,1,0)=BD!A480,\"Volume Ok\",\"Volume não pertence a carga\")),\"Volume não pertence a carga\")","v":""}]
[null,{"$f":"IFERROR(IF(A481=\"\",\"\",IF(VLOOKUP(A481,'Romaneio da Carga'!E:E,1,0)=BD!A481,\"Volume Ok\",\"Volume não pertence a carga\")),\"Volume não pertence a carga\")","v":""}]
[null,{"$f":"IFERROR(IF(A482=\"\",\"\",IF(VLOOKUP(A482,'Romaneio da Carga'!E:E,1,0)=BD!A482,\"Volume Ok\",\"Volume não pertence a carga\")),\"Volume não pertence a carga\")","v":""}]
[null,{"$f":"IFERROR(IF(A483=\"\",\"\",IF(VLOOKUP(A483,'Romaneio da Carga'!E:E,1,0)=BD!A483,\"Volume Ok\",\"Volume não pertence a carga\")),\"Volume não pertence a carga\")","v":""}]
[null,{"$f":"IFERROR(IF(A484=\"\",\"\",IF(VLOOKUP(A484,'Romaneio da Carga'!E:E,1,0)=BD!A484,\"Volume Ok\",\"Volume não pertence a carga\")),\"Volume não pertence a carga\")","v":""}]
[null,{"$f":"IFERROR(IF(A485=\"\",\"\",IF(VLOOKUP(A485,'Romaneio da Carga'!E:E,1,0)=BD!A485,\"Volume Ok\",\"Volume não pertence a carga\")),\"Volume não pertence a carga\")","v":""}]
[null,{"$f":"IFERROR(IF(A486=\"\",\"\",IF(VLOOKUP(A486,'Romaneio da Carga'!E:E,1,0)=BD!A486,\"Volume Ok\",\"Volume não pertence a carga\")),\"Volume não pertence a carga\")","v":""}]
[null,{"$f":"IFERROR(IF(A487=\"\",\"\",IF(VLOOKUP(A487,'Romaneio da Carga'!E:E,1,0)=BD!A487,\"Volume Ok\",\"Volume não pertence a carga\")),\"Volume não pertence a carga\")","v":""}]
[null,{"$f":"IFERROR(IF(A488=\"\",\"\",IF(VLOOKUP(A488,'Romaneio da Carga'!E:E,1,0)=BD!A488,\"Volume Ok\",\"Volume não pertence a carga\")),\"Volume não pertence a carga\")","v":""}]
[null,{"$f":"IFERROR(IF(A489=\"\",\"\",IF(VLOOKUP(A489,'Romaneio da Carga'!E:E,1,0)=BD!A489,\"Volume Ok\",\"Volume não pertence a carga\")),\"Volume não pertence a carga\")","v":""}]
[null,{"$f":"IFERROR(IF(A490=\"\",\"\",IF(VLOOKUP(A490,'Romaneio da Carga'!E:E,1,0)=BD!A490,\"Volume Ok\",\"Volume não pertence a carga\")),\"Volume não pertence a carga\")","v":""}]
[null,{"$f":"IFERROR(IF(A491=\"\",\"\",IF(VLOOKUP(A491,'Romaneio da Carga'!E:E,1,0)=BD!A491,\"Volume Ok\",\"Volume não pertence a carga\")),\"Volume não pertence a carga\")","v":""}]
[null,{"$f":"IFERROR(IF(A492=\"\",\"\",IF(VLOOKUP(A492,'Romaneio da Carga'!E:E,1,0)=BD!A492,\"Volume Ok\",\"Volume não pertence a carga\")),\"Volume não pertence a carga\")","v":""}]
[null,{"$f":"IFERROR(IF(A493=\"\",\"\",IF(VLOOKUP(A493,'Romaneio da Carga'!E:E,1,0)=BD!A493,\"Volume Ok\",\"Volume não pertence a carga\")),\"Volume não pertence a carga\")","v":""}]
[null,{"$f":"IFERROR(IF(A494=\"\",\"\",IF(VLOOKUP(A494,'Romaneio da Carga'!E:E,1,0)=BD!A494,\"Volume Ok\",\"Volume não pertence a carga\")),\"Volume não pertence a carga\")","v":""}]
[null,{"$f":"IFERROR(IF(A495=\"\",\"\",IF(VLOOKUP(A495,'Romaneio da Carga'!E:E,1,0)=BD!A495,\"Volume Ok\",\"Volume não pertence a carga\")),\"Volume não pertence a carga\")","v":""}]
[null,{"$f":"IFERROR(IF(A496=\"\",\"\",IF(VLOOKUP(A496,'Romaneio da Carga'!E:E,1,0)=BD!A496,\"Volume Ok\",\"Volume não pertence a carga\")),\"Volume não pertence a carga\")","v":""}]
[null,{"$f":"IFERROR(IF(A497=\"\",\"\",IF(VLOOKUP(A497,'Romaneio da Carga'!E:E,1,0)=BD!A497,\"Volume Ok\",\"Volume não pertence a carga\")),\"Volume não pertence a carga\")","v":""}]
[null,{"$f":"IFERROR(IF(A498=\"\",\"\",IF(VLOOKUP(A498,'Romaneio da Carga'!E:E,1,0)=BD!A498,\"Volume Ok\",\"Volume não pertence a carga\")),\"Volume não pertence a carga\")","v":""}]
[null,{"$f":"IFERROR(IF(A499=\"\",\"\",IF(VLOOKUP(A499,'Romaneio da Carga'!E:E,1,0)=BD!A499,\"Volume Ok\",\"Volume não pertence a carga\")),\"Volume não pertence a carga\")","v":""}]
[null,{"$f":"IFERROR(IF(A500=\"\",\"\",IF(VLOOKUP(A500,'Romaneio da Carga'!E:E,1,0)=BD!A500,\"Volume Ok\",\"Volume não pertence a carga\")),\"Volume não pertence a carga\")","v":""}]
[null,{"$f":"IFERROR(IF(A501=\"\",\"\",IF(VLOOKUP(A501,'Romaneio da Carga'!E:E,1,0)=BD!A501,\"Volume Ok\",\"Volume não pertence a carga\")),\"Volume não pertence a carga\")","v":""}]
[null,{"$f":"IFERROR(IF(A502=\"\",\"\",IF(VLOOKUP(A502,'Romaneio da Carga'!E:E,1,0)=BD!A502,\"Volume Ok\",\"Volume não pertence a carga\")),\"Volume não pertence a carga\")","v":""}]
[null,{"$f":"IFERROR(IF(A503=\"\",\"\",IF(VLOOKUP(A503,'Romaneio da Carga'!E:E,1,0)=BD!A503,\"Volume Ok\",\"Volume não pertence a carga\")),\"Volume não pertence a carga\")","v":""}]
[null,{"$f":"IFERROR(IF(A504=\"\",\"\",IF(VLOOKUP(A504,'Romaneio da Carga'!E:E,1,0)=BD!A504,\"Volume Ok\",\"Volume não pertence a carga\")),\"Volume não pertence a carga\")","v":""}]
[null,{"$f":"IFERROR(IF(A505=\"\",\"\",IF(VLOOKUP(A505,'Romaneio da Carga'!E:E,1,0)=BD!A505,\"Volume Ok\",\"Volume não pertence a carga\")),\"Volume não pertence a carga\")","v":""}]
[null,{"$f":"IFERROR(IF(A506=\"\",\"\",IF(VLOOKUP(A506,'Romaneio da Carga'!E:E,1,0)=BD!A506,\"Volume Ok\",\"Volume não pertence a carga\")),\"Volume não pertence a carga\")","v":""}]
[null,{"$f":"IFERROR(IF(A507=\"\",\"\",IF(VLOOKUP(A507,'Romaneio da Carga'!E:E,1,0)=BD!A507,\"Volume Ok\",\"Volume não pertence a carga\")),\"Volume não pertence a carga\")","v":""}]
[null,{"$f":"IFERROR(IF(A508=\"\",\"\",IF(VLOOKUP(A508,'Romaneio da Carga'!E:E,1,0)=BD!A508,\"Volume Ok\",\"Volume não pertence a carga\")),\"Volume não pertence a carga\")","v":""}]
[null,{"$f":"IFERROR(IF(A509=\"\",\"\",IF(VLOOKUP(A509,'Romaneio da Carga'!E:E,1,0)=BD!A509,\"Volume Ok\",\"Volume não pertence a carga\")),\"Volume não pertence a carga\")","v":""}]
[null,{"$f":"IFERROR(IF(A510=\"\",\"\",IF(VLOOKUP(A510,'Romaneio da Carga'!E:E,1,0)=BD!A510,\"Volume Ok\",\"Volume não pertence a carga\")),\"Volume não pertence a carga\")","v":""}]
[null,{"$f":"IFERROR(IF(A511=\"\",\"\",IF(VLOOKUP(A511,'Romaneio da Carga'!E:E,1,0)=BD!A511,\"Volume Ok\",\"Volume não pertence a carga\")),\"Volume não pertence a carga\")","v":""}]
[null,{"$f":"IFERROR(IF(A512=\"\",\"\",IF(VLOOKUP(A512,'Romaneio da Carga'!E:E,1,0)=BD!A512,\"Volume Ok\",\"Volume não pertence a carga\")),\"Volume não pertence a carga\")","v":""}]
[null,{"$f":"IFERROR(IF(A513=\"\",\"\",IF(VLOOKUP(A513,'Romaneio da Carga'!E:E,1,0)=BD!A513,\"Volume Ok\",\"Volume não pertence a carga\")),\"Volume não pertence a carga\")","v":""}]
[null,{"$f":"IFERROR(IF(A514=\"\",\"\",IF(VLOOKUP(A514,'Romaneio da Carga'!E:E,1,0)=BD!A514,\"Volume Ok\",\"Volume não pertence a carga\")),\"Volume não pertence a carga\")","v":""}]
[null,{"$f":"IFERROR(IF(A515=\"\",\"\",IF(VLOOKUP(A515,'Romaneio da Carga'!E:E,1,0)=BD!A515,\"Volume Ok\",\"Volume não pertence a carga\")),\"Volume não pertence a carga\")","v":""}]
[null,{"$f":"IFERROR(IF(A516=\"\",\"\",IF(VLOOKUP(A516,'Romaneio da Carga'!E:E,1,0)=BD!A516,\"Volume Ok\",\"Volume não pertence a carga\")),\"Volume não pertence a carga\")","v":""}]
[null,{"$f":"IFERROR(IF(A517=\"\",\"\",IF(VLOOKUP(A517,'Romaneio da Carga'!E:E,1,0)=BD!A517,\"Volume Ok\",\"Volume não pertence a carga\")),\"Volume não pertence a carga\")","v":""}]
[null,{"$f":"IFERROR(IF(A518=\"\",\"\",IF(VLOOKUP(A518,'Romaneio da Carga'!E:E,1,0)=BD!A518,\"Volume Ok\",\"Volume não pertence a carga\")),\"Volume não pertence a carga\")","v":""}]
[null,{"$f":"IFERROR(IF(A519=\"\",\"\",IF(VLOOKUP(A519,'Romaneio da Carga'!E:E,1,0)=BD!A519,\"Volume Ok\",\"Volume não pertence a carga\")),\"Volume não pertence a carga\")","v":""}]
[null,{"$f":"IFERROR(IF(A520=\"\",\"\",IF(VLOOKUP(A520,'Romaneio da Carga'!E:E,1,0)=BD!A520,\"Volume Ok\",\"Volume não pertence a carga\")),\"Volume não pertence a carga\")","v":""}]
[null,{"$f":"IFERROR(IF(A521=\"\",\"\",IF(VLOOKUP(A521,'Romaneio da Carga'!E:E,1,0)=BD!A521,\"Volume Ok\",\"Volume não pertence a carga\")),\"Volume não pertence a carga\")","v":""}]
[null,{"$f":"IFERROR(IF(A522=\"\",\"\",IF(VLOOKUP(A522,'Romaneio da Carga'!E:E,1,0)=BD!A522,\"Volume Ok\",\"Volume não pertence a carga\")),\"Volume não pertence a carga\")","v":""}]
[null,{"$f":"IFERROR(IF(A523=\"\",\"\",IF(VLOOKUP(A523,'Romaneio da Carga'!E:E,1,0)=BD!A523,\"Volume Ok\",\"Volume não pertence a carga\")),\"Volume não pertence a carga\")","v":""}]
[null,{"$f":"IFERROR(IF(A524=\"\",\"\",IF(VLOOKUP(A524,'Romaneio da Carga'!E:E,1,0)=BD!A524,\"Volume Ok\",\"Volume não pertence a carga\")),\"Volume não pertence a carga\")","v":""}]
[null,{"$f":"IFERROR(IF(A525=\"\",\"\",IF(VLOOKUP(A525,'Romaneio da Carga'!E:E,1,0)=BD!A525,\"Volume Ok\",\"Volume não pertence a carga\")),\"Volume não pertence a carga\")","v":""}]
[null,{"$f":"IFERROR(IF(A526=\"\",\"\",IF(VLOOKUP(A526,'Romaneio da Carga'!E:E,1,0)=BD!A526,\"Volume Ok\",\"Volume não pertence a carga\")),\"Volume não pertence a carga\")","v":""}]
[null,{"$f":"IFERROR(IF(A527=\"\",\"\",IF(VLOOKUP(A527,'Romaneio da Carga'!E:E,1,0)=BD!A527,\"Volume Ok\",\"Volume não pertence a carga\")),\"Volume não pertence a carga\")","v":""}]
[null,{"$f":"IFERROR(IF(A528=\"\",\"\",IF(VLOOKUP(A528,'Romaneio da Carga'!E:E,1,0)=BD!A528,\"Volume Ok\",\"Volume não pertence a carga\")),\"Volume não pertence a carga\")","v":""}]
[null,{"$f":"IFERROR(IF(A529=\"\",\"\",IF(VLOOKUP(A529,'Romaneio da Carga'!E:E,1,0)=BD!A529,\"Volume Ok\",\"Volume não pertence a carga\")),\"Volume não pertence a carga\")","v":""}]
[null,{"$f":"IFERROR(IF(A530=\"\",\"\",IF(VLOOKUP(A530,'Romaneio da Carga'!E:E,1,0)=BD!A530,\"Volume Ok\",\"Volume não pertence a carga\")),\"Volume não pertence a carga\")","v":""}]
[null,{"$f":"IFERROR(IF(A531=\"\",\"\",IF(VLOOKUP(A531,'Romaneio da Carga'!E:E,1,0)=BD!A531,\"Volume Ok\",\"Volume não pertence a carga\")),\"Volume não pertence a carga\")","v":""}]
[null,{"$f":"IFERROR(IF(A532=\"\",\"\",IF(VLOOKUP(A532,'Romaneio da Carga'!E:E,1,0)=BD!A532,\"Volume Ok\",\"Volume não pertence a carga\")),\"Volume não pertence a carga\")","v":""}]
[null,{"$f":"IFERROR(IF(A533=\"\",\"\",IF(VLOOKUP(A533,'Romaneio da Carga'!E:E,1,0)=BD!A533,\"Volume Ok\",\"Volume não pertence a carga\")),\"Volume não pertence a carga\")","v":""}]
[null,{"$f":"IFERROR(IF(A534=\"\",\"\",IF(VLOOKUP(A534,'Romaneio da Carga'!E:E,1,0)=BD!A534,\"Volume Ok\",\"Volume não pertence a carga\")),\"Volume não pertence a carga\")","v":""}]
[null,{"$f":"IFERROR(IF(A535=\"\",\"\",IF(VLOOKUP(A535,'Romaneio da Carga'!E:E,1,0)=BD!A535,\"Volume Ok\",\"Volume não pertence a carga\")),\"Volume não pertence a carga\")","v":""}]
[null,{"$f":"IFERROR(IF(A536=\"\",\"\",IF(VLOOKUP(A536,'Romaneio da Carga'!E:E,1,0)=BD!A536,\"Volume Ok\",\"Volume não pertence a carga\")),\"Volume não pertence a carga\")","v":""}]
[null,{"$f":"IFERROR(IF(A537=\"\",\"\",IF(VLOOKUP(A537,'Romaneio da Carga'!E:E,1,0)=BD!A537,\"Volume Ok\",\"Volume não pertence a carga\")),\"Volume não pertence a carga\")","v":""}]
[null,{"$f":"IFERROR(IF(A538=\"\",\"\",IF(VLOOKUP(A538,'Romaneio da Carga'!E:E,1,0)=BD!A538,\"Volume Ok\",\"Volume não pertence a carga\")),\"Volume não pertence a carga\")","v":""}]
[null,{"$f":"IFERROR(IF(A539=\"\",\"\",IF(VLOOKUP(A539,'Romaneio da Carga'!E:E,1,0)=BD!A539,\"Volume Ok\",\"Volume não pertence a carga\")),\"Volume não pertence a carga\")","v":""}]
[null,{"$f":"IFERROR(IF(A540=\"\",\"\",IF(VLOOKUP(A540,'Romaneio da Carga'!E:E,1,0)=BD!A540,\"Volume Ok\",\"Volume não pertence a carga\")),\"Volume não pertence a carga\")","v":""}]
[null,{"$f":"IFERROR(IF(A541=\"\",\"\",IF(VLOOKUP(A541,'Romaneio da Carga'!E:E,1,0)=BD!A541,\"Volume Ok\",\"Volume não pertence a carga\")),\"Volume não pertence a carga\")","v":""}]
[null,{"$f":"IFERROR(IF(A542=\"\",\"\",IF(VLOOKUP(A542,'Romaneio da Carga'!E:E,1,0)=BD!A542,\"Volume Ok\",\"Volume não pertence a carga\")),\"Volume não pertence a carga\")","v":""}]
[null,{"$f":"IFERROR(IF(A543=\"\",\"\",IF(VLOOKUP(A543,'Romaneio da Carga'!E:E,1,0)=BD!A543,\"Volume Ok\",\"Volume não pertence a carga\")),\"Volume não pertence a carga\")","v":""}]
[null,{"$f":"IFERROR(IF(A544=\"\",\"\",IF(VLOOKUP(A544,'Romaneio da Carga'!E:E,1,0)=BD!A544,\"Volume Ok\",\"Volume não pertence a carga\")),\"Volume não pertence a carga\")","v":""}]
[null,{"$f":"IFERROR(IF(A545=\"\",\"\",IF(VLOOKUP(A545,'Romaneio da Carga'!E:E,1,0)=BD!A545,\"Volume Ok\",\"Volume não pertence a carga\")),\"Volume não pertence a carga\")","v":""}]
[null,{"$f":"IFERROR(IF(A546=\"\",\"\",IF(VLOOKUP(A546,'Romaneio da Carga'!E:E,1,0)=BD!A546,\"Volume Ok\",\"Volume não pertence a carga\")),\"Volume não pertence a carga\")","v":""}]
[null,{"$f":"IFERROR(IF(A547=\"\",\"\",IF(VLOOKUP(A547,'Romaneio da Carga'!E:E,1,0)=BD!A547,\"Volume Ok\",\"Volume não pertence a carga\")),\"Volume não pertence a carga\")","v":""}]
[null,{"$f":"IFERROR(IF(A548=\"\",\"\",IF(VLOOKUP(A548,'Romaneio da Carga'!E:E,1,0)=BD!A548,\"Volume Ok\",\"Volume não pertence a carga\")),\"Volume não pertence a carga\")","v":""}]
[null,{"$f":"IFERROR(IF(A549=\"\",\"\",IF(VLOOKUP(A549,'Romaneio da Carga'!E:E,1,0)=BD!A549,\"Volume Ok\",\"Volume não pertence a carga\")),\"Volume não pertence a carga\")","v":""}]
[null,{"$f":"IFERROR(IF(A550=\"\",\"\",IF(VLOOKUP(A550,'Romaneio da Carga'!E:E,1,0)=BD!A550,\"Volume Ok\",\"Volume não pertence a carga\")),\"Volume não pertence a carga\")","v":""}]
[null,{"$f":"IFERROR(IF(A551=\"\",\"\",IF(VLOOKUP(A551,'Romaneio da Carga'!E:E,1,0)=BD!A551,\"Volume Ok\",\"Volume não pertence a carga\")),\"Volume não pertence a carga\")","v":""}]
[null,{"$f":"IFERROR(IF(A552=\"\",\"\",IF(VLOOKUP(A552,'Romaneio da Carga'!E:E,1,0)=BD!A552,\"Volume Ok\",\"Volume não pertence a carga\")),\"Volume não pertence a carga\")","v":""}]
[null,{"$f":"IFERROR(IF(A553=\"\",\"\",IF(VLOOKUP(A553,'Romaneio da Carga'!E:E,1,0)=BD!A553,\"Volume Ok\",\"Volume não pertence a carga\")),\"Volume não pertence a carga\")","v":""}]
[null,{"$f":"IFERROR(IF(A554=\"\",\"\",IF(VLOOKUP(A554,'Romaneio da Carga'!E:E,1,0)=BD!A554,\"Volume Ok\",\"Volume não pertence a carga\")),\"Volume não pertence a carga\")","v":""}]
[null,{"$f":"IFERROR(IF(A555=\"\",\"\",IF(VLOOKUP(A555,'Romaneio da Carga'!E:E,1,0)=BD!A555,\"Volume Ok\",\"Volume não pertence a carga\")),\"Volume não pertence a carga\")","v":""}]
[null,{"$f":"IFERROR(IF(A556=\"\",\"\",IF(VLOOKUP(A556,'Romaneio da Carga'!E:E,1,0)=BD!A556,\"Volume Ok\",\"Volume não pertence a carga\")),\"Volume não pertence a carga\")","v":""}]
[null,{"$f":"IFERROR(IF(A557=\"\",\"\",IF(VLOOKUP(A557,'Romaneio da Carga'!E:E,1,0)=BD!A557,\"Volume Ok\",\"Volume não pertence a carga\")),\"Volume não pertence a carga\")","v":""}]
[null,{"$f":"IFERROR(IF(A558=\"\",\"\",IF(VLOOKUP(A558,'Romaneio da Carga'!E:E,1,0)=BD!A558,\"Volume Ok\",\"Volume não pertence a carga\")),\"Volume não pertence a carga\")","v":""}]
[null,{"$f":"IFERROR(IF(A559=\"\",\"\",IF(VLOOKUP(A559,'Romaneio da Carga'!E:E,1,0)=BD!A559,\"Volume Ok\",\"Volume não pertence a carga\")),\"Volume não pertence a carga\")","v":""}]
[null,{"$f":"IFERROR(IF(A560=\"\",\"\",IF(VLOOKUP(A560,'Romaneio da Carga'!E:E,1,0)=BD!A560,\"Volume Ok\",\"Volume não pertence a carga\")),\"Volume não pertence a carga\")","v":""}]
[null,{"$f":"IFERROR(IF(A561=\"\",\"\",IF(VLOOKUP(A561,'Romaneio da Carga'!E:E,1,0)=BD!A561,\"Volume Ok\",\"Volume não pertence a carga\")),\"Volume não pertence a carga\")","v":""}]
[null,{"$f":"IFERROR(IF(A562=\"\",\"\",IF(VLOOKUP(A562,'Romaneio da Carga'!E:E,1,0)=BD!A562,\"Volume Ok\",\"Volume não pertence a carga\")),\"Volume não pertence a carga\")","v":""}]
[null,{"$f":"IFERROR(IF(A563=\"\",\"\",IF(VLOOKUP(A563,'Romaneio da Carga'!E:E,1,0)=BD!A563,\"Volume Ok\",\"Volume não pertence a carga\")),\"Volume não pertence a carga\")","v":""}]
[null,{"$f":"IFERROR(IF(A564=\"\",\"\",IF(VLOOKUP(A564,'Romaneio da Carga'!E:E,1,0)=BD!A564,\"Volume Ok\",\"Volume não pertence a carga\")),\"Volume não pertence a carga\")","v":""}]
[null,{"$f":"IFERROR(IF(A565=\"\",\"\",IF(VLOOKUP(A565,'Romaneio da Carga'!E:E,1,0)=BD!A565,\"Volume Ok\",\"Volume não pertence a carga\")),\"Volume não pertence a carga\")","v":""}]
[null,{"$f":"IFERROR(IF(A566=\"\",\"\",IF(VLOOKUP(A566,'Romaneio da Carga'!E:E,1,0)=BD!A566,\"Volume Ok\",\"Volume não pertence a carga\")),\"Volume não pertence a carga\")","v":""}]
[null,{"$f":"IFERROR(IF(A567=\"\",\"\",IF(VLOOKUP(A567,'Romaneio da Carga'!E:E,1,0)=BD!A567,\"Volume Ok\",\"Volume não pertence a carga\")),\"Volume não pertence a carga\")","v":""}]
[null,{"$f":"IFERROR(IF(A568=\"\",\"\",IF(VLOOKUP(A568,'Romaneio da Carga'!E:E,1,0)=BD!A568,\"Volume Ok\",\"Volume não pertence a carga\")),\"Volume não pertence a carga\")","v":""}]
[null,{"$f":"IFERROR(IF(A569=\"\",\"\",IF(VLOOKUP(A569,'Romaneio da Carga'!E:E,1,0)=BD!A569,\"Volume Ok\",\"Volume não pertence a carga\")),\"Volume não pertence a carga\")","v":""}]
[null,{"$f":"IFERROR(IF(A570=\"\",\"\",IF(VLOOKUP(A570,'Romaneio da Carga'!E:E,1,0)=BD!A570,\"Volume Ok\",\"Volume não pertence a carga\")),\"Volume não pertence a carga\")","v":""}]
[null,{"$f":"IFERROR(IF(A571=\"\",\"\",IF(VLOOKUP(A571,'Romaneio da Carga'!E:E,1,0)=BD!A571,\"Volume Ok\",\"Volume não pertence a carga\")),\"Volume não pertence a carga\")","v":""}]
[null,{"$f":"IFERROR(IF(A572=\"\",\"\",IF(VLOOKUP(A572,'Romaneio da Carga'!E:E,1,0)=BD!A572,\"Volume Ok\",\"Volume não pertence a carga\")),\"Volume não pertence a carga\")","v":""}]
[null,{"$f":"IFERROR(IF(A573=\"\",\"\",IF(VLOOKUP(A573,'Romaneio da Carga'!E:E,1,0)=BD!A573,\"Volume Ok\",\"Volume não pertence a carga\")),\"Volume não pertence a carga\")","v":""}]
[null,{"$f":"IFERROR(IF(A574=\"\",\"\",IF(VLOOKUP(A574,'Romaneio da Carga'!E:E,1,0)=BD!A574,\"Volume Ok\",\"Volume não pertence a carga\")),\"Volume não pertence a carga\")","v":""}]
[null,{"$f":"IFERROR(IF(A575=\"\",\"\",IF(VLOOKUP(A575,'Romaneio da Carga'!E:E,1,0)=BD!A575,\"Volume Ok\",\"Volume não pertence a carga\")),\"Volume não pertence a carga\")","v":""}]
[null,{"$f":"IFERROR(IF(A576=\"\",\"\",IF(VLOOKUP(A576,'Romaneio da Carga'!E:E,1,0)=BD!A576,\"Volume Ok\",\"Volume não pertence a carga\")),\"Volume não pertence a carga\")","v":""}]
[null,{"$f":"IFERROR(IF(A577=\"\",\"\",IF(VLOOKUP(A577,'Romaneio da Carga'!E:E,1,0)=BD!A577,\"Volume Ok\",\"Volume não pertence a carga\")),\"Volume não pertence a carga\")","v":""}]
[null,{"$f":"IFERROR(IF(A578=\"\",\"\",IF(VLOOKUP(A578,'Romaneio da Carga'!E:E,1,0)=BD!A578,\"Volume Ok\",\"Volume não pertence a carga\")),\"Volume não pertence a carga\")","v":""}]
[null,{"$f":"IFERROR(IF(A579=\"\",\"\",IF(VLOOKUP(A579,'Romaneio da Carga'!E:E,1,0)=BD!A579,\"Volume Ok\",\"Volume não pertence a carga\")),\"Volume não pertence a carga\")","v":""}]
[null,{"$f":"IFERROR(IF(A580=\"\",\"\",IF(VLOOKUP(A580,'Romaneio da Carga'!E:E,1,0)=BD!A580,\"Volume Ok\",\"Volume não pertence a carga\")),\"Volume não pertence a carga\")","v":""}]
[null,{"$f":"IFERROR(IF(A581=\"\",\"\",IF(VLOOKUP(A581,'Romaneio da Carga'!E:E,1,0)=BD!A581,\"Volume Ok\",\"Volume não pertence a carga\")),\"Volume não pertence a carga\")","v":""}]
[null,{"$f":"IFERROR(IF(A582=\"\",\"\",IF(VLOOKUP(A582,'Romaneio da Carga'!E:E,1,0)=BD!A582,\"Volume Ok\",\"Volume não pertence a carga\")),\"Volume não pertence a carga\")","v":""}]
[null,{"$f":"IFERROR(IF(A583=\"\",\"\",IF(VLOOKUP(A583,'Romaneio da Carga'!E:E,1,0)=BD!A583,\"Volume Ok\",\"Volume não pertence a carga\")),\"Volume não pertence a carga\")","v":""}]
[null,{"$f":"IFERROR(IF(A584=\"\",\"\",IF(VLOOKUP(A584,'Romaneio da Carga'!E:E,1,0)=BD!A584,\"Volume Ok\",\"Volume não pertence a carga\")),\"Volume não pertence a carga\")","v":""}]
[null,{"$f":"IFERROR(IF(A585=\"\",\"\",IF(VLOOKUP(A585,'Romaneio da Carga'!E:E,1,0)=BD!A585,\"Volume Ok\",\"Volume não pertence a carga\")),\"Volume não pertence a carga\")","v":""}]
[null,{"$f":"IFERROR(IF(A586=\"\",\"\",IF(VLOOKUP(A586,'Romaneio da Carga'!E:E,1,0)=BD!A586,\"Volume Ok\",\"Volume não pertence a carga\")),\"Volume não pertence a carga\")","v":""}]
[null,{"$f":"IFERROR(IF(A587=\"\",\"\",IF(VLOOKUP(A587,'Romaneio da Carga'!E:E,1,0)=BD!A587,\"Volume Ok\",\"Volume não pertence a carga\")),\"Volume não pertence a carga\")","v":""}]
[null,{"$f":"IFERROR(IF(A588=\"\",\"\",IF(VLOOKUP(A588,'Romaneio da Carga'!E:E,1,0)=BD!A588,\"Volume Ok\",\"Volume não pertence a carga\")),\"Volume não pertence a carga\")","v":""}]
[null,{"$f":"IFERROR(IF(A589=\"\",\"\",IF(VLOOKUP(A589,'Romaneio da Carga'!E:E,1,0)=BD!A589,\"Volume Ok\",\"Volume não pertence a carga\")),\"Volume não pertence a carga\")","v":""}]
[null,{"$f":"IFERROR(IF(A590=\"\",\"\",IF(VLOOKUP(A590,'Romaneio da Carga'!E:E,1,0)=BD!A590,\"Volume Ok\",\"Volume não pertence a carga\")),\"Volume não pertence a carga\")","v":""}]
[null,{"$f":"IFERROR(IF(A591=\"\",\"\",IF(VLOOKUP(A591,'Romaneio da Carga'!E:E,1,0)=BD!A591,\"Volume Ok\",\"Volume não pertence a carga\")),\"Volume não pertence a carga\")","v":""}]
[null,{"$f":"IFERROR(IF(A592=\"\",\"\",IF(VLOOKUP(A592,'Romaneio da Carga'!E:E,1,0)=BD!A592,\"Volume Ok\",\"Volume não pertence a carga\")),\"Volume não pertence a carga\")","v":""}]
[null,{"$f":"IFERROR(IF(A593=\"\",\"\",IF(VLOOKUP(A593,'Romaneio da Carga'!E:E,1,0)=BD!A593,\"Volume Ok\",\"Volume não pertence a carga\")),\"Volume não pertence a carga\")","v":""}]
[null,{"$f":"IFERROR(IF(A594=\"\",\"\",IF(VLOOKUP(A594,'Romaneio da Carga'!E:E,1,0)=BD!A594,\"Volume Ok\",\"Volume não pertence a carga\")),\"Volume não pertence a carga\")","v":""}]
[null,{"$f":"IFERROR(IF(A595=\"\",\"\",IF(VLOOKUP(A595,'Romaneio da Carga'!E:E,1,0)=BD!A595,\"Volume Ok\",\"Volume não pertence a carga\")),\"Volume não pertence a carga\")","v":""}]
[null,{"$f":"IFERROR(IF(A596=\"\",\"\",IF(VLOOKUP(A596,'Romaneio da Carga'!E:E,1,0)=BD!A596,\"Volume Ok\",\"Volume não pertence a carga\")),\"Volume não pertence a carga\")","v":""}]
[null,{"$f":"IFERROR(IF(A597=\"\",\"\",IF(VLOOKUP(A597,'Romaneio da Carga'!E:E,1,0)=BD!A597,\"Volume Ok\",\"Volume não pertence a carga\")),\"Volume não pertence a carga\")","v":""}]
[null,{"$f":"IFERROR(IF(A598=\"\",\"\",IF(VLOOKUP(A598,'Romaneio da Carga'!E:E,1,0)=BD!A598,\"Volume Ok\",\"Volume não pertence a carga\")),\"Volume não pertence a carga\")","v":""}]
[null,{"$f":"IFERROR(IF(A599=\"\",\"\",IF(VLOOKUP(A599,'Romaneio da Carga'!E:E,1,0)=BD!A599,\"Volume Ok\",\"Volume não pertence a carga\")),\"Volume não pertence a carga\")","v":""}]
[null,{"$f":"IFERROR(IF(A600=\"\",\"\",IF(VLOOKUP(A600,'Romaneio da Carga'!E:E,1,0)=BD!A600,\"Volume Ok\",\"Volume não pertence a carga\")),\"Volume não pertence a carga\")","v":""}]
[null,{"$f":"IFERROR(IF(A601=\"\",\"\",IF(VLOOKUP(A601,'Romaneio da Carga'!E:E,1,0)=BD!A601,\"Volume Ok\",\"Volume não pertence a carga\")),\"Volume não pertence a carga\")","v":""}]
[null,{"$f":"IFERROR(IF(A602=\"\",\"\",IF(VLOOKUP(A602,'Romaneio da Carga'!E:E,1,0)=BD!A602,\"Volume Ok\",\"Volume não pertence a carga\")),\"Volume não pertence a carga\")","v":""}]
[null,{"$f":"IFERROR(IF(A603=\"\",\"\",IF(VLOOKUP(A603,'Romaneio da Carga'!E:E,1,0)=BD!A603,\"Volume Ok\",\"Volume não pertence a carga\")),\"Volume não pertence a carga\")","v":""}]
[null,{"$f":"IFERROR(IF(A604=\"\",\"\",IF(VLOOKUP(A604,'Romaneio da Carga'!E:E,1,0)=BD!A604,\"Volume Ok\",\"Volume não pertence a carga\")),\"Volume não pertence a carga\")","v":""}]
[null,{"$f":"IFERROR(IF(A605=\"\",\"\",IF(VLOOKUP(A605,'Romaneio da Carga'!E:E,1,0)=BD!A605,\"Volume Ok\",\"Volume não pertence a carga\")),\"Volume não pertence a carga\")","v":""}]
[null,{"$f":"IFERROR(IF(A606=\"\",\"\",IF(VLOOKUP(A606,'Romaneio da Carga'!E:E,1,0)=BD!A606,\"Volume Ok\",\"Volume não pertence a carga\")),\"Volume não pertence a carga\")","v":""}]
[null,{"$f":"IFERROR(IF(A607=\"\",\"\",IF(VLOOKUP(A607,'Romaneio da Carga'!E:E,1,0)=BD!A607,\"Volume Ok\",\"Volume não pertence a carga\")),\"Volume não pertence a carga\")","v":""}]
[null,{"$f":"IFERROR(IF(A608=\"\",\"\",IF(VLOOKUP(A608,'Romaneio da Carga'!E:E,1,0)=BD!A608,\"Volume Ok\",\"Volume não pertence a carga\")),\"Volume não pertence a carga\")","v":""}]
[null,{"$f":"IFERROR(IF(A609=\"\",\"\",IF(VLOOKUP(A609,'Romaneio da Carga'!E:E,1,0)=BD!A609,\"Volume Ok\",\"Volume não pertence a carga\")),\"Volume não pertence a carga\")","v":""}]
[null,{"$f":"IFERROR(IF(A610=\"\",\"\",IF(VLOOKUP(A610,'Romaneio da Carga'!E:E,1,0)=BD!A610,\"Volume Ok\",\"Volume não pertence a carga\")),\"Volume não pertence a carga\")","v":""}]
[null,{"$f":"IFERROR(IF(A611=\"\",\"\",IF(VLOOKUP(A611,'Romaneio da Carga'!E:E,1,0)=BD!A611,\"Volume Ok\",\"Volume não pertence a carga\")),\"Volume não pertence a carga\")","v":""}]
[null,{"$f":"IFERROR(IF(A612=\"\",\"\",IF(VLOOKUP(A612,'Romaneio da Carga'!E:E,1,0)=BD!A612,\"Volume Ok\",\"Volume não pertence a carga\")),\"Volume não pertence a carga\")","v":""}]
[null,{"$f":"IFERROR(IF(A613=\"\",\"\",IF(VLOOKUP(A613,'Romaneio da Carga'!E:E,1,0)=BD!A613,\"Volume Ok\",\"Volume não pertence a carga\")),\"Volume não pertence a carga\")","v":""}]
[null,{"$f":"IFERROR(IF(A614=\"\",\"\",IF(VLOOKUP(A614,'Romaneio da Carga'!E:E,1,0)=BD!A614,\"Volume Ok\",\"Volume não pertence a carga\")),\"Volume não pertence a carga\")","v":""}]
[null,{"$f":"IFERROR(IF(A615=\"\",\"\",IF(VLOOKUP(A615,'Romaneio da Carga'!E:E,1,0)=BD!A615,\"Volume Ok\",\"Volume não pertence a carga\")),\"Volume não pertence a carga\")","v":""}]
[null,{"$f":"IFERROR(IF(A616=\"\",\"\",IF(VLOOKUP(A616,'Romaneio da Carga'!E:E,1,0)=BD!A616,\"Volume Ok\",\"Volume não pertence a carga\")),\"Volume não pertence a carga\")","v":""}]
[null,{"$f":"IFERROR(IF(A617=\"\",\"\",IF(VLOOKUP(A617,'Romaneio da Carga'!E:E,1,0)=BD!A617,\"Volume Ok\",\"Volume não pertence a carga\")),\"Volume não pertence a carga\")","v":""}]
[null,{"$f":"IFERROR(IF(A618=\"\",\"\",IF(VLOOKUP(A618,'Romaneio da Carga'!E:E,1,0)=BD!A618,\"Volume Ok\",\"Volume não pertence a carga\")),\"Volume não pertence a carga\")","v":""}]
[null,{"$f":"IFERROR(IF(A619=\"\",\"\",IF(VLOOKUP(A619,'Romaneio da Carga'!E:E,1,0)=BD!A619,\"Volume Ok\",\"Volume não pertence a carga\")),\"Volume não pertence a carga\")","v":""}]
[null,{"$f":"IFERROR(IF(A620=\"\",\"\",IF(VLOOKUP(A620,'Romaneio da Carga'!E:E,1,0)=BD!A620,\"Volume Ok\",\"Volume não pertence a carga\")),\"Volume não pertence a carga\")","v":""}]
[null,{"$f":"IFERROR(IF(A621=\"\",\"\",IF(VLOOKUP(A621,'Romaneio da Carga'!E:E,1,0)=BD!A621,\"Volume Ok\",\"Volume não pertence a carga\")),\"Volume não pertence a carga\")","v":""}]
[null,{"$f":"IFERROR(IF(A622=\"\",\"\",IF(VLOOKUP(A622,'Romaneio da Carga'!E:E,1,0)=BD!A622,\"Volume Ok\",\"Volume não pertence a carga\")),\"Volume não pertence a carga\")","v":""}]
[null,{"$f":"IFERROR(IF(A623=\"\",\"\",IF(VLOOKUP(A623,'Romaneio da Carga'!E:E,1,0)=BD!A623,\"Volume Ok\",\"Volume não pertence a carga\")),\"Volume não pertence a carga\")","v":""}]
[null,{"$f":"IFERROR(IF(A624=\"\",\"\",IF(VLOOKUP(A624,'Romaneio da Carga'!E:E,1,0)=BD!A624,\"Volume Ok\",\"Volume não pertence a carga\")),\"Volume não pertence a carga\")","v":""}]
[null,{"$f":"IFERROR(IF(A625=\"\",\"\",IF(VLOOKUP(A625,'Romaneio da Carga'!E:E,1,0)=BD!A625,\"Volume Ok\",\"Volume não pertence a carga\")),\"Volume não pertence a carga\")","v":""}]
[null,{"$f":"IFERROR(IF(A626=\"\",\"\",IF(VLOOKUP(A626,'Romaneio da Carga'!E:E,1,0)=BD!A626,\"Volume Ok\",\"Volume não pertence a carga\")),\"Volume não pertence a carga\")","v":""}]
[null,{"$f":"IFERROR(IF(A627=\"\",\"\",IF(VLOOKUP(A627,'Romaneio da Carga'!E:E,1,0)=BD!A627,\"Volume Ok\",\"Volume não pertence a carga\")),\"Volume não pertence a carga\")","v":""}]
[null,{"$f":"IFERROR(IF(A628=\"\",\"\",IF(VLOOKUP(A628,'Romaneio da Carga'!E:E,1,0)=BD!A628,\"Volume Ok\",\"Volume não pertence a carga\")),\"Volume não pertence a carga\")","v":""}]
[null,{"$f":"IFERROR(IF(A629=\"\",\"\",IF(VLOOKUP(A629,'Romaneio da Carga'!E:E,1,0)=BD!A629,\"Volume Ok\",\"Volume não pertence a carga\")),\"Volume não pertence a carga\")","v":""}]
[null,{"$f":"IFERROR(IF(A630=\"\",\"\",IF(VLOOKUP(A630,'Romaneio da Carga'!E:E,1,0)=BD!A630,\"Volume Ok\",\"Volume não pertence a carga\")),\"Volume não pertence a carga\")","v":""}]
[null,{"$f":"IFERROR(IF(A631=\"\",\"\",IF(VLOOKUP(A631,'Romaneio da Carga'!E:E,1,0)=BD!A631,\"Volume Ok\",\"Volume não pertence a carga\")),\"Volume não pertence a carga\")","v":""}]
[null,{"$f":"IFERROR(IF(A632=\"\",\"\",IF(VLOOKUP(A632,'Romaneio da Carga'!E:E,1,0)=BD!A632,\"Volume Ok\",\"Volume não pertence a carga\")),\"Volume não pertence a carga\")","v":""}]
[null,{"$f":"IFERROR(IF(A633=\"\",\"\",IF(VLOOKUP(A633,'Romaneio da Carga'!E:E,1,0)=BD!A633,\"Volume Ok\",\"Volume não pertence a carga\")),\"Volume não pertence a carga\")","v":""}]
[null,{"$f":"IFERROR(IF(A634=\"\",\"\",IF(VLOOKUP(A634,'Romaneio da Carga'!E:E,1,0)=BD!A634,\"Volume Ok\",\"Volume não pertence a carga\")),\"Volume não pertence a carga\")","v":""}]
[null,{"$f":"IFERROR(IF(A635=\"\",\"\",IF(VLOOKUP(A635,'Romaneio da Carga'!E:E,1,0)=BD!A635,\"Volume Ok\",\"Volume não pertence a carga\")),\"Volume não pertence a carga\")","v":""}]
[null,{"$f":"IFERROR(IF(A636=\"\",\"\",IF(VLOOKUP(A636,'Romaneio da Carga'!E:E,1,0)=BD!A636,\"Volume Ok\",\"Volume não pertence a carga\")),\"Volume não pertence a carga\")","v":""}]
[null,{"$f":"IFERROR(IF(A637=\"\",\"\",IF(VLOOKUP(A637,'Romaneio da Carga'!E:E,1,0)=BD!A637,\"Volume Ok\",\"Volume não pertence a carga\")),\"Volume não pertence a carga\")","v":""}]
[null,{"$f":"IFERROR(IF(A638=\"\",\"\",IF(VLOOKUP(A638,'Romaneio da Carga'!E:E,1,0)=BD!A638,\"Volume Ok\",\"Volume não pertence a carga\")),\"Volume não pertence a carga\")","v":""}]
[null,{"$f":"IFERROR(IF(A639=\"\",\"\",IF(VLOOKUP(A639,'Romaneio da Carga'!E:E,1,0)=BD!A639,\"Volume Ok\",\"Volume não pertence a carga\")),\"Volume não pertence a carga\")","v":""}]
[null,{"$f":"IFERROR(IF(A640=\"\",\"\",IF(VLOOKUP(A640,'Romaneio da Carga'!E:E,1,0)=BD!A640,\"Volume Ok\",\"Volume não pertence a carga\")),\"Volume não pertence a carga\")","v":""}]
[null,{"$f":"IFERROR(IF(A641=\"\",\"\",IF(VLOOKUP(A641,'Romaneio da Carga'!E:E,1,0)=BD!A641,\"Volume Ok\",\"Volume não pertence a carga\")),\"Volume não pertence a carga\")","v":""}]
[null,{"$f":"IFERROR(IF(A642=\"\",\"\",IF(VLOOKUP(A642,'Romaneio da Carga'!E:E,1,0)=BD!A642,\"Volume Ok\",\"Volume não pertence a carga\")),\"Volume não pertence a carga\")","v":""}]
[null,{"$f":"IFERROR(IF(A643=\"\",\"\",IF(VLOOKUP(A643,'Romaneio da Carga'!E:E,1,0)=BD!A643,\"Volume Ok\",\"Volume não pertence a carga\")),\"Volume não pertence a carga\")","v":""}]
[null,{"$f":"IFERROR(IF(A644=\"\",\"\",IF(VLOOKUP(A644,'Romaneio da Carga'!E:E,1,0)=BD!A644,\"Volume Ok\",\"Volume não pertence a carga\")),\"Volume não pertence a carga\")","v":""}]
[null,{"$f":"IFERROR(IF(A645=\"\",\"\",IF(VLOOKUP(A645,'Romaneio da Carga'!E:E,1,0)=BD!A645,\"Volume Ok\",\"Volume não pertence a carga\")),\"Volume não pertence a carga\")","v":""}]
[null,{"$f":"IFERROR(IF(A646=\"\",\"\",IF(VLOOKUP(A646,'Romaneio da Carga'!E:E,1,0)=BD!A646,\"Volume Ok\",\"Volume não pertence a carga\")),\"Volume não pertence a carga\")","v":""}]
[null,{"$f":"IFERROR(IF(A647=\"\",\"\",IF(VLOOKUP(A647,'Romaneio da Carga'!E:E,1,0)=BD!A647,\"Volume Ok\",\"Volume não pertence a carga\")),\"Volume não pertence a carga\")","v":""}]
[null,{"$f":"IFERROR(IF(A648=\"\",\"\",IF(VLOOKUP(A648,'Romaneio da Carga'!E:E,1,0)=BD!A648,\"Volume Ok\",\"Volume não pertence a carga\")),\"Volume não pertence a carga\")","v":""}]
[null,{"$f":"IFERROR(IF(A649=\"\",\"\",IF(VLOOKUP(A649,'Romaneio da Carga'!E:E,1,0)=BD!A649,\"Volume Ok\",\"Volume não pertence a carga\")),\"Volume não pertence a carga\")","v":""}]
[null,{"$f":"IFERROR(IF(A650=\"\",\"\",IF(VLOOKUP(A650,'Romaneio da Carga'!E:E,1,0)=BD!A650,\"Volume Ok\",\"Volume não pertence a carga\")),\"Volume não pertence a carga\")","v":""}]
[null,{"$f":"IFERROR(IF(A651=\"\",\"\",IF(VLOOKUP(A651,'Romaneio da Carga'!E:E,1,0)=BD!A651,\"Volume Ok\",\"Volume não pertence a carga\")),\"Volume não pertence a carga\")","v":""}]
[null,{"$f":"IFERROR(IF(A652=\"\",\"\",IF(VLOOKUP(A652,'Romaneio da Carga'!E:E,1,0)=BD!A652,\"Volume Ok\",\"Volume não pertence a carga\")),\"Volume não pertence a carga\")","v":""}]
[null,{"$f":"IFERROR(IF(A653=\"\",\"\",IF(VLOOKUP(A653,'Romaneio da Carga'!E:E,1,0)=BD!A653,\"Volume Ok\",\"Volume não pertence a carga\")),\"Volume não pertence a carga\")","v":""}]
[null,{"$f":"IFERROR(IF(A654=\"\",\"\",IF(VLOOKUP(A654,'Romaneio da Carga'!E:E,1,0)=BD!A654,\"Volume Ok\",\"Volume não pertence a carga\")),\"Volume não pertence a carga\")","v":""}]
[null,{"$f":"IFERROR(IF(A655=\"\",\"\",IF(VLOOKUP(A655,'Romaneio da Carga'!E:E,1,0)=BD!A655,\"Volume Ok\",\"Volume não pertence a carga\")),\"Volume não pertence a carga\")","v":""}]
[null,{"$f":"IFERROR(IF(A656=\"\",\"\",IF(VLOOKUP(A656,'Romaneio da Carga'!E:E,1,0)=BD!A656,\"Volume Ok\",\"Volume não pertence a carga\")),\"Volume não pertence a carga\")","v":""}]
[null,{"$f":"IFERROR(IF(A657=\"\",\"\",IF(VLOOKUP(A657,'Romaneio da Carga'!E:E,1,0)=BD!A657,\"Volume Ok\",\"Volume não pertence a carga\")),\"Volume não pertence a carga\")","v":""}]
[null,{"$f":"IFERROR(IF(A658=\"\",\"\",IF(VLOOKUP(A658,'Romaneio da Carga'!E:E,1,0)=BD!A658,\"Volume Ok\",\"Volume não pertence a carga\")),\"Volume não pertence a carga\")","v":""}]
[null,{"$f":"IFERROR(IF(A659=\"\",\"\",IF(VLOOKUP(A659,'Romaneio da Carga'!E:E,1,0)=BD!A659,\"Volume Ok\",\"Volume não pertence a carga\")),\"Volume não pertence a carga\")","v":""}]
[null,{"$f":"IFERROR(IF(A660=\"\",\"\",IF(VLOOKUP(A660,'Romaneio da Carga'!E:E,1,0)=BD!A660,\"Volume Ok\",\"Volume não pertence a carga\")),\"Volume não pertence a carga\")","v":""}]
[null,{"$f":"IFERROR(IF(A661=\"\",\"\",IF(VLOOKUP(A661,'Romaneio da Carga'!E:E,1,0)=BD!A661,\"Volume Ok\",\"Volume não pertence a carga\")),\"Volume não pertence a carga\")","v":""}]
[null,{"$f":"IFERROR(IF(A662=\"\",\"\",IF(VLOOKUP(A662,'Romaneio da Carga'!E:E,1,0)=BD!A662,\"Volume Ok\",\"Volume não pertence a carga\")),\"Volume não pertence a carga\")","v":""}]
[null,{"$f":"IFERROR(IF(A663=\"\",\"\",IF(VLOOKUP(A663,'Romaneio da Carga'!E:E,1,0)=BD!A663,\"Volume Ok\",\"Volume não pertence a carga\")),\"Volume não pertence a carga\")","v":""}]
[null,{"$f":"IFERROR(IF(A664=\"\",\"\",IF(VLOOKUP(A664,'Romaneio da Carga'!E:E,1,0)=BD!A664,\"Volume Ok\",\"Volume não pertence a carga\")),\"Volume não pertence a carga\")","v":""}]
[null,{"$f":"IFERROR(IF(A665=\"\",\"\",IF(VLOOKUP(A665,'Romaneio da Carga'!E:E,1,0)=BD!A665,\"Volume Ok\",\"Volume não pertence a carga\")),\"Volume não pertence a carga\")","v":""}]
[null,{"$f":"IFERROR(IF(A666=\"\",\"\",IF(VLOOKUP(A666,'Romaneio da Carga'!E:E,1,0)=BD!A666,\"Volume Ok\",\"Volume não pertence a carga\")),\"Volume não pertence a carga\")","v":""}]
[null,{"$f":"IFERROR(IF(A667=\"\",\"\",IF(VLOOKUP(A667,'Romaneio da Carga'!E:E,1,0)=BD!A667,\"Volume Ok\",\"Volume não pertence a carga\")),\"Volume não pertence a carga\")","v":""}]
[null,{"$f":"IFERROR(IF(A668=\"\",\"\",IF(VLOOKUP(A668,'Romaneio da Carga'!E:E,1,0)=BD!A668,\"Volume Ok\",\"Volume não pertence a carga\")),\"Volume não pertence a carga\")","v":""}]
[null,{"$f":"IFERROR(IF(A669=\"\",\"\",IF(VLOOKUP(A669,'Romaneio da Carga'!E:E,1,0)=BD!A669,\"Volume Ok\",\"Volume não pertence a carga\")),\"Volume não pertence a carga\")","v":""}]
[null,{"$f":"IFERROR(IF(A670=\"\",\"\",IF(VLOOKUP(A670,'Romaneio da Carga'!E:E,1,0)=BD!A670,\"Volume Ok\",\"Volume não pertence a carga\")),\"Volume não pertence a carga\")","v":""}]
[null,{"$f":"IFERROR(IF(A671=\"\",\"\",IF(VLOOKUP(A671,'Romaneio da Carga'!E:E,1,0)=BD!A671,\"Volume Ok\",\"Volume não pertence a carga\")),\"Volume não pertence a carga\")","v":""}]
[null,{"$f":"IFERROR(IF(A672=\"\",\"\",IF(VLOOKUP(A672,'Romaneio da Carga'!E:E,1,0)=BD!A672,\"Volume Ok\",\"Volume não pertence a carga\")),\"Volume não pertence a carga\")","v":""}]
[null,{"$f":"IFERROR(IF(A673=\"\",\"\",IF(VLOOKUP(A673,'Romaneio da Carga'!E:E,1,0)=BD!A673,\"Volume Ok\",\"Volume não pertence a carga\")),\"Volume não pertence a carga\")","v":""}]
[null,{"$f":"IFERROR(IF(A674=\"\",\"\",IF(VLOOKUP(A674,'Romaneio da Carga'!E:E,1,0)=BD!A674,\"Volume Ok\",\"Volume não pertence a carga\")),\"Volume não pertence a carga\")","v":""}]
[null,{"$f":"IFERROR(IF(A675=\"\",\"\",IF(VLOOKUP(A675,'Romaneio da Carga'!E:E,1,0)=BD!A675,\"Volume Ok\",\"Volume não pertence a carga\")),\"Volume não pertence a carga\")","v":""}]
[null,{"$f":"IFERROR(IF(A676=\"\",\"\",IF(VLOOKUP(A676,'Romaneio da Carga'!E:E,1,0)=BD!A676,\"Volume Ok\",\"Volume não pertence a carga\")),\"Volume não pertence a carga\")","v":""}]
[null,{"$f":"IFERROR(IF(A677=\"\",\"\",IF(VLOOKUP(A677,'Romaneio da Carga'!E:E,1,0)=BD!A677,\"Volume Ok\",\"Volume não pertence a carga\")),\"Volume não pertence a carga\")","v":""}]
[null,{"$f":"IFERROR(IF(A678=\"\",\"\",IF(VLOOKUP(A678,'Romaneio da Carga'!E:E,1,0)=BD!A678,\"Volume Ok\",\"Volume não pertence a carga\")),\"Volume não pertence a carga\")","v":""}]
[null,{"$f":"IFERROR(IF(A679=\"\",\"\",IF(VLOOKUP(A679,'Romaneio da Carga'!E:E,1,0)=BD!A679,\"Volume Ok\",\"Volume não pertence a carga\")),\"Volume não pertence a carga\")","v":""}]
[null,{"$f":"IFERROR(IF(A680=\"\",\"\",IF(VLOOKUP(A680,'Romaneio da Carga'!E:E,1,0)=BD!A680,\"Volume Ok\",\"Volume não pertence a carga\")),\"Volume não pertence a carga\")","v":""}]
[null,{"$f":"IFERROR(IF(A681=\"\",\"\",IF(VLOOKUP(A681,'Romaneio da Carga'!E:E,1,0)=BD!A681,\"Volume Ok\",\"Volume não pertence a carga\")),\"Volume não pertence a carga\")","v":""}]
[null,{"$f":"IFERROR(IF(A682=\"\",\"\",IF(VLOOKUP(A682,'Romaneio da Carga'!E:E,1,0)=BD!A682,\"Volume Ok\",\"Volume não pertence a carga\")),\"Volume não pertence a carga\")","v":""}]
[null,{"$f":"IFERROR(IF(A683=\"\",\"\",IF(VLOOKUP(A683,'Romaneio da Carga'!E:E,1,0)=BD!A683,\"Volume Ok\",\"Volume não pertence a carga\")),\"Volume não pertence a carga\")","v":""}]
[null,{"$f":"IFERROR(IF(A684=\"\",\"\",IF(VLOOKUP(A684,'Romaneio da Carga'!E:E,1,0)=BD!A684,\"Volume Ok\",\"Volume não pertence a carga\")),\"Volume não pertence a carga\")","v":""}]
[null,{"$f":"IFERROR(IF(A685=\"\",\"\",IF(VLOOKUP(A685,'Romaneio da Carga'!E:E,1,0)=BD!A685,\"Volume Ok\",\"Volume não pertence a carga\")),\"Volume não pertence a carga\")","v":""}]
[null,{"$f":"IFERROR(IF(A686=\"\",\"\",IF(VLOOKUP(A686,'Romaneio da Carga'!E:E,1,0)=BD!A686,\"Volume Ok\",\"Volume não pertence a carga\")),\"Volume não pertence a carga\")","v":""}]
[null,{"$f":"IFERROR(IF(A687=\"\",\"\",IF(VLOOKUP(A687,'Romaneio da Carga'!E:E,1,0)=BD!A687,\"Volume Ok\",\"Volume não pertence a carga\")),\"Volume não pertence a carga\")","v":""}]
[null,{"$f":"IFERROR(IF(A688=\"\",\"\",IF(VLOOKUP(A688,'Romaneio da Carga'!E:E,1,0)=BD!A688,\"Volume Ok\",\"Volume não pertence a carga\")),\"Volume não pertence a carga\")","v":""}]
[null,{"$f":"IFERROR(IF(A689=\"\",\"\",IF(VLOOKUP(A689,'Romaneio da Carga'!E:E,1,0)=BD!A689,\"Volume Ok\",\"Volume não pertence a carga\")),\"Volume não pertence a carga\")","v":""}]
[null,{"$f":"IFERROR(IF(A690=\"\",\"\",IF(VLOOKUP(A690,'Romaneio da Carga'!E:E,1,0)=BD!A690,\"Volume Ok\",\"Volume não pertence a carga\")),\"Volume não pertence a carga\")","v":""}]
[null,{"$f":"IFERROR(IF(A691=\"\",\"\",IF(VLOOKUP(A691,'Romaneio da Carga'!E:E,1,0)=BD!A691,\"Volume Ok\",\"Volume não pertence a carga\")),\"Volume não pertence a carga\")","v":""}]
[null,{"$f":"IFERROR(IF(A692=\"\",\"\",IF(VLOOKUP(A692,'Romaneio da Carga'!E:E,1,0)=BD!A692,\"Volume Ok\",\"Volume não pertence a carga\")),\"Volume não pertence a carga\")","v":""}]
[null,{"$f":"IFERROR(IF(A693=\"\",\"\",IF(VLOOKUP(A693,'Romaneio da Carga'!E:E,1,0)=BD!A693,\"Volume Ok\",\"Volume não pertence a carga\")),\"Volume não pertence a carga\")","v":""}]
[null,{"$f":"IFERROR(IF(A694=\"\",\"\",IF(VLOOKUP(A694,'Romaneio da Carga'!E:E,1,0)=BD!A694,\"Volume Ok\",\"Volume não pertence a carga\")),\"Volume não pertence a carga\")","v":""}]
[null,{"$f":"IFERROR(IF(A695=\"\",\"\",IF(VLOOKUP(A695,'Romaneio da Carga'!E:E,1,0)=BD!A695,\"Volume Ok\",\"Volume não pertence a carga\")),\"Volume não pertence a carga\")","v":""}]
[null,{"$f":"IFERROR(IF(A696=\"\",\"\",IF(VLOOKUP(A696,'Romaneio da Carga'!E:E,1,0)=BD!A696,\"Volume Ok\",\"Volume não pertence a carga\")),\"Volume não pertence a carga\")","v":""}]
[null,{"$f":"IFERROR(IF(A697=\"\",\"\",IF(VLOOKUP(A697,'Romaneio da Carga'!E:E,1,0)=BD!A697,\"Volume Ok\",\"Volume não pertence a carga\")),\"Volume não pertence a carga\")","v":""}]
[null,{"$f":"IFERROR(IF(A698=\"\",\"\",IF(VLOOKUP(A698,'Romaneio da Carga'!E:E,1,0)=BD!A698,\"Volume Ok\",\"Volume não pertence a carga\")),\"Volume não pertence a carga\")","v":""}]
[null,{"$f":"IFERROR(IF(A699=\"\",\"\",IF(VLOOKUP(A699,'Romaneio da Carga'!E:E,1,0)=BD!A699,\"Volume Ok\",\"Volume não pertence a carga\")),\"Volume não pertence a carga\")","v":""}]
[null,{"$f":"IFERROR(IF(A700=\"\",\"\",IF(VLOOKUP(A700,'Romaneio da Carga'!E:E,1,0)=BD!A700,\"Volume Ok\",\"Volume não pertence a carga\")),\"Volume não pertence a carga\")","v":""}]
[null,{"$f":"IFERROR(IF(A701=\"\",\"\",IF(VLOOKUP(A701,'Romaneio da Carga'!E:E,1,0)=BD!A701,\"Volume Ok\",\"Volume não pertence a carga\")),\"Volume não pertence a carga\")","v":""}]
[null,{"$f":"IFERROR(IF(A702=\"\",\"\",IF(VLOOKUP(A702,'Romaneio da Carga'!E:E,1,0)=BD!A702,\"Volume Ok\",\"Volume não pertence a carga\")),\"Volume não pertence a carga\")","v":""}]
[null,{"$f":"IFERROR(IF(A703=\"\",\"\",IF(VLOOKUP(A703,'Romaneio da Carga'!E:E,1,0)=BD!A703,\"Volume Ok\",\"Volume não pertence a carga\")),\"Volume não pertence a carga\")","v":""}]
[null,{"$f":"IFERROR(IF(A704=\"\",\"\",IF(VLOOKUP(A704,'Romaneio da Carga'!E:E,1,0)=BD!A704,\"Volume Ok\",\"Volume não pertence a carga\")),\"Volume não pertence a carga\")","v":""}]
[null,{"$f":"IFERROR(IF(A705=\"\",\"\",IF(VLOOKUP(A705,'Romaneio da Carga'!E:E,1,0)=BD!A705,\"Volume Ok\",\"Volume não pertence a carga\")),\"Volume não pertence a carga\")","v":""}]
[null,{"$f":"IFERROR(IF(A706=\"\",\"\",IF(VLOOKUP(A706,'Romaneio da Carga'!E:E,1,0)=BD!A706,\"Volume Ok\",\"Volume não pertence a carga\")),\"Volume não pertence a carga\")","v":""}]
[null,{"$f":"IFERROR(IF(A707=\"\",\"\",IF(VLOOKUP(A707,'Romaneio da Carga'!E:E,1,0)=BD!A707,\"Volume Ok\",\"Volume não pertence a carga\")),\"Volume não pertence a carga\")","v":""}]
[null,{"$f":"IFERROR(IF(A708=\"\",\"\",IF(VLOOKUP(A708,'Romaneio da Carga'!E:E,1,0)=BD!A708,\"Volume Ok\",\"Volume não pertence a carga\")),\"Volume não pertence a carga\")","v":""}]
[null,{"$f":"IFERROR(IF(A709=\"\",\"\",IF(VLOOKUP(A709,'Romaneio da Carga'!E:E,1,0)=BD!A709,\"Volume Ok\",\"Volume não pertence a carga\")),\"Volume não pertence a carga\")","v":""}]
[null,{"$f":"IFERROR(IF(A710=\"\",\"\",IF(VLOOKUP(A710,'Romaneio da Carga'!E:E,1,0)=BD!A710,\"Volume Ok\",\"Volume não pertence a carga\")),\"Volume não pertence a carga\")","v":""}]
[null,{"$f":"IFERROR(IF(A711=\"\",\"\",IF(VLOOKUP(A711,'Romaneio da Carga'!E:E,1,0)=BD!A711,\"Volume Ok\",\"Volume não pertence a carga\")),\"Volume não pertence a carga\")","v":""}]
[null,{"$f":"IFERROR(IF(A712=\"\",\"\",IF(VLOOKUP(A712,'Romaneio da Carga'!E:E,1,0)=BD!A712,\"Volume Ok\",\"Volume não pertence a carga\")),\"Volume não pertence a carga\")","v":""}]
[null,{"$f":"IFERROR(IF(A713=\"\",\"\",IF(VLOOKUP(A713,'Romaneio da Carga'!E:E,1,0)=BD!A713,\"Volume Ok\",\"Volume não pertence a carga\")),\"Volume não pertence a carga\")","v":""}]
[null,{"$f":"IFERROR(IF(A714=\"\",\"\",IF(VLOOKUP(A714,'Romaneio da Carga'!E:E,1,0)=BD!A714,\"Volume Ok\",\"Volume não pertence a carga\")),\"Volume não pertence a carga\")","v":""}]
[null,{"$f":"IFERROR(IF(A715=\"\",\"\",IF(VLOOKUP(A715,'Romaneio da Carga'!E:E,1,0)=BD!A715,\"Volume Ok\",\"Volume não pertence a carga\")),\"Volume não pertence a carga\")","v":""}]
[null,{"$f":"IFERROR(IF(A716=\"\",\"\",IF(VLOOKUP(A716,'Romaneio da Carga'!E:E,1,0)=BD!A716,\"Volume Ok\",\"Volume não pertence a carga\")),\"Volume não pertence a carga\")","v":""}]
[null,{"$f":"IFERROR(IF(A717=\"\",\"\",IF(VLOOKUP(A717,'Romaneio da Carga'!E:E,1,0)=BD!A717,\"Volume Ok\",\"Volume não pertence a carga\")),\"Volume não pertence a carga\")","v":""}]
[null,{"$f":"IFERROR(IF(A718=\"\",\"\",IF(VLOOKUP(A718,'Romaneio da Carga'!E:E,1,0)=BD!A718,\"Volume Ok\",\"Volume não pertence a carga\")),\"Volume não pertence a carga\")","v":""}]
[null,{"$f":"IFERROR(IF(A719=\"\",\"\",IF(VLOOKUP(A719,'Romaneio da Carga'!E:E,1,0)=BD!A719,\"Volume Ok\",\"Volume não pertence a carga\")),\"Volume não pertence a carga\")","v":""}]
[null,{"$f":"IFERROR(IF(A720=\"\",\"\",IF(VLOOKUP(A720,'Romaneio da Carga'!E:E,1,0)=BD!A720,\"Volume Ok\",\"Volume não pertence a carga\")),\"Volume não pertence a carga\")","v":""}]
[null,{"$f":"IFERROR(IF(A721=\"\",\"\",IF(VLOOKUP(A721,'Romaneio da Carga'!E:E,1,0)=BD!A721,\"Volume Ok\",\"Volume não pertence a carga\")),\"Volume não pertence a carga\")","v":""}]
[null,{"$f":"IFERROR(IF(A722=\"\",\"\",IF(VLOOKUP(A722,'Romaneio da Carga'!E:E,1,0)=BD!A722,\"Volume Ok\",\"Volume não pertence a carga\")),\"Volume não pertence a carga\")","v":""}]
[null,{"$f":"IFERROR(IF(A723=\"\",\"\",IF(VLOOKUP(A723,'Romaneio da Carga'!E:E,1,0)=BD!A723,\"Volume Ok\",\"Volume não pertence a carga\")),\"Volume não pertence a carga\")","v":""}]
[null,{"$f":"IFERROR(IF(A724=\"\",\"\",IF(VLOOKUP(A724,'Romaneio da Carga'!E:E,1,0)=BD!A724,\"Volume Ok\",\"Volume não pertence a carga\")),\"Volume não pertence a carga\")","v":""}]
[null,{"$f":"IFERROR(IF(A725=\"\",\"\",IF(VLOOKUP(A725,'Romaneio da Carga'!E:E,1,0)=BD!A725,\"Volume Ok\",\"Volume não pertence a carga\")),\"Volume não pertence a carga\")","v":""}]
[null,{"$f":"IFERROR(IF(A726=\"\",\"\",IF(VLOOKUP(A726,'Romaneio da Carga'!E:E,1,0)=BD!A726,\"Volume Ok\",\"Volume não pertence a carga\")),\"Volume não pertence a carga\")","v":""}]
[null,{"$f":"IFERROR(IF(A727=\"\",\"\",IF(VLOOKUP(A727,'Romaneio da Carga'!E:E,1,0)=BD!A727,\"Volume Ok\",\"Volume não pertence a carga\")),\"Volume não pertence a carga\")","v":""}]
[null,{"$f":"IFERROR(IF(A728=\"\",\"\",IF(VLOOKUP(A728,'Romaneio da Carga'!E:E,1,0)=BD!A728,\"Volume Ok\",\"Volume não pertence a carga\")),\"Volume não pertence a carga\")","v":""}]
[null,{"$f":"IFERROR(IF(A729=\"\",\"\",IF(VLOOKUP(A729,'Romaneio da Carga'!E:E,1,0)=BD!A729,\"Volume Ok\",\"Volume não pertence a carga\")),\"Volume não pertence a carga\")","v":""}]
[null,{"$f":"IFERROR(IF(A730=\"\",\"\",IF(VLOOKUP(A730,'Romaneio da Carga'!E:E,1,0)=BD!A730,\"Volume Ok\",\"Volume não pertence a carga\")),\"Volume não pertence a carga\")","v":""}]
[null,{"$f":"IFERROR(IF(A731=\"\",\"\",IF(VLOOKUP(A731,'Romaneio da Carga'!E:E,1,0)=BD!A731,\"Volume Ok\",\"Volume não pertence a carga\")),\"Volume não pertence a carga\")","v":""}]
[null,{"$f":"IFERROR(IF(A732=\"\",\"\",IF(VLOOKUP(A732,'Romaneio da Carga'!E:E,1,0)=BD!A732,\"Volume Ok\",\"Volume não pertence a carga\")),\"Volume não pertence a carga\")","v":""}]
[null,{"$f":"IFERROR(IF(A733=\"\",\"\",IF(VLOOKUP(A733,'Romaneio da Carga'!E:E,1,0)=BD!A733,\"Volume Ok\",\"Volume não pertence a carga\")),\"Volume não pertence a carga\")","v":""}]
[null,{"$f":"IFERROR(IF(A734=\"\",\"\",IF(VLOOKUP(A734,'Romaneio da Carga'!E:E,1,0)=BD!A734,\"Volume Ok\",\"Volume não pertence a carga\")),\"Volume não pertence a carga\")","v":""}]
[null,{"$f":"IFERROR(IF(A735=\"\",\"\",IF(VLOOKUP(A735,'Romaneio da Carga'!E:E,1,0)=BD!A735,\"Volume Ok\",\"Volume não pertence a carga\")),\"Volume não pertence a carga\")","v":""}]
[null,{"$f":"IFERROR(IF(A736=\"\",\"\",IF(VLOOKUP(A736,'Romaneio da Carga'!E:E,1,0)=BD!A736,\"Volume Ok\",\"Volume não pertence a carga\")),\"Volume não pertence a carga\")","v":""}]
[null,{"$f":"IFERROR(IF(A737=\"\",\"\",IF(VLOOKUP(A737,'Romaneio da Carga'!E:E,1,0)=BD!A737,\"Volume Ok\",\"Volume não pertence a carga\")),\"Volume não pertence a carga\")","v":""}]
[null,{"$f":"IFERROR(IF(A738=\"\",\"\",IF(VLOOKUP(A738,'Romaneio da Carga'!E:E,1,0)=BD!A738,\"Volume Ok\",\"Volume não pertence a carga\")),\"Volume não pertence a carga\")","v":""}]
[null,{"$f":"IFERROR(IF(A739=\"\",\"\",IF(VLOOKUP(A739,'Romaneio da Carga'!E:E,1,0)=BD!A739,\"Volume Ok\",\"Volume não pertence a carga\")),\"Volume não pertence a carga\")","v":""}]
[null,{"$f":"IFERROR(IF(A740=\"\",\"\",IF(VLOOKUP(A740,'Romaneio da Carga'!E:E,1,0)=BD!A740,\"Volume Ok\",\"Volume não pertence a carga\")),\"Volume não pertence a carga\")","v":""}]
[null,{"$f":"IFERROR(IF(A741=\"\",\"\",IF(VLOOKUP(A741,'Romaneio da Carga'!E:E,1,0)=BD!A741,\"Volume Ok\",\"Volume não pertence a carga\")),\"Volume não pertence a carga\")","v":""}]
[null,{"$f":"IFERROR(IF(A742=\"\",\"\",IF(VLOOKUP(A742,'Romaneio da Carga'!E:E,1,0)=BD!A742,\"Volume Ok\",\"Volume não pertence a carga\")),\"Volume não pertence a carga\")","v":""}]
[null,{"$f":"IFERROR(IF(A743=\"\",\"\",IF(VLOOKUP(A743,'Romaneio da Carga'!E:E,1,0)=BD!A743,\"Volume Ok\",\"Volume não pertence a carga\")),\"Volume não pertence a carga\")","v":""}]
[null,{"$f":"IFERROR(IF(A744=\"\",\"\",IF(VLOOKUP(A744,'Romaneio da Carga'!E:E,1,0)=BD!A744,\"Volume Ok\",\"Volume não pertence a carga\")),\"Volume não pertence a carga\")","v":""}]
[null,{"$f":"IFERROR(IF(A745=\"\",\"\",IF(VLOOKUP(A745,'Romaneio da Carga'!E:E,1,0)=BD!A745,\"Volume Ok\",\"Volume não pertence a carga\")),\"Volume não pertence a carga\")","v":""}]
[null,{"$f":"IFERROR(IF(A746=\"\",\"\",IF(VLOOKUP(A746,'Romaneio da Carga'!E:E,1,0)=BD!A746,\"Volume Ok\",\"Volume não pertence a carga\")),\"Volume não pertence a carga\")","v":""}]
[null,{"$f":"IFERROR(IF(A747=\"\",\"\",IF(VLOOKUP(A747,'Romaneio da Carga'!E:E,1,0)=BD!A747,\"Volume Ok\",\"Volume não pertence a carga\")),\"Volume não pertence a carga\")","v":""}]
[null,{"$f":"IFERROR(IF(A748=\"\",\"\",IF(VLOOKUP(A748,'Romaneio da Carga'!E:E,1,0)=BD!A748,\"Volume Ok\",\"Volume não pertence a carga\")),\"Volume não pertence a carga\")","v":""}]
[null,{"$f":"IFERROR(IF(A749=\"\",\"\",IF(VLOOKUP(A749,'Romaneio da Carga'!E:E,1,0)=BD!A749,\"Volume Ok\",\"Volume não pertence a carga\")),\"Volume não pertence a carga\")","v":""}]
[null,{"$f":"IFERROR(IF(A750=\"\",\"\",IF(VLOOKUP(A750,'Romaneio da Carga'!E:E,1,0)=BD!A750,\"Volume Ok\",\"Volume não pertence a carga\")),\"Volume não pertence a carga\")","v":""}]
[null,{"$f":"IFERROR(IF(A751=\"\",\"\",IF(VLOOKUP(A751,'Romaneio da Carga'!E:E,1,0)=BD!A751,\"Volume Ok\",\"Volume não pertence a carga\")),\"Volume não pertence a carga\")","v":""}]
[null,{"$f":"IFERROR(IF(A752=\"\",\"\",IF(VLOOKUP(A752,'Romaneio da Carga'!E:E,1,0)=BD!A752,\"Volume Ok\",\"Volume não pertence a carga\")),\"Volume não pertence a carga\")","v":""}]
[null,{"$f":"IFERROR(IF(A753=\"\",\"\",IF(VLOOKUP(A753,'Romaneio da Carga'!E:E,1,0)=BD!A753,\"Volume Ok\",\"Volume não pertence a carga\")),\"Volume não pertence a carga\")","v":""}]
[null,{"$f":"IFERROR(IF(A754=\"\",\"\",IF(VLOOKUP(A754,'Romaneio da Carga'!E:E,1,0)=BD!A754,\"Volume Ok\",\"Volume não pertence a carga\")),\"Volume não pertence a carga\")","v":""}]
[null,{"$f":"IFERROR(IF(A755=\"\",\"\",IF(VLOOKUP(A755,'Romaneio da Carga'!E:E,1,0)=BD!A755,\"Volume Ok\",\"Volume não pertence a carga\")),\"Volume não pertence a carga\")","v":""}]
[null,{"$f":"IFERROR(IF(A756=\"\",\"\",IF(VLOOKUP(A756,'Romaneio da Carga'!E:E,1,0)=BD!A756,\"Volume Ok\",\"Volume não pertence a carga\")),\"Volume não pertence a carga\")","v":""}]
[null,{"$f":"IFERROR(IF(A757=\"\",\"\",IF(VLOOKUP(A757,'Romaneio da Carga'!E:E,1,0)=BD!A757,\"Volume Ok\",\"Volume não pertence a carga\")),\"Volume não pertence a carga\")","v":""}]
[null,{"$f":"IFERROR(IF(A758=\"\",\"\",IF(VLOOKUP(A758,'Romaneio da Carga'!E:E,1,0)=BD!A758,\"Volume Ok\",\"Volume não pertence a carga\")),\"Volume não pertence a carga\")","v":""}]
[null,{"$f":"IFERROR(IF(A759=\"\",\"\",IF(VLOOKUP(A759,'Romaneio da Carga'!E:E,1,0)=BD!A759,\"Volume Ok\",\"Volume não pertence a carga\")),\"Volume não pertence a carga\")","v":""}]
[null,{"$f":"IFERROR(IF(A760=\"\",\"\",IF(VLOOKUP(A760,'Romaneio da Carga'!E:E,1,0)=BD!A760,\"Volume Ok\",\"Volume não pertence a carga\")),\"Volume não pertence a carga\")","v":""}]
[null,{"$f":"IFERROR(IF(A761=\"\",\"\",IF(VLOOKUP(A761,'Romaneio da Carga'!E:E,1,0)=BD!A761,\"Volume Ok\",\"Volume não pertence a carga\")),\"Volume não pertence a carga\")","v":""}]
[null,{"$f":"IFERROR(IF(A762=\"\",\"\",IF(VLOOKUP(A762,'Romaneio da Carga'!E:E,1,0)=BD!A762,\"Volume Ok\",\"Volume não pertence a carga\")),\"Volume não pertence a carga\")","v":""}]
[null,{"$f":"IFERROR(IF(A763=\"\",\"\",IF(VLOOKUP(A763,'Romaneio da Carga'!E:E,1,0)=BD!A763,\"Volume Ok\",\"Volume não pertence a carga\")),\"Volume não pertence a carga\")","v":""}]
[null,{"$f":"IFERROR(IF(A764=\"\",\"\",IF(VLOOKUP(A764,'Romaneio da Carga'!E:E,1,0)=BD!A764,\"Volume Ok\",\"Volume não pertence a carga\")),\"Volume não pertence a carga\")","v":""}]
[null,{"$f":"IFERROR(IF(A765=\"\",\"\",IF(VLOOKUP(A765,'Romaneio da Carga'!E:E,1,0)=BD!A765,\"Volume Ok\",\"Volume não pertence a carga\")),\"Volume não pertence a carga\")","v":""}]
[null,{"$f":"IFERROR(IF(A766=\"\",\"\",IF(VLOOKUP(A766,'Romaneio da Carga'!E:E,1,0)=BD!A766,\"Volume Ok\",\"Volume não pertence a carga\")),\"Volume não pertence a carga\")","v":""}]
[null,{"$f":"IFERROR(IF(A767=\"\",\"\",IF(VLOOKUP(A767,'Romaneio da Carga'!E:E,1,0)=BD!A767,\"Volume Ok\",\"Volume não pertence a carga\")),\"Volume não pertence a carga\")","v":""}]
[null,{"$f":"IFERROR(IF(A768=\"\",\"\",IF(VLOOKUP(A768,'Romaneio da Carga'!E:E,1,0)=BD!A768,\"Volume Ok\",\"Volume não pertence a carga\")),\"Volume não pertence a carga\")","v":""}]
[null,{"$f":"IFERROR(IF(A769=\"\",\"\",IF(VLOOKUP(A769,'Romaneio da Carga'!E:E,1,0)=BD!A769,\"Volume Ok\",\"Volume não pertence a carga\")),\"Volume não pertence a carga\")","v":""}]
[null,{"$f":"IFERROR(IF(A770=\"\",\"\",IF(VLOOKUP(A770,'Romaneio da Carga'!E:E,1,0)=BD!A770,\"Volume Ok\",\"Volume não pertence a carga\")),\"Volume não pertence a carga\")","v":""}]
[null,{"$f":"IFERROR(IF(A771=\"\",\"\",IF(VLOOKUP(A771,'Romaneio da Carga'!E:E,1,0)=BD!A771,\"Volume Ok\",\"Volume não pertence a carga\")),\"Volume não pertence a carga\")","v":""}]
[null,{"$f":"IFERROR(IF(A772=\"\",\"\",IF(VLOOKUP(A772,'Romaneio da Carga'!E:E,1,0)=BD!A772,\"Volume Ok\",\"Volume não pertence a carga\")),\"Volume não pertence a carga\")","v":""}]
[null,{"$f":"IFERROR(IF(A773=\"\",\"\",IF(VLOOKUP(A773,'Romaneio da Carga'!E:E,1,0)=BD!A773,\"Volume Ok\",\"Volume não pertence a carga\")),\"Volume não pertence a carga\")","v":""}]
[null,{"$f":"IFERROR(IF(A774=\"\",\"\",IF(VLOOKUP(A774,'Romaneio da Carga'!E:E,1,0)=BD!A774,\"Volume Ok\",\"Volume não pertence a carga\")),\"Volume não pertence a carga\")","v":""}]
[null,{"$f":"IFERROR(IF(A775=\"\",\"\",IF(VLOOKUP(A775,'Romaneio da Carga'!E:E,1,0)=BD!A775,\"Volume Ok\",\"Volume não pertence a carga\")),\"Volume não pertence a carga\")","v":""}]
[null,{"$f":"IFERROR(IF(A776=\"\",\"\",IF(VLOOKUP(A776,'Romaneio da Carga'!E:E,1,0)=BD!A776,\"Volume Ok\",\"Volume não pertence a carga\")),\"Volume não pertence a carga\")","v":""}]
[null,{"$f":"IFERROR(IF(A777=\"\",\"\",IF(VLOOKUP(A777,'Romaneio da Carga'!E:E,1,0)=BD!A777,\"Volume Ok\",\"Volume não pertence a carga\")),\"Volume não pertence a carga\")","v":""}]
[null,{"$f":"IFERROR(IF(A778=\"\",\"\",IF(VLOOKUP(A778,'Romaneio da Carga'!E:E,1,0)=BD!A778,\"Volume Ok\",\"Volume não pertence a carga\")),\"Volume não pertence a carga\")","v":""}]
[null,{"$f":"IFERROR(IF(A779=\"\",\"\",IF(VLOOKUP(A779,'Romaneio da Carga'!E:E,1,0)=BD!A779,\"Volume Ok\",\"Volume não pertence a carga\")),\"Volume não pertence a carga\")","v":""}]
[null,{"$f":"IFERROR(IF(A780=\"\",\"\",IF(VLOOKUP(A780,'Romaneio da Carga'!E:E,1,0)=BD!A780,\"Volume Ok\",\"Volume não pertence a carga\")),\"Volume não pertence a carga\")","v":""}]
[null,{"$f":"IFERROR(IF(A781=\"\",\"\",IF(VLOOKUP(A781,'Romaneio da Carga'!E:E,1,0)=BD!A781,\"Volume Ok\",\"Volume não pertence a carga\")),\"Volume não pertence a carga\")","v":""}]
[null,{"$f":"IFERROR(IF(A782=\"\",\"\",IF(VLOOKUP(A782,'Romaneio da Carga'!E:E,1,0)=BD!A782,\"Volume Ok\",\"Volume não pertence a carga\")),\"Volume não pertence a carga\")","v":""}]
[null,{"$f":"IFERROR(IF(A783=\"\",\"\",IF(VLOOKUP(A783,'Romaneio da Carga'!E:E,1,0)=BD!A783,\"Volume Ok\",\"Volume não pertence a carga\")),\"Volume não pertence a carga\")","v":""}]
[null,{"$f":"IFERROR(IF(A784=\"\",\"\",IF(VLOOKUP(A784,'Romaneio da Carga'!E:E,1,0)=BD!A784,\"Volume Ok\",\"Volume não pertence a carga\")),\"Volume não pertence a carga\")","v":""}]
[null,{"$f":"IFERROR(IF(A785=\"\",\"\",IF(VLOOKUP(A785,'Romaneio da Carga'!E:E,1,0)=BD!A785,\"Volume Ok\",\"Volume não pertence a carga\")),\"Volume não pertence a carga\")","v":""}]
[null,{"$f":"IFERROR(IF(A786=\"\",\"\",IF(VLOOKUP(A786,'Romaneio da Carga'!E:E,1,0)=BD!A786,\"Volume Ok\",\"Volume não pertence a carga\")),\"Volume não pertence a carga\")","v":""}]
[null,{"$f":"IFERROR(IF(A787=\"\",\"\",IF(VLOOKUP(A787,'Romaneio da Carga'!E:E,1,0)=BD!A787,\"Volume Ok\",\"Volume não pertence a carga\")),\"Volume não pertence a carga\")","v":""}]
[null,{"$f":"IFERROR(IF(A788=\"\",\"\",IF(VLOOKUP(A788,'Romaneio da Carga'!E:E,1,0)=BD!A788,\"Volume Ok\",\"Volume não pertence a carga\")),\"Volume não pertence a carga\")","v":""}]
[null,{"$f":"IFERROR(IF(A789=\"\",\"\",IF(VLOOKUP(A789,'Romaneio da Carga'!E:E,1,0)=BD!A789,\"Volume Ok\",\"Volume não pertence a carga\")),\"Volume não pertence a carga\")","v":""}]
[null,{"$f":"IFERROR(IF(A790=\"\",\"\",IF(VLOOKUP(A790,'Romaneio da Carga'!E:E,1,0)=BD!A790,\"Volume Ok\",\"Volume não pertence a carga\")),\"Volume não pertence a carga\")","v":""}]
[null,{"$f":"IFERROR(IF(A791=\"\",\"\",IF(VLOOKUP(A791,'Romaneio da Carga'!E:E,1,0)=BD!A791,\"Volume Ok\",\"Volume não pertence a carga\")),\"Volume não pertence a carga\")","v":""}]
[null,{"$f":"IFERROR(IF(A792=\"\",\"\",IF(VLOOKUP(A792,'Romaneio da Carga'!E:E,1,0)=BD!A792,\"Volume Ok\",\"Volume não pertence a carga\")),\"Volume não pertence a carga\")","v":""}]
[null,{"$f":"IFERROR(IF(A793=\"\",\"\",IF(VLOOKUP(A793,'Romaneio da Carga'!E:E,1,0)=BD!A793,\"Volume Ok\",\"Volume não pertence a carga\")),\"Volume não pertence a carga\")","v":""}]
[null,{"$f":"IFERROR(IF(A794=\"\",\"\",IF(VLOOKUP(A794,'Romaneio da Carga'!E:E,1,0)=BD!A794,\"Volume Ok\",\"Volume não pertence a carga\")),\"Volume não pertence a carga\")","v":""}]
[null,{"$f":"IFERROR(IF(A795=\"\",\"\",IF(VLOOKUP(A795,'Romaneio da Carga'!E:E,1,0)=BD!A795,\"Volume Ok\",\"Volume não pertence a carga\")),\"Volume não pertence a carga\")","v":""}]
[null,{"$f":"IFERROR(IF(A796=\"\",\"\",IF(VLOOKUP(A796,'Romaneio da Carga'!E:E,1,0)=BD!A796,\"Volume Ok\",\"Volume não pertence a carga\")),\"Volume não pertence a carga\")","v":""}]
[null,{"$f":"IFERROR(IF(A797=\"\",\"\",IF(VLOOKUP(A797,'Romaneio da Carga'!E:E,1,0)=BD!A797,\"Volume Ok\",\"Volume não pertence a carga\")),\"Volume não pertence a carga\")","v":""}]
[null,{"$f":"IFERROR(IF(A798=\"\",\"\",IF(VLOOKUP(A798,'Romaneio da Carga'!E:E,1,0)=BD!A798,\"Volume Ok\",\"Volume não pertence a carga\")),\"Volume não pertence a carga\")","v":""}]
[null,{"$f":"IFERROR(IF(A799=\"\",\"\",IF(VLOOKUP(A799,'Romaneio da Carga'!E:E,1,0)=BD!A799,\"Volume Ok\",\"Volume não pertence a carga\")),\"Volume não pertence a carga\")","v":""}]
[null,{"$f":"IFERROR(IF(A800=\"\",\"\",IF(VLOOKUP(A800,'Romaneio da Carga'!E:E,1,0)=BD!A800,\"Volume Ok\",\"Volume não pertence a carga\")),\"Volume não pertence a carga\")","v":""}]
[null,{"$f":"IFERROR(IF(A801=\"\",\"\",IF(VLOOKUP(A801,'Romaneio da Carga'!E:E,1,0)=BD!A801,\"Volume Ok\",\"Volume não pertence a carga\")),\"Volume não pertence a carga\")","v":""}]
[null,{"$f":"IFERROR(IF(A802=\"\",\"\",IF(VLOOKUP(A802,'Romaneio da Carga'!E:E,1,0)=BD!A802,\"Volume Ok\",\"Volume não pertence a carga\")),\"Volume não pertence a carga\")","v":""}]
[null,{"$f":"IFERROR(IF(A803=\"\",\"\",IF(VLOOKUP(A803,'Romaneio da Carga'!E:E,1,0)=BD!A803,\"Volume Ok\",\"Volume não pertence a carga\")),\"Volume não pertence a carga\")","v":""}]
[null,{"$f":"IFERROR(IF(A804=\"\",\"\",IF(VLOOKUP(A804,'Romaneio da Carga'!E:E,1,0)=BD!A804,\"Volume Ok\",\"Volume não pertence a carga\")),\"Volume não pertence a carga\")","v":""}]
[null,{"$f":"IFERROR(IF(A805=\"\",\"\",IF(VLOOKUP(A805,'Romaneio da Carga'!E:E,1,0)=BD!A805,\"Volume Ok\",\"Volume não pertence a carga\")),\"Volume não pertence a carga\")","v":""}]
[null,{"$f":"IFERROR(IF(A806=\"\",\"\",IF(VLOOKUP(A806,'Romaneio da Carga'!E:E,1,0)=BD!A806,\"Volume Ok\",\"Volume não pertence a carga\")),\"Volume não pertence a carga\")","v":""}]
[null,{"$f":"IFERROR(IF(A807=\"\",\"\",IF(VLOOKUP(A807,'Romaneio da Carga'!E:E,1,0)=BD!A807,\"Volume Ok\",\"Volume não pertence a carga\")),\"Volume não pertence a carga\")","v":""}]
[null,{"$f":"IFERROR(IF(A808=\"\",\"\",IF(VLOOKUP(A808,'Romaneio da Carga'!E:E,1,0)=BD!A808,\"Volume Ok\",\"Volume não pertence a carga\")),\"Volume não pertence a carga\")","v":""}]
[null,{"$f":"IFERROR(IF(A809=\"\",\"\",IF(VLOOKUP(A809,'Romaneio da Carga'!E:E,1,0)=BD!A809,\"Volume Ok\",\"Volume não pertence a carga\")),\"Volume não pertence a carga\")","v":""}]
[null,{"$f":"IFERROR(IF(A810=\"\",\"\",IF(VLOOKUP(A810,'Romaneio da Carga'!E:E,1,0)=BD!A810,\"Volume Ok\",\"Volume não pertence a carga\")),\"Volume não pertence a carga\")","v":""}]
[null,{"$f":"IFERROR(IF(A811=\"\",\"\",IF(VLOOKUP(A811,'Romaneio da Carga'!E:E,1,0)=BD!A811,\"Volume Ok\",\"Volume não pertence a carga\")),\"Volume não pertence a carga\")","v":""}]
[null,{"$f":"IFERROR(IF(A812=\"\",\"\",IF(VLOOKUP(A812,'Romaneio da Carga'!E:E,1,0)=BD!A812,\"Volume Ok\",\"Volume não pertence a carga\")),\"Volume não pertence a carga\")","v":""}]
[null,{"$f":"IFERROR(IF(A813=\"\",\"\",IF(VLOOKUP(A813,'Romaneio da Carga'!E:E,1,0)=BD!A813,\"Volume Ok\",\"Volume não pertence a carga\")),\"Volume não pertence a carga\")","v":""}]
[null,{"$f":"IFERROR(IF(A814=\"\",\"\",IF(VLOOKUP(A814,'Romaneio da Carga'!E:E,1,0)=BD!A814,\"Volume Ok\",\"Volume não pertence a carga\")),\"Volume não pertence a carga\")","v":""}]
[null,{"$f":"IFERROR(IF(A815=\"\",\"\",IF(VLOOKUP(A815,'Romaneio da Carga'!E:E,1,0)=BD!A815,\"Volume Ok\",\"Volume não pertence a carga\")),\"Volume não pertence a carga\")","v":""}]
[null,{"$f":"IFERROR(IF(A816=\"\",\"\",IF(VLOOKUP(A816,'Romaneio da Carga'!E:E,1,0)=BD!A816,\"Volume Ok\",\"Volume não pertence a carga\")),\"Volume não pertence a carga\")","v":""}]
[null,{"$f":"IFERROR(IF(A817=\"\",\"\",IF(VLOOKUP(A817,'Romaneio da Carga'!E:E,1,0)=BD!A817,\"Volume Ok\",\"Volume não pertence a carga\")),\"Volume não pertence a carga\")","v":""}]
[null,{"$f":"IFERROR(IF(A818=\"\",\"\",IF(VLOOKUP(A818,'Romaneio da Carga'!E:E,1,0)=BD!A818,\"Volume Ok\",\"Volume não pertence a carga\")),\"Volume não pertence a carga\")","v":""}]
[null,{"$f":"IFERROR(IF(A819=\"\",\"\",IF(VLOOKUP(A819,'Romaneio da Carga'!E:E,1,0)=BD!A819,\"Volume Ok\",\"Volume não pertence a carga\")),\"Volume não pertence a carga\")","v":""}]
[null,{"$f":"IFERROR(IF(A820=\"\",\"\",IF(VLOOKUP(A820,'Romaneio da Carga'!E:E,1,0)=BD!A820,\"Volume Ok\",\"Volume não pertence a carga\")),\"Volume não pertence a carga\")","v":""}]
[null,{"$f":"IFERROR(IF(A821=\"\",\"\",IF(VLOOKUP(A821,'Romaneio da Carga'!E:E,1,0)=BD!A821,\"Volume Ok\",\"Volume não pertence a carga\")),\"Volume não pertence a carga\")","v":""}]
[null,{"$f":"IFERROR(IF(A822=\"\",\"\",IF(VLOOKUP(A822,'Romaneio da Carga'!E:E,1,0)=BD!A822,\"Volume Ok\",\"Volume não pertence a carga\")),\"Volume não pertence a carga\")","v":""}]
[null,{"$f":"IFERROR(IF(A823=\"\",\"\",IF(VLOOKUP(A823,'Romaneio da Carga'!E:E,1,0)=BD!A823,\"Volume Ok\",\"Volume não pertence a carga\")),\"Volume não pertence a carga\")","v":""}]
[null,{"$f":"IFERROR(IF(A824=\"\",\"\",IF(VLOOKUP(A824,'Romaneio da Carga'!E:E,1,0)=BD!A824,\"Volume Ok\",\"Volume não pertence a carga\")),\"Volume não pertence a carga\")","v":""}]
[null,{"$f":"IFERROR(IF(A825=\"\",\"\",IF(VLOOKUP(A825,'Romaneio da Carga'!E:E,1,0)=BD!A825,\"Volume Ok\",\"Volume não pertence a carga\")),\"Volume não pertence a carga\")","v":""}]
[null,{"$f":"IFERROR(IF(A826=\"\",\"\",IF(VLOOKUP(A826,'Romaneio da Carga'!E:E,1,0)=BD!A826,\"Volume Ok\",\"Volume não pertence a carga\")),\"Volume não pertence a carga\")","v":""}]
[null,{"$f":"IFERROR(IF(A827=\"\",\"\",IF(VLOOKUP(A827,'Romaneio da Carga'!E:E,1,0)=BD!A827,\"Volume Ok\",\"Volume não pertence a carga\")),\"Volume não pertence a carga\")","v":""}]
[null,{"$f":"IFERROR(IF(A828=\"\",\"\",IF(VLOOKUP(A828,'Romaneio da Carga'!E:E,1,0)=BD!A828,\"Volume Ok\",\"Volume não pertence a carga\")),\"Volume não pertence a carga\")","v":""}]
[null,{"$f":"IFERROR(IF(A829=\"\",\"\",IF(VLOOKUP(A829,'Romaneio da Carga'!E:E,1,0)=BD!A829,\"Volume Ok\",\"Volume não pertence a carga\")),\"Volume não pertence a carga\")","v":""}]
[null,{"$f":"IFERROR(IF(A830=\"\",\"\",IF(VLOOKUP(A830,'Romaneio da Carga'!E:E,1,0)=BD!A830,\"Volume Ok\",\"Volume não pertence a carga\")),\"Volume não pertence a carga\")","v":""}]
[null,{"$f":"IFERROR(IF(A831=\"\",\"\",IF(VLOOKUP(A831,'Romaneio da Carga'!E:E,1,0)=BD!A831,\"Volume Ok\",\"Volume não pertence a carga\")),\"Volume não pertence a carga\")","v":""}]
[null,{"$f":"IFERROR(IF(A832=\"\",\"\",IF(VLOOKUP(A832,'Romaneio da Carga'!E:E,1,0)=BD!A832,\"Volume Ok\",\"Volume não pertence a carga\")),\"Volume não pertence a carga\")","v":""}]
[null,{"$f":"IFERROR(IF(A833=\"\",\"\",IF(VLOOKUP(A833,'Romaneio da Carga'!E:E,1,0)=BD!A833,\"Volume Ok\",\"Volume não pertence a carga\")),\"Volume não pertence a carga\")","v":""}]
[null,{"$f":"IFERROR(IF(A834=\"\",\"\",IF(VLOOKUP(A834,'Romaneio da Carga'!E:E,1,0)=BD!A834,\"Volume Ok\",\"Volume não pertence a carga\")),\"Volume não pertence a carga\")","v":""}]
[null,{"$f":"IFERROR(IF(A835=\"\",\"\",IF(VLOOKUP(A835,'Romaneio da Carga'!E:E,1,0)=BD!A835,\"Volume Ok\",\"Volume não pertence a carga\")),\"Volume não pertence a carga\")","v":""}]
[null,{"$f":"IFERROR(IF(A836=\"\",\"\",IF(VLOOKUP(A836,'Romaneio da Carga'!E:E,1,0)=BD!A836,\"Volume Ok\",\"Volume não pertence a carga\")),\"Volume não pertence a carga\")","v":""}]
[null,{"$f":"IFERROR(IF(A837=\"\",\"\",IF(VLOOKUP(A837,'Romaneio da Carga'!E:E,1,0)=BD!A837,\"Volume Ok\",\"Volume não pertence a carga\")),\"Volume não pertence a carga\")","v":""}]
[null,{"$f":"IFERROR(IF(A838=\"\",\"\",IF(VLOOKUP(A838,'Romaneio da Carga'!E:E,1,0)=BD!A838,\"Volume Ok\",\"Volume não pertence a carga\")),\"Volume não pertence a carga\")","v":""}]
[null,{"$f":"IFERROR(IF(A839=\"\",\"\",IF(VLOOKUP(A839,'Romaneio da Carga'!E:E,1,0)=BD!A839,\"Volume Ok\",\"Volume não pertence a carga\")),\"Volume não pertence a carga\")","v":""}]
[null,{"$f":"IFERROR(IF(A840=\"\",\"\",IF(VLOOKUP(A840,'Romaneio da Carga'!E:E,1,0)=BD!A840,\"Volume Ok\",\"Volume não pertence a carga\")),\"Volume não pertence a carga\")","v":""}]
[null,{"$f":"IFERROR(IF(A841=\"\",\"\",IF(VLOOKUP(A841,'Romaneio da Carga'!E:E,1,0)=BD!A841,\"Volume Ok\",\"Volume não pertence a carga\")),\"Volume não pertence a carga\")","v":""}]
[null,{"$f":"IFERROR(IF(A842=\"\",\"\",IF(VLOOKUP(A842,'Romaneio da Carga'!E:E,1,0)=BD!A842,\"Volume Ok\",\"Volume não pertence a carga\")),\"Volume não pertence a carga\")","v":""}]
[null,{"$f":"IFERROR(IF(A843=\"\",\"\",IF(VLOOKUP(A843,'Romaneio da Carga'!E:E,1,0)=BD!A843,\"Volume Ok\",\"Volume não pertence a carga\")),\"Volume não pertence a carga\")","v":""}]
[null,{"$f":"IFERROR(IF(A844=\"\",\"\",IF(VLOOKUP(A844,'Romaneio da Carga'!E:E,1,0)=BD!A844,\"Volume Ok\",\"Volume não pertence a carga\")),\"Volume não pertence a carga\")","v":""}]
[null,{"$f":"IFERROR(IF(A845=\"\",\"\",IF(VLOOKUP(A845,'Romaneio da Carga'!E:E,1,0)=BD!A845,\"Volume Ok\",\"Volume não pertence a carga\")),\"Volume não pertence a carga\")","v":""}]
[null,{"$f":"IFERROR(IF(A846=\"\",\"\",IF(VLOOKUP(A846,'Romaneio da Carga'!E:E,1,0)=BD!A846,\"Volume Ok\",\"Volume não pertence a carga\")),\"Volume não pertence a carga\")","v":""}]
[null,{"$f":"IFERROR(IF(A847=\"\",\"\",IF(VLOOKUP(A847,'Romaneio da Carga'!E:E,1,0)=BD!A847,\"Volume Ok\",\"Volume não pertence a carga\")),\"Volume não pertence a carga\")","v":""}]
[null,{"$f":"IFERROR(IF(A848=\"\",\"\",IF(VLOOKUP(A848,'Romaneio da Carga'!E:E,1,0)=BD!A848,\"Volume Ok\",\"Volume não pertence a carga\")),\"Volume não pertence a carga\")","v":""}]
[null,{"$f":"IFERROR(IF(A849=\"\",\"\",IF(VLOOKUP(A849,'Romaneio da Carga'!E:E,1,0)=BD!A849,\"Volume Ok\",\"Volume não pertence a carga\")),\"Volume não pertence a carga\")","v":""}]
[null,{"$f":"IFERROR(IF(A850=\"\",\"\",IF(VLOOKUP(A850,'Romaneio da Carga'!E:E,1,0)=BD!A850,\"Volume Ok\",\"Volume não pertence a carga\")),\"Volume não pertence a carga\")","v":""}]
[null,{"$f":"IFERROR(IF(A851=\"\",\"\",IF(VLOOKUP(A851,'Romaneio da Carga'!E:E,1,0)=BD!A851,\"Volume Ok\",\"Volume não pertence a carga\")),\"Volume não pertence a carga\")","v":""}]
[null,{"$f":"IFERROR(IF(A852=\"\",\"\",IF(VLOOKUP(A852,'Romaneio da Carga'!E:E,1,0)=BD!A852,\"Volume Ok\",\"Volume não pertence a carga\")),\"Volume não pertence a carga\")","v":""}]
[null,{"$f":"IFERROR(IF(A853=\"\",\"\",IF(VLOOKUP(A853,'Romaneio da Carga'!E:E,1,0)=BD!A853,\"Volume Ok\",\"Volume não pertence a carga\")),\"Volume não pertence a carga\")","v":""}]
[null,{"$f":"IFERROR(IF(A854=\"\",\"\",IF(VLOOKUP(A854,'Romaneio da Carga'!E:E,1,0)=BD!A854,\"Volume Ok\",\"Volume não pertence a carga\")),\"Volume não pertence a carga\")","v":""}]
[null,{"$f":"IFERROR(IF(A855=\"\",\"\",IF(VLOOKUP(A855,'Romaneio da Carga'!E:E,1,0)=BD!A855,\"Volume Ok\",\"Volume não pertence a carga\")),\"Volume não pertence a carga\")","v":""}]
[null,{"$f":"IFERROR(IF(A856=\"\",\"\",IF(VLOOKUP(A856,'Romaneio da Carga'!E:E,1,0)=BD!A856,\"Volume Ok\",\"Volume não pertence a carga\")),\"Volume não pertence a carga\")","v":""}]
[null,{"$f":"IFERROR(IF(A857=\"\",\"\",IF(VLOOKUP(A857,'Romaneio da Carga'!E:E,1,0)=BD!A857,\"Volume Ok\",\"Volume não pertence a carga\")),\"Volume não pertence a carga\")","v":""}]
[null,{"$f":"IFERROR(IF(A858=\"\",\"\",IF(VLOOKUP(A858,'Romaneio da Carga'!E:E,1,0)=BD!A858,\"Volume Ok\",\"Volume não pertence a carga\")),\"Volume não pertence a carga\")","v":""}]
[null,{"$f":"IFERROR(IF(A859=\"\",\"\",IF(VLOOKUP(A859,'Romaneio da Carga'!E:E,1,0)=BD!A859,\"Volume Ok\",\"Volume não pertence a carga\")),\"Volume não pertence a carga\")","v":""}]
[null,{"$f":"IFERROR(IF(A860=\"\",\"\",IF(VLOOKUP(A860,'Romaneio da Carga'!E:E,1,0)=BD!A860,\"Volume Ok\",\"Volume não pertence a carga\")),\"Volume não pertence a carga\")","v":""}]
[null,{"$f":"IFERROR(IF(A861=\"\",\"\",IF(VLOOKUP(A861,'Romaneio da Carga'!E:E,1,0)=BD!A861,\"Volume Ok\",\"Volume não pertence a carga\")),\"Volume não pertence a carga\")","v":""}]
[null,{"$f":"IFERROR(IF(A862=\"\",\"\",IF(VLOOKUP(A862,'Romaneio da Carga'!E:E,1,0)=BD!A862,\"Volume Ok\",\"Volume não pertence a carga\")),\"Volume não pertence a carga\")","v":""}]
[null,{"$f":"IFERROR(IF(A863=\"\",\"\",IF(VLOOKUP(A863,'Romaneio da Carga'!E:E,1,0)=BD!A863,\"Volume Ok\",\"Volume não pertence a carga\")),\"Volume não pertence a carga\")","v":""}]
[null,{"$f":"IFERROR(IF(A864=\"\",\"\",IF(VLOOKUP(A864,'Romaneio da Carga'!E:E,1,0)=BD!A864,\"Volume Ok\",\"Volume não pertence a carga\")),\"Volume não pertence a carga\")","v":""}]
[null,{"$f":"IFERROR(IF(A865=\"\",\"\",IF(VLOOKUP(A865,'Romaneio da Carga'!E:E,1,0)=BD!A865,\"Volume Ok\",\"Volume não pertence a carga\")),\"Volume não pertence a carga\")","v":""}]
[null,{"$f":"IFERROR(IF(A866=\"\",\"\",IF(VLOOKUP(A866,'Romaneio da Carga'!E:E,1,0)=BD!A866,\"Volume Ok\",\"Volume não pertence a carga\")),\"Volume não pertence a carga\")","v":""}]
[null,{"$f":"IFERROR(IF(A867=\"\",\"\",IF(VLOOKUP(A867,'Romaneio da Carga'!E:E,1,0)=BD!A867,\"Volume Ok\",\"Volume não pertence a carga\")),\"Volume não pertence a carga\")","v":""}]
[null,{"$f":"IFERROR(IF(A868=\"\",\"\",IF(VLOOKUP(A868,'Romaneio da Carga'!E:E,1,0)=BD!A868,\"Volume Ok\",\"Volume não pertence a carga\")),\"Volume não pertence a carga\")","v":""}]
[null,{"$f":"IFERROR(IF(A869=\"\",\"\",IF(VLOOKUP(A869,'Romaneio da Carga'!E:E,1,0)=BD!A869,\"Volume Ok\",\"Volume não pertence a carga\")),\"Volume não pertence a carga\")","v":""}]
[null,{"$f":"IFERROR(IF(A870=\"\",\"\",IF(VLOOKUP(A870,'Romaneio da Carga'!E:E,1,0)=BD!A870,\"Volume Ok\",\"Volume não pertence a carga\")),\"Volume não pertence a carga\")","v":""}]
[null,{"$f":"IFERROR(IF(A871=\"\",\"\",IF(VLOOKUP(A871,'Romaneio da Carga'!E:E,1,0)=BD!A871,\"Volume Ok\",\"Volume não pertence a carga\")),\"Volume não pertence a carga\")","v":""}]
[null,{"$f":"IFERROR(IF(A872=\"\",\"\",IF(VLOOKUP(A872,'Romaneio da Carga'!E:E,1,0)=BD!A872,\"Volume Ok\",\"Volume não pertence a carga\")),\"Volume não pertence a carga\")","v":""}]
[null,{"$f":"IFERROR(IF(A873=\"\",\"\",IF(VLOOKUP(A873,'Romaneio da Carga'!E:E,1,0)=BD!A873,\"Volume Ok\",\"Volume não pertence a carga\")),\"Volume não pertence a carga\")","v":""}]
[null,{"$f":"IFERROR(IF(A874=\"\",\"\",IF(VLOOKUP(A874,'Romaneio da Carga'!E:E,1,0)=BD!A874,\"Volume Ok\",\"Volume não pertence a carga\")),\"Volume não pertence a carga\")","v":""}]
[null,{"$f":"IFERROR(IF(A875=\"\",\"\",IF(VLOOKUP(A875,'Romaneio da Carga'!E:E,1,0)=BD!A875,\"Volume Ok\",\"Volume não pertence a carga\")),\"Volume não pertence a carga\")","v":""}]
[null,{"$f":"IFERROR(IF(A876=\"\",\"\",IF(VLOOKUP(A876,'Romaneio da Carga'!E:E,1,0)=BD!A876,\"Volume Ok\",\"Volume não pertence a carga\")),\"Volume não pertence a carga\")","v":""}]
[null,{"$f":"IFERROR(IF(A877=\"\",\"\",IF(VLOOKUP(A877,'Romaneio da Carga'!E:E,1,0)=BD!A877,\"Volume Ok\",\"Volume não pertence a carga\")),\"Volume não pertence a carga\")","v":""}]
[null,{"$f":"IFERROR(IF(A878=\"\",\"\",IF(VLOOKUP(A878,'Romaneio da Carga'!E:E,1,0)=BD!A878,\"Volume Ok\",\"Volume não pertence a carga\")),\"Volume não pertence a carga\")","v":""}]
[null,{"$f":"IFERROR(IF(A879=\"\",\"\",IF(VLOOKUP(A879,'Romaneio da Carga'!E:E,1,0)=BD!A879,\"Volume Ok\",\"Volume não pertence a carga\")),\"Volume não pertence a carga\")","v":""}]
[null,{"$f":"IFERROR(IF(A880=\"\",\"\",IF(VLOOKUP(A880,'Romaneio da Carga'!E:E,1,0)=BD!A880,\"Volume Ok\",\"Volume não pertence a carga\")),\"Volume não pertence a carga\")","v":""}]
[null,{"$f":"IFERROR(IF(A881=\"\",\"\",IF(VLOOKUP(A881,'Romaneio da Carga'!E:E,1,0)=BD!A881,\"Volume Ok\",\"Volume não pertence a carga\")),\"Volume não pertence a carga\")","v":""}]
[null,{"$f":"IFERROR(IF(A882=\"\",\"\",IF(VLOOKUP(A882,'Romaneio da Carga'!E:E,1,0)=BD!A882,\"Volume Ok\",\"Volume não pertence a carga\")),\"Volume não pertence a carga\")","v":""}]
[null,{"$f":"IFERROR(IF(A883=\"\",\"\",IF(VLOOKUP(A883,'Romaneio da Carga'!E:E,1,0)=BD!A883,\"Volume Ok\",\"Volume não pertence a carga\")),\"Volume não pertence a carga\")","v":""}]
[null,{"$f":"IFERROR(IF(A884=\"\",\"\",IF(VLOOKUP(A884,'Romaneio da Carga'!E:E,1,0)=BD!A884,\"Volume Ok\",\"Volume não pertence a carga\")),\"Volume não pertence a carga\")","v":""}]
[null,{"$f":"IFERROR(IF(A885=\"\",\"\",IF(VLOOKUP(A885,'Romaneio da Carga'!E:E,1,0)=BD!A885,\"Volume Ok\",\"Volume não pertence a carga\")),\"Volume não pertence a carga\")","v":""}]
[null,{"$f":"IFERROR(IF(A886=\"\",\"\",IF(VLOOKUP(A886,'Romaneio da Carga'!E:E,1,0)=BD!A886,\"Volume Ok\",\"Volume não pertence a carga\")),\"Volume não pertence a carga\")","v":""}]
[null,{"$f":"IFERROR(IF(A887=\"\",\"\",IF(VLOOKUP(A887,'Romaneio da Carga'!E:E,1,0)=BD!A887,\"Volume Ok\",\"Volume não pertence a carga\")),\"Volume não pertence a carga\")","v":""}]
[null,{"$f":"IFERROR(IF(A888=\"\",\"\",IF(VLOOKUP(A888,'Romaneio da Carga'!E:E,1,0)=BD!A888,\"Volume Ok\",\"Volume não pertence a carga\")),\"Volume não pertence a carga\")","v":""}]
[null,{"$f":"IFERROR(IF(A889=\"\",\"\",IF(VLOOKUP(A889,'Romaneio da Carga'!E:E,1,0)=BD!A889,\"Volume Ok\",\"Volume não pertence a carga\")),\"Volume não pertence a carga\")","v":""}]
[null,{"$f":"IFERROR(IF(A890=\"\",\"\",IF(VLOOKUP(A890,'Romaneio da Carga'!E:E,1,0)=BD!A890,\"Volume Ok\",\"Volume não pertence a carga\")),\"Volume não pertence a carga\")","v":""}]
[null,{"$f":"IFERROR(IF(A891=\"\",\"\",IF(VLOOKUP(A891,'Romaneio da Carga'!E:E,1,0)=BD!A891,\"Volume Ok\",\"Volume não pertence a carga\")),\"Volume não pertence a carga\")","v":""}]
[null,{"$f":"IFERROR(IF(A892=\"\",\"\",IF(VLOOKUP(A892,'Romaneio da Carga'!E:E,1,0)=BD!A892,\"Volume Ok\",\"Volume não pertence a carga\")),\"Volume não pertence a carga\")","v":""}]
[null,{"$f":"IFERROR(IF(A893=\"\",\"\",IF(VLOOKUP(A893,'Romaneio da Carga'!E:E,1,0)=BD!A893,\"Volume Ok\",\"Volume não pertence a carga\")),\"Volume não pertence a carga\")","v":""}]
[null,{"$f":"IFERROR(IF(A894=\"\",\"\",IF(VLOOKUP(A894,'Romaneio da Carga'!E:E,1,0)=BD!A894,\"Volume Ok\",\"Volume não pertence a carga\")),\"Volume não pertence a carga\")","v":""}]
[null,{"$f":"IFERROR(IF(A895=\"\",\"\",IF(VLOOKUP(A895,'Romaneio da Carga'!E:E,1,0)=BD!A895,\"Volume Ok\",\"Volume não pertence a carga\")),\"Volume não pertence a carga\")","v":""}]
[null,{"$f":"IFERROR(IF(A896=\"\",\"\",IF(VLOOKUP(A896,'Romaneio da Carga'!E:E,1,0)=BD!A896,\"Volume Ok\",\"Volume não pertence a carga\")),\"Volume não pertence a carga\")","v":""}]
[null,{"$f":"IFERROR(IF(A897=\"\",\"\",IF(VLOOKUP(A897,'Romaneio da Carga'!E:E,1,0)=BD!A897,\"Volume Ok\",\"Volume não pertence a carga\")),\"Volume não pertence a carga\")","v":""}]
[null,{"$f":"IFERROR(IF(A898=\"\",\"\",IF(VLOOKUP(A898,'Romaneio da Carga'!E:E,1,0)=BD!A898,\"Volume Ok\",\"Volume não pertence a carga\")),\"Volume não pertence a carga\")","v":""}]
[null,{"$f":"IFERROR(IF(A899=\"\",\"\",IF(VLOOKUP(A899,'Romaneio da Carga'!E:E,1,0)=BD!A899,\"Volume Ok\",\"Volume não pertence a carga\")),\"Volume não pertence a carga\")","v":""}]
[null,{"$f":"IFERROR(IF(A900=\"\",\"\",IF(VLOOKUP(A900,'Romaneio da Carga'!E:E,1,0)=BD!A900,\"Volume Ok\",\"Volume não pertence a carga\")),\"Volume não pertence a carga\")","v":""}]
[null,{"$f":"IFERROR(IF(A901=\"\",\"\",IF(VLOOKUP(A901,'Romaneio da Carga'!E:E,1,0)=BD!A901,\"Volume Ok\",\"Volume não pertence a carga\")),\"Volume não pertence a carga\")","v":""}]
[null,{"$f":"IFERROR(IF(A902=\"\",\"\",IF(VLOOKUP(A902,'Romaneio da Carga'!E:E,1,0)=BD!A902,\"Volume Ok\",\"Volume não pertence a carga\")),\"Volume não pertence a carga\")","v":""}]
[null,{"$f":"IFERROR(IF(A903=\"\",\"\",IF(VLOOKUP(A903,'Romaneio da Carga'!E:E,1,0)=BD!A903,\"Volume Ok\",\"Volume não pertence a carga\")),\"Volume não pertence a carga\")","v":""}]
[null,{"$f":"IFERROR(IF(A904=\"\",\"\",IF(VLOOKUP(A904,'Romaneio da Carga'!E:E,1,0)=BD!A904,\"Volume Ok\",\"Volume não pertence a carga\")),\"Volume não pertence a carga\")","v":""}]
[null,{"$f":"IFERROR(IF(A905=\"\",\"\",IF(VLOOKUP(A905,'Romaneio da Carga'!E:E,1,0)=BD!A905,\"Volume Ok\",\"Volume não pertence a carga\")),\"Volume não pertence a carga\")","v":""}]
[null,{"$f":"IFERROR(IF(A906=\"\",\"\",IF(VLOOKUP(A906,'Romaneio da Carga'!E:E,1,0)=BD!A906,\"Volume Ok\",\"Volume não pertence a carga\")),\"Volume não pertence a carga\")","v":""}]
[null,{"$f":"IFERROR(IF(A907=\"\",\"\",IF(VLOOKUP(A907,'Romaneio da Carga'!E:E,1,0)=BD!A907,\"Volume Ok\",\"Volume não pertence a carga\")),\"Volume não pertence a carga\")","v":""}]
[null,{"$f":"IFERROR(IF(A908=\"\",\"\",IF(VLOOKUP(A908,'Romaneio da Carga'!E:E,1,0)=BD!A908,\"Volume Ok\",\"Volume não pertence a carga\")),\"Volume não pertence a carga\")","v":""}]
[null,{"$f":"IFERROR(IF(A909=\"\",\"\",IF(VLOOKUP(A909,'Romaneio da Carga'!E:E,1,0)=BD!A909,\"Volume Ok\",\"Volume não pertence a carga\")),\"Volume não pertence a carga\")","v":""}]
[null,{"$f":"IFERROR(IF(A910=\"\",\"\",IF(VLOOKUP(A910,'Romaneio da Carga'!E:E,1,0)=BD!A910,\"Volume Ok\",\"Volume não pertence a carga\")),\"Volume não pertence a carga\")","v":""}]
[null,{"$f":"IFERROR(IF(A911=\"\",\"\",IF(VLOOKUP(A911,'Romaneio da Carga'!E:E,1,0)=BD!A911,\"Volume Ok\",\"Volume não pertence a carga\")),\"Volume não pertence a carga\")","v":""}]
[null,{"$f":"IFERROR(IF(A912=\"\",\"\",IF(VLOOKUP(A912,'Romaneio da Carga'!E:E,1,0)=BD!A912,\"Volume Ok\",\"Volume não pertence a carga\")),\"Volume não pertence a carga\")","v":""}]
[null,{"$f":"IFERROR(IF(A913=\"\",\"\",IF(VLOOKUP(A913,'Romaneio da Carga'!E:E,1,0)=BD!A913,\"Volume Ok\",\"Volume não pertence a carga\")),\"Volume não pertence a carga\")","v":""}]
[null,{"$f":"IFERROR(IF(A914=\"\",\"\",IF(VLOOKUP(A914,'Romaneio da Carga'!E:E,1,0)=BD!A914,\"Volume Ok\",\"Volume não pertence a carga\")),\"Volume não pertence a carga\")","v":""}]
[null,{"$f":"IFERROR(IF(A915=\"\",\"\",IF(VLOOKUP(A915,'Romaneio da Carga'!E:E,1,0)=BD!A915,\"Volume Ok\",\"Volume não pertence a carga\")),\"Volume não pertence a carga\")","v":""}]
[null,{"$f":"IFERROR(IF(A916=\"\",\"\",IF(VLOOKUP(A916,'Romaneio da Carga'!E:E,1,0)=BD!A916,\"Volume Ok\",\"Volume não pertence a carga\")),\"Volume não pertence a carga\")","v":""}]
[null,{"$f":"IFERROR(IF(A917=\"\",\"\",IF(VLOOKUP(A917,'Romaneio da Carga'!E:E,1,0)=BD!A917,\"Volume Ok\",\"Volume não pertence a carga\")),\"Volume não pertence a carga\")","v":""}]
[null,{"$f":"IFERROR(IF(A918=\"\",\"\",IF(VLOOKUP(A918,'Romaneio da Carga'!E:E,1,0)=BD!A918,\"Volume Ok\",\"Volume não pertence a carga\")),\"Volume não pertence a carga\")","v":""}]
[null,{"$f":"IFERROR(IF(A919=\"\",\"\",IF(VLOOKUP(A919,'Romaneio da Carga'!E:E,1,0)=BD!A919,\"Volume Ok\",\"Volume não pertence a carga\")),\"Volume não pertence a carga\")","v":""}]
[null,{"$f":"IFERROR(IF(A920=\"\",\"\",IF(VLOOKUP(A920,'Romaneio da Carga'!E:E,1,0)=BD!A920,\"Volume Ok\",\"Volume não pertence a carga\")),\"Volume não pertence a carga\")","v":""}]
[null,{"$f":"IFERROR(IF(A921=\"\",\"\",IF(VLOOKUP(A921,'Romaneio da Carga'!E:E,1,0)=BD!A921,\"Volume Ok\",\"Volume não pertence a carga\")),\"Volume não pertence a carga\")","v":""}]
[null,{"$f":"IFERROR(IF(A922=\"\",\"\",IF(VLOOKUP(A922,'Romaneio da Carga'!E:E,1,0)=BD!A922,\"Volume Ok\",\"Volume não pertence a carga\")),\"Volume não pertence a carga\")","v":""}]
[null,{"$f":"IFERROR(IF(A923=\"\",\"\",IF(VLOOKUP(A923,'Romaneio da Carga'!E:E,1,0)=BD!A923,\"Volume Ok\",\"Volume não pertence a carga\")),\"Volume não pertence a carga\")","v":""}]
[null,{"$f":"IFERROR(IF(A924=\"\",\"\",IF(VLOOKUP(A924,'Romaneio da Carga'!E:E,1,0)=BD!A924,\"Volume Ok\",\"Volume não pertence a carga\")),\"Volume não pertence a carga\")","v":""}]
[null,{"$f":"IFERROR(IF(A925=\"\",\"\",IF(VLOOKUP(A925,'Romaneio da Carga'!E:E,1,0)=BD!A925,\"Volume Ok\",\"Volume não pertence a carga\")),\"Volume não pertence a carga\")","v":""}]
[null,{"$f":"IFERROR(IF(A926=\"\",\"\",IF(VLOOKUP(A926,'Romaneio da Carga'!E:E,1,0)=BD!A926,\"Volume Ok\",\"Volume não pertence a carga\")),\"Volume não pertence a carga\")","v":""}]
[null,{"$f":"IFERROR(IF(A927=\"\",\"\",IF(VLOOKUP(A927,'Romaneio da Carga'!E:E,1,0)=BD!A927,\"Volume Ok\",\"Volume não pertence a carga\")),\"Volume não pertence a carga\")","v":""}]
[null,{"$f":"IFERROR(IF(A928=\"\",\"\",IF(VLOOKUP(A928,'Romaneio da Carga'!E:E,1,0)=BD!A928,\"Volume Ok\",\"Volume não pertence a carga\")),\"Volume não pertence a carga\")","v":""}]
[null,{"$f":"IFERROR(IF(A929=\"\",\"\",IF(VLOOKUP(A929,'Romaneio da Carga'!E:E,1,0)=BD!A929,\"Volume Ok\",\"Volume não pertence a carga\")),\"Volume não pertence a carga\")","v":""}]
[null,{"$f":"IFERROR(IF(A930=\"\",\"\",IF(VLOOKUP(A930,'Romaneio da Carga'!E:E,1,0)=BD!A930,\"Volume Ok\",\"Volume não pertence a carga\")),\"Volume não pertence a carga\")","v":""}]
[null,{"$f":"IFERROR(IF(A931=\"\",\"\",IF(VLOOKUP(A931,'Romaneio da Carga'!E:E,1,0)=BD!A931,\"Volume Ok\",\"Volume não pertence a carga\")),\"Volume não pertence a carga\")","v":""}]
[null,{"$f":"IFERROR(IF(A932=\"\",\"\",IF(VLOOKUP(A932,'Romaneio da Carga'!E:E,1,0)=BD!A932,\"Volume Ok\",\"Volume não pertence a carga\")),\"Volume não pertence a carga\")","v":""}]
[null,{"$f":"IFERROR(IF(A933=\"\",\"\",IF(VLOOKUP(A933,'Romaneio da Carga'!E:E,1,0)=BD!A933,\"Volume Ok\",\"Volume não pertence a carga\")),\"Volume não pertence a carga\")","v":""}]
[null,{"$f":"IFERROR(IF(A934=\"\",\"\",IF(VLOOKUP(A934,'Romaneio da Carga'!E:E,1,0)=BD!A934,\"Volume Ok\",\"Volume não pertence a carga\")),\"Volume não pertence a carga\")","v":""}]
[null,{"$f":"IFERROR(IF(A935=\"\",\"\",IF(VLOOKUP(A935,'Romaneio da Carga'!E:E,1,0)=BD!A935,\"Volume Ok\",\"Volume não pertence a carga\")),\"Volume não pertence a carga\")","v":""}]
[null,{"$f":"IFERROR(IF(A936=\"\",\"\",IF(VLOOKUP(A936,'Romaneio da Carga'!E:E,1,0)=BD!A936,\"Volume Ok\",\"Volume não pertence a carga\")),\"Volume não pertence a carga\")","v":""}]
[null,{"$f":"IFERROR(IF(A937=\"\",\"\",IF(VLOOKUP(A937,'Romaneio da Carga'!E:E,1,0)=BD!A937,\"Volume Ok\",\"Volume não pertence a carga\")),\"Volume não pertence a carga\")","v":""}]
[null,{"$f":"IFERROR(IF(A938=\"\",\"\",IF(VLOOKUP(A938,'Romaneio da Carga'!E:E,1,0)=BD!A938,\"Volume Ok\",\"Volume não pertence a carga\")),\"Volume não pertence a carga\")","v":""}]
[null,{"$f":"IFERROR(IF(A939=\"\",\"\",IF(VLOOKUP(A939,'Romaneio da Carga'!E:E,1,0)=BD!A939,\"Volume Ok\",\"Volume não pertence a carga\")),\"Volume não pertence a carga\")","v":""}]
[null,{"$f":"IFERROR(IF(A940=\"\",\"\",IF(VLOOKUP(A940,'Romaneio da Carga'!E:E,1,0)=BD!A940,\"Volume Ok\",\"Volume não pertence a carga\")),\"Volume não pertence a carga\")","v":""}]
[null,{"$f":"IFERROR(IF(A941=\"\",\"\",IF(VLOOKUP(A941,'Romaneio da Carga'!E:E,1,0)=BD!A941,\"Volume Ok\",\"Volume não pertence a carga\")),\"Volume não pertence a carga\")","v":""}]
[null,{"$f":"IFERROR(IF(A942=\"\",\"\",IF(VLOOKUP(A942,'Romaneio da Carga'!E:E,1,0)=BD!A942,\"Volume Ok\",\"Volume não pertence a carga\")),\"Volume não pertence a carga\")","v":""}]
[null,{"$f":"IFERROR(IF(A943=\"\",\"\",IF(VLOOKUP(A943,'Romaneio da Carga'!E:E,1,0)=BD!A943,\"Volume Ok\",\"Volume não pertence a carga\")),\"Volume não pertence a carga\")","v":""}]
[null,{"$f":"IFERROR(IF(A944=\"\",\"\",IF(VLOOKUP(A944,'Romaneio da Carga'!E:E,1,0)=BD!A944,\"Volume Ok\",\"Volume não pertence a carga\")),\"Volume não pertence a carga\")","v":""}]
[null,{"$f":"IFERROR(IF(A945=\"\",\"\",IF(VLOOKUP(A945,'Romaneio da Carga'!E:E,1,0)=BD!A945,\"Volume Ok\",\"Volume não pertence a carga\")),\"Volume não pertence a carga\")","v":""}]
[null,{"$f":"IFERROR(IF(A946=\"\",\"\",IF(VLOOKUP(A946,'Romaneio da Carga'!E:E,1,0)=BD!A946,\"Volume Ok\",\"Volume não pertence a carga\")),\"Volume não pertence a carga\")","v":""}]
[null,{"$f":"IFERROR(IF(A947=\"\",\"\",IF(VLOOKUP(A947,'Romaneio da Carga'!E:E,1,0)=BD!A947,\"Volume Ok\",\"Volume não pertence a carga\")),\"Volume não pertence a carga\")","v":""}]
[null,{"$f":"IFERROR(IF(A948=\"\",\"\",IF(VLOOKUP(A948,'Romaneio da Carga'!E:E,1,0)=BD!A948,\"Volume Ok\",\"Volume não pertence a carga\")),\"Volume não pertence a carga\")","v":""}]
[null,{"$f":"IFERROR(IF(A949=\"\",\"\",IF(VLOOKUP(A949,'Romaneio da Carga'!E:E,1,0)=BD!A949,\"Volume Ok\",\"Volume não pertence a carga\")),\"Volume não pertence a carga\")","v":""}]
[null,{"$f":"IFERROR(IF(A950=\"\",\"\",IF(VLOOKUP(A950,'Romaneio da Carga'!E:E,1,0)=BD!A950,\"Volume Ok\",\"Volume não pertence a carga\")),\"Volume não pertence a carga\")","v":""}]
[null,{"$f":"IFERROR(IF(A951=\"\",\"\",IF(VLOOKUP(A951,'Romaneio da Carga'!E:E,1,0)=BD!A951,\"Volume Ok\",\"Volume não pertence a carga\")),\"Volume não pertence a carga\")","v":""}]
[null,{"$f":"IFERROR(IF(A952=\"\",\"\",IF(VLOOKUP(A952,'Romaneio da Carga'!E:E,1,0)=BD!A952,\"Volume Ok\",\"Volume não pertence a carga\")),\"Volume não pertence a carga\")","v":""}]
[null,{"$f":"IFERROR(IF(A953=\"\",\"\",IF(VLOOKUP(A953,'Romaneio da Carga'!E:E,1,0)=BD!A953,\"Volume Ok\",\"Volume não pertence a carga\")),\"Volume não pertence a carga\")","v":""}]
[null,{"$f":"IFERROR(IF(A954=\"\",\"\",IF(VLOOKUP(A954,'Romaneio da Carga'!E:E,1,0)=BD!A954,\"Volume Ok\",\"Volume não pertence a carga\")),\"Volume não pertence a carga\")","v":""}]
[null,{"$f":"IFERROR(IF(A955=\"\",\"\",IF(VLOOKUP(A955,'Romaneio da Carga'!E:E,1,0)=BD!A955,\"Volume Ok\",\"Volume não pertence a carga\")),\"Volume não pertence a carga\")","v":""}]
[null,{"$f":"IFERROR(IF(A956=\"\",\"\",IF(VLOOKUP(A956,'Romaneio da Carga'!E:E,1,0)=BD!A956,\"Volume Ok\",\"Volume não pertence a carga\")),\"Volume não pertence a carga\")","v":""}]
[null,{"$f":"IFERROR(IF(A957=\"\",\"\",IF(VLOOKUP(A957,'Romaneio da Carga'!E:E,1,0)=BD!A957,\"Volume Ok\",\"Volume não pertence a carga\")),\"Volume não pertence a carga\")","v":""}]
[null,{"$f":"IFERROR(IF(A958=\"\",\"\",IF(VLOOKUP(A958,'Romaneio da Carga'!E:E,1,0)=BD!A958,\"Volume Ok\",\"Volume não pertence a carga\")),\"Volume não pertence a carga\")","v":""}]
[null,{"$f":"IFERROR(IF(A959=\"\",\"\",IF(VLOOKUP(A959,'Romaneio da Carga'!E:E,1,0)=BD!A959,\"Volume Ok\",\"Volume não pertence a carga\")),\"Volume não pertence a carga\")","v":""}]
[null,{"$f":"IFERROR(IF(A960=\"\",\"\",IF(VLOOKUP(A960,'Romaneio da Carga'!E:E,1,0)=BD!A960,\"Volume Ok\",\"Volume não pertence a carga\")),\"Volume não pertence a carga\")","v":""}]
[null,{"$f":"IFERROR(IF(A961=\"\",\"\",IF(VLOOKUP(A961,'Romaneio da Carga'!E:E,1,0)=BD!A961,\"Volume Ok\",\"Volume não pertence a carga\")),\"Volume não pertence a carga\")","v":""}]
[null,{"$f":"IFERROR(IF(A962=\"\",\"\",IF(VLOOKUP(A962,'Romaneio da Carga'!E:E,1,0)=BD!A962,\"Volume Ok\",\"Volume não pertence a carga\")),\"Volume não pertence a carga\")","v":""}]
[null,{"$f":"IFERROR(IF(A963=\"\",\"\",IF(VLOOKUP(A963,'Romaneio da Carga'!E:E,1,0)=BD!A963,\"Volume Ok\",\"Volume não pertence a carga\")),\"Volume não pertence a carga\")","v":""}]
[null,{"$f":"IFERROR(IF(A964=\"\",\"\",IF(VLOOKUP(A964,'Romaneio da Carga'!E:E,1,0)=BD!A964,\"Volume Ok\",\"Volume não pertence a carga\")),\"Volume não pertence a carga\")","v":""}]
[null,{"$f":"IFERROR(IF(A965=\"\",\"\",IF(VLOOKUP(A965,'Romaneio da Carga'!E:E,1,0)=BD!A965,\"Volume Ok\",\"Volume não pertence a carga\")),\"Volume não pertence a carga\")","v":""}]
[null,{"$f":"IFERROR(IF(A966=\"\",\"\",IF(VLOOKUP(A966,'Romaneio da Carga'!E:E,1,0)=BD!A966,\"Volume Ok\",\"Volume não pertence a carga\")),\"Volume não pertence a carga\")","v":""}]
[null,{"$f":"IFERROR(IF(A967=\"\",\"\",IF(VLOOKUP(A967,'Romaneio da Carga'!E:E,1,0)=BD!A967,\"Volume Ok\",\"Volume não pertence a carga\")),\"Volume não pertence a carga\")","v":""}]
[null,{"$f":"IFERROR(IF(A968=\"\",\"\",IF(VLOOKUP(A968,'Romaneio da Carga'!E:E,1,0)=BD!A968,\"Volume Ok\",\"Volume não pertence a carga\")),\"Volume não pertence a carga\")","v":""}]
[null,{"$f":"IFERROR(IF(A969=\"\",\"\",IF(VLOOKUP(A969,'Romaneio da Carga'!E:E,1,0)=BD!A969,\"Volume Ok\",\"Volume não pertence a carga\")),\"Volume não pertence a carga\")","v":""}]
[null,{"$f":"IFERROR(IF(A970=\"\",\"\",IF(VLOOKUP(A970,'Romaneio da Carga'!E:E,1,0)=BD!A970,\"Volume Ok\",\"Volume não pertence a carga\")),\"Volume não pertence a carga\")","v":""}]
[null,{"$f":"IFERROR(IF(A971=\"\",\"\",IF(VLOOKUP(A971,'Romaneio da Carga'!E:E,1,0)=BD!A971,\"Volume Ok\",\"Volume não pertence a carga\")),\"Volume não pertence a carga\")","v":""}]
[null,{"$f":"IFERROR(IF(A972=\"\",\"\",IF(VLOOKUP(A972,'Romaneio da Carga'!E:E,1,0)=BD!A972,\"Volume Ok\",\"Volume não pertence a carga\")),\"Volume não pertence a carga\")","v":""}]
[null,{"$f":"IFERROR(IF(A973=\"\",\"\",IF(VLOOKUP(A973,'Romaneio da Carga'!E:E,1,0)=BD!A973,\"Volume Ok\",\"Volume não pertence a carga\")),\"Volume não pertence a carga\")","v":""}]
[null,{"$f":"IFERROR(IF(A974=\"\",\"\",IF(VLOOKUP(A974,'Romaneio da Carga'!E:E,1,0)=BD!A974,\"Volume Ok\",\"Volume não pertence a carga\")),\"Volume não pertence a carga\")","v":""}]
[null,{"$f":"IFERROR(IF(A975=\"\",\"\",IF(VLOOKUP(A975,'Romaneio da Carga'!E:E,1,0)=BD!A975,\"Volume Ok\",\"Volume não pertence a carga\")),\"Volume não pertence a carga\")","v":""}]
[null,{"$f":"IFERROR(IF(A976=\"\",\"\",IF(VLOOKUP(A976,'Romaneio da Carga'!E:E,1,0)=BD!A976,\"Volume Ok\",\"Volume não pertence a carga\")),\"Volume não pertence a carga\")","v":""}]
[null,{"$f":"IFERROR(IF(A977=\"\",\"\",IF(VLOOKUP(A977,'Romaneio da Carga'!E:E,1,0)=BD!A977,\"Volume Ok\",\"Volume não pertence a carga\")),\"Volume não pertence a carga\")","v":""}]
[null,{"$f":"IFERROR(IF(A978=\"\",\"\",IF(VLOOKUP(A978,'Romaneio da Carga'!E:E,1,0)=BD!A978,\"Volume Ok\",\"Volume não pertence a carga\")),\"Volume não pertence a carga\")","v":""}]
[null,{"$f":"IFERROR(IF(A979=\"\",\"\",IF(VLOOKUP(A979,'Romaneio da Carga'!E:E,1,0)=BD!A979,\"Volume Ok\",\"Volume não pertence a carga\")),\"Volume não pertence a carga\")","v":""}]
[null,{"$f":"IFERROR(IF(A980=\"\",\"\",IF(VLOOKUP(A980,'Romaneio da Carga'!E:E,1,0)=BD!A980,\"Volume Ok\",\"Volume não pertence a carga\")),\"Volume não pertence a carga\")","v":""}]
[null,{"$f":"IFERROR(IF(A981=\"\",\"\",IF(VLOOKUP(A981,'Romaneio da Carga'!E:E,1,0)=BD!A981,\"Volume Ok\",\"Volume não pertence a carga\")),\"Volume não pertence a carga\")","v":""}]
[null,{"$f":"IFERROR(IF(A982=\"\",\"\",IF(VLOOKUP(A982,'Romaneio da Carga'!E:E,1,0)=BD!A982,\"Volume Ok\",\"Volume não pertence a carga\")),\"Volume não pertence a carga\")","v":""}]
[null,{"$f":"IFERROR(IF(A983=\"\",\"\",IF(VLOOKUP(A983,'Romaneio da Carga'!E:E,1,0)=BD!A983,\"Volume Ok\",\"Volume não pertence a carga\")),\"Volume não pertence a carga\")","v":""}]
[null,{"$f":"IFERROR(IF(A984=\"\",\"\",IF(VLOOKUP(A984,'Romaneio da Carga'!E:E,1,0)=BD!A984,\"Volume Ok\",\"Volume não pertence a carga\")),\"Volume não pertence a carga\")","v":""}]
[null,{"$f":"IFERROR(IF(A985=\"\",\"\",IF(VLOOKUP(A985,'Romaneio da Carga'!E:E,1,0)=BD!A985,\"Volume Ok\",\"Volume não pertence a carga\")),\"Volume não pertence a carga\")","v":""}]
[null,{"$f":"IFERROR(IF(A986=\"\",\"\",IF(VLOOKUP(A986,'Romaneio da Carga'!E:E,1,0)=BD!A986,\"Volume Ok\",\"Volume não pertence a carga\")),\"Volume não pertence a carga\")","v":""}]
[null,{"$f":"IFERROR(IF(A987=\"\",\"\",IF(VLOOKUP(A987,'Romaneio da Carga'!E:E,1,0)=BD!A987,\"Volume Ok\",\"Volume não pertence a carga\")),\"Volume não pertence a carga\")","v":""}]
[null,{"$f":"IFERROR(IF(A988=\"\",\"\",IF(VLOOKUP(A988,'Romaneio da Carga'!E:E,1,0)=BD!A988,\"Volume Ok\",\"Volume não pertence a carga\")),\"Volume não pertence a carga\")","v":""}]
[null,{"$f":"IFERROR(IF(A989=\"\",\"\",IF(VLOOKUP(A989,'Romaneio da Carga'!E:E,1,0)=BD!A989,\"Volume Ok\",\"Volume não pertence a carga\")),\"Volume não pertence a carga\")","v":""}]
[null,{"$f":"IFERROR(IF(A990=\"\",\"\",IF(VLOOKUP(A990,'Romaneio da Carga'!E:E,1,0)=BD!A990,\"Volume Ok\",\"Volume não pertence a carga\")),\"Volume não pertence a carga\")","v":""}]
[null,{"$f":"IFERROR(IF(A991=\"\",\"\",IF(VLOOKUP(A991,'Romaneio da Carga'!E:E,1,0)=BD!A991,\"Volume Ok\",\"Volume não pertence a carga\")),\"Volume não pertence a carga\")","v":""}]
[null,{"$f":"IFERROR(IF(A992=\"\",\"\",IF(VLOOKUP(A992,'Romaneio da Carga'!E:E,1,0)=BD!A992,\"Volume Ok\",\"Volume não pertence a carga\")),\"Volume não pertence a carga\")","v":""}]
[null,{"$f":"IFERROR(IF(A993=\"\",\"\",IF(VLOOKUP(A993,'Romaneio da Carga'!E:E,1,0)=BD!A993,\"Volume Ok\",\"Volume não pertence a carga\")),\"Volume não pertence a carga\")","v":""}]
[null,{"$f":"IFERROR(IF(A994=\"\",\"\",IF(VLOOKUP(A994,'Romaneio da Carga'!E:E,1,0)=BD!A994,\"Volume Ok\",\"Volume não pertence a carga\")),\"Volume não pertence a carga\")","v":""}]
[null,{"$f":"IFERROR(IF(A995=\"\",\"\",IF(VLOOKUP(A995,'Romaneio da Carga'!E:E,1,0)=BD!A995,\"Volume Ok\",\"Volume não pertence a carga\")),\"Volume não pertence a carga\")","v":""}]
[null,{"$f":"IFERROR(IF(A996=\"\",\"\",IF(VLOOKUP(A996,'Romaneio da Carga'!E:E,1,0)=BD!A996,\"Volume Ok\",\"Volume não pertence a carga\")),\"Volume não pertence a carga\")","v":""}]
[null,{"$f":"IFERROR(IF(A997=\"\",\"\",IF(VLOOKUP(A997,'Romaneio da Carga'!E:E,1,0)=BD!A997,\"Volume Ok\",\"Volume não pertence a carga\")),\"Volume não pertence a carga\")","v":""}]
[null,{"$f":"IFERROR(IF(A998=\"\",\"\",IF(VLOOKUP(A998,'Romaneio da Carga'!E:E,1,0)=BD!A998,\"Volume Ok\",\"Volume não pertence a carga\")),\"Volume não pertence a carga\")","v":""}]
[null,{"$f":"IFERROR(IF(A999=\"\",\"\",IF(VLOOKUP(A999,'Romaneio da Carga'!E:E,1,0)=BD!A999,\"Volume Ok\",\"Volume não pertence a carga\")),\"Volume não pertence a carga\")","v":""}]
[null,{"$f":"IFERROR(IF(A1000=\"\",\"\",IF(VLOOKUP(A1000,'Romaneio da Carga'!E:E,1,0)=BD!A1000,\"Volume Ok\",\"Volume não pertence a carga\")),\"Volume não pertence a carga\")","v":""}]
[null,{"$f":"IFERROR(IF(A1001=\"\",\"\",IF(VLOOKUP(A1001,'Romaneio da Carga'!E:E,1,0)=BD!A1001,\"Volume Ok\",\"Volume não pertence a carga\")),\"Volume não pertence a carga\")","v":""}]
[null,{"$f":"IFERROR(IF(A1002=\"\",\"\",IF(VLOOKUP(A1002,'Romaneio da Carga'!E:E,1,0)=BD!A1002,\"Volume Ok\",\"Volume não pertence a carga\")),\"Volume não pertence a carga\")","v":""}]
[null,{"$f":"IFERROR(IF(A1003=\"\",\"\",IF(VLOOKUP(A1003,'Romaneio da Carga'!E:E,1,0)=BD!A1003,\"Volume Ok\",\"Volume não pertence a carga\")),\"Volume não pertence a carga\")","v":""}]
[null,{"$f":"IFERROR(IF(A1004=\"\",\"\",IF(VLOOKUP(A1004,'Romaneio da Carga'!E:E,1,0)=BD!A1004,\"Volume Ok\",\"Volume não pertence a carga\")),\"Volume não pertence a carga\")","v":""}]
[null,{"$f":"IFERROR(IF(A1005=\"\",\"\",IF(VLOOKUP(A1005,'Romaneio da Carga'!E:E,1,0)=BD!A1005,\"Volume Ok\",\"Volume não pertence a carga\")),\"Volume não pertence a carga\")","v":""}]
[null,{"$f":"IFERROR(IF(A1006=\"\",\"\",IF(VLOOKUP(A1006,'Romaneio da Carga'!E:E,1,0)=BD!A1006,\"Volume Ok\",\"Volume não pertence a carga\")),\"Volume não pertence a carga\")","v":""}]
[null,{"$f":"IFERROR(IF(A1007=\"\",\"\",IF(VLOOKUP(A1007,'Romaneio da Carga'!E:E,1,0)=BD!A1007,\"Volume Ok\",\"Volume não pertence a carga\")),\"Volume não pertence a carga\")","v":""}]
[null,{"$f":"IFERROR(IF(A1008=\"\",\"\",IF(VLOOKUP(A1008,'Romaneio da Carga'!E:E,1,0)=BD!A1008,\"Volume Ok\",\"Volume não pertence a carga\")),\"Volume não pertence a carga\")","v":""}]
[null,{"$f":"IFERROR(IF(A1009=\"\",\"\",IF(VLOOKUP(A1009,'Romaneio da Carga'!E:E,1,0)=BD!A1009,\"Volume Ok\",\"Volume não pertence a carga\")),\"Volume não pertence a carga\")","v":""}]
[null,{"$f":"IFERROR(IF(A1010=\"\",\"\",IF(VLOOKUP(A1010,'Romaneio da Carga'!E:E,1,0)=BD!A1010,\"Volume Ok\",\"Volume não pertence a carga\")),\"Volume não pertence a carga\")","v":""}]
[null,{"$f":"IFERROR(IF(A1011=\"\",\"\",IF(VLOOKUP(A1011,'Romaneio da Carga'!E:E,1,0)=BD!A1011,\"Volume Ok\",\"Volume não pertence a carga\")),\"Volume não pertence a carga\")","v":""}]
[null,{"$f":"IFERROR(IF(A1012=\"\",\"\",IF(VLOOKUP(A1012,'Romaneio da Carga'!E:E,1,0)=BD!A1012,\"Volume Ok\",\"Volume não pertence a carga\")),\"Volume não pertence a carga\")","v":""}]
[null,{"$f":"IFERROR(IF(A1013=\"\",\"\",IF(VLOOKUP(A1013,'Romaneio da Carga'!E:E,1,0)=BD!A1013,\"Volume Ok\",\"Volume não pertence a carga\")),\"Volume não pertence a carga\")","v":""}]
[null,{"$f":"IFERROR(IF(A1014=\"\",\"\",IF(VLOOKUP(A1014,'Romaneio da Carga'!E:E,1,0)=BD!A1014,\"Volume Ok\",\"Volume não pertence a carga\")),\"Volume não pertence a carga\")","v":""}]
[null,{"$f":"IFERROR(IF(A1015=\"\",\"\",IF(VLOOKUP(A1015,'Romaneio da Carga'!E:E,1,0)=BD!A1015,\"Volume Ok\",\"Volume não pertence a carga\")),\"Volume não pertence a carga\")","v":""}]
[null,{"$f":"IFERROR(IF(A1016=\"\",\"\",IF(VLOOKUP(A1016,'Romaneio da Carga'!E:E,1,0)=BD!A1016,\"Volume Ok\",\"Volume não pertence a carga\")),\"Volume não pertence a carga\")","v":""}]
[null,{"$f":"IFERROR(IF(A1017=\"\",\"\",IF(VLOOKUP(A1017,'Romaneio da Carga'!E:E,1,0)=BD!A1017,\"Volume Ok\",\"Volume não pertence a carga\")),\"Volume não pertence a carga\")","v":""}]
[null,{"$f":"IFERROR(IF(A1018=\"\",\"\",IF(VLOOKUP(A1018,'Romaneio da Carga'!E:E,1,0)=BD!A1018,\"Volume Ok\",\"Volume não pertence a carga\")),\"Volume não pertence a carga\")","v":""}]
[null,{"$f":"IFERROR(IF(A1019=\"\",\"\",IF(VLOOKUP(A1019,'Romaneio da Carga'!E:E,1,0)=BD!A1019,\"Volume Ok\",\"Volume não pertence a carga\")),\"Volume não pertence a carga\")","v":""}]
[null,{"$f":"IFERROR(IF(A1020=\"\",\"\",IF(VLOOKUP(A1020,'Romaneio da Carga'!E:E,1,0)=BD!A1020,\"Volume Ok\",\"Volume não pertence a carga\")),\"Volume não pertence a carga\")","v":""}]
[null,{"$f":"IFERROR(IF(A1021=\"\",\"\",IF(VLOOKUP(A1021,'Romaneio da Carga'!E:E,1,0)=BD!A1021,\"Volume Ok\",\"Volume não pertence a carga\")),\"Volume não pertence a carga\")","v":""}]
[null,{"$f":"IFERROR(IF(A1022=\"\",\"\",IF(VLOOKUP(A1022,'Romaneio da Carga'!E:E,1,0)=BD!A1022,\"Volume Ok\",\"Volume não pertence a carga\")),\"Volume não pertence a carga\")","v":""}]
[null,{"$f":"IFERROR(IF(A1023=\"\",\"\",IF(VLOOKUP(A1023,'Romaneio da Carga'!E:E,1,0)=BD!A1023,\"Volume Ok\",\"Volume não pertence a carga\")),\"Volume não pertence a carga\")","v":""}]
[null,{"$f":"IFERROR(IF(A1024=\"\",\"\",IF(VLOOKUP(A1024,'Romaneio da Carga'!E:E,1,0)=BD!A1024,\"Volume Ok\",\"Volume não pertence a carga\")),\"Volume não pertence a carga\")","v":""}]
[null,{"$f":"IFERROR(IF(A1025=\"\",\"\",IF(VLOOKUP(A1025,'Romaneio da Carga'!E:E,1,0)=BD!A1025,\"Volume Ok\",\"Volume não pertence a carga\")),\"Volume não pertence a carga\")","v":""}]
[null,{"$f":"IFERROR(IF(A1026=\"\",\"\",IF(VLOOKUP(A1026,'Romaneio da Carga'!E:E,1,0)=BD!A1026,\"Volume Ok\",\"Volume não pertence a carga\")),\"Volume não pertence a carga\")","v":""}]
[null,{"$f":"IFERROR(IF(A1027=\"\",\"\",IF(VLOOKUP(A1027,'Romaneio da Carga'!E:E,1,0)=BD!A1027,\"Volume Ok\",\"Volume não pertence a carga\")),\"Volume não pertence a carga\")","v":""}]
[null,{"$f":"IFERROR(IF(A1028=\"\",\"\",IF(VLOOKUP(A1028,'Romaneio da Carga'!E:E,1,0)=BD!A1028,\"Volume Ok\",\"Volume não pertence a carga\")),\"Volume não pertence a carga\")","v":""}]
[null,{"$f":"IFERROR(IF(A1029=\"\",\"\",IF(VLOOKUP(A1029,'Romaneio da Carga'!E:E,1,0)=BD!A1029,\"Volume Ok\",\"Volume não pertence a carga\")),\"Volume não pertence a carga\")","v":""}]
[null,{"$f":"IFERROR(IF(A1030=\"\",\"\",IF(VLOOKUP(A1030,'Romaneio da Carga'!E:E,1,0)=BD!A1030,\"Volume Ok\",\"Volume não pertence a carga\")),\"Volume não pertence a carga\")","v":""}]
[null,{"$f":"IFERROR(IF(A1031=\"\",\"\",IF(VLOOKUP(A1031,'Romaneio da Carga'!E:E,1,0)=BD!A1031,\"Volume Ok\",\"Volume não pertence a carga\")),\"Volume não pertence a carga\")","v":""}]
[null,{"$f":"IFERROR(IF(A1032=\"\",\"\",IF(VLOOKUP(A1032,'Romaneio da Carga'!E:E,1,0)=BD!A1032,\"Volume Ok\",\"Volume não pertence a carga\")),\"Volume não pertence a carga\")","v":""}]
[null,{"$f":"IFERROR(IF(A1033=\"\",\"\",IF(VLOOKUP(A1033,'Romaneio da Carga'!E:E,1,0)=BD!A1033,\"Volume Ok\",\"Volume não pertence a carga\")),\"Volume não pertence a carga\")","v":""}]
[null,{"$f":"IFERROR(IF(A1034=\"\",\"\",IF(VLOOKUP(A1034,'Romaneio da Carga'!E:E,1,0)=BD!A1034,\"Volume Ok\",\"Volume não pertence a carga\")),\"Volume não pertence a carga\")","v":""}]
[null,{"$f":"IFERROR(IF(A1035=\"\",\"\",IF(VLOOKUP(A1035,'Romaneio da Carga'!E:E,1,0)=BD!A1035,\"Volume Ok\",\"Volume não pertence a carga\")),\"Volume não pertence a carga\")","v":""}]
[null,{"$f":"IFERROR(IF(A1036=\"\",\"\",IF(VLOOKUP(A1036,'Romaneio da Carga'!E:E,1,0)=BD!A1036,\"Volume Ok\",\"Volume não pertence a carga\")),\"Volume não pertence a carga\")","v":""}]
[null,{"$f":"IFERROR(IF(A1037=\"\",\"\",IF(VLOOKUP(A1037,'Romaneio da Carga'!E:E,1,0)=BD!A1037,\"Volume Ok\",\"Volume não pertence a carga\")),\"Volume não pertence a carga\")","v":""}]
[null,{"$f":"IFERROR(IF(A1038=\"\",\"\",IF(VLOOKUP(A1038,'Romaneio da Carga'!E:E,1,0)=BD!A1038,\"Volume Ok\",\"Volume não pertence a carga\")),\"Volume não pertence a carga\")","v":""}]
[null,{"$f":"IFERROR(IF(A1039=\"\",\"\",IF(VLOOKUP(A1039,'Romaneio da Carga'!E:E,1,0)=BD!A1039,\"Volume Ok\",\"Volume não pertence a carga\")),\"Volume não pertence a carga\")","v":""}]
[null,{"$f":"IFERROR(IF(A1040=\"\",\"\",IF(VLOOKUP(A1040,'Romaneio da Carga'!E:E,1,0)=BD!A1040,\"Volume Ok\",\"Volume não pertence a carga\")),\"Volume não pertence a carga\")","v":""}]
[null,{"$f":"IFERROR(IF(A1041=\"\",\"\",IF(VLOOKUP(A1041,'Romaneio da Carga'!E:E,1,0)=BD!A1041,\"Volume Ok\",\"Volume não pertence a carga\")),\"Volume não pertence a carga\")","v":""}]
[null,{"$f":"IFERROR(IF(A1042=\"\",\"\",IF(VLOOKUP(A1042,'Romaneio da Carga'!E:E,1,0)=BD!A1042,\"Volume Ok\",\"Volume não pertence a carga\")),\"Volume não pertence a carga\")","v":""}]
[null,{"$f":"IFERROR(IF(A1043=\"\",\"\",IF(VLOOKUP(A1043,'Romaneio da Carga'!E:E,1,0)=BD!A1043,\"Volume Ok\",\"Volume não pertence a carga\")),\"Volume não pertence a carga\")","v":""}]
[null,{"$f":"IFERROR(IF(A1044=\"\",\"\",IF(VLOOKUP(A1044,'Romaneio da Carga'!E:E,1,0)=BD!A1044,\"Volume Ok\",\"Volume não pertence a carga\")),\"Volume não pertence a carga\")","v":""}]
[null,{"$f":"IFERROR(IF(A1045=\"\",\"\",IF(VLOOKUP(A1045,'Romaneio da Carga'!E:E,1,0)=BD!A1045,\"Volume Ok\",\"Volume não pertence a carga\")),\"Volume não pertence a carga\")","v":""}]
[null,{"$f":"IFERROR(IF(A1046=\"\",\"\",IF(VLOOKUP(A1046,'Romaneio da Carga'!E:E,1,0)=BD!A1046,\"Volume Ok\",\"Volume não pertence a carga\")),\"Volume não pertence a carga\")","v":""}]
[null,{"$f":"IFERROR(IF(A1047=\"\",\"\",IF(VLOOKUP(A1047,'Romaneio da Carga'!E:E,1,0)=BD!A1047,\"Volume Ok\",\"Volume não pertence a carga\")),\"Volume não pertence a carga\")","v":""}]
[null,{"$f":"IFERROR(IF(A1048=\"\",\"\",IF(VLOOKUP(A1048,'Romaneio da Carga'!E:E,1,0)=BD!A1048,\"Volume Ok\",\"Volume não pertence a carga\")),\"Volume não pertence a carga\")","v":""}]
[null,{"$f":"IFERROR(IF(A1049=\"\",\"\",IF(VLOOKUP(A1049,'Romaneio da Carga'!E:E,1,0)=BD!A1049,\"Volume Ok\",\"Volume não pertence a carga\")),\"Volume não pertence a carga\")","v":""}]
[null,{"$f":"IFERROR(IF(A1050=\"\",\"\",IF(VLOOKUP(A1050,'Romaneio da Carga'!E:E,1,0)=BD!A1050,\"Volume Ok\",\"Volume não pertence a carga\")),\"Volume não pertence a carga\")","v":""}]
[null,{"$f":"IFERROR(IF(A1051=\"\",\"\",IF(VLOOKUP(A1051,'Romaneio da Carga'!E:E,1,0)=BD!A1051,\"Volume Ok\",\"Volume não pertence a carga\")),\"Volume não pertence a carga\")","v":""}]
[null,{"$f":"IFERROR(IF(A1052=\"\",\"\",IF(VLOOKUP(A1052,'Romaneio da Carga'!E:E,1,0)=BD!A1052,\"Volume Ok\",\"Volume não pertence a carga\")),\"Volume não pertence a carga\")","v":""}]
[null,{"$f":"IFERROR(IF(A1053=\"\",\"\",IF(VLOOKUP(A1053,'Romaneio da Carga'!E:E,1,0)=BD!A1053,\"Volume Ok\",\"Volume não pertence a carga\")),\"Volume não pertence a carga\")","v":""}]
[null,{"$f":"IFERROR(IF(A1054=\"\",\"\",IF(VLOOKUP(A1054,'Romaneio da Carga'!E:E,1,0)=BD!A1054,\"Volume Ok\",\"Volume não pertence a carga\")),\"Volume não pertence a carga\")","v":""}]
[null,{"$f":"IFERROR(IF(A1055=\"\",\"\",IF(VLOOKUP(A1055,'Romaneio da Carga'!E:E,1,0)=BD!A1055,\"Volume Ok\",\"Volume não pertence a carga\")),\"Volume não pertence a carga\")","v":""}]
[null,{"$f":"IFERROR(IF(A1056=\"\",\"\",IF(VLOOKUP(A1056,'Romaneio da Carga'!E:E,1,0)=BD!A1056,\"Volume Ok\",\"Volume não pertence a carga\")),\"Volume não pertence a carga\")","v":""}]
[null,{"$f":"IFERROR(IF(A1057=\"\",\"\",IF(VLOOKUP(A1057,'Romaneio da Carga'!E:E,1,0)=BD!A1057,\"Volume Ok\",\"Volume não pertence a carga\")),\"Volume não pertence a carga\")","v":""}]
[null,{"$f":"IFERROR(IF(A1058=\"\",\"\",IF(VLOOKUP(A1058,'Romaneio da Carga'!E:E,1,0)=BD!A1058,\"Volume Ok\",\"Volume não pertence a carga\")),\"Volume não pertence a carga\")","v":""}]
[null,{"$f":"IFERROR(IF(A1059=\"\",\"\",IF(VLOOKUP(A1059,'Romaneio da Carga'!E:E,1,0)=BD!A1059,\"Volume Ok\",\"Volume não pertence a carga\")),\"Volume não pertence a carga\")","v":""}]
[null,{"$f":"IFERROR(IF(A1060=\"\",\"\",IF(VLOOKUP(A1060,'Romaneio da Carga'!E:E,1,0)=BD!A1060,\"Volume Ok\",\"Volume não pertence a carga\")),\"Volume não pertence a carga\")","v":""}]
[null,{"$f":"IFERROR(IF(A1061=\"\",\"\",IF(VLOOKUP(A1061,'Romaneio da Carga'!E:E,1,0)=BD!A1061,\"Volume Ok\",\"Volume não pertence a carga\")),\"Volume não pertence a carga\")","v":""}]
[null,{"$f":"IFERROR(IF(A1062=\"\",\"\",IF(VLOOKUP(A1062,'Romaneio da Carga'!E:E,1,0)=BD!A1062,\"Volume Ok\",\"Volume não pertence a carga\")),\"Volume não pertence a carga\")","v":""}]
[null,{"$f":"IFERROR(IF(A1063=\"\",\"\",IF(VLOOKUP(A1063,'Romaneio da Carga'!E:E,1,0)=BD!A1063,\"Volume Ok\",\"Volume não pertence a carga\")),\"Volume não pertence a carga\")","v":""}]
[null,{"$f":"IFERROR(IF(A1064=\"\",\"\",IF(VLOOKUP(A1064,'Romaneio da Carga'!E:E,1,0)=BD!A1064,\"Volume Ok\",\"Volume não pertence a carga\")),\"Volume não pertence a carga\")","v":""}]
[null,{"$f":"IFERROR(IF(A1065=\"\",\"\",IF(VLOOKUP(A1065,'Romaneio da Carga'!E:E,1,0)=BD!A1065,\"Volume Ok\",\"Volume não pertence a carga\")),\"Volume não pertence a carga\")","v":""}]
[null,{"$f":"IFERROR(IF(A1066=\"\",\"\",IF(VLOOKUP(A1066,'Romaneio da Carga'!E:E,1,0)=BD!A1066,\"Volume Ok\",\"Volume não pertence a carga\")),\"Volume não pertence a carga\")","v":""}]
[null,{"$f":"IFERROR(IF(A1067=\"\",\"\",IF(VLOOKUP(A1067,'Romaneio da Carga'!E:E,1,0)=BD!A1067,\"Volume Ok\",\"Volume não pertence a carga\")),\"Volume não pertence a carga\")","v":""}]
[null,{"$f":"IFERROR(IF(A1068=\"\",\"\",IF(VLOOKUP(A1068,'Romaneio da Carga'!E:E,1,0)=BD!A1068,\"Volume Ok\",\"Volume não pertence a carga\")),\"Volume não pertence a carga\")","v":""}]
[null,{"$f":"IFERROR(IF(A1069=\"\",\"\",IF(VLOOKUP(A1069,'Romaneio da Carga'!E:E,1,0)=BD!A1069,\"Volume Ok\",\"Volume não pertence a carga\")),\"Volume não pertence a carga\")","v":""}]
[null,{"$f":"IFERROR(IF(A1070=\"\",\"\",IF(VLOOKUP(A1070,'Romaneio da Carga'!E:E,1,0)=BD!A1070,\"Volume Ok\",\"Volume não pertence a carga\")),\"Volume não pertence a carga\")","v":""}]
[null,{"$f":"IFERROR(IF(A1071=\"\",\"\",IF(VLOOKUP(A1071,'Romaneio da Carga'!E:E,1,0)=BD!A1071,\"Volume Ok\",\"Volume não pertence a carga\")),\"Volume não pertence a carga\")","v":""}]
[null,{"$f":"IFERROR(IF(A1072=\"\",\"\",IF(VLOOKUP(A1072,'Romaneio da Carga'!E:E,1,0)=BD!A1072,\"Volume Ok\",\"Volume não pertence a carga\")),\"Volume não pertence a carga\")","v":""}]
[null,{"$f":"IFERROR(IF(A1073=\"\",\"\",IF(VLOOKUP(A1073,'Romaneio da Carga'!E:E,1,0)=BD!A1073,\"Volume Ok\",\"Volume não pertence a carga\")),\"Volume não pertence a carga\")","v":""}]
[null,{"$f":"IFERROR(IF(A1074=\"\",\"\",IF(VLOOKUP(A1074,'Romaneio da Carga'!E:E,1,0)=BD!A1074,\"Volume Ok\",\"Volume não pertence a carga\")),\"Volume não pertence a carga\")","v":""}]
[null,{"$f":"IFERROR(IF(A1075=\"\",\"\",IF(VLOOKUP(A1075,'Romaneio da Carga'!E:E,1,0)=BD!A1075,\"Volume Ok\",\"Volume não pertence a carga\")),\"Volume não pertence a carga\")","v":""}]
[null,{"$f":"IFERROR(IF(A1076=\"\",\"\",IF(VLOOKUP(A1076,'Romaneio da Carga'!E:E,1,0)=BD!A1076,\"Volume Ok\",\"Volume não pertence a carga\")),\"Volume não pertence a carga\")","v":""}]
[null,{"$f":"IFERROR(IF(A1077=\"\",\"\",IF(VLOOKUP(A1077,'Romaneio da Carga'!E:E,1,0)=BD!A1077,\"Volume Ok\",\"Volume não pertence a carga\")),\"Volume não pertence a carga\")","v":""}]
[null,{"$f":"IFERROR(IF(A1078=\"\",\"\",IF(VLOOKUP(A1078,'Romaneio da Carga'!E:E,1,0)=BD!A1078,\"Volume Ok\",\"Volume não pertence a carga\")),\"Volume não pertence a carga\")","v":""}]
[null,{"$f":"IFERROR(IF(A1079=\"\",\"\",IF(VLOOKUP(A1079,'Romaneio da Carga'!E:E,1,0)=BD!A1079,\"Volume Ok\",\"Volume não pertence a carga\")),\"Volume não pertence a carga\")","v":""}]
[null,{"$f":"IFERROR(IF(A1080=\"\",\"\",IF(VLOOKUP(A1080,'Romaneio da Carga'!E:E,1,0)=BD!A1080,\"Volume Ok\",\"Volume não pertence a carga\")),\"Volume não pertence a carga\")","v":""}]
[null,{"$f":"IFERROR(IF(A1081=\"\",\"\",IF(VLOOKUP(A1081,'Romaneio da Carga'!E:E,1,0)=BD!A1081,\"Volume Ok\",\"Volume não pertence a carga\")),\"Volume não pertence a carga\")","v":""}]
[null,{"$f":"IFERROR(IF(A1082=\"\",\"\",IF(VLOOKUP(A1082,'Romaneio da Carga'!E:E,1,0)=BD!A1082,\"Volume Ok\",\"Volume não pertence a carga\")),\"Volume não pertence a carga\")","v":""}]
[null,{"$f":"IFERROR(IF(A1083=\"\",\"\",IF(VLOOKUP(A1083,'Romaneio da Carga'!E:E,1,0)=BD!A1083,\"Volume Ok\",\"Volume não pertence a carga\")),\"Volume não pertence a carga\")","v":""}]
[null,{"$f":"IFERROR(IF(A1084=\"\",\"\",IF(VLOOKUP(A1084,'Romaneio da Carga'!E:E,1,0)=BD!A1084,\"Volume Ok\",\"Volume não pertence a carga\")),\"Volume não pertence a carga\")","v":""}]
[null,{"$f":"IFERROR(IF(A1085=\"\",\"\",IF(VLOOKUP(A1085,'Romaneio da Carga'!E:E,1,0)=BD!A1085,\"Volume Ok\",\"Volume não pertence a carga\")),\"Volume não pertence a carga\")","v":""}]
[null,{"$f":"IFERROR(IF(A1086=\"\",\"\",IF(VLOOKUP(A1086,'Romaneio da Carga'!E:E,1,0)=BD!A1086,\"Volume Ok\",\"Volume não pertence a carga\")),\"Volume não pertence a carga\")","v":""}]
[null,{"$f":"IFERROR(IF(A1087=\"\",\"\",IF(VLOOKUP(A1087,'Romaneio da Carga'!E:E,1,0)=BD!A1087,\"Volume Ok\",\"Volume não pertence a carga\")),\"Volume não pertence a carga\")","v":""}]
[null,{"$f":"IFERROR(IF(A1088=\"\",\"\",IF(VLOOKUP(A1088,'Romaneio da Carga'!E:E,1,0)=BD!A1088,\"Volume Ok\",\"Volume não pertence a carga\")),\"Volume não pertence a carga\")","v":""}]
[null,{"$f":"IFERROR(IF(A1089=\"\",\"\",IF(VLOOKUP(A1089,'Romaneio da Carga'!E:E,1,0)=BD!A1089,\"Volume Ok\",\"Volume não pertence a carga\")),\"Volume não pertence a carga\")","v":""}]
[null,{"$f":"IFERROR(IF(A1090=\"\",\"\",IF(VLOOKUP(A1090,'Romaneio da Carga'!E:E,1,0)=BD!A1090,\"Volume Ok\",\"Volume não pertence a carga\")),\"Volume não pertence a carga\")","v":""}]
[null,{"$f":"IFERROR(IF(A1091=\"\",\"\",IF(VLOOKUP(A1091,'Romaneio da Carga'!E:E,1,0)=BD!A1091,\"Volume Ok\",\"Volume não pertence a carga\")),\"Volume não pertence a carga\")","v":""}]
[null,{"$f":"IFERROR(IF(A1092=\"\",\"\",IF(VLOOKUP(A1092,'Romaneio da Carga'!E:E,1,0)=BD!A1092,\"Volume Ok\",\"Volume não pertence a carga\")),\"Volume não pertence a carga\")","v":""}]
[null,{"$f":"IFERROR(IF(A1093=\"\",\"\",IF(VLOOKUP(A1093,'Romaneio da Carga'!E:E,1,0)=BD!A1093,\"Volume Ok\",\"Volume não pertence a carga\")),\"Volume não pertence a carga\")","v":""}]
[null,{"$f":"IFERROR(IF(A1094=\"\",\"\",IF(VLOOKUP(A1094,'Romaneio da Carga'!E:E,1,0)=BD!A1094,\"Volume Ok\",\"Volume não pertence a carga\")),\"Volume não pertence a carga\")","v":""}]
[null,{"$f":"IFERROR(IF(A1095=\"\",\"\",IF(VLOOKUP(A1095,'Romaneio da Carga'!E:E,1,0)=BD!A1095,\"Volume Ok\",\"Volume não pertence a carga\")),\"Volume não pertence a carga\")","v":""}]
[null,{"$f":"IFERROR(IF(A1096=\"\",\"\",IF(VLOOKUP(A1096,'Romaneio da Carga'!E:E,1,0)=BD!A1096,\"Volume Ok\",\"Volume não pertence a carga\")),\"Volume não pertence a carga\")","v":""}]
[null,{"$f":"IFERROR(IF(A1097=\"\",\"\",IF(VLOOKUP(A1097,'Romaneio da Carga'!E:E,1,0)=BD!A1097,\"Volume Ok\",\"Volume não pertence a carga\")),\"Volume não pertence a carga\")","v":""}]
[null,{"$f":"IFERROR(IF(A1098=\"\",\"\",IF(VLOOKUP(A1098,'Romaneio da Carga'!E:E,1,0)=BD!A1098,\"Volume Ok\",\"Volume não pertence a carga\")),\"Volume não pertence a carga\")","v":""}]
[null,{"$f":"IFERROR(IF(A1099=\"\",\"\",IF(VLOOKUP(A1099,'Romaneio da Carga'!E:E,1,0)=BD!A1099,\"Volume Ok\",\"Volume não pertence a carga\")),\"Volume não pertence a carga\")","v":""}]
[null,{"$f":"IFERROR(IF(A1100=\"\",\"\",IF(VLOOKUP(A1100,'Romaneio da Carga'!E:E,1,0)=BD!A1100,\"Volume Ok\",\"Volume não pertence a carga\")),\"Volume não pertence a carga\")","v":""}]
[null,{"$f":"IFERROR(IF(A1101=\"\",\"\",IF(VLOOKUP(A1101,'Romaneio da Carga'!E:E,1,0)=BD!A1101,\"Volume Ok\",\"Volume não pertence a carga\")),\"Volume não pertence a carga\")","v":""}]
[null,{"$f":"IFERROR(IF(A1102=\"\",\"\",IF(VLOOKUP(A1102,'Romaneio da Carga'!E:E,1,0)=BD!A1102,\"Volume Ok\",\"Volume não pertence a carga\")),\"Volume não pertence a carga\")","v":""}]
[null,{"$f":"IFERROR(IF(A1103=\"\",\"\",IF(VLOOKUP(A1103,'Romaneio da Carga'!E:E,1,0)=BD!A1103,\"Volume Ok\",\"Volume não pertence a carga\")),\"Volume não pertence a carga\")","v":""}]
[null,{"$f":"IFERROR(IF(A1104=\"\",\"\",IF(VLOOKUP(A1104,'Romaneio da Carga'!E:E,1,0)=BD!A1104,\"Volume Ok\",\"Volume não pertence a carga\")),\"Volume não pertence a carga\")","v":""}]
[null,{"$f":"IFERROR(IF(A1105=\"\",\"\",IF(VLOOKUP(A1105,'Romaneio da Carga'!E:E,1,0)=BD!A1105,\"Volume Ok\",\"Volume não pertence a carga\")),\"Volume não pertence a carga\")","v":""}]
[null,{"$f":"IFERROR(IF(A1106=\"\",\"\",IF(VLOOKUP(A1106,'Romaneio da Carga'!E:E,1,0)=BD!A1106,\"Volume Ok\",\"Volume não pertence a carga\")),\"Volume não pertence a carga\")","v":""}]
[null,{"$f":"IFERROR(IF(A1107=\"\",\"\",IF(VLOOKUP(A1107,'Romaneio da Carga'!E:E,1,0)=BD!A1107,\"Volume Ok\",\"Volume não pertence a carga\")),\"Volume não pertence a carga\")","v":""}]
[null,{"$f":"IFERROR(IF(A1108=\"\",\"\",IF(VLOOKUP(A1108,'Romaneio da Carga'!E:E,1,0)=BD!A1108,\"Volume Ok\",\"Volume não pertence a carga\")),\"Volume não pertence a carga\")","v":""}]
[null,{"$f":"IFERROR(IF(A1109=\"\",\"\",IF(VLOOKUP(A1109,'Romaneio da Carga'!E:E,1,0)=BD!A1109,\"Volume Ok\",\"Volume não pertence a carga\")),\"Volume não pertence a carga\")","v":""}]
[null,{"$f":"IFERROR(IF(A1110=\"\",\"\",IF(VLOOKUP(A1110,'Romaneio da Carga'!E:E,1,0)=BD!A1110,\"Volume Ok\",\"Volume não pertence a carga\")),\"Volume não pertence a carga\")","v":""}]
[null,{"$f":"IFERROR(IF(A1111=\"\",\"\",IF(VLOOKUP(A1111,'Romaneio da Carga'!E:E,1,0)=BD!A1111,\"Volume Ok\",\"Volume não pertence a carga\")),\"Volume não pertence a carga\")","v":""}]
[null,{"$f":"IFERROR(IF(A1112=\"\",\"\",IF(VLOOKUP(A1112,'Romaneio da Carga'!E:E,1,0)=BD!A1112,\"Volume Ok\",\"Volume não pertence a carga\")),\"Volume não pertence a carga\")","v":""}]
[null,{"$f":"IFERROR(IF(A1113=\"\",\"\",IF(VLOOKUP(A1113,'Romaneio da Carga'!E:E,1,0)=BD!A1113,\"Volume Ok\",\"Volume não pertence a carga\")),\"Volume não pertence a carga\")","v":""}]
[null,{"$f":"IFERROR(IF(A1114=\"\",\"\",IF(VLOOKUP(A1114,'Romaneio da Carga'!E:E,1,0)=BD!A1114,\"Volume Ok\",\"Volume não pertence a carga\")),\"Volume não pertence a carga\")","v":""}]
[null,{"$f":"IFERROR(IF(A1115=\"\",\"\",IF(VLOOKUP(A1115,'Romaneio da Carga'!E:E,1,0)=BD!A1115,\"Volume Ok\",\"Volume não pertence a carga\")),\"Volume não pertence a carga\")","v":""}]
[null,{"$f":"IFERROR(IF(A1116=\"\",\"\",IF(VLOOKUP(A1116,'Romaneio da Carga'!E:E,1,0)=BD!A1116,\"Volume Ok\",\"Volume não pertence a carga\")),\"Volume não pertence a carga\")","v":""}]
[null,{"$f":"IFERROR(IF(A1117=\"\",\"\",IF(VLOOKUP(A1117,'Romaneio da Carga'!E:E,1,0)=BD!A1117,\"Volume Ok\",\"Volume não pertence a carga\")),\"Volume não pertence a carga\")","v":""}]
[null,{"$f":"IFERROR(IF(A1118=\"\",\"\",IF(VLOOKUP(A1118,'Romaneio da Carga'!E:E,1,0)=BD!A1118,\"Volume Ok\",\"Volume não pertence a carga\")),\"Volume não pertence a carga\")","v":""}]
[null,{"$f":"IFERROR(IF(A1119=\"\",\"\",IF(VLOOKUP(A1119,'Romaneio da Carga'!E:E,1,0)=BD!A1119,\"Volume Ok\",\"Volume não pertence a carga\")),\"Volume não pertence a carga\")","v":""}]
[null,{"$f":"IFERROR(IF(A1120=\"\",\"\",IF(VLOOKUP(A1120,'Romaneio da Carga'!E:E,1,0)=BD!A1120,\"Volume Ok\",\"Volume não pertence a carga\")),\"Volume não pertence a carga\")","v":""}]
[null,{"$f":"IFERROR(IF(A1121=\"\",\"\",IF(VLOOKUP(A1121,'Romaneio da Carga'!E:E,1,0)=BD!A1121,\"Volume Ok\",\"Volume não pertence a carga\")),\"Volume não pertence a carga\")","v":""}]
[null,{"$f":"IFERROR(IF(A1122=\"\",\"\",IF(VLOOKUP(A1122,'Romaneio da Carga'!E:E,1,0)=BD!A1122,\"Volume Ok\",\"Volume não pertence a carga\")),\"Volume não pertence a carga\")","v":""}]
[null,{"$f":"IFERROR(IF(A1123=\"\",\"\",IF(VLOOKUP(A1123,'Romaneio da Carga'!E:E,1,0)=BD!A1123,\"Volume Ok\",\"Volume não pertence a carga\")),\"Volume não pertence a carga\")","v":""}]
[null,{"$f":"IFERROR(IF(A1124=\"\",\"\",IF(VLOOKUP(A1124,'Romaneio da Carga'!E:E,1,0)=BD!A1124,\"Volume Ok\",\"Volume não pertence a carga\")),\"Volume não pertence a carga\")","v":""}]
[null,{"$f":"IFERROR(IF(A1125=\"\",\"\",IF(VLOOKUP(A1125,'Romaneio da Carga'!E:E,1,0)=BD!A1125,\"Volume Ok\",\"Volume não pertence a carga\")),\"Volume não pertence a carga\")","v":""}]
[null,{"$f":"IFERROR(IF(A1126=\"\",\"\",IF(VLOOKUP(A1126,'Romaneio da Carga'!E:E,1,0)=BD!A1126,\"Volume Ok\",\"Volume não pertence a carga\")),\"Volume não pertence a carga\")","v":""}]
[null,{"$f":"IFERROR(IF(A1127=\"\",\"\",IF(VLOOKUP(A1127,'Romaneio da Carga'!E:E,1,0)=BD!A1127,\"Volume Ok\",\"Volume não pertence a carga\")),\"Volume não pertence a carga\")","v":""}]
[null,{"$f":"IFERROR(IF(A1128=\"\",\"\",IF(VLOOKUP(A1128,'Romaneio da Carga'!E:E,1,0)=BD!A1128,\"Volume Ok\",\"Volume não pertence a carga\")),\"Volume não pertence a carga\")","v":""}]
[null,{"$f":"IFERROR(IF(A1129=\"\",\"\",IF(VLOOKUP(A1129,'Romaneio da Carga'!E:E,1,0)=BD!A1129,\"Volume Ok\",\"Volume não pertence a carga\")),\"Volume não pertence a carga\")","v":""}]
[null,{"$f":"IFERROR(IF(A1130=\"\",\"\",IF(VLOOKUP(A1130,'Romaneio da Carga'!E:E,1,0)=BD!A1130,\"Volume Ok\",\"Volume não pertence a carga\")),\"Volume não pertence a carga\")","v":""}]
[null,{"$f":"IFERROR(IF(A1131=\"\",\"\",IF(VLOOKUP(A1131,'Romaneio da Carga'!E:E,1,0)=BD!A1131,\"Volume Ok\",\"Volume não pertence a carga\")),\"Volume não pertence a carga\")","v":""}]
[null,{"$f":"IFERROR(IF(A1132=\"\",\"\",IF(VLOOKUP(A1132,'Romaneio da Carga'!E:E,1,0)=BD!A1132,\"Volume Ok\",\"Volume não pertence a carga\")),\"Volume não pertence a carga\")","v":""}]
[null,{"$f":"IFERROR(IF(A1133=\"\",\"\",IF(VLOOKUP(A1133,'Romaneio da Carga'!E:E,1,0)=BD!A1133,\"Volume Ok\",\"Volume não pertence a carga\")),\"Volume não pertence a carga\")","v":""}]
[null,{"$f":"IFERROR(IF(A1134=\"\",\"\",IF(VLOOKUP(A1134,'Romaneio da Carga'!E:E,1,0)=BD!A1134,\"Volume Ok\",\"Volume não pertence a carga\")),\"Volume não pertence a carga\")","v":""}]
[null,{"$f":"IFERROR(IF(A1135=\"\",\"\",IF(VLOOKUP(A1135,'Romaneio da Carga'!E:E,1,0)=BD!A1135,\"Volume Ok\",\"Volume não pertence a carga\")),\"Volume não pertence a carga\")","v":""}]
[null,{"$f":"IFERROR(IF(A1136=\"\",\"\",IF(VLOOKUP(A1136,'Romaneio da Carga'!E:E,1,0)=BD!A1136,\"Volume Ok\",\"Volume não pertence a carga\")),\"Volume não pertence a carga\")","v":""}]
[null,{"$f":"IFERROR(IF(A1137=\"\",\"\",IF(VLOOKUP(A1137,'Romaneio da Carga'!E:E,1,0)=BD!A1137,\"Volume Ok\",\"Volume não pertence a carga\")),\"Volume não pertence a carga\")","v":""}]
[null,{"$f":"IFERROR(IF(A1138=\"\",\"\",IF(VLOOKUP(A1138,'Romaneio da Carga'!E:E,1,0)=BD!A1138,\"Volume Ok\",\"Volume não pertence a carga\")),\"Volume não pertence a carga\")","v":""}]
[null,{"$f":"IFERROR(IF(A1139=\"\",\"\",IF(VLOOKUP(A1139,'Romaneio da Carga'!E:E,1,0)=BD!A1139,\"Volume Ok\",\"Volume não pertence a carga\")),\"Volume não pertence a carga\")","v":""}]
[null,{"$f":"IFERROR(IF(A1140=\"\",\"\",IF(VLOOKUP(A1140,'Romaneio da Carga'!E:E,1,0)=BD!A1140,\"Volume Ok\",\"Volume não pertence a carga\")),\"Volume não pertence a carga\")","v":""}]
[null,{"$f":"IFERROR(IF(A1141=\"\",\"\",IF(VLOOKUP(A1141,'Romaneio da Carga'!E:E,1,0)=BD!A1141,\"Volume Ok\",\"Volume não pertence a carga\")),\"Volume não pertence a carga\")","v":""}]
[null,{"$f":"IFERROR(IF(A1142=\"\",\"\",IF(VLOOKUP(A1142,'Romaneio da Carga'!E:E,1,0)=BD!A1142,\"Volume Ok\",\"Volume não pertence a carga\")),\"Volume não pertence a carga\")","v":""}]
[null,{"$f":"IFERROR(IF(A1143=\"\",\"\",IF(VLOOKUP(A1143,'Romaneio da Carga'!E:E,1,0)=BD!A1143,\"Volume Ok\",\"Volume não pertence a carga\")),\"Volume não pertence a carga\")","v":""}]
[null,{"$f":"IFERROR(IF(A1144=\"\",\"\",IF(VLOOKUP(A1144,'Romaneio da Carga'!E:E,1,0)=BD!A1144,\"Volume Ok\",\"Volume não pertence a carga\")),\"Volume não pertence a carga\")","v":""}]
[null,{"$f":"IFERROR(IF(A1145=\"\",\"\",IF(VLOOKUP(A1145,'Romaneio da Carga'!E:E,1,0)=BD!A1145,\"Volume Ok\",\"Volume não pertence a carga\")),\"Volume não pertence a carga\")","v":""}]
[null,{"$f":"IFERROR(IF(A1146=\"\",\"\",IF(VLOOKUP(A1146,'Romaneio da Carga'!E:E,1,0)=BD!A1146,\"Volume Ok\",\"Volume não pertence a carga\")),\"Volume não pertence a carga\")","v":""}]
[null,{"$f":"IFERROR(IF(A1147=\"\",\"\",IF(VLOOKUP(A1147,'Romaneio da Carga'!E:E,1,0)=BD!A1147,\"Volume Ok\",\"Volume não pertence a carga\")),\"Volume não pertence a carga\")","v":""}]
[null,{"$f":"IFERROR(IF(A1148=\"\",\"\",IF(VLOOKUP(A1148,'Romaneio da Carga'!E:E,1,0)=BD!A1148,\"Volume Ok\",\"Volume não pertence a carga\")),\"Volume não pertence a carga\")","v":""}]
[null,{"$f":"IFERROR(IF(A1149=\"\",\"\",IF(VLOOKUP(A1149,'Romaneio da Carga'!E:E,1,0)=BD!A1149,\"Volume Ok\",\"Volume não pertence a carga\")),\"Volume não pertence a carga\")","v":""}]
[null,{"$f":"IFERROR(IF(A1150=\"\",\"\",IF(VLOOKUP(A1150,'Romaneio da Carga'!E:E,1,0)=BD!A1150,\"Volume Ok\",\"Volume não pertence a carga\")),\"Volume não pertence a carga\")","v":""}]
[null,{"$f":"IFERROR(IF(A1151=\"\",\"\",IF(VLOOKUP(A1151,'Romaneio da Carga'!E:E,1,0)=BD!A1151,\"Volume Ok\",\"Volume não pertence a carga\")),\"Volume não pertence a carga\")","v":""}]
[null,{"$f":"IFERROR(IF(A1152=\"\",\"\",IF(VLOOKUP(A1152,'Romaneio da Carga'!E:E,1,0)=BD!A1152,\"Volume Ok\",\"Volume não pertence a carga\")),\"Volume não pertence a carga\")","v":""}]
[null,{"$f":"IFERROR(IF(A1153=\"\",\"\",IF(VLOOKUP(A1153,'Romaneio da Carga'!E:E,1,0)=BD!A1153,\"Volume Ok\",\"Volume não pertence a carga\")),\"Volume não pertence a carga\")","v":""}]
[null,{"$f":"IFERROR(IF(A1154=\"\",\"\",IF(VLOOKUP(A1154,'Romaneio da Carga'!E:E,1,0)=BD!A1154,\"Volume Ok\",\"Volume não pertence a carga\")),\"Volume não pertence a carga\")","v":""}]
[null,{"$f":"IFERROR(IF(A1155=\"\",\"\",IF(VLOOKUP(A1155,'Romaneio da Carga'!E:E,1,0)=BD!A1155,\"Volume Ok\",\"Volume não pertence a carga\")),\"Volume não pertence a carga\")","v":""}]
[null,{"$f":"IFERROR(IF(A1156=\"\",\"\",IF(VLOOKUP(A1156,'Romaneio da Carga'!E:E,1,0)=BD!A1156,\"Volume Ok\",\"Volume não pertence a carga\")),\"Volume não pertence a carga\")","v":""}]
[null,{"$f":"IFERROR(IF(A1157=\"\",\"\",IF(VLOOKUP(A1157,'Romaneio da Carga'!E:E,1,0)=BD!A1157,\"Volume Ok\",\"Volume não pertence a carga\")),\"Volume não pertence a carga\")","v":""}]
[null,{"$f":"IFERROR(IF(A1158=\"\",\"\",IF(VLOOKUP(A1158,'Romaneio da Carga'!E:E,1,0)=BD!A1158,\"Volume Ok\",\"Volume não pertence a carga\")),\"Volume não pertence a carga\")","v":""}]
[null,{"$f":"IFERROR(IF(A1159=\"\",\"\",IF(VLOOKUP(A1159,'Romaneio da Carga'!E:E,1,0)=BD!A1159,\"Volume Ok\",\"Volume não pertence a carga\")),\"Volume não pertence a carga\")","v":""}]
[null,{"$f":"IFERROR(IF(A1160=\"\",\"\",IF(VLOOKUP(A1160,'Romaneio da Carga'!E:E,1,0)=BD!A1160,\"Volume Ok\",\"Volume não pertence a carga\")),\"Volume não pertence a carga\")","v":""}]
[null,{"$f":"IFERROR(IF(A1161=\"\",\"\",IF(VLOOKUP(A1161,'Romaneio da Carga'!E:E,1,0)=BD!A1161,\"Volume Ok\",\"Volume não pertence a carga\")),\"Volume não pertence a carga\")","v":""}]
[null,{"$f":"IFERROR(IF(A1162=\"\",\"\",IF(VLOOKUP(A1162,'Romaneio da Carga'!E:E,1,0)=BD!A1162,\"Volume Ok\",\"Volume não pertence a carga\")),\"Volume não pertence a carga\")","v":""}]
[null,{"$f":"IFERROR(IF(A1163=\"\",\"\",IF(VLOOKUP(A1163,'Romaneio da Carga'!E:E,1,0)=BD!A1163,\"Volume Ok\",\"Volume não pertence a carga\")),\"Volume não pertence a carga\")","v":""}]
[null,{"$f":"IFERROR(IF(A1164=\"\",\"\",IF(VLOOKUP(A1164,'Romaneio da Carga'!E:E,1,0)=BD!A1164,\"Volume Ok\",\"Volume não pertence a carga\")),\"Volume não pertence a carga\")","v":""}]
[null,{"$f":"IFERROR(IF(A1165=\"\",\"\",IF(VLOOKUP(A1165,'Romaneio da Carga'!E:E,1,0)=BD!A1165,\"Volume Ok\",\"Volume não pertence a carga\")),\"Volume não pertence a carga\")","v":""}]
[null,{"$f":"IFERROR(IF(A1166=\"\",\"\",IF(VLOOKUP(A1166,'Romaneio da Carga'!E:E,1,0)=BD!A1166,\"Volume Ok\",\"Volume não pertence a carga\")),\"Volume não pertence a carga\")","v":""}]
[null,{"$f":"IFERROR(IF(A1167=\"\",\"\",IF(VLOOKUP(A1167,'Romaneio da Carga'!E:E,1,0)=BD!A1167,\"Volume Ok\",\"Volume não pertence a carga\")),\"Volume não pertence a carga\")","v":""}]
[null,{"$f":"IFERROR(IF(A1168=\"\",\"\",IF(VLOOKUP(A1168,'Romaneio da Carga'!E:E,1,0)=BD!A1168,\"Volume Ok\",\"Volume não pertence a carga\")),\"Volume não pertence a carga\")","v":""}]
[null,{"$f":"IFERROR(IF(A1169=\"\",\"\",IF(VLOOKUP(A1169,'Romaneio da Carga'!E:E,1,0)=BD!A1169,\"Volume Ok\",\"Volume não pertence a carga\")),\"Volume não pertence a carga\")","v":""}]
[null,{"$f":"IFERROR(IF(A1170=\"\",\"\",IF(VLOOKUP(A1170,'Romaneio da Carga'!E:E,1,0)=BD!A1170,\"Volume Ok\",\"Volume não pertence a carga\")),\"Volume não pertence a carga\")","v":""}]
[null,{"$f":"IFERROR(IF(A1171=\"\",\"\",IF(VLOOKUP(A1171,'Romaneio da Carga'!E:E,1,0)=BD!A1171,\"Volume Ok\",\"Volume não pertence a carga\")),\"Volume não pertence a carga\")","v":""}]
[null,{"$f":"IFERROR(IF(A1172=\"\",\"\",IF(VLOOKUP(A1172,'Romaneio da Carga'!E:E,1,0)=BD!A1172,\"Volume Ok\",\"Volume não pertence a carga\")),\"Volume não pertence a carga\")","v":""}]
[null,{"$f":"IFERROR(IF(A1173=\"\",\"\",IF(VLOOKUP(A1173,'Romaneio da Carga'!E:E,1,0)=BD!A1173,\"Volume Ok\",\"Volume não pertence a carga\")),\"Volume não pertence a carga\")","v":""}]
[null,{"$f":"IFERROR(IF(A1174=\"\",\"\",IF(VLOOKUP(A1174,'Romaneio da Carga'!E:E,1,0)=BD!A1174,\"Volume Ok\",\"Volume não pertence a carga\")),\"Volume não pertence a carga\")","v":""}]
[null,{"$f":"IFERROR(IF(A1175=\"\",\"\",IF(VLOOKUP(A1175,'Romaneio da Carga'!E:E,1,0)=BD!A1175,\"Volume Ok\",\"Volume não pertence a carga\")),\"Volume não pertence a carga\")","v":""}]
[null,{"$f":"IFERROR(IF(A1176=\"\",\"\",IF(VLOOKUP(A1176,'Romaneio da Carga'!E:E,1,0)=BD!A1176,\"Volume Ok\",\"Volume não pertence a carga\")),\"Volume não pertence a carga\")","v":""}]
[null,{"$f":"IFERROR(IF(A1177=\"\",\"\",IF(VLOOKUP(A1177,'Romaneio da Carga'!E:E,1,0)=BD!A1177,\"Volume Ok\",\"Volume não pertence a carga\")),\"Volume não pertence a carga\")","v":""}]
[null,{"$f":"IFERROR(IF(A1178=\"\",\"\",IF(VLOOKUP(A1178,'Romaneio da Carga'!E:E,1,0)=BD!A1178,\"Volume Ok\",\"Volume não pertence a carga\")),\"Volume não pertence a carga\")","v":""}]
[null,{"$f":"IFERROR(IF(A1179=\"\",\"\",IF(VLOOKUP(A1179,'Romaneio da Carga'!E:E,1,0)=BD!A1179,\"Volume Ok\",\"Volume não pertence a carga\")),\"Volume não pertence a carga\")","v":""}]
[null,{"$f":"IFERROR(IF(A1180=\"\",\"\",IF(VLOOKUP(A1180,'Romaneio da Carga'!E:E,1,0)=BD!A1180,\"Volume Ok\",\"Volume não pertence a carga\")),\"Volume não pertence a carga\")","v":""}]
[null,{"$f":"IFERROR(IF(A1181=\"\",\"\",IF(VLOOKUP(A1181,'Romaneio da Carga'!E:E,1,0)=BD!A1181,\"Volume Ok\",\"Volume não pertence a carga\")),\"Volume não pertence a carga\")","v":""}]
[null,{"$f":"IFERROR(IF(A1182=\"\",\"\",IF(VLOOKUP(A1182,'Romaneio da Carga'!E:E,1,0)=BD!A1182,\"Volume Ok\",\"Volume não pertence a carga\")),\"Volume não pertence a carga\")","v":""}]
[null,{"$f":"IFERROR(IF(A1183=\"\",\"\",IF(VLOOKUP(A1183,'Romaneio da Carga'!E:E,1,0)=BD!A1183,\"Volume Ok\",\"Volume não pertence a carga\")),\"Volume não pertence a carga\")","v":""}]
[null,{"$f":"IFERROR(IF(A1184=\"\",\"\",IF(VLOOKUP(A1184,'Romaneio da Carga'!E:E,1,0)=BD!A1184,\"Volume Ok\",\"Volume não pertence a carga\")),\"Volume não pertence a carga\")","v":""}]
[null,{"$f":"IFERROR(IF(A1185=\"\",\"\",IF(VLOOKUP(A1185,'Romaneio da Carga'!E:E,1,0)=BD!A1185,\"Volume Ok\",\"Volume não pertence a carga\")),\"Volume não pertence a carga\")","v":""}]
[null,{"$f":"IFERROR(IF(A1186=\"\",\"\",IF(VLOOKUP(A1186,'Romaneio da Carga'!E:E,1,0)=BD!A1186,\"Volume Ok\",\"Volume não pertence a carga\")),\"Volume não pertence a carga\")","v":""}]
[null,{"$f":"IFERROR(IF(A1187=\"\",\"\",IF(VLOOKUP(A1187,'Romaneio da Carga'!E:E,1,0)=BD!A1187,\"Volume Ok\",\"Volume não pertence a carga\")),\"Volume não pertence a carga\")","v":""}]
[null,{"$f":"IFERROR(IF(A1188=\"\",\"\",IF(VLOOKUP(A1188,'Romaneio da Carga'!E:E,1,0)=BD!A1188,\"Volume Ok\",\"Volume não pertence a carga\")),\"Volume não pertence a carga\")","v":""}]
[null,{"$f":"IFERROR(IF(A1189=\"\",\"\",IF(VLOOKUP(A1189,'Romaneio da Carga'!E:E,1,0)=BD!A1189,\"Volume Ok\",\"Volume não pertence a carga\")),\"Volume não pertence a carga\")","v":""}]
[null,{"$f":"IFERROR(IF(A1190=\"\",\"\",IF(VLOOKUP(A1190,'Romaneio da Carga'!E:E,1,0)=BD!A1190,\"Volume Ok\",\"Volume não pertence a carga\")),\"Volume não pertence a carga\")","v":""}]
[null,{"$f":"IFERROR(IF(A1191=\"\",\"\",IF(VLOOKUP(A1191,'Romaneio da Carga'!E:E,1,0)=BD!A1191,\"Volume Ok\",\"Volume não pertence a carga\")),\"Volume não pertence a carga\")","v":""}]
[null,{"$f":"IFERROR(IF(A1192=\"\",\"\",IF(VLOOKUP(A1192,'Romaneio da Carga'!E:E,1,0)=BD!A1192,\"Volume Ok\",\"Volume não pertence a carga\")),\"Volume não pertence a carga\")","v":""}]
[null,{"$f":"IFERROR(IF(A1193=\"\",\"\",IF(VLOOKUP(A1193,'Romaneio da Carga'!E:E,1,0)=BD!A1193,\"Volume Ok\",\"Volume não pertence a carga\")),\"Volume não pertence a carga\")","v":""}]
[null,{"$f":"IFERROR(IF(A1194=\"\",\"\",IF(VLOOKUP(A1194,'Romaneio da Carga'!E:E,1,0)=BD!A1194,\"Volume Ok\",\"Volume não pertence a carga\")),\"Volume não pertence a carga\")","v":""}]
[null,{"$f":"IFERROR(IF(A1195=\"\",\"\",IF(VLOOKUP(A1195,'Romaneio da Carga'!E:E,1,0)=BD!A1195,\"Volume Ok\",\"Volume não pertence a carga\")),\"Volume não pertence a carga\")","v":""}]
[null,{"$f":"IFERROR(IF(A1196=\"\",\"\",IF(VLOOKUP(A1196,'Romaneio da Carga'!E:E,1,0)=BD!A1196,\"Volume Ok\",\"Volume não pertence a carga\")),\"Volume não pertence a carga\")","v":""}]
[null,{"$f":"IFERROR(IF(A1197=\"\",\"\",IF(VLOOKUP(A1197,'Romaneio da Carga'!E:E,1,0)=BD!A1197,\"Volume Ok\",\"Volume não pertence a carga\")),\"Volume não pertence a carga\")","v":""}]
[null,{"$f":"IFERROR(IF(A1198=\"\",\"\",IF(VLOOKUP(A1198,'Romaneio da Carga'!E:E,1,0)=BD!A1198,\"Volume Ok\",\"Volume não pertence a carga\")),\"Volume não pertence a carga\")","v":""}]
[null,{"$f":"IFERROR(IF(A1199=\"\",\"\",IF(VLOOKUP(A1199,'Romaneio da Carga'!E:E,1,0)=BD!A1199,\"Volume Ok\",\"Volume não pertence a carga\")),\"Volume não pertence a carga\")","v":""}]
[null,{"$f":"IFERROR(IF(A1200=\"\",\"\",IF(VLOOKUP(A1200,'Romaneio da Carga'!E:E,1,0)=BD!A1200,\"Volume Ok\",\"Volume não pertence a carga\")),\"Volume não pertence a carga\")","v":""}]
[null,{"$f":"IFERROR(IF(A1201=\"\",\"\",IF(VLOOKUP(A1201,'Romaneio da Carga'!E:E,1,0)=BD!A1201,\"Volume Ok\",\"Volume não pertence a carga\")),\"Volume não pertence a carga\")","v":""}]
[null,{"$f":"IFERROR(IF(A1202=\"\",\"\",IF(VLOOKUP(A1202,'Romaneio da Carga'!E:E,1,0)=BD!A1202,\"Volume Ok\",\"Volume não pertence a carga\")),\"Volume não pertence a carga\")","v":""}]
[null,{"$f":"IFERROR(IF(A1203=\"\",\"\",IF(VLOOKUP(A1203,'Romaneio da Carga'!E:E,1,0)=BD!A1203,\"Volume Ok\",\"Volume não pertence a carga\")),\"Volume não pertence a carga\")","v":""}]
[null,{"$f":"IFERROR(IF(A1204=\"\",\"\",IF(VLOOKUP(A1204,'Romaneio da Carga'!E:E,1,0)=BD!A1204,\"Volume Ok\",\"Volume não pertence a carga\")),\"Volume não pertence a carga\")","v":""}]
[null,{"$f":"IFERROR(IF(A1205=\"\",\"\",IF(VLOOKUP(A1205,'Romaneio da Carga'!E:E,1,0)=BD!A1205,\"Volume Ok\",\"Volume não pertence a carga\")),\"Volume não pertence a carga\")","v":""}]
[null,{"$f":"IFERROR(IF(A1206=\"\",\"\",IF(VLOOKUP(A1206,'Romaneio da Carga'!E:E,1,0)=BD!A1206,\"Volume Ok\",\"Volume não pertence a carga\")),\"Volume não pertence a carga\")","v":""}]
[null,{"$f":"IFERROR(IF(A1207=\"\",\"\",IF(VLOOKUP(A1207,'Romaneio da Carga'!E:E,1,0)=BD!A1207,\"Volume Ok\",\"Volume não pertence a carga\")),\"Volume não pertence a carga\")","v":""}]
[null,{"$f":"IFERROR(IF(A1208=\"\",\"\",IF(VLOOKUP(A1208,'Romaneio da Carga'!E:E,1,0)=BD!A1208,\"Volume Ok\",\"Volume não pertence a carga\")),\"Volume não pertence a carga\")","v":""}]
[null,{"$f":"IFERROR(IF(A1209=\"\",\"\",IF(VLOOKUP(A1209,'Romaneio da Carga'!E:E,1,0)=BD!A1209,\"Volume Ok\",\"Volume não pertence a carga\")),\"Volume não pertence a carga\")","v":""}]
[null,{"$f":"IFERROR(IF(A1210=\"\",\"\",IF(VLOOKUP(A1210,'Romaneio da Carga'!E:E,1,0)=BD!A1210,\"Volume Ok\",\"Volume não pertence a carga\")),\"Volume não pertence a carga\")","v":""}]
[null,{"$f":"IFERROR(IF(A1211=\"\",\"\",IF(VLOOKUP(A1211,'Romaneio da Carga'!E:E,1,0)=BD!A1211,\"Volume Ok\",\"Volume não pertence a carga\")),\"Volume não pertence a carga\")","v":""}]
[null,{"$f":"IFERROR(IF(A1212=\"\",\"\",IF(VLOOKUP(A1212,'Romaneio da Carga'!E:E,1,0)=BD!A1212,\"Volume Ok\",\"Volume não pertence a carga\")),\"Volume não pertence a carga\")","v":""}]
[null,{"$f":"IFERROR(IF(A1213=\"\",\"\",IF(VLOOKUP(A1213,'Romaneio da Carga'!E:E,1,0)=BD!A1213,\"Volume Ok\",\"Volume não pertence a carga\")),\"Volume não pertence a carga\")","v":""}]
[null,{"$f":"IFERROR(IF(A1214=\"\",\"\",IF(VLOOKUP(A1214,'Romaneio da Carga'!E:E,1,0)=BD!A1214,\"Volume Ok\",\"Volume não pertence a carga\")),\"Volume não pertence a carga\")","v":""}]
[null,{"$f":"IFERROR(IF(A1215=\"\",\"\",IF(VLOOKUP(A1215,'Romaneio da Carga'!E:E,1,0)=BD!A1215,\"Volume Ok\",\"Volume não pertence a carga\")),\"Volume não pertence a carga\")","v":""}]
[null,{"$f":"IFERROR(IF(A1216=\"\",\"\",IF(VLOOKUP(A1216,'Romaneio da Carga'!E:E,1,0)=BD!A1216,\"Volume Ok\",\"Volume não pertence a carga\")),\"Volume não pertence a carga\")","v":""}]
[null,{"$f":"IFERROR(IF(A1217=\"\",\"\",IF(VLOOKUP(A1217,'Romaneio da Carga'!E:E,1,0)=BD!A1217,\"Volume Ok\",\"Volume não pertence a carga\")),\"Volume não pertence a carga\")","v":""}]
[null,{"$f":"IFERROR(IF(A1218=\"\",\"\",IF(VLOOKUP(A1218,'Romaneio da Carga'!E:E,1,0)=BD!A1218,\"Volume Ok\",\"Volume não pertence a carga\")),\"Volume não pertence a carga\")","v":""}]
[null,{"$f":"IFERROR(IF(A1219=\"\",\"\",IF(VLOOKUP(A1219,'Romaneio da Carga'!E:E,1,0)=BD!A1219,\"Volume Ok\",\"Volume não pertence a carga\")),\"Volume não pertence a carga\")","v":""}]
[null,{"$f":"IFERROR(IF(A1220=\"\",\"\",IF(VLOOKUP(A1220,'Romaneio da Carga'!E:E,1,0)=BD!A1220,\"Volume Ok\",\"Volume não pertence a carga\")),\"Volume não pertence a carga\")","v":""}]
[null,{"$f":"IFERROR(IF(A1221=\"\",\"\",IF(VLOOKUP(A1221,'Romaneio da Carga'!E:E,1,0)=BD!A1221,\"Volume Ok\",\"Volume não pertence a carga\")),\"Volume não pertence a carga\")","v":""}]
[null,{"$f":"IFERROR(IF(A1222=\"\",\"\",IF(VLOOKUP(A1222,'Romaneio da Carga'!E:E,1,0)=BD!A1222,\"Volume Ok\",\"Volume não pertence a carga\")),\"Volume não pertence a carga\")","v":""}]
[null,{"$f":"IFERROR(IF(A1223=\"\",\"\",IF(VLOOKUP(A1223,'Romaneio da Carga'!E:E,1,0)=BD!A1223,\"Volume Ok\",\"Volume não pertence a carga\")),\"Volume não pertence a carga\")","v":""}]
[null,{"$f":"IFERROR(IF(A1224=\"\",\"\",IF(VLOOKUP(A1224,'Romaneio da Carga'!E:E,1,0)=BD!A1224,\"Volume Ok\",\"Volume não pertence a carga\")),\"Volume não pertence a carga\")","v":""}]
[null,{"$f":"IFERROR(IF(A1225=\"\",\"\",IF(VLOOKUP(A1225,'Romaneio da Carga'!E:E,1,0)=BD!A1225,\"Volume Ok\",\"Volume não pertence a carga\")),\"Volume não pertence a carga\")","v":""}]
[null,{"$f":"IFERROR(IF(A1226=\"\",\"\",IF(VLOOKUP(A1226,'Romaneio da Carga'!E:E,1,0)=BD!A1226,\"Volume Ok\",\"Volume não pertence a carga\")),\"Volume não pertence a carga\")","v":""}]
[null,{"$f":"IFERROR(IF(A1227=\"\",\"\",IF(VLOOKUP(A1227,'Romaneio da Carga'!E:E,1,0)=BD!A1227,\"Volume Ok\",\"Volume não pertence a carga\")),\"Volume não pertence a carga\")","v":""}]
[null,{"$f":"IFERROR(IF(A1228=\"\",\"\",IF(VLOOKUP(A1228,'Romaneio da Carga'!E:E,1,0)=BD!A1228,\"Volume Ok\",\"Volume não pertence a carga\")),\"Volume não pertence a carga\")","v":""}]
[null,{"$f":"IFERROR(IF(A1229=\"\",\"\",IF(VLOOKUP(A1229,'Romaneio da Carga'!E:E,1,0)=BD!A1229,\"Volume Ok\",\"Volume não pertence a carga\")),\"Volume não pertence a carga\")","v":""}]
[null,{"$f":"IFERROR(IF(A1230=\"\",\"\",IF(VLOOKUP(A1230,'Romaneio da Carga'!E:E,1,0)=BD!A1230,\"Volume Ok\",\"Volume não pertence a carga\")),\"Volume não pertence a carga\")","v":""}]
[null,{"$f":"IFERROR(IF(A1231=\"\",\"\",IF(VLOOKUP(A1231,'Romaneio da Carga'!E:E,1,0)=BD!A1231,\"Volume Ok\",\"Volume não pertence a carga\")),\"Volume não pertence a carga\")","v":""}]
[null,{"$f":"IFERROR(IF(A1232=\"\",\"\",IF(VLOOKUP(A1232,'Romaneio da Carga'!E:E,1,0)=BD!A1232,\"Volume Ok\",\"Volume não pertence a carga\")),\"Volume não pertence a carga\")","v":""}]
[null,{"$f":"IFERROR(IF(A1233=\"\",\"\",IF(VLOOKUP(A1233,'Romaneio da Carga'!E:E,1,0)=BD!A1233,\"Volume Ok\",\"Volume não pertence a carga\")),\"Volume não pertence a carga\")","v":""}]
[null,{"$f":"IFERROR(IF(A1234=\"\",\"\",IF(VLOOKUP(A1234,'Romaneio da Carga'!E:E,1,0)=BD!A1234,\"Volume Ok\",\"Volume não pertence a carga\")),\"Volume não pertence a carga\")","v":""}]
[null,{"$f":"IFERROR(IF(A1235=\"\",\"\",IF(VLOOKUP(A1235,'Romaneio da Carga'!E:E,1,0)=BD!A1235,\"Volume Ok\",\"Volume não pertence a carga\")),\"Volume não pertence a carga\")","v":""}]
[null,{"$f":"IFERROR(IF(A1236=\"\",\"\",IF(VLOOKUP(A1236,'Romaneio da Carga'!E:E,1,0)=BD!A1236,\"Volume Ok\",\"Volume não pertence a carga\")),\"Volume não pertence a carga\")","v":""}]
[null,{"$f":"IFERROR(IF(A1237=\"\",\"\",IF(VLOOKUP(A1237,'Romaneio da Carga'!E:E,1,0)=BD!A1237,\"Volume Ok\",\"Volume não pertence a carga\")),\"Volume não pertence a carga\")","v":""}]
[null,{"$f":"IFERROR(IF(A1238=\"\",\"\",IF(VLOOKUP(A1238,'Romaneio da Carga'!E:E,1,0)=BD!A1238,\"Volume Ok\",\"Volume não pertence a carga\")),\"Volume não pertence a carga\")","v":""}]
[null,{"$f":"IFERROR(IF(A1239=\"\",\"\",IF(VLOOKUP(A1239,'Romaneio da Carga'!E:E,1,0)=BD!A1239,\"Volume Ok\",\"Volume não pertence a carga\")),\"Volume não pertence a carga\")","v":""}]
[null,{"$f":"IFERROR(IF(A1240=\"\",\"\",IF(VLOOKUP(A1240,'Romaneio da Carga'!E:E,1,0)=BD!A1240,\"Volume Ok\",\"Volume não pertence a carga\")),\"Volume não pertence a carga\")","v":""}]
[null,{"$f":"IFERROR(IF(A1241=\"\",\"\",IF(VLOOKUP(A1241,'Romaneio da Carga'!E:E,1,0)=BD!A1241,\"Volume Ok\",\"Volume não pertence a carga\")),\"Volume não pertence a carga\")","v":""}]
[null,{"$f":"IFERROR(IF(A1242=\"\",\"\",IF(VLOOKUP(A1242,'Romaneio da Carga'!E:E,1,0)=BD!A1242,\"Volume Ok\",\"Volume não pertence a carga\")),\"Volume não pertence a carga\")","v":""}]
[null,{"$f":"IFERROR(IF(A1243=\"\",\"\",IF(VLOOKUP(A1243,'Romaneio da Carga'!E:E,1,0)=BD!A1243,\"Volume Ok\",\"Volume não pertence a carga\")),\"Volume não pertence a carga\")","v":""}]
[null,{"$f":"IFERROR(IF(A1244=\"\",\"\",IF(VLOOKUP(A1244,'Romaneio da Carga'!E:E,1,0)=BD!A1244,\"Volume Ok\",\"Volume não pertence a carga\")),\"Volume não pertence a carga\")","v":""}]
[null,{"$f":"IFERROR(IF(A1245=\"\",\"\",IF(VLOOKUP(A1245,'Romaneio da Carga'!E:E,1,0)=BD!A1245,\"Volume Ok\",\"Volume não pertence a carga\")),\"Volume não pertence a carga\")","v":""}]
[null,{"$f":"IFERROR(IF(A1246=\"\",\"\",IF(VLOOKUP(A1246,'Romaneio da Carga'!E:E,1,0)=BD!A1246,\"Volume Ok\",\"Volume não pertence a carga\")),\"Volume não pertence a carga\")","v":""}]
[null,{"$f":"IFERROR(IF(A1247=\"\",\"\",IF(VLOOKUP(A1247,'Romaneio da Carga'!E:E,1,0)=BD!A1247,\"Volume Ok\",\"Volume não pertence a carga\")),\"Volume não pertence a carga\")","v":""}]
[null,{"$f":"IFERROR(IF(A1248=\"\",\"\",IF(VLOOKUP(A1248,'Romaneio da Carga'!E:E,1,0)=BD!A1248,\"Volume Ok\",\"Volume não pertence a carga\")),\"Volume não pertence a carga\")","v":""}]
[null,{"$f":"IFERROR(IF(A1249=\"\",\"\",IF(VLOOKUP(A1249,'Romaneio da Carga'!E:E,1,0)=BD!A1249,\"Volume Ok\",\"Volume não pertence a carga\")),\"Volume não pertence a carga\")","v":""}]
[null,{"$f":"IFERROR(IF(A1250=\"\",\"\",IF(VLOOKUP(A1250,'Romaneio da Carga'!E:E,1,0)=BD!A1250,\"Volume Ok\",\"Volume não pertence a carga\")),\"Volume não pertence a carga\")","v":""}]
[null,{"$f":"IFERROR(IF(A1251=\"\",\"\",IF(VLOOKUP(A1251,'Romaneio da Carga'!E:E,1,0)=BD!A1251,\"Volume Ok\",\"Volume não pertence a carga\")),\"Volume não pertence a carga\")","v":""}]
[null,{"$f":"IFERROR(IF(A1252=\"\",\"\",IF(VLOOKUP(A1252,'Romaneio da Carga'!E:E,1,0)=BD!A1252,\"Volume Ok\",\"Volume não pertence a carga\")),\"Volume não pertence a carga\")","v":""}]
[null,{"$f":"IFERROR(IF(A1253=\"\",\"\",IF(VLOOKUP(A1253,'Romaneio da Carga'!E:E,1,0)=BD!A1253,\"Volume Ok\",\"Volume não pertence a carga\")),\"Volume não pertence a carga\")","v":""}]
[null,{"$f":"IFERROR(IF(A1254=\"\",\"\",IF(VLOOKUP(A1254,'Romaneio da Carga'!E:E,1,0)=BD!A1254,\"Volume Ok\",\"Volume não pertence a carga\")),\"Volume não pertence a carga\")","v":""}]
[null,{"$f":"IFERROR(IF(A1255=\"\",\"\",IF(VLOOKUP(A1255,'Romaneio da Carga'!E:E,1,0)=BD!A1255,\"Volume Ok\",\"Volume não pertence a carga\")),\"Volume não pertence a carga\")","v":""}]
[null,{"$f":"IFERROR(IF(A1256=\"\",\"\",IF(VLOOKUP(A1256,'Romaneio da Carga'!E:E,1,0)=BD!A1256,\"Volume Ok\",\"Volume não pertence a carga\")),\"Volume não pertence a carga\")","v":""}]
[null,{"$f":"IFERROR(IF(A1257=\"\",\"\",IF(VLOOKUP(A1257,'Romaneio da Carga'!E:E,1,0)=BD!A1257,\"Volume Ok\",\"Volume não pertence a carga\")),\"Volume não pertence a carga\")","v":""}]
[null,{"$f":"IFERROR(IF(A1258=\"\",\"\",IF(VLOOKUP(A1258,'Romaneio da Carga'!E:E,1,0)=BD!A1258,\"Volume Ok\",\"Volume não pertence a carga\")),\"Volume não pertence a carga\")","v":""}]
[null,{"$f":"IFERROR(IF(A1259=\"\",\"\",IF(VLOOKUP(A1259,'Romaneio da Carga'!E:E,1,0)=BD!A1259,\"Volume Ok\",\"Volume não pertence a carga\")),\"Volume não pertence a carga\")","v":""}]
[null,{"$f":"IFERROR(IF(A1260=\"\",\"\",IF(VLOOKUP(A1260,'Romaneio da Carga'!E:E,1,0)=BD!A1260,\"Volume Ok\",\"Volume não pertence a carga\")),\"Volume não pertence a carga\")","v":""}]
[null,{"$f":"IFERROR(IF(A1261=\"\",\"\",IF(VLOOKUP(A1261,'Romaneio da Carga'!E:E,1,0)=BD!A1261,\"Volume Ok\",\"Volume não pertence a carga\")),\"Volume não pertence a carga\")","v":""}]
[null,{"$f":"IFERROR(IF(A1262=\"\",\"\",IF(VLOOKUP(A1262,'Romaneio da Carga'!E:E,1,0)=BD!A1262,\"Volume Ok\",\"Volume não pertence a carga\")),\"Volume não pertence a carga\")","v":""}]
[null,{"$f":"IFERROR(IF(A1263=\"\",\"\",IF(VLOOKUP(A1263,'Romaneio da Carga'!E:E,1,0)=BD!A1263,\"Volume Ok\",\"Volume não pertence a carga\")),\"Volume não pertence a carga\")","v":""}]
[null,{"$f":"IFERROR(IF(A1264=\"\",\"\",IF(VLOOKUP(A1264,'Romaneio da Carga'!E:E,1,0)=BD!A1264,\"Volume Ok\",\"Volume não pertence a carga\")),\"Volume não pertence a carga\")","v":""}]
[null,{"$f":"IFERROR(IF(A1265=\"\",\"\",IF(VLOOKUP(A1265,'Romaneio da Carga'!E:E,1,0)=BD!A1265,\"Volume Ok\",\"Volume não pertence a carga\")),\"Volume não pertence a carga\")","v":""}]
[null,{"$f":"IFERROR(IF(A1266=\"\",\"\",IF(VLOOKUP(A1266,'Romaneio da Carga'!E:E,1,0)=BD!A1266,\"Volume Ok\",\"Volume não pertence a carga\")),\"Volume não pertence a carga\")","v":""}]
[null,{"$f":"IFERROR(IF(A1267=\"\",\"\",IF(VLOOKUP(A1267,'Romaneio da Carga'!E:E,1,0)=BD!A1267,\"Volume Ok\",\"Volume não pertence a carga\")),\"Volume não pertence a carga\")","v":""}]
[null,{"$f":"IFERROR(IF(A1268=\"\",\"\",IF(VLOOKUP(A1268,'Romaneio da Carga'!E:E,1,0)=BD!A1268,\"Volume Ok\",\"Volume não pertence a carga\")),\"Volume não pertence a carga\")","v":""}]
[null,{"$f":"IFERROR(IF(A1269=\"\",\"\",IF(VLOOKUP(A1269,'Romaneio da Carga'!E:E,1,0)=BD!A1269,\"Volume Ok\",\"Volume não pertence a carga\")),\"Volume não pertence a carga\")","v":""}]
[null,{"$f":"IFERROR(IF(A1270=\"\",\"\",IF(VLOOKUP(A1270,'Romaneio da Carga'!E:E,1,0)=BD!A1270,\"Volume Ok\",\"Volume não pertence a carga\")),\"Volume não pertence a carga\")","v":""}]
[null,{"$f":"IFERROR(IF(A1271=\"\",\"\",IF(VLOOKUP(A1271,'Romaneio da Carga'!E:E,1,0)=BD!A1271,\"Volume Ok\",\"Volume não pertence a carga\")),\"Volume não pertence a carga\")","v":""}]
[null,{"$f":"IFERROR(IF(A1272=\"\",\"\",IF(VLOOKUP(A1272,'Romaneio da Carga'!E:E,1,0)=BD!A1272,\"Volume Ok\",\"Volume não pertence a carga\")),\"Volume não pertence a carga\")","v":""}]
[null,{"$f":"IFERROR(IF(A1273=\"\",\"\",IF(VLOOKUP(A1273,'Romaneio da Carga'!E:E,1,0)=BD!A1273,\"Volume Ok\",\"Volume não pertence a carga\")),\"Volume não pertence a carga\")","v":""}]
[null,{"$f":"IFERROR(IF(A1274=\"\",\"\",IF(VLOOKUP(A1274,'Romaneio da Carga'!E:E,1,0)=BD!A1274,\"Volume Ok\",\"Volume não pertence a carga\")),\"Volume não pertence a carga\")","v":""}]
[null,{"$f":"IFERROR(IF(A1275=\"\",\"\",IF(VLOOKUP(A1275,'Romaneio da Carga'!E:E,1,0)=BD!A1275,\"Volume Ok\",\"Volume não pertence a carga\")),\"Volume não pertence a carga\")","v":""}]
[null,{"$f":"IFERROR(IF(A1276=\"\",\"\",IF(VLOOKUP(A1276,'Romaneio da Carga'!E:E,1,0)=BD!A1276,\"Volume Ok\",\"Volume não pertence a carga\")),\"Volume não pertence a carga\")","v":""}]
[null,{"$f":"IFERROR(IF(A1277=\"\",\"\",IF(VLOOKUP(A1277,'Romaneio da Carga'!E:E,1,0)=BD!A1277,\"Volume Ok\",\"Volume não pertence a carga\")),\"Volume não pertence a carga\")","v":""}]
[null,{"$f":"IFERROR(IF(A1278=\"\",\"\",IF(VLOOKUP(A1278,'Romaneio da Carga'!E:E,1,0)=BD!A1278,\"Volume Ok\",\"Volume não pertence a carga\")),\"Volume não pertence a carga\")","v":""}]
[null,{"$f":"IFERROR(IF(A1279=\"\",\"\",IF(VLOOKUP(A1279,'Romaneio da Carga'!E:E,1,0)=BD!A1279,\"Volume Ok\",\"Volume não pertence a carga\")),\"Volume não pertence a carga\")","v":""}]
[null,{"$f":"IFERROR(IF(A1280=\"\",\"\",IF(VLOOKUP(A1280,'Romaneio da Carga'!E:E,1,0)=BD!A1280,\"Volume Ok\",\"Volume não pertence a carga\")),\"Volume não pertence a carga\")","v":""}]
[null,{"$f":"IFERROR(IF(A1281=\"\",\"\",IF(VLOOKUP(A1281,'Romaneio da Carga'!E:E,1,0)=BD!A1281,\"Volume Ok\",\"Volume não pertence a carga\")),\"Volume não pertence a carga\")","v":""}]
[null,{"$f":"IFERROR(IF(A1282=\"\",\"\",IF(VLOOKUP(A1282,'Romaneio da Carga'!E:E,1,0)=BD!A1282,\"Volume Ok\",\"Volume não pertence a carga\")),\"Volume não pertence a carga\")","v":""}]
[null,{"$f":"IFERROR(IF(A1283=\"\",\"\",IF(VLOOKUP(A1283,'Romaneio da Carga'!E:E,1,0)=BD!A1283,\"Volume Ok\",\"Volume não pertence a carga\")),\"Volume não pertence a carga\")","v":""}]
[null,{"$f":"IFERROR(IF(A1284=\"\",\"\",IF(VLOOKUP(A1284,'Romaneio da Carga'!E:E,1,0)=BD!A1284,\"Volume Ok\",\"Volume não pertence a carga\")),\"Volume não pertence a carga\")","v":""}]
[null,{"$f":"IFERROR(IF(A1285=\"\",\"\",IF(VLOOKUP(A1285,'Romaneio da Carga'!E:E,1,0)=BD!A1285,\"Volume Ok\",\"Volume não pertence a carga\")),\"Volume não pertence a carga\")","v":""}]
[null,{"$f":"IFERROR(IF(A1286=\"\",\"\",IF(VLOOKUP(A1286,'Romaneio da Carga'!E:E,1,0)=BD!A1286,\"Volume Ok\",\"Volume não pertence a carga\")),\"Volume não pertence a carga\")","v":""}]
[null,{"$f":"IFERROR(IF(A1287=\"\",\"\",IF(VLOOKUP(A1287,'Romaneio da Carga'!E:E,1,0)=BD!A1287,\"Volume Ok\",\"Volume não pertence a carga\")),\"Volume não pertence a carga\")","v":""}]
[null,{"$f":"IFERROR(IF(A1288=\"\",\"\",IF(VLOOKUP(A1288,'Romaneio da Carga'!E:E,1,0)=BD!A1288,\"Volume Ok\",\"Volume não pertence a carga\")),\"Volume não pertence a carga\")","v":""}]
[null,{"$f":"IFERROR(IF(A1289=\"\",\"\",IF(VLOOKUP(A1289,'Romaneio da Carga'!E:E,1,0)=BD!A1289,\"Volume Ok\",\"Volume não pertence a carga\")),\"Volume não pertence a carga\")","v":""}]
[null,{"$f":"IFERROR(IF(A1290=\"\",\"\",IF(VLOOKUP(A1290,'Romaneio da Carga'!E:E,1,0)=BD!A1290,\"Volume Ok\",\"Volume não pertence a carga\")),\"Volume não pertence a carga\")","v":""}]
[null,{"$f":"IFERROR(IF(A1291=\"\",\"\",IF(VLOOKUP(A1291,'Romaneio da Carga'!E:E,1,0)=BD!A1291,\"Volume Ok\",\"Volume não pertence a carga\")),\"Volume não pertence a carga\")","v":""}]
[null,{"$f":"IFERROR(IF(A1292=\"\",\"\",IF(VLOOKUP(A1292,'Romaneio da Carga'!E:E,1,0)=BD!A1292,\"Volume Ok\",\"Volume não pertence a carga\")),\"Volume não pertence a carga\")","v":""}]
[null,{"$f":"IFERROR(IF(A1293=\"\",\"\",IF(VLOOKUP(A1293,'Romaneio da Carga'!E:E,1,0)=BD!A1293,\"Volume Ok\",\"Volume não pertence a carga\")),\"Volume não pertence a carga\")","v":""}]
[null,{"$f":"IFERROR(IF(A1294=\"\",\"\",IF(VLOOKUP(A1294,'Romaneio da Carga'!E:E,1,0)=BD!A1294,\"Volume Ok\",\"Volume não pertence a carga\")),\"Volume não pertence a carga\")","v":""}]
[null,{"$f":"IFERROR(IF(A1295=\"\",\"\",IF(VLOOKUP(A1295,'Romaneio da Carga'!E:E,1,0)=BD!A1295,\"Volume Ok\",\"Volume não pertence a carga\")),\"Volume não pertence a carga\")","v":""}]
[null,{"$f":"IFERROR(IF(A1296=\"\",\"\",IF(VLOOKUP(A1296,'Romaneio da Carga'!E:E,1,0)=BD!A1296,\"Volume Ok\",\"Volume não pertence a carga\")),\"Volume não pertence a carga\")","v":""}]
[null,{"$f":"IFERROR(IF(A1297=\"\",\"\",IF(VLOOKUP(A1297,'Romaneio da Carga'!E:E,1,0)=BD!A1297,\"Volume Ok\",\"Volume não pertence a carga\")),\"Volume não pertence a carga\")","v":""}]
[null,{"$f":"IFERROR(IF(A1298=\"\",\"\",IF(VLOOKUP(A1298,'Romaneio da Carga'!E:E,1,0)=BD!A1298,\"Volume Ok\",\"Volume não pertence a carga\")),\"Volume não pertence a carga\")","v":""}]
[null,{"$f":"IFERROR(IF(A1299=\"\",\"\",IF(VLOOKUP(A1299,'Romaneio da Carga'!E:E,1,0)=BD!A1299,\"Volume Ok\",\"Volume não pertence a carga\")),\"Volume não pertence a carga\")","v":""}]
[null,{"$f":"IFERROR(IF(A1300=\"\",\"\",IF(VLOOKUP(A1300,'Romaneio da Carga'!E:E,1,0)=BD!A1300,\"Volume Ok\",\"Volume não pertence a carga\")),\"Volume não pertence a carga\")","v":""}]
[null,{"$f":"IFERROR(IF(A1301=\"\",\"\",IF(VLOOKUP(A1301,'Romaneio da Carga'!E:E,1,0)=BD!A1301,\"Volume Ok\",\"Volume não pertence a carga\")),\"Volume não pertence a carga\")","v":""}]
[null,{"$f":"IFERROR(IF(A1302=\"\",\"\",IF(VLOOKUP(A1302,'Romaneio da Carga'!E:E,1,0)=BD!A1302,\"Volume Ok\",\"Volume não pertence a carga\")),\"Volume não pertence a carga\")","v":""}]
[null,{"$f":"IFERROR(IF(A1303=\"\",\"\",IF(VLOOKUP(A1303,'Romaneio da Carga'!E:E,1,0)=BD!A1303,\"Volume Ok\",\"Volume não pertence a carga\")),\"Volume não pertence a carga\")","v":""}]
[null,{"$f":"IFERROR(IF(A1304=\"\",\"\",IF(VLOOKUP(A1304,'Romaneio da Carga'!E:E,1,0)=BD!A1304,\"Volume Ok\",\"Volume não pertence a carga\")),\"Volume não pertence a carga\")","v":""}]
[null,{"$f":"IFERROR(IF(A1305=\"\",\"\",IF(VLOOKUP(A1305,'Romaneio da Carga'!E:E,1,0)=BD!A1305,\"Volume Ok\",\"Volume não pertence a carga\")),\"Volume não pertence a carga\")","v":""}]
[null,{"$f":"IFERROR(IF(A1306=\"\",\"\",IF(VLOOKUP(A1306,'Romaneio da Carga'!E:E,1,0)=BD!A1306,\"Volume Ok\",\"Volume não pertence a carga\")),\"Volume não pertence a carga\")","v":""}]
[null,{"$f":"IFERROR(IF(A1307=\"\",\"\",IF(VLOOKUP(A1307,'Romaneio da Carga'!E:E,1,0)=BD!A1307,\"Volume Ok\",\"Volume não pertence a carga\")),\"Volume não pertence a carga\")","v":""}]
[null,{"$f":"IFERROR(IF(A1308=\"\",\"\",IF(VLOOKUP(A1308,'Romaneio da Carga'!E:E,1,0)=BD!A1308,\"Volume Ok\",\"Volume não pertence a carga\")),\"Volume não pertence a carga\")","v":""}]
[null,{"$f":"IFERROR(IF(A1309=\"\",\"\",IF(VLOOKUP(A1309,'Romaneio da Carga'!E:E,1,0)=BD!A1309,\"Volume Ok\",\"Volume não pertence a carga\")),\"Volume não pertence a carga\")","v":""}]
[null,{"$f":"IFERROR(IF(A1310=\"\",\"\",IF(VLOOKUP(A1310,'Romaneio da Carga'!E:E,1,0)=BD!A1310,\"Volume Ok\",\"Volume não pertence a carga\")),\"Volume não pertence a carga\")","v":""}]
[null,{"$f":"IFERROR(IF(A1311=\"\",\"\",IF(VLOOKUP(A1311,'Romaneio da Carga'!E:E,1,0)=BD!A1311,\"Volume Ok\",\"Volume não pertence a carga\")),\"Volume não pertence a carga\")","v":""}]
[null,{"$f":"IFERROR(IF(A1312=\"\",\"\",IF(VLOOKUP(A1312,'Romaneio da Carga'!E:E,1,0)=BD!A1312,\"Volume Ok\",\"Volume não pertence a carga\")),\"Volume não pertence a carga\")","v":""}]
[null,{"$f":"IFERROR(IF(A1313=\"\",\"\",IF(VLOOKUP(A1313,'Romaneio da Carga'!E:E,1,0)=BD!A1313,\"Volume Ok\",\"Volume não pertence a carga\")),\"Volume não pertence a carga\")","v":""}]
[null,{"$f":"IFERROR(IF(A1314=\"\",\"\",IF(VLOOKUP(A1314,'Romaneio da Carga'!E:E,1,0)=BD!A1314,\"Volume Ok\",\"Volume não pertence a carga\")),\"Volume não pertence a carga\")","v":""}]
[null,{"$f":"IFERROR(IF(A1315=\"\",\"\",IF(VLOOKUP(A1315,'Romaneio da Carga'!E:E,1,0)=BD!A1315,\"Volume Ok\",\"Volume não pertence a carga\")),\"Volume não pertence a carga\")","v":""}]
[null,{"$f":"IFERROR(IF(A1316=\"\",\"\",IF(VLOOKUP(A1316,'Romaneio da Carga'!E:E,1,0)=BD!A1316,\"Volume Ok\",\"Volume não pertence a carga\")),\"Volume não pertence a carga\")","v":""}]
[null,{"$f":"IFERROR(IF(A1317=\"\",\"\",IF(VLOOKUP(A1317,'Romaneio da Carga'!E:E,1,0)=BD!A1317,\"Volume Ok\",\"Volume não pertence a carga\")),\"Volume não pertence a carga\")","v":""}]
[null,{"$f":"IFERROR(IF(A1318=\"\",\"\",IF(VLOOKUP(A1318,'Romaneio da Carga'!E:E,1,0)=BD!A1318,\"Volume Ok\",\"Volume não pertence a carga\")),\"Volume não pertence a carga\")","v":""}]
[null,{"$f":"IFERROR(IF(A1319=\"\",\"\",IF(VLOOKUP(A1319,'Romaneio da Carga'!E:E,1,0)=BD!A1319,\"Volume Ok\",\"Volume não pertence a carga\")),\"Volume não pertence a carga\")","v":""}]
[null,{"$f":"IFERROR(IF(A1320=\"\",\"\",IF(VLOOKUP(A1320,'Romaneio da Carga'!E:E,1,0)=BD!A1320,\"Volume Ok\",\"Volume não pertence a carga\")),\"Volume não pertence a carga\")","v":""}]
[null,{"$f":"IFERROR(IF(A1321=\"\",\"\",IF(VLOOKUP(A1321,'Romaneio da Carga'!E:E,1,0)=BD!A1321,\"Volume Ok\",\"Volume não pertence a carga\")),\"Volume não pertence a carga\")","v":""}]
[null,{"$f":"IFERROR(IF(A1322=\"\",\"\",IF(VLOOKUP(A1322,'Romaneio da Carga'!E:E,1,0)=BD!A1322,\"Volume Ok\",\"Volume não pertence a carga\")),\"Volume não pertence a carga\")","v":""}]
[null,{"$f":"IFERROR(IF(A1323=\"\",\"\",IF(VLOOKUP(A1323,'Romaneio da Carga'!E:E,1,0)=BD!A1323,\"Volume Ok\",\"Volume não pertence a carga\")),\"Volume não pertence a carga\")","v":""}]
[null,{"$f":"IFERROR(IF(A1324=\"\",\"\",IF(VLOOKUP(A1324,'Romaneio da Carga'!E:E,1,0)=BD!A1324,\"Volume Ok\",\"Volume não pertence a carga\")),\"Volume não pertence a carga\")","v":""}]
[null,{"$f":"IFERROR(IF(A1325=\"\",\"\",IF(VLOOKUP(A1325,'Romaneio da Carga'!E:E,1,0)=BD!A1325,\"Volume Ok\",\"Volume não pertence a carga\")),\"Volume não pertence a carga\")","v":""}]
[null,{"$f":"IFERROR(IF(A1326=\"\",\"\",IF(VLOOKUP(A1326,'Romaneio da Carga'!E:E,1,0)=BD!A1326,\"Volume Ok\",\"Volume não pertence a carga\")),\"Volume não pertence a carga\")","v":""}]
[null,{"$f":"IFERROR(IF(A1327=\"\",\"\",IF(VLOOKUP(A1327,'Romaneio da Carga'!E:E,1,0)=BD!A1327,\"Volume Ok\",\"Volume não pertence a carga\")),\"Volume não pertence a carga\")","v":""}]
[null,{"$f":"IFERROR(IF(A1328=\"\",\"\",IF(VLOOKUP(A1328,'Romaneio da Carga'!E:E,1,0)=BD!A1328,\"Volume Ok\",\"Volume não pertence a carga\")),\"Volume não pertence a carga\")","v":""}]
[null,{"$f":"IFERROR(IF(A1329=\"\",\"\",IF(VLOOKUP(A1329,'Romaneio da Carga'!E:E,1,0)=BD!A1329,\"Volume Ok\",\"Volume não pertence a carga\")),\"Volume não pertence a carga\")","v":""}]
[null,{"$f":"IFERROR(IF(A1330=\"\",\"\",IF(VLOOKUP(A1330,'Romaneio da Carga'!E:E,1,0)=BD!A1330,\"Volume Ok\",\"Volume não pertence a carga\")),\"Volume não pertence a carga\")","v":""}]
[null,{"$f":"IFERROR(IF(A1331=\"\",\"\",IF(VLOOKUP(A1331,'Romaneio da Carga'!E:E,1,0)=BD!A1331,\"Volume Ok\",\"Volume não pertence a carga\")),\"Volume não pertence a carga\")","v":""}]
[null,{"$f":"IFERROR(IF(A1332=\"\",\"\",IF(VLOOKUP(A1332,'Romaneio da Carga'!E:E,1,0)=BD!A1332,\"Volume Ok\",\"Volume não pertence a carga\")),\"Volume não pertence a carga\")","v":""}]
[null,{"$f":"IFERROR(IF(A1333=\"\",\"\",IF(VLOOKUP(A1333,'Romaneio da Carga'!E:E,1,0)=BD!A1333,\"Volume Ok\",\"Volume não pertence a carga\")),\"Volume não pertence a carga\")","v":""}]
[null,{"$f":"IFERROR(IF(A1334=\"\",\"\",IF(VLOOKUP(A1334,'Romaneio da Carga'!E:E,1,0)=BD!A1334,\"Volume Ok\",\"Volume não pertence a carga\")),\"Volume não pertence a carga\")","v":""}]
[null,{"$f":"IFERROR(IF(A1335=\"\",\"\",IF(VLOOKUP(A1335,'Romaneio da Carga'!E:E,1,0)=BD!A1335,\"Volume Ok\",\"Volume não pertence a carga\")),\"Volume não pertence a carga\")","v":""}]
[null,{"$f":"IFERROR(IF(A1336=\"\",\"\",IF(VLOOKUP(A1336,'Romaneio da Carga'!E:E,1,0)=BD!A1336,\"Volume Ok\",\"Volume não pertence a carga\")),\"Volume não pertence a carga\")","v":""}]
[null,{"$f":"IFERROR(IF(A1337=\"\",\"\",IF(VLOOKUP(A1337,'Romaneio da Carga'!E:E,1,0)=BD!A1337,\"Volume Ok\",\"Volume não pertence a carga\")),\"Volume não pertence a carga\")","v":""}]
[null,{"$f":"IFERROR(IF(A1338=\"\",\"\",IF(VLOOKUP(A1338,'Romaneio da Carga'!E:E,1,0)=BD!A1338,\"Volume Ok\",\"Volume não pertence a carga\")),\"Volume não pertence a carga\")","v":""}]
[null,{"$f":"IFERROR(IF(A1339=\"\",\"\",IF(VLOOKUP(A1339,'Romaneio da Carga'!E:E,1,0)=BD!A1339,\"Volume Ok\",\"Volume não pertence a carga\")),\"Volume não pertence a carga\")","v":""}]
[null,{"$f":"IFERROR(IF(A1340=\"\",\"\",IF(VLOOKUP(A1340,'Romaneio da Carga'!E:E,1,0)=BD!A1340,\"Volume Ok\",\"Volume não pertence a carga\")),\"Volume não pertence a carga\")","v":""}]
[null,{"$f":"IFERROR(IF(A1341=\"\",\"\",IF(VLOOKUP(A1341,'Romaneio da Carga'!E:E,1,0)=BD!A1341,\"Volume Ok\",\"Volume não pertence a carga\")),\"Volume não pertence a carga\")","v":""}]
[null,{"$f":"IFERROR(IF(A1342=\"\",\"\",IF(VLOOKUP(A1342,'Romaneio da Carga'!E:E,1,0)=BD!A1342,\"Volume Ok\",\"Volume não pertence a carga\")),\"Volume não pertence a carga\")","v":""}]
[null,{"$f":"IFERROR(IF(A1343=\"\",\"\",IF(VLOOKUP(A1343,'Romaneio da Carga'!E:E,1,0)=BD!A1343,\"Volume Ok\",\"Volume não pertence a carga\")),\"Volume não pertence a carga\")","v":""}]
[null,{"$f":"IFERROR(IF(A1344=\"\",\"\",IF(VLOOKUP(A1344,'Romaneio da Carga'!E:E,1,0)=BD!A1344,\"Volume Ok\",\"Volume não pertence a carga\")),\"Volume não pertence a carga\")","v":""}]
[null,{"$f":"IFERROR(IF(A1345=\"\",\"\",IF(VLOOKUP(A1345,'Romaneio da Carga'!E:E,1,0)=BD!A1345,\"Volume Ok\",\"Volume não pertence a carga\")),\"Volume não pertence a carga\")","v":""}]
[null,{"$f":"IFERROR(IF(A1346=\"\",\"\",IF(VLOOKUP(A1346,'Romaneio da Carga'!E:E,1,0)=BD!A1346,\"Volume Ok\",\"Volume não pertence a carga\")),\"Volume não pertence a carga\")","v":""}]
[null,{"$f":"IFERROR(IF(A1347=\"\",\"\",IF(VLOOKUP(A1347,'Romaneio da Carga'!E:E,1,0)=BD!A1347,\"Volume Ok\",\"Volume não pertence a carga\")),\"Volume não pertence a carga\")","v":""}]
[null,{"$f":"IFERROR(IF(A1348=\"\",\"\",IF(VLOOKUP(A1348,'Romaneio da Carga'!E:E,1,0)=BD!A1348,\"Volume Ok\",\"Volume não pertence a carga\")),\"Volume não pertence a carga\")","v":""}]
[null,{"$f":"IFERROR(IF(A1349=\"\",\"\",IF(VLOOKUP(A1349,'Romaneio da Carga'!E:E,1,0)=BD!A1349,\"Volume Ok\",\"Volume não pertence a carga\")),\"Volume não pertence a carga\")","v":""}]
[null,{"$f":"IFERROR(IF(A1350=\"\",\"\",IF(VLOOKUP(A1350,'Romaneio da Carga'!E:E,1,0)=BD!A1350,\"Volume Ok\",\"Volume não pertence a carga\")),\"Volume não pertence a carga\")","v":""}]
[null,{"$f":"IFERROR(IF(A1351=\"\",\"\",IF(VLOOKUP(A1351,'Romaneio da Carga'!E:E,1,0)=BD!A1351,\"Volume Ok\",\"Volume não pertence a carga\")),\"Volume não pertence a carga\")","v":""}]
[null,{"$f":"IFERROR(IF(A1352=\"\",\"\",IF(VLOOKUP(A1352,'Romaneio da Carga'!E:E,1,0)=BD!A1352,\"Volume Ok\",\"Volume não pertence a carga\")),\"Volume não pertence a carga\")","v":""}]
[null,{"$f":"IFERROR(IF(A1353=\"\",\"\",IF(VLOOKUP(A1353,'Romaneio da Carga'!E:E,1,0)=BD!A1353,\"Volume Ok\",\"Volume não pertence a carga\")),\"Volume não pertence a carga\")","v":""}]
[null,{"$f":"IFERROR(IF(A1354=\"\",\"\",IF(VLOOKUP(A1354,'Romaneio da Carga'!E:E,1,0)=BD!A1354,\"Volume Ok\",\"Volume não pertence a carga\")),\"Volume não pertence a carga\")","v":""}]
[null,{"$f":"IFERROR(IF(A1355=\"\",\"\",IF(VLOOKUP(A1355,'Romaneio da Carga'!E:E,1,0)=BD!A1355,\"Volume Ok\",\"Volume não pertence a carga\")),\"Volume não pertence a carga\")","v":""}]
[null,{"$f":"IFERROR(IF(A1356=\"\",\"\",IF(VLOOKUP(A1356,'Romaneio da Carga'!E:E,1,0)=BD!A1356,\"Volume Ok\",\"Volume não pertence a carga\")),\"Volume não pertence a carga\")","v":""}]
[null,{"$f":"IFERROR(IF(A1357=\"\",\"\",IF(VLOOKUP(A1357,'Romaneio da Carga'!E:E,1,0)=BD!A1357,\"Volume Ok\",\"Volume não pertence a carga\")),\"Volume não pertence a carga\")","v":""}]
[null,{"$f":"IFERROR(IF(A1358=\"\",\"\",IF(VLOOKUP(A1358,'Romaneio da Carga'!E:E,1,0)=BD!A1358,\"Volume Ok\",\"Volume não pertence a carga\")),\"Volume não pertence a carga\")","v":""}]
[null,{"$f":"IFERROR(IF(A1359=\"\",\"\",IF(VLOOKUP(A1359,'Romaneio da Carga'!E:E,1,0)=BD!A1359,\"Volume Ok\",\"Volume não pertence a carga\")),\"Volume não pertence a carga\")","v":""}]
[null,{"$f":"IFERROR(IF(A1360=\"\",\"\",IF(VLOOKUP(A1360,'Romaneio da Carga'!E:E,1,0)=BD!A1360,\"Volume Ok\",\"Volume não pertence a carga\")),\"Volume não pertence a carga\")","v":""}]
[null,{"$f":"IFERROR(IF(A1361=\"\",\"\",IF(VLOOKUP(A1361,'Romaneio da Carga'!E:E,1,0)=BD!A1361,\"Volume Ok\",\"Volume não pertence a carga\")),\"Volume não pertence a carga\")","v":""}]
[null,{"$f":"IFERROR(IF(A1362=\"\",\"\",IF(VLOOKUP(A1362,'Romaneio da Carga'!E:E,1,0)=BD!A1362,\"Volume Ok\",\"Volume não pertence a carga\")),\"Volume não pertence a carga\")","v":""}]
[null,{"$f":"IFERROR(IF(A1363=\"\",\"\",IF(VLOOKUP(A1363,'Romaneio da Carga'!E:E,1,0)=BD!A1363,\"Volume Ok\",\"Volume não pertence a carga\")),\"Volume não pertence a carga\")","v":""}]
[null,{"$f":"IFERROR(IF(A1364=\"\",\"\",IF(VLOOKUP(A1364,'Romaneio da Carga'!E:E,1,0)=BD!A1364,\"Volume Ok\",\"Volume não pertence a carga\")),\"Volume não pertence a carga\")","v":""}]
[null,{"$f":"IFERROR(IF(A1365=\"\",\"\",IF(VLOOKUP(A1365,'Romaneio da Carga'!E:E,1,0)=BD!A1365,\"Volume Ok\",\"Volume não pertence a carga\")),\"Volume não pertence a carga\")","v":""}]
[null,{"$f":"IFERROR(IF(A1366=\"\",\"\",IF(VLOOKUP(A1366,'Romaneio da Carga'!E:E,1,0)=BD!A1366,\"Volume Ok\",\"Volume não pertence a carga\")),\"Volume não pertence a carga\")","v":""}]
[null,{"$f":"IFERROR(IF(A1367=\"\",\"\",IF(VLOOKUP(A1367,'Romaneio da Carga'!E:E,1,0)=BD!A1367,\"Volume Ok\",\"Volume não pertence a carga\")),\"Volume não pertence a carga\")","v":""}]
[null,{"$f":"IFERROR(IF(A1368=\"\",\"\",IF(VLOOKUP(A1368,'Romaneio da Carga'!E:E,1,0)=BD!A1368,\"Volume Ok\",\"Volume não pertence a carga\")),\"Volume não pertence a carga\")","v":""}]
[null,{"$f":"IFERROR(IF(A1369=\"\",\"\",IF(VLOOKUP(A1369,'Romaneio da Carga'!E:E,1,0)=BD!A1369,\"Volume Ok\",\"Volume não pertence a carga\")),\"Volume não pertence a carga\")","v":""}]
[null,{"$f":"IFERROR(IF(A1370=\"\",\"\",IF(VLOOKUP(A1370,'Romaneio da Carga'!E:E,1,0)=BD!A1370,\"Volume Ok\",\"Volume não pertence a carga\")),\"Volume não pertence a carga\")","v":""}]
[null,{"$f":"IFERROR(IF(A1371=\"\",\"\",IF(VLOOKUP(A1371,'Romaneio da Carga'!E:E,1,0)=BD!A1371,\"Volume Ok\",\"Volume não pertence a carga\")),\"Volume não pertence a carga\")","v":""}]
[null,{"$f":"IFERROR(IF(A1372=\"\",\"\",IF(VLOOKUP(A1372,'Romaneio da Carga'!E:E,1,0)=BD!A1372,\"Volume Ok\",\"Volume não pertence a carga\")),\"Volume não pertence a carga\")","v":""}]
[null,{"$f":"IFERROR(IF(A1373=\"\",\"\",IF(VLOOKUP(A1373,'Romaneio da Carga'!E:E,1,0)=BD!A1373,\"Volume Ok\",\"Volume não pertence a carga\")),\"Volume não pertence a carga\")","v":""}]
[null,{"$f":"IFERROR(IF(A1374=\"\",\"\",IF(VLOOKUP(A1374,'Romaneio da Carga'!E:E,1,0)=BD!A1374,\"Volume Ok\",\"Volume não pertence a carga\")),\"Volume não pertence a carga\")","v":""}]
[null,{"$f":"IFERROR(IF(A1375=\"\",\"\",IF(VLOOKUP(A1375,'Romaneio da Carga'!E:E,1,0)=BD!A1375,\"Volume Ok\",\"Volume não pertence a carga\")),\"Volume não pertence a carga\")","v":""}]
[null,{"$f":"IFERROR(IF(A1376=\"\",\"\",IF(VLOOKUP(A1376,'Romaneio da Carga'!E:E,1,0)=BD!A1376,\"Volume Ok\",\"Volume não pertence a carga\")),\"Volume não pertence a carga\")","v":""}]
[null,{"$f":"IFERROR(IF(A1377=\"\",\"\",IF(VLOOKUP(A1377,'Romaneio da Carga'!E:E,1,0)=BD!A1377,\"Volume Ok\",\"Volume não pertence a carga\")),\"Volume não pertence a carga\")","v":""}]
[null,{"$f":"IFERROR(IF(A1378=\"\",\"\",IF(VLOOKUP(A1378,'Romaneio da Carga'!E:E,1,0)=BD!A1378,\"Volume Ok\",\"Volume não pertence a carga\")),\"Volume não pertence a carga\")","v":""}]
[null,{"$f":"IFERROR(IF(A1379=\"\",\"\",IF(VLOOKUP(A1379,'Romaneio da Carga'!E:E,1,0)=BD!A1379,\"Volume Ok\",\"Volume não pertence a carga\")),\"Volume não pertence a carga\")","v":""}]
[null,{"$f":"IFERROR(IF(A1380=\"\",\"\",IF(VLOOKUP(A1380,'Romaneio da Carga'!E:E,1,0)=BD!A1380,\"Volume Ok\",\"Volume não pertence a carga\")),\"Volume não pertence a carga\")","v":""}]
[null,{"$f":"IFERROR(IF(A1381=\"\",\"\",IF(VLOOKUP(A1381,'Romaneio da Carga'!E:E,1,0)=BD!A1381,\"Volume Ok\",\"Volume não pertence a carga\")),\"Volume não pertence a carga\")","v":""}]
[null,{"$f":"IFERROR(IF(A1382=\"\",\"\",IF(VLOOKUP(A1382,'Romaneio da Carga'!E:E,1,0)=BD!A1382,\"Volume Ok\",\"Volume não pertence a carga\")),\"Volume não pertence a carga\")","v":""}]
[null,{"$f":"IFERROR(IF(A1383=\"\",\"\",IF(VLOOKUP(A1383,'Romaneio da Carga'!E:E,1,0)=BD!A1383,\"Volume Ok\",\"Volume não pertence a carga\")),\"Volume não pertence a carga\")","v":""}]
[null,{"$f":"IFERROR(IF(A1384=\"\",\"\",IF(VLOOKUP(A1384,'Romaneio da Carga'!E:E,1,0)=BD!A1384,\"Volume Ok\",\"Volume não pertence a carga\")),\"Volume não pertence a carga\")","v":""}]
[null,{"$f":"IFERROR(IF(A1385=\"\",\"\",IF(VLOOKUP(A1385,'Romaneio da Carga'!E:E,1,0)=BD!A1385,\"Volume Ok\",\"Volume não pertence a carga\")),\"Volume não pertence a carga\")","v":""}]
[null,{"$f":"IFERROR(IF(A1386=\"\",\"\",IF(VLOOKUP(A1386,'Romaneio da Carga'!E:E,1,0)=BD!A1386,\"Volume Ok\",\"Volume não pertence a carga\")),\"Volume não pertence a carga\")","v":""}]
[null,{"$f":"IFERROR(IF(A1387=\"\",\"\",IF(VLOOKUP(A1387,'Romaneio da Carga'!E:E,1,0)=BD!A1387,\"Volume Ok\",\"Volume não pertence a carga\")),\"Volume não pertence a carga\")","v":""}]
[null,{"$f":"IFERROR(IF(A1388=\"\",\"\",IF(VLOOKUP(A1388,'Romaneio da Carga'!E:E,1,0)=BD!A1388,\"Volume Ok\",\"Volume não pertence a carga\")),\"Volume não pertence a carga\")","v":""}]
[null,{"$f":"IFERROR(IF(A1389=\"\",\"\",IF(VLOOKUP(A1389,'Romaneio da Carga'!E:E,1,0)=BD!A1389,\"Volume Ok\",\"Volume não pertence a carga\")),\"Volume não pertence a carga\")","v":""}]
[null,{"$f":"IFERROR(IF(A1390=\"\",\"\",IF(VLOOKUP(A1390,'Romaneio da Carga'!E:E,1,0)=BD!A1390,\"Volume Ok\",\"Volume não pertence a carga\")),\"Volume não pertence a carga\")","v":""}]
[null,{"$f":"IFERROR(IF(A1391=\"\",\"\",IF(VLOOKUP(A1391,'Romaneio da Carga'!E:E,1,0)=BD!A1391,\"Volume Ok\",\"Volume não pertence a carga\")),\"Volume não pertence a carga\")","v":""}]
[null,{"$f":"IFERROR(IF(A1392=\"\",\"\",IF(VLOOKUP(A1392,'Romaneio da Carga'!E:E,1,0)=BD!A1392,\"Volume Ok\",\"Volume não pertence a carga\")),\"Volume não pertence a carga\")","v":""}]
[null,{"$f":"IFERROR(IF(A1393=\"\",\"\",IF(VLOOKUP(A1393,'Romaneio da Carga'!E:E,1,0)=BD!A1393,\"Volume Ok\",\"Volume não pertence a carga\")),\"Volume não pertence a carga\")","v":""}]
[null,{"$f":"IFERROR(IF(A1394=\"\",\"\",IF(VLOOKUP(A1394,'Romaneio da Carga'!E:E,1,0)=BD!A1394,\"Volume Ok\",\"Volume não pertence a carga\")),\"Volume não pertence a carga\")","v":""}]
[null,{"$f":"IFERROR(IF(A1395=\"\",\"\",IF(VLOOKUP(A1395,'Romaneio da Carga'!E:E,1,0)=BD!A1395,\"Volume Ok\",\"Volume não pertence a carga\")),\"Volume não pertence a carga\")","v":""}]
[null,{"$f":"IFERROR(IF(A1396=\"\",\"\",IF(VLOOKUP(A1396,'Romaneio da Carga'!E:E,1,0)=BD!A1396,\"Volume Ok\",\"Volume não pertence a carga\")),\"Volume não pertence a carga\")","v":""}]
[null,{"$f":"IFERROR(IF(A1397=\"\",\"\",IF(VLOOKUP(A1397,'Romaneio da Carga'!E:E,1,0)=BD!A1397,\"Volume Ok\",\"Volume não pertence a carga\")),\"Volume não pertence a carga\")","v":""}]
[null,{"$f":"IFERROR(IF(A1398=\"\",\"\",IF(VLOOKUP(A1398,'Romaneio da Carga'!E:E,1,0)=BD!A1398,\"Volume Ok\",\"Volume não pertence a carga\")),\"Volume não pertence a carga\")","v":""}]
[null,{"$f":"IFERROR(IF(A1399=\"\",\"\",IF(VLOOKUP(A1399,'Romaneio da Carga'!E:E,1,0)=BD!A1399,\"Volume Ok\",\"Volume não pertence a carga\")),\"Volume não pertence a carga\")","v":""}]
[null,{"$f":"IFERROR(IF(A1400=\"\",\"\",IF(VLOOKUP(A1400,'Romaneio da Carga'!E:E,1,0)=BD!A1400,\"Volume Ok\",\"Volume não pertence a carga\")),\"Volume não pertence a carga\")","v":""}]
[null,{"$f":"IFERROR(IF(A1401=\"\",\"\",IF(VLOOKUP(A1401,'Romaneio da Carga'!E:E,1,0)=BD!A1401,\"Volume Ok\",\"Volume não pertence a carga\")),\"Volume não pertence a carga\")","v":""}]
[null,{"$f":"IFERROR(IF(A1402=\"\",\"\",IF(VLOOKUP(A1402,'Romaneio da Carga'!E:E,1,0)=BD!A1402,\"Volume Ok\",\"Volume não pertence a carga\")),\"Volume não pertence a carga\")","v":""}]
[null,{"$f":"IFERROR(IF(A1403=\"\",\"\",IF(VLOOKUP(A1403,'Romaneio da Carga'!E:E,1,0)=BD!A1403,\"Volume Ok\",\"Volume não pertence a carga\")),\"Volume não pertence a carga\")","v":""}]
[null,{"$f":"IFERROR(IF(A1404=\"\",\"\",IF(VLOOKUP(A1404,'Romaneio da Carga'!E:E,1,0)=BD!A1404,\"Volume Ok\",\"Volume não pertence a carga\")),\"Volume não pertence a carga\")","v":""}]
[null,{"$f":"IFERROR(IF(A1405=\"\",\"\",IF(VLOOKUP(A1405,'Romaneio da Carga'!E:E,1,0)=BD!A1405,\"Volume Ok\",\"Volume não pertence a carga\")),\"Volume não pertence a carga\")","v":""}]
[null,{"$f":"IFERROR(IF(A1406=\"\",\"\",IF(VLOOKUP(A1406,'Romaneio da Carga'!E:E,1,0)=BD!A1406,\"Volume Ok\",\"Volume não pertence a carga\")),\"Volume não pertence a carga\")","v":""}]
[null,{"$f":"IFERROR(IF(A1407=\"\",\"\",IF(VLOOKUP(A1407,'Romaneio da Carga'!E:E,1,0)=BD!A1407,\"Volume Ok\",\"Volume não pertence a carga\")),\"Volume não pertence a carga\")","v":""}]
[null,{"$f":"IFERROR(IF(A1408=\"\",\"\",IF(VLOOKUP(A1408,'Romaneio da Carga'!E:E,1,0)=BD!A1408,\"Volume Ok\",\"Volume não pertence a carga\")),\"Volume não pertence a carga\")","v":""}]
[null,{"$f":"IFERROR(IF(A1409=\"\",\"\",IF(VLOOKUP(A1409,'Romaneio da Carga'!E:E,1,0)=BD!A1409,\"Volume Ok\",\"Volume não pertence a carga\")),\"Volume não pertence a carga\")","v":""}]
[null,{"$f":"IFERROR(IF(A1410=\"\",\"\",IF(VLOOKUP(A1410,'Romaneio da Carga'!E:E,1,0)=BD!A1410,\"Volume Ok\",\"Volume não pertence a carga\")),\"Volume não pertence a carga\")","v":""}]
[null,{"$f":"IFERROR(IF(A1411=\"\",\"\",IF(VLOOKUP(A1411,'Romaneio da Carga'!E:E,1,0)=BD!A1411,\"Volume Ok\",\"Volume não pertence a carga\")),\"Volume não pertence a carga\")","v":""}]
[null,{"$f":"IFERROR(IF(A1412=\"\",\"\",IF(VLOOKUP(A1412,'Romaneio da Carga'!E:E,1,0)=BD!A1412,\"Volume Ok\",\"Volume não pertence a carga\")),\"Volume não pertence a carga\")","v":""}]
[null,{"$f":"IFERROR(IF(A1413=\"\",\"\",IF(VLOOKUP(A1413,'Romaneio da Carga'!E:E,1,0)=BD!A1413,\"Volume Ok\",\"Volume não pertence a carga\")),\"Volume não pertence a carga\")","v":""}]
[null,{"$f":"IFERROR(IF(A1414=\"\",\"\",IF(VLOOKUP(A1414,'Romaneio da Carga'!E:E,1,0)=BD!A1414,\"Volume Ok\",\"Volume não pertence a carga\")),\"Volume não pertence a carga\")","v":""}]
[null,{"$f":"IFERROR(IF(A1415=\"\",\"\",IF(VLOOKUP(A1415,'Romaneio da Carga'!E:E,1,0)=BD!A1415,\"Volume Ok\",\"Volume não pertence a carga\")),\"Volume não pertence a carga\")","v":""}]
[null,{"$f":"IFERROR(IF(A1416=\"\",\"\",IF(VLOOKUP(A1416,'Romaneio da Carga'!E:E,1,0)=BD!A1416,\"Volume Ok\",\"Volume não pertence a carga\")),\"Volume não pertence a carga\")","v":""}]
[null,{"$f":"IFERROR(IF(A1417=\"\",\"\",IF(VLOOKUP(A1417,'Romaneio da Carga'!E:E,1,0)=BD!A1417,\"Volume Ok\",\"Volume não pertence a carga\")),\"Volume não pertence a carga\")","v":""}]
[null,{"$f":"IFERROR(IF(A1418=\"\",\"\",IF(VLOOKUP(A1418,'Romaneio da Carga'!E:E,1,0)=BD!A1418,\"Volume Ok\",\"Volume não pertence a carga\")),\"Volume não pertence a carga\")","v":""}]
[null,{"$f":"IFERROR(IF(A1419=\"\",\"\",IF(VLOOKUP(A1419,'Romaneio da Carga'!E:E,1,0)=BD!A1419,\"Volume Ok\",\"Volume não pertence a carga\")),\"Volume não pertence a carga\")","v":""}]
[null,{"$f":"IFERROR(IF(A1420=\"\",\"\",IF(VLOOKUP(A1420,'Romaneio da Carga'!E:E,1,0)=BD!A1420,\"Volume Ok\",\"Volume não pertence a carga\")),\"Volume não pertence a carga\")","v":""}]
[null,{"$f":"IFERROR(IF(A1421=\"\",\"\",IF(VLOOKUP(A1421,'Romaneio da Carga'!E:E,1,0)=BD!A1421,\"Volume Ok\",\"Volume não pertence a carga\")),\"Volume não pertence a carga\")","v":""}]
[null,{"$f":"IFERROR(IF(A1422=\"\",\"\",IF(VLOOKUP(A1422,'Romaneio da Carga'!E:E,1,0)=BD!A1422,\"Volume Ok\",\"Volume não pertence a carga\")),\"Volume não pertence a carga\")","v":""}]
[null,{"$f":"IFERROR(IF(A1423=\"\",\"\",IF(VLOOKUP(A1423,'Romaneio da Carga'!E:E,1,0)=BD!A1423,\"Volume Ok\",\"Volume não pertence a carga\")),\"Volume não pertence a carga\")","v":""}]
[null,{"$f":"IFERROR(IF(A1424=\"\",\"\",IF(VLOOKUP(A1424,'Romaneio da Carga'!E:E,1,0)=BD!A1424,\"Volume Ok\",\"Volume não pertence a carga\")),\"Volume não pertence a carga\")","v":""}]
[null,{"$f":"IFERROR(IF(A1425=\"\",\"\",IF(VLOOKUP(A1425,'Romaneio da Carga'!E:E,1,0)=BD!A1425,\"Volume Ok\",\"Volume não pertence a carga\")),\"Volume não pertence a carga\")","v":""}]
[null,{"$f":"IFERROR(IF(A1426=\"\",\"\",IF(VLOOKUP(A1426,'Romaneio da Carga'!E:E,1,0)=BD!A1426,\"Volume Ok\",\"Volume não pertence a carga\")),\"Volume não pertence a carga\")","v":""}]
[null,{"$f":"IFERROR(IF(A1427=\"\",\"\",IF(VLOOKUP(A1427,'Romaneio da Carga'!E:E,1,0)=BD!A1427,\"Volume Ok\",\"Volume não pertence a carga\")),\"Volume não pertence a carga\")","v":""}]
[null,{"$f":"IFERROR(IF(A1428=\"\",\"\",IF(VLOOKUP(A1428,'Romaneio da Carga'!E:E,1,0)=BD!A1428,\"Volume Ok\",\"Volume não pertence a carga\")),\"Volume não pertence a carga\")","v":""}]
[null,{"$f":"IFERROR(IF(A1429=\"\",\"\",IF(VLOOKUP(A1429,'Romaneio da Carga'!E:E,1,0)=BD!A1429,\"Volume Ok\",\"Volume não pertence a carga\")),\"Volume não pertence a carga\")","v":""}]
[null,{"$f":"IFERROR(IF(A1430=\"\",\"\",IF(VLOOKUP(A1430,'Romaneio da Carga'!E:E,1,0)=BD!A1430,\"Volume Ok\",\"Volume não pertence a carga\")),\"Volume não pertence a carga\")","v":""}]
[null,{"$f":"IFERROR(IF(A1431=\"\",\"\",IF(VLOOKUP(A1431,'Romaneio da Carga'!E:E,1,0)=BD!A1431,\"Volume Ok\",\"Volume não pertence a carga\")),\"Volume não pertence a carga\")","v":""}]
[null,{"$f":"IFERROR(IF(A1432=\"\",\"\",IF(VLOOKUP(A1432,'Romaneio da Carga'!E:E,1,0)=BD!A1432,\"Volume Ok\",\"Volume não pertence a carga\")),\"Volume não pertence a carga\")","v":""}]
[null,{"$f":"IFERROR(IF(A1433=\"\",\"\",IF(VLOOKUP(A1433,'Romaneio da Carga'!E:E,1,0)=BD!A1433,\"Volume Ok\",\"Volume não pertence a carga\")),\"Volume não pertence a carga\")","v":""}]
[null,{"$f":"IFERROR(IF(A1434=\"\",\"\",IF(VLOOKUP(A1434,'Romaneio da Carga'!E:E,1,0)=BD!A1434,\"Volume Ok\",\"Volume não pertence a carga\")),\"Volume não pertence a carga\")","v":""}]
[null,{"$f":"IFERROR(IF(A1435=\"\",\"\",IF(VLOOKUP(A1435,'Romaneio da Carga'!E:E,1,0)=BD!A1435,\"Volume Ok\",\"Volume não pertence a carga\")),\"Volume não pertence a carga\")","v":""}]
[null,{"$f":"IFERROR(IF(A1436=\"\",\"\",IF(VLOOKUP(A1436,'Romaneio da Carga'!E:E,1,0)=BD!A1436,\"Volume Ok\",\"Volume não pertence a carga\")),\"Volume não pertence a carga\")","v":""}]
[null,{"$f":"IFERROR(IF(A1437=\"\",\"\",IF(VLOOKUP(A1437,'Romaneio da Carga'!E:E,1,0)=BD!A1437,\"Volume Ok\",\"Volume não pertence a carga\")),\"Volume não pertence a carga\")","v":""}]
[null,{"$f":"IFERROR(IF(A1438=\"\",\"\",IF(VLOOKUP(A1438,'Romaneio da Carga'!E:E,1,0)=BD!A1438,\"Volume Ok\",\"Volume não pertence a carga\")),\"Volume não pertence a carga\")","v":""}]
[null,{"$f":"IFERROR(IF(A1439=\"\",\"\",IF(VLOOKUP(A1439,'Romaneio da Carga'!E:E,1,0)=BD!A1439,\"Volume Ok\",\"Volume não pertence a carga\")),\"Volume não pertence a carga\")","v":""}]
[null,{"$f":"IFERROR(IF(A1440=\"\",\"\",IF(VLOOKUP(A1440,'Romaneio da Carga'!E:E,1,0)=BD!A1440,\"Volume Ok\",\"Volume não pertence a carga\")),\"Volume não pertence a carga\")","v":""}]
[null,{"$f":"IFERROR(IF(A1441=\"\",\"\",IF(VLOOKUP(A1441,'Romaneio da Carga'!E:E,1,0)=BD!A1441,\"Volume Ok\",\"Volume não pertence a carga\")),\"Volume não pertence a carga\")","v":""}]
[null,{"$f":"IFERROR(IF(A1442=\"\",\"\",IF(VLOOKUP(A1442,'Romaneio da Carga'!E:E,1,0)=BD!A1442,\"Volume Ok\",\"Volume não pertence a carga\")),\"Volume não pertence a carga\")","v":""}]
[null,{"$f":"IFERROR(IF(A1443=\"\",\"\",IF(VLOOKUP(A1443,'Romaneio da Carga'!E:E,1,0)=BD!A1443,\"Volume Ok\",\"Volume não pertence a carga\")),\"Volume não pertence a carga\")","v":""}]
[null,{"$f":"IFERROR(IF(A1444=\"\",\"\",IF(VLOOKUP(A1444,'Romaneio da Carga'!E:E,1,0)=BD!A1444,\"Volume Ok\",\"Volume não pertence a carga\")),\"Volume não pertence a carga\")","v":""}]
[null,{"$f":"IFERROR(IF(A1445=\"\",\"\",IF(VLOOKUP(A1445,'Romaneio da Carga'!E:E,1,0)=BD!A1445,\"Volume Ok\",\"Volume não pertence a carga\")),\"Volume não pertence a carga\")","v":""}]
[null,{"$f":"IFERROR(IF(A1446=\"\",\"\",IF(VLOOKUP(A1446,'Romaneio da Carga'!E:E,1,0)=BD!A1446,\"Volume Ok\",\"Volume não pertence a carga\")),\"Volume não pertence a carga\")","v":""}]
[null,{"$f":"IFERROR(IF(A1447=\"\",\"\",IF(VLOOKUP(A1447,'Romaneio da Carga'!E:E,1,0)=BD!A1447,\"Volume Ok\",\"Volume não pertence a carga\")),\"Volume não pertence a carga\")","v":""}]
[null,{"$f":"IFERROR(IF(A1448=\"\",\"\",IF(VLOOKUP(A1448,'Romaneio da Carga'!E:E,1,0)=BD!A1448,\"Volume Ok\",\"Volume não pertence a carga\")),\"Volume não pertence a carga\")","v":""}]
[null,{"$f":"IFERROR(IF(A1449=\"\",\"\",IF(VLOOKUP(A1449,'Romaneio da Carga'!E:E,1,0)=BD!A1449,\"Volume Ok\",\"Volume não pertence a carga\")),\"Volume não pertence a carga\")","v":""}]
[null,{"$f":"IFERROR(IF(A1450=\"\",\"\",IF(VLOOKUP(A1450,'Romaneio da Carga'!E:E,1,0)=BD!A1450,\"Volume Ok\",\"Volume não pertence a carga\")),\"Volume não pertence a carga\")","v":""}]
[null,{"$f":"IFERROR(IF(A1451=\"\",\"\",IF(VLOOKUP(A1451,'Romaneio da Carga'!E:E,1,0)=BD!A1451,\"Volume Ok\",\"Volume não pertence a carga\")),\"Volume não pertence a carga\")","v":""}]
[null,{"$f":"IFERROR(IF(A1452=\"\",\"\",IF(VLOOKUP(A1452,'Romaneio da Carga'!E:E,1,0)=BD!A1452,\"Volume Ok\",\"Volume não pertence a carga\")),\"Volume não pertence a carga\")","v":""}]
[null,{"$f":"IFERROR(IF(A1453=\"\",\"\",IF(VLOOKUP(A1453,'Romaneio da Carga'!E:E,1,0)=BD!A1453,\"Volume Ok\",\"Volume não pertence a carga\")),\"Volume não pertence a carga\")","v":""}]
[null,{"$f":"IFERROR(IF(A1454=\"\",\"\",IF(VLOOKUP(A1454,'Romaneio da Carga'!E:E,1,0)=BD!A1454,\"Volume Ok\",\"Volume não pertence a carga\")),\"Volume não pertence a carga\")","v":""}]
[null,{"$f":"IFERROR(IF(A1455=\"\",\"\",IF(VLOOKUP(A1455,'Romaneio da Carga'!E:E,1,0)=BD!A1455,\"Volume Ok\",\"Volume não pertence a carga\")),\"Volume não pertence a carga\")","v":""}]
[null,{"$f":"IFERROR(IF(A1456=\"\",\"\",IF(VLOOKUP(A1456,'Romaneio da Carga'!E:E,1,0)=BD!A1456,\"Volume Ok\",\"Volume não pertence a carga\")),\"Volume não pertence a carga\")","v":""}]
[null,{"$f":"IFERROR(IF(A1457=\"\",\"\",IF(VLOOKUP(A1457,'Romaneio da Carga'!E:E,1,0)=BD!A1457,\"Volume Ok\",\"Volume não pertence a carga\")),\"Volume não pertence a carga\")","v":""}]
[null,{"$f":"IFERROR(IF(A1458=\"\",\"\",IF(VLOOKUP(A1458,'Romaneio da Carga'!E:E,1,0)=BD!A1458,\"Volume Ok\",\"Volume não pertence a carga\")),\"Volume não pertence a carga\")","v":""}]
[null,{"$f":"IFERROR(IF(A1459=\"\",\"\",IF(VLOOKUP(A1459,'Romaneio da Carga'!E:E,1,0)=BD!A1459,\"Volume Ok\",\"Volume não pertence a carga\")),\"Volume não pertence a carga\")","v":""}]
[null,{"$f":"IFERROR(IF(A1460=\"\",\"\",IF(VLOOKUP(A1460,'Romaneio da Carga'!E:E,1,0)=BD!A1460,\"Volume Ok\",\"Volume não pertence a carga\")),\"Volume não pertence a carga\")","v":""}]
[null,{"$f":"IFERROR(IF(A1461=\"\",\"\",IF(VLOOKUP(A1461,'Romaneio da Carga'!E:E,1,0)=BD!A1461,\"Volume Ok\",\"Volume não pertence a carga\")),\"Volume não pertence a carga\")","v":""}]
[null,{"$f":"IFERROR(IF(A1462=\"\",\"\",IF(VLOOKUP(A1462,'Romaneio da Carga'!E:E,1,0)=BD!A1462,\"Volume Ok\",\"Volume não pertence a carga\")),\"Volume não pertence a carga\")","v":""}]
[null,{"$f":"IFERROR(IF(A1463=\"\",\"\",IF(VLOOKUP(A1463,'Romaneio da Carga'!E:E,1,0)=BD!A1463,\"Volume Ok\",\"Volume não pertence a carga\")),\"Volume não pertence a carga\")","v":""}]
[null,{"$f":"IFERROR(IF(A1464=\"\",\"\",IF(VLOOKUP(A1464,'Romaneio da Carga'!E:E,1,0)=BD!A1464,\"Volume Ok\",\"Volume não pertence a carga\")),\"Volume não pertence a carga\")","v":""}]
[null,{"$f":"IFERROR(IF(A1465=\"\",\"\",IF(VLOOKUP(A1465,'Romaneio da Carga'!E:E,1,0)=BD!A1465,\"Volume Ok\",\"Volume não pertence a carga\")),\"Volume não pertence a carga\")","v":""}]
[null,{"$f":"IFERROR(IF(A1466=\"\",\"\",IF(VLOOKUP(A1466,'Romaneio da Carga'!E:E,1,0)=BD!A1466,\"Volume Ok\",\"Volume não pertence a carga\")),\"Volume não pertence a carga\")","v":""}]
[null,{"$f":"IFERROR(IF(A1467=\"\",\"\",IF(VLOOKUP(A1467,'Romaneio da Carga'!E:E,1,0)=BD!A1467,\"Volume Ok\",\"Volume não pertence a carga\")),\"Volume não pertence a carga\")","v":""}]
[null,{"$f":"IFERROR(IF(A1468=\"\",\"\",IF(VLOOKUP(A1468,'Romaneio da Carga'!E:E,1,0)=BD!A1468,\"Volume Ok\",\"Volume não pertence a carga\")),\"Volume não pertence a carga\")","v":""}]
[null,{"$f":"IFERROR(IF(A1469=\"\",\"\",IF(VLOOKUP(A1469,'Romaneio da Carga'!E:E,1,0)=BD!A1469,\"Volume Ok\",\"Volume não pertence a carga\")),\"Volume não pertence a carga\")","v":""}]
[null,{"$f":"IFERROR(IF(A1470=\"\",\"\",IF(VLOOKUP(A1470,'Romaneio da Carga'!E:E,1,0)=BD!A1470,\"Volume Ok\",\"Volume não pertence a carga\")),\"Volume não pertence a carga\")","v":""}]
[null,{"$f":"IFERROR(IF(A1471=\"\",\"\",IF(VLOOKUP(A1471,'Romaneio da Carga'!E:E,1,0)=BD!A1471,\"Volume Ok\",\"Volume não pertence a carga\")),\"Volume não pertence a carga\")","v":""}]
[null,{"$f":"IFERROR(IF(A1472=\"\",\"\",IF(VLOOKUP(A1472,'Romaneio da Carga'!E:E,1,0)=BD!A1472,\"Volume Ok\",\"Volume não pertence a carga\")),\"Volume não pertence a carga\")","v":""}]
[null,{"$f":"IFERROR(IF(A1473=\"\",\"\",IF(VLOOKUP(A1473,'Romaneio da Carga'!E:E,1,0)=BD!A1473,\"Volume Ok\",\"Volume não pertence a carga\")),\"Volume não pertence a carga\")","v":""}]
[null,{"$f":"IFERROR(IF(A1474=\"\",\"\",IF(VLOOKUP(A1474,'Romaneio da Carga'!E:E,1,0)=BD!A1474,\"Volume Ok\",\"Volume não pertence a carga\")),\"Volume não pertence a carga\")","v":""}]
[null,{"$f":"IFERROR(IF(A1475=\"\",\"\",IF(VLOOKUP(A1475,'Romaneio da Carga'!E:E,1,0)=BD!A1475,\"Volume Ok\",\"Volume não pertence a carga\")),\"Volume não pertence a carga\")","v":""}]
[null,{"$f":"IFERROR(IF(A1476=\"\",\"\",IF(VLOOKUP(A1476,'Romaneio da Carga'!E:E,1,0)=BD!A1476,\"Volume Ok\",\"Volume não pertence a carga\")),\"Volume não pertence a carga\")","v":""}]
[null,{"$f":"IFERROR(IF(A1477=\"\",\"\",IF(VLOOKUP(A1477,'Romaneio da Carga'!E:E,1,0)=BD!A1477,\"Volume Ok\",\"Volume não pertence a carga\")),\"Volume não pertence a carga\")","v":""}]
[null,{"$f":"IFERROR(IF(A1478=\"\",\"\",IF(VLOOKUP(A1478,'Romaneio da Carga'!E:E,1,0)=BD!A1478,\"Volume Ok\",\"Volume não pertence a carga\")),\"Volume não pertence a carga\")","v":""}]
[null,{"$f":"IFERROR(IF(A1479=\"\",\"\",IF(VLOOKUP(A1479,'Romaneio da Carga'!E:E,1,0)=BD!A1479,\"Volume Ok\",\"Volume não pertence a carga\")),\"Volume não pertence a carga\")","v":""}]
[null,{"$f":"IFERROR(IF(A1480=\"\",\"\",IF(VLOOKUP(A1480,'Romaneio da Carga'!E:E,1,0)=BD!A1480,\"Volume Ok\",\"Volume não pertence a carga\")),\"Volume não pertence a carga\")","v":""}]
[null,{"$f":"IFERROR(IF(A1481=\"\",\"\",IF(VLOOKUP(A1481,'Romaneio da Carga'!E:E,1,0)=BD!A1481,\"Volume Ok\",\"Volume não pertence a carga\")),\"Volume não pertence a carga\")","v":""}]
[null,{"$f":"IFERROR(IF(A1482=\"\",\"\",IF(VLOOKUP(A1482,'Romaneio da Carga'!E:E,1,0)=BD!A1482,\"Volume Ok\",\"Volume não pertence a carga\")),\"Volume não pertence a carga\")","v":""}]
[null,{"$f":"IFERROR(IF(A1483=\"\",\"\",IF(VLOOKUP(A1483,'Romaneio da Carga'!E:E,1,0)=BD!A1483,\"Volume Ok\",\"Volume não pertence a carga\")),\"Volume não pertence a carga\")","v":""}]
[null,{"$f":"IFERROR(IF(A1484=\"\",\"\",IF(VLOOKUP(A1484,'Romaneio da Carga'!E:E,1,0)=BD!A1484,\"Volume Ok\",\"Volume não pertence a carga\")),\"Volume não pertence a carga\")","v":""}]
[null,{"$f":"IFERROR(IF(A1485=\"\",\"\",IF(VLOOKUP(A1485,'Romaneio da Carga'!E:E,1,0)=BD!A1485,\"Volume Ok\",\"Volume não pertence a carga\")),\"Volume não pertence a carga\")","v":""}]
[null,{"$f":"IFERROR(IF(A1486=\"\",\"\",IF(VLOOKUP(A1486,'Romaneio da Carga'!E:E,1,0)=BD!A1486,\"Volume Ok\",\"Volume não pertence a carga\")),\"Volume não pertence a carga\")","v":""}]
[null,{"$f":"IFERROR(IF(A1487=\"\",\"\",IF(VLOOKUP(A1487,'Romaneio da Carga'!E:E,1,0)=BD!A1487,\"Volume Ok\",\"Volume não pertence a carga\")),\"Volume não pertence a carga\")","v":""}]
[null,{"$f":"IFERROR(IF(A1488=\"\",\"\",IF(VLOOKUP(A1488,'Romaneio da Carga'!E:E,1,0)=BD!A1488,\"Volume Ok\",\"Volume não pertence a carga\")),\"Volume não pertence a carga\")","v":""}]
[null,{"$f":"IFERROR(IF(A1489=\"\",\"\",IF(VLOOKUP(A1489,'Romaneio da Carga'!E:E,1,0)=BD!A1489,\"Volume Ok\",\"Volume não pertence a carga\")),\"Volume não pertence a carga\")","v":""}]
[null,{"$f":"IFERROR(IF(A1490=\"\",\"\",IF(VLOOKUP(A1490,'Romaneio da Carga'!E:E,1,0)=BD!A1490,\"Volume Ok\",\"Volume não pertence a carga\")),\"Volume não pertence a carga\")","v":""}]
[null,{"$f":"IFERROR(IF(A1491=\"\",\"\",IF(VLOOKUP(A1491,'Romaneio da Carga'!E:E,1,0)=BD!A1491,\"Volume Ok\",\"Volume não pertence a carga\")),\"Volume não pertence a carga\")","v":""}]
[null,{"$f":"IFERROR(IF(A1492=\"\",\"\",IF(VLOOKUP(A1492,'Romaneio da Carga'!E:E,1,0)=BD!A1492,\"Volume Ok\",\"Volume não pertence a carga\")),\"Volume não pertence a carga\")","v":""}]
[null,{"$f":"IFERROR(IF(A1493=\"\",\"\",IF(VLOOKUP(A1493,'Romaneio da Carga'!E:E,1,0)=BD!A1493,\"Volume Ok\",\"Volume não pertence a carga\")),\"Volume não pertence a carga\")","v":""}]
[null,{"$f":"IFERROR(IF(A1494=\"\",\"\",IF(VLOOKUP(A1494,'Romaneio da Carga'!E:E,1,0)=BD!A1494,\"Volume Ok\",\"Volume não pertence a carga\")),\"Volume não pertence a carga\")","v":""}]
[null,{"$f":"IFERROR(IF(A1495=\"\",\"\",IF(VLOOKUP(A1495,'Romaneio da Carga'!E:E,1,0)=BD!A1495,\"Volume Ok\",\"Volume não pertence a carga\")),\"Volume não pertence a carga\")","v":""}]
[null,{"$f":"IFERROR(IF(A1496=\"\",\"\",IF(VLOOKUP(A1496,'Romaneio da Carga'!E:E,1,0)=BD!A1496,\"Volume Ok\",\"Volume não pertence a carga\")),\"Volume não pertence a carga\")","v":""}]
[null,{"$f":"IFERROR(IF(A1497=\"\",\"\",IF(VLOOKUP(A1497,'Romaneio da Carga'!E:E,1,0)=BD!A1497,\"Volume Ok\",\"Volume não pertence a carga\")),\"Volume não pertence a carga\")","v":""}]
[null,{"$f":"IFERROR(IF(A1498=\"\",\"\",IF(VLOOKUP(A1498,'Romaneio da Carga'!E:E,1,0)=BD!A1498,\"Volume Ok\",\"Volume não pertence a carga\")),\"Volume não pertence a carga\")","v":""}]
[null,{"$f":"IFERROR(IF(A1499=\"\",\"\",IF(VLOOKUP(A1499,'Romaneio da Carga'!E:E,1,0)=BD!A1499,\"Volume Ok\",\"Volume não pertence a carga\")),\"Volume não pertence a carga\")","v":""}]
[null,{"$f":"IFERROR(IF(A1500=\"\",\"\",IF(VLOOKUP(A1500,'Romaneio da Carga'!E:E,1,0)=BD!A1500,\"Volume Ok\",\"Volume não pertence a carga\")),\"Volume não pertence a carga\")","v":""}]
[null,{"$f":"IFERROR(IF(A1501=\"\",\"\",IF(VLOOKUP(A1501,'Romaneio da Carga'!E:E,1,0)=BD!A1501,\"Volume Ok\",\"Volume não pertence a carga\")),\"Volume não pertence a carga\")","v":""}]
[null,{"$f":"IFERROR(IF(A1502=\"\",\"\",IF(VLOOKUP(A1502,'Romaneio da Carga'!E:E,1,0)=BD!A1502,\"Volume Ok\",\"Volume não pertence a carga\")),\"Volume não pertence a carga\")","v":""}]
[null,{"$f":"IFERROR(IF(A1503=\"\",\"\",IF(VLOOKUP(A1503,'Romaneio da Carga'!E:E,1,0)=BD!A1503,\"Volume Ok\",\"Volume não pertence a carga\")),\"Volume não pertence a carga\")","v":""}]
[null,{"$f":"IFERROR(IF(A1504=\"\",\"\",IF(VLOOKUP(A1504,'Romaneio da Carga'!E:E,1,0)=BD!A1504,\"Volume Ok\",\"Volume não pertence a carga\")),\"Volume não pertence a carga\")","v":""}]
[null,{"$f":"IFERROR(IF(A1505=\"\",\"\",IF(VLOOKUP(A1505,'Romaneio da Carga'!E:E,1,0)=BD!A1505,\"Volume Ok\",\"Volume não pertence a carga\")),\"Volume não pertence a carga\")","v":""}]
[null,{"$f":"IFERROR(IF(A1506=\"\",\"\",IF(VLOOKUP(A1506,'Romaneio da Carga'!E:E,1,0)=BD!A1506,\"Volume Ok\",\"Volume não pertence a carga\")),\"Volume não pertence a carga\")","v":""}]
[null,{"$f":"IFERROR(IF(A1507=\"\",\"\",IF(VLOOKUP(A1507,'Romaneio da Carga'!E:E,1,0)=BD!A1507,\"Volume Ok\",\"Volume não pertence a carga\")),\"Volume não pertence a carga\")","v":""}]
[null,{"$f":"IFERROR(IF(A1508=\"\",\"\",IF(VLOOKUP(A1508,'Romaneio da Carga'!E:E,1,0)=BD!A1508,\"Volume Ok\",\"Volume não pertence a carga\")),\"Volume não pertence a carga\")","v":""}]
[null,{"$f":"IFERROR(IF(A1509=\"\",\"\",IF(VLOOKUP(A1509,'Romaneio da Carga'!E:E,1,0)=BD!A1509,\"Volume Ok\",\"Volume não pertence a carga\")),\"Volume não pertence a carga\")","v":""}]
[null,{"$f":"IFERROR(IF(A1510=\"\",\"\",IF(VLOOKUP(A1510,'Romaneio da Carga'!E:E,1,0)=BD!A1510,\"Volume Ok\",\"Volume não pertence a carga\")),\"Volume não pertence a carga\")","v":""}]
[null,{"$f":"IFERROR(IF(A1511=\"\",\"\",IF(VLOOKUP(A1511,'Romaneio da Carga'!E:E,1,0)=BD!A1511,\"Volume Ok\",\"Volume não pertence a carga\")),\"Volume não pertence a carga\")","v":""}]
[null,{"$f":"IFERROR(IF(A1512=\"\",\"\",IF(VLOOKUP(A1512,'Romaneio da Carga'!E:E,1,0)=BD!A1512,\"Volume Ok\",\"Volume não pertence a carga\")),\"Volume não pertence a carga\")","v":""}]
[null,{"$f":"IFERROR(IF(A1513=\"\",\"\",IF(VLOOKUP(A1513,'Romaneio da Carga'!E:E,1,0)=BD!A1513,\"Volume Ok\",\"Volume não pertence a carga\")),\"Volume não pertence a carga\")","v":""}]
[null,{"$f":"IFERROR(IF(A1514=\"\",\"\",IF(VLOOKUP(A1514,'Romaneio da Carga'!E:E,1,0)=BD!A1514,\"Volume Ok\",\"Volume não pertence a carga\")),\"Volume não pertence a carga\")","v":""}]
[null,{"$f":"IFERROR(IF(A1515=\"\",\"\",IF(VLOOKUP(A1515,'Romaneio da Carga'!E:E,1,0)=BD!A1515,\"Volume Ok\",\"Volume não pertence a carga\")),\"Volume não pertence a carga\")","v":""}]
[null,{"$f":"IFERROR(IF(A1516=\"\",\"\",IF(VLOOKUP(A1516,'Romaneio da Carga'!E:E,1,0)=BD!A1516,\"Volume Ok\",\"Volume não pertence a carga\")),\"Volume não pertence a carga\")","v":""}]
[null,{"$f":"IFERROR(IF(A1517=\"\",\"\",IF(VLOOKUP(A1517,'Romaneio da Carga'!E:E,1,0)=BD!A1517,\"Volume Ok\",\"Volume não pertence a carga\")),\"Volume não pertence a carga\")","v":""}]
[null,{"$f":"IFERROR(IF(A1518=\"\",\"\",IF(VLOOKUP(A1518,'Romaneio da Carga'!E:E,1,0)=BD!A1518,\"Volume Ok\",\"Volume não pertence a carga\")),\"Volume não pertence a carga\")","v":""}]
[null,{"$f":"IFERROR(IF(A1519=\"\",\"\",IF(VLOOKUP(A1519,'Romaneio da Carga'!E:E,1,0)=BD!A1519,\"Volume Ok\",\"Volume não pertence a carga\")),\"Volume não pertence a carga\")","v":""}]
[null,{"$f":"IFERROR(IF(A1520=\"\",\"\",IF(VLOOKUP(A1520,'Romaneio da Carga'!E:E,1,0)=BD!A1520,\"Volume Ok\",\"Volume não pertence a carga\")),\"Volume não pertence a carga\")","v":""}]
[null,{"$f":"IFERROR(IF(A1521=\"\",\"\",IF(VLOOKUP(A1521,'Romaneio da Carga'!E:E,1,0)=BD!A1521,\"Volume Ok\",\"Volume não pertence a carga\")),\"Volume não pertence a carga\")","v":""}]
[null,{"$f":"IFERROR(IF(A1522=\"\",\"\",IF(VLOOKUP(A1522,'Romaneio da Carga'!E:E,1,0)=BD!A1522,\"Volume Ok\",\"Volume não pertence a carga\")),\"Volume não pertence a carga\")","v":""}]
[null,{"$f":"IFERROR(IF(A1523=\"\",\"\",IF(VLOOKUP(A1523,'Romaneio da Carga'!E:E,1,0)=BD!A1523,\"Volume Ok\",\"Volume não pertence a carga\")),\"Volume não pertence a carga\")","v":""}]
[null,{"$f":"IFERROR(IF(A1524=\"\",\"\",IF(VLOOKUP(A1524,'Romaneio da Carga'!E:E,1,0)=BD!A1524,\"Volume Ok\",\"Volume não pertence a carga\")),\"Volume não pertence a carga\")","v":""}]
[null,{"$f":"IFERROR(IF(A1525=\"\",\"\",IF(VLOOKUP(A1525,'Romaneio da Carga'!E:E,1,0)=BD!A1525,\"Volume Ok\",\"Volume não pertence a carga\")),\"Volume não pertence a carga\")","v":""}]
[null,{"$f":"IFERROR(IF(A1526=\"\",\"\",IF(VLOOKUP(A1526,'Romaneio da Carga'!E:E,1,0)=BD!A1526,\"Volume Ok\",\"Volume não pertence a carga\")),\"Volume não pertence a carga\")","v":""}]
[null,{"$f":"IFERROR(IF(A1527=\"\",\"\",IF(VLOOKUP(A1527,'Romaneio da Carga'!E:E,1,0)=BD!A1527,\"Volume Ok\",\"Volume não pertence a carga\")),\"Volume não pertence a carga\")","v":""}]
[null,{"$f":"IFERROR(IF(A1528=\"\",\"\",IF(VLOOKUP(A1528,'Romaneio da Carga'!E:E,1,0)=BD!A1528,\"Volume Ok\",\"Volume não pertence a carga\")),\"Volume não pertence a carga\")","v":""}]
[null,{"$f":"IFERROR(IF(A1529=\"\",\"\",IF(VLOOKUP(A1529,'Romaneio da Carga'!E:E,1,0)=BD!A1529,\"Volume Ok\",\"Volume não pertence a carga\")),\"Volume não pertence a carga\")","v":""}]
[null,{"$f":"IFERROR(IF(A1530=\"\",\"\",IF(VLOOKUP(A1530,'Romaneio da Carga'!E:E,1,0)=BD!A1530,\"Volume Ok\",\"Volume não pertence a carga\")),\"Volume não pertence a carga\")","v":""}]
[null,{"$f":"IFERROR(IF(A1531=\"\",\"\",IF(VLOOKUP(A1531,'Romaneio da Carga'!E:E,1,0)=BD!A1531,\"Volume Ok\",\"Volume não pertence a carga\")),\"Volume não pertence a carga\")","v":""}]
[null,{"$f":"IFERROR(IF(A1532=\"\",\"\",IF(VLOOKUP(A1532,'Romaneio da Carga'!E:E,1,0)=BD!A1532,\"Volume Ok\",\"Volume não pertence a carga\")),\"Volume não pertence a carga\")","v":""}]
[null,{"$f":"IFERROR(IF(A1533=\"\",\"\",IF(VLOOKUP(A1533,'Romaneio da Carga'!E:E,1,0)=BD!A1533,\"Volume Ok\",\"Volume não pertence a carga\")),\"Volume não pertence a carga\")","v":""}]
[null,{"$f":"IFERROR(IF(A1534=\"\",\"\",IF(VLOOKUP(A1534,'Romaneio da Carga'!E:E,1,0)=BD!A1534,\"Volume Ok\",\"Volume não pertence a carga\")),\"Volume não pertence a carga\")","v":""}]
[null,{"$f":"IFERROR(IF(A1535=\"\",\"\",IF(VLOOKUP(A1535,'Romaneio da Carga'!E:E,1,0)=BD!A1535,\"Volume Ok\",\"Volume não pertence a carga\")),\"Volume não pertence a carga\")","v":""}]
[null,{"$f":"IFERROR(IF(A1536=\"\",\"\",IF(VLOOKUP(A1536,'Romaneio da Carga'!E:E,1,0)=BD!A1536,\"Volume Ok\",\"Volume não pertence a carga\")),\"Volume não pertence a carga\")","v":""}]
[null,{"$f":"IFERROR(IF(A1537=\"\",\"\",IF(VLOOKUP(A1537,'Romaneio da Carga'!E:E,1,0)=BD!A1537,\"Volume Ok\",\"Volume não pertence a carga\")),\"Volume não pertence a carga\")","v":""}]
[null,{"$f":"IFERROR(IF(A1538=\"\",\"\",IF(VLOOKUP(A1538,'Romaneio da Carga'!E:E,1,0)=BD!A1538,\"Volume Ok\",\"Volume não pertence a carga\")),\"Volume não pertence a carga\")","v":""}]
[null,{"$f":"IFERROR(IF(A1539=\"\",\"\",IF(VLOOKUP(A1539,'Romaneio da Carga'!E:E,1,0)=BD!A1539,\"Volume Ok\",\"Volume não pertence a carga\")),\"Volume não pertence a carga\")","v":""}]
[null,{"$f":"IFERROR(IF(A1540=\"\",\"\",IF(VLOOKUP(A1540,'Romaneio da Carga'!E:E,1,0)=BD!A1540,\"Volume Ok\",\"Volume não pertence a carga\")),\"Volume não pertence a carga\")","v":""}]
[null,{"$f":"IFERROR(IF(A1541=\"\",\"\",IF(VLOOKUP(A1541,'Romaneio da Carga'!E:E,1,0)=BD!A1541,\"Volume Ok\",\"Volume não pertence a carga\")),\"Volume não pertence a carga\")","v":""}]
[null,{"$f":"IFERROR(IF(A1542=\"\",\"\",IF(VLOOKUP(A1542,'Romaneio da Carga'!E:E,1,0)=BD!A1542,\"Volume Ok\",\"Volume não pertence a carga\")),\"Volume não pertence a carga\")","v":""}]
[null,{"$f":"IFERROR(IF(A1543=\"\",\"\",IF(VLOOKUP(A1543,'Romaneio da Carga'!E:E,1,0)=BD!A1543,\"Volume Ok\",\"Volume não pertence a carga\")),\"Volume não pertence a carga\")","v":""}]
[null,{"$f":"IFERROR(IF(A1544=\"\",\"\",IF(VLOOKUP(A1544,'Romaneio da Carga'!E:E,1,0)=BD!A1544,\"Volume Ok\",\"Volume não pertence a carga\")),\"Volume não pertence a carga\")","v":""}]
[null,{"$f":"IFERROR(IF(A1545=\"\",\"\",IF(VLOOKUP(A1545,'Romaneio da Carga'!E:E,1,0)=BD!A1545,\"Volume Ok\",\"Volume não pertence a carga\")),\"Volume não pertence a carga\")","v":""}]
[null,{"$f":"IFERROR(IF(A1546=\"\",\"\",IF(VLOOKUP(A1546,'Romaneio da Carga'!E:E,1,0)=BD!A1546,\"Volume Ok\",\"Volume não pertence a carga\")),\"Volume não pertence a carga\")","v":""}]
[null,{"$f":"IFERROR(IF(A1547=\"\",\"\",IF(VLOOKUP(A1547,'Romaneio da Carga'!E:E,1,0)=BD!A1547,\"Volume Ok\",\"Volume não pertence a carga\")),\"Volume não pertence a carga\")","v":""}]
[null,{"$f":"IFERROR(IF(A1548=\"\",\"\",IF(VLOOKUP(A1548,'Romaneio da Carga'!E:E,1,0)=BD!A1548,\"Volume Ok\",\"Volume não pertence a carga\")),\"Volume não pertence a carga\")","v":""}]
[null,{"$f":"IFERROR(IF(A1549=\"\",\"\",IF(VLOOKUP(A1549,'Romaneio da Carga'!E:E,1,0)=BD!A1549,\"Volume Ok\",\"Volume não pertence a carga\")),\"Volume não pertence a carga\")","v":""}]
[null,{"$f":"IFERROR(IF(A1550=\"\",\"\",IF(VLOOKUP(A1550,'Romaneio da Carga'!E:E,1,0)=BD!A1550,\"Volume Ok\",\"Volume não pertence a carga\")),\"Volume não pertence a carga\")","v":""}]
[null,{"$f":"IFERROR(IF(A1551=\"\",\"\",IF(VLOOKUP(A1551,'Romaneio da Carga'!E:E,1,0)=BD!A1551,\"Volume Ok\",\"Volume não pertence a carga\")),\"Volume não pertence a carga\")","v":""}]
[null,{"$f":"IFERROR(IF(A1552=\"\",\"\",IF(VLOOKUP(A1552,'Romaneio da Carga'!E:E,1,0)=BD!A1552,\"Volume Ok\",\"Volume não pertence a carga\")),\"Volume não pertence a carga\")","v":""}]
[null,{"$f":"IFERROR(IF(A1553=\"\",\"\",IF(VLOOKUP(A1553,'Romaneio da Carga'!E:E,1,0)=BD!A1553,\"Volume Ok\",\"Volume não pertence a carga\")),\"Volume não pertence a carga\")","v":""}]
[null,{"$f":"IFERROR(IF(A1554=\"\",\"\",IF(VLOOKUP(A1554,'Romaneio da Carga'!E:E,1,0)=BD!A1554,\"Volume Ok\",\"Volume não pertence a carga\")),\"Volume não pertence a carga\")","v":""}]
[null,{"$f":"IFERROR(IF(A1555=\"\",\"\",IF(VLOOKUP(A1555,'Romaneio da Carga'!E:E,1,0)=BD!A1555,\"Volume Ok\",\"Volume não pertence a carga\")),\"Volume não pertence a carga\")","v":""}]
[null,{"$f":"IFERROR(IF(A1556=\"\",\"\",IF(VLOOKUP(A1556,'Romaneio da Carga'!E:E,1,0)=BD!A1556,\"Volume Ok\",\"Volume não pertence a carga\")),\"Volume não pertence a carga\")","v":""}]
[null,{"$f":"IFERROR(IF(A1557=\"\",\"\",IF(VLOOKUP(A1557,'Romaneio da Carga'!E:E,1,0)=BD!A1557,\"Volume Ok\",\"Volume não pertence a carga\")),\"Volume não pertence a carga\")","v":""}]
[null,{"$f":"IFERROR(IF(A1558=\"\",\"\",IF(VLOOKUP(A1558,'Romaneio da Carga'!E:E,1,0)=BD!A1558,\"Volume Ok\",\"Volume não pertence a carga\")),\"Volume não pertence a carga\")","v":""}]
[null,{"$f":"IFERROR(IF(A1559=\"\",\"\",IF(VLOOKUP(A1559,'Romaneio da Carga'!E:E,1,0)=BD!A1559,\"Volume Ok\",\"Volume não pertence a carga\")),\"Volume não pertence a carga\")","v":""}]
[null,{"$f":"IFERROR(IF(A1560=\"\",\"\",IF(VLOOKUP(A1560,'Romaneio da Carga'!E:E,1,0)=BD!A1560,\"Volume Ok\",\"Volume não pertence a carga\")),\"Volume não pertence a carga\")","v":""}]
[null,{"$f":"IFERROR(IF(A1561=\"\",\"\",IF(VLOOKUP(A1561,'Romaneio da Carga'!E:E,1,0)=BD!A1561,\"Volume Ok\",\"Volume não pertence a carga\")),\"Volume não pertence a carga\")","v":""}]
[null,{"$f":"IFERROR(IF(A1562=\"\",\"\",IF(VLOOKUP(A1562,'Romaneio da Carga'!E:E,1,0)=BD!A1562,\"Volume Ok\",\"Volume não pertence a carga\")),\"Volume não pertence a carga\")","v":""}]
[null,{"$f":"IFERROR(IF(A1563=\"\",\"\",IF(VLOOKUP(A1563,'Romaneio da Carga'!E:E,1,0)=BD!A1563,\"Volume Ok\",\"Volume não pertence a carga\")),\"Volume não pertence a carga\")","v":""}]
[null,{"$f":"IFERROR(IF(A1564=\"\",\"\",IF(VLOOKUP(A1564,'Romaneio da Carga'!E:E,1,0)=BD!A1564,\"Volume Ok\",\"Volume não pertence a carga\")),\"Volume não pertence a carga\")","v":""}]
[null,{"$f":"IFERROR(IF(A1565=\"\",\"\",IF(VLOOKUP(A1565,'Romaneio da Carga'!E:E,1,0)=BD!A1565,\"Volume Ok\",\"Volume não pertence a carga\")),\"Volume não pertence a carga\")","v":""}]
[null,{"$f":"IFERROR(IF(A1566=\"\",\"\",IF(VLOOKUP(A1566,'Romaneio da Carga'!E:E,1,0)=BD!A1566,\"Volume Ok\",\"Volume não pertence a carga\")),\"Volume não pertence a carga\")","v":""}]
[null,{"$f":"IFERROR(IF(A1567=\"\",\"\",IF(VLOOKUP(A1567,'Romaneio da Carga'!E:E,1,0)=BD!A1567,\"Volume Ok\",\"Volume não pertence a carga\")),\"Volume não pertence a carga\")","v":""}]
[null,{"$f":"IFERROR(IF(A1568=\"\",\"\",IF(VLOOKUP(A1568,'Romaneio da Carga'!E:E,1,0)=BD!A1568,\"Volume Ok\",\"Volume não pertence a carga\")),\"Volume não pertence a carga\")","v":""}]
[null,{"$f":"IFERROR(IF(A1569=\"\",\"\",IF(VLOOKUP(A1569,'Romaneio da Carga'!E:E,1,0)=BD!A1569,\"Volume Ok\",\"Volume não pertence a carga\")),\"Volume não pertence a carga\")","v":""}]
[null,{"$f":"IFERROR(IF(A1570=\"\",\"\",IF(VLOOKUP(A1570,'Romaneio da Carga'!E:E,1,0)=BD!A1570,\"Volume Ok\",\"Volume não pertence a carga\")),\"Volume não pertence a carga\")","v":""}]
[null,{"$f":"IFERROR(IF(A1571=\"\",\"\",IF(VLOOKUP(A1571,'Romaneio da Carga'!E:E,1,0)=BD!A1571,\"Volume Ok\",\"Volume não pertence a carga\")),\"Volume não pertence a carga\")","v":""}]
[null,{"$f":"IFERROR(IF(A1572=\"\",\"\",IF(VLOOKUP(A1572,'Romaneio da Carga'!E:E,1,0)=BD!A1572,\"Volume Ok\",\"Volume não pertence a carga\")),\"Volume não pertence a carga\")","v":""}]
[null,{"$f":"IFERROR(IF(A1573=\"\",\"\",IF(VLOOKUP(A1573,'Romaneio da Carga'!E:E,1,0)=BD!A1573,\"Volume Ok\",\"Volume não pertence a carga\")),\"Volume não pertence a carga\")","v":""}]
[null,{"$f":"IFERROR(IF(A1574=\"\",\"\",IF(VLOOKUP(A1574,'Romaneio da Carga'!E:E,1,0)=BD!A1574,\"Volume Ok\",\"Volume não pertence a carga\")),\"Volume não pertence a carga\")","v":""}]
[null,{"$f":"IFERROR(IF(A1575=\"\",\"\",IF(VLOOKUP(A1575,'Romaneio da Carga'!E:E,1,0)=BD!A1575,\"Volume Ok\",\"Volume não pertence a carga\")),\"Volume não pertence a carga\")","v":""}]
[null,{"$f":"IFERROR(IF(A1576=\"\",\"\",IF(VLOOKUP(A1576,'Romaneio da Carga'!E:E,1,0)=BD!A1576,\"Volume Ok\",\"Volume não pertence a carga\")),\"Volume não pertence a carga\")","v":""}]
[null,{"$f":"IFERROR(IF(A1577=\"\",\"\",IF(VLOOKUP(A1577,'Romaneio da Carga'!E:E,1,0)=BD!A1577,\"Volume Ok\",\"Volume não pertence a carga\")),\"Volume não pertence a carga\")","v":""}]
[null,{"$f":"IFERROR(IF(A1578=\"\",\"\",IF(VLOOKUP(A1578,'Romaneio da Carga'!E:E,1,0)=BD!A1578,\"Volume Ok\",\"Volume não pertence a carga\")),\"Volume não pertence a carga\")","v":""}]
[null,{"$f":"IFERROR(IF(A1579=\"\",\"\",IF(VLOOKUP(A1579,'Romaneio da Carga'!E:E,1,0)=BD!A1579,\"Volume Ok\",\"Volume não pertence a carga\")),\"Volume não pertence a carga\")","v":""}]
[null,{"$f":"IFERROR(IF(A1580=\"\",\"\",IF(VLOOKUP(A1580,'Romaneio da Carga'!E:E,1,0)=BD!A1580,\"Volume Ok\",\"Volume não pertence a carga\")),\"Volume não pertence a carga\")","v":""}]
[null,{"$f":"IFERROR(IF(A1581=\"\",\"\",IF(VLOOKUP(A1581,'Romaneio da Carga'!E:E,1,0)=BD!A1581,\"Volume Ok\",\"Volume não pertence a carga\")),\"Volume não pertence a carga\")","v":""}]
[null,{"$f":"IFERROR(IF(A1582=\"\",\"\",IF(VLOOKUP(A1582,'Romaneio da Carga'!E:E,1,0)=BD!A1582,\"Volume Ok\",\"Volume não pertence a carga\")),\"Volume não pertence a carga\")","v":""}]
[null,{"$f":"IFERROR(IF(A1583=\"\",\"\",IF(VLOOKUP(A1583,'Romaneio da Carga'!E:E,1,0)=BD!A1583,\"Volume Ok\",\"Volume não pertence a carga\")),\"Volume não pertence a carga\")","v":""}]
[null,{"$f":"IFERROR(IF(A1584=\"\",\"\",IF(VLOOKUP(A1584,'Romaneio da Carga'!E:E,1,0)=BD!A1584,\"Volume Ok\",\"Volume não pertence a carga\")),\"Volume não pertence a carga\")","v":""}]
[null,{"$f":"IFERROR(IF(A1585=\"\",\"\",IF(VLOOKUP(A1585,'Romaneio da Carga'!E:E,1,0)=BD!A1585,\"Volume Ok\",\"Volume não pertence a carga\")),\"Volume não pertence a carga\")","v":""}]
[null,{"$f":"IFERROR(IF(A1586=\"\",\"\",IF(VLOOKUP(A1586,'Romaneio da Carga'!E:E,1,0)=BD!A1586,\"Volume Ok\",\"Volume não pertence a carga\")),\"Volume não pertence a carga\")","v":""}]
[null,{"$f":"IFERROR(IF(A1587=\"\",\"\",IF(VLOOKUP(A1587,'Romaneio da Carga'!E:E,1,0)=BD!A1587,\"Volume Ok\",\"Volume não pertence a carga\")),\"Volume não pertence a carga\")","v":""}]
[null,{"$f":"IFERROR(IF(A1588=\"\",\"\",IF(VLOOKUP(A1588,'Romaneio da Carga'!E:E,1,0)=BD!A1588,\"Volume Ok\",\"Volume não pertence a carga\")),\"Volume não pertence a carga\")","v":""}]
[null,{"$f":"IFERROR(IF(A1589=\"\",\"\",IF(VLOOKUP(A1589,'Romaneio da Carga'!E:E,1,0)=BD!A1589,\"Volume Ok\",\"Volume não pertence a carga\")),\"Volume não pertence a carga\")","v":""}]
[null,{"$f":"IFERROR(IF(A1590=\"\",\"\",IF(VLOOKUP(A1590,'Romaneio da Carga'!E:E,1,0)=BD!A1590,\"Volume Ok\",\"Volume não pertence a carga\")),\"Volume não pertence a carga\")","v":""}]
[null,{"$f":"IFERROR(IF(A1591=\"\",\"\",IF(VLOOKUP(A1591,'Romaneio da Carga'!E:E,1,0)=BD!A1591,\"Volume Ok\",\"Volume não pertence a carga\")),\"Volume não pertence a carga\")","v":""}]
[null,{"$f":"IFERROR(IF(A1592=\"\",\"\",IF(VLOOKUP(A1592,'Romaneio da Carga'!E:E,1,0)=BD!A1592,\"Volume Ok\",\"Volume não pertence a carga\")),\"Volume não pertence a carga\")","v":""}]
[null,{"$f":"IFERROR(IF(A1593=\"\",\"\",IF(VLOOKUP(A1593,'Romaneio da Carga'!E:E,1,0)=BD!A1593,\"Volume Ok\",\"Volume não pertence a carga\")),\"Volume não pertence a carga\")","v":""}]
[null,{"$f":"IFERROR(IF(A1594=\"\",\"\",IF(VLOOKUP(A1594,'Romaneio da Carga'!E:E,1,0)=BD!A1594,\"Volume Ok\",\"Volume não pertence a carga\")),\"Volume não pertence a carga\")","v":""}]
[null,{"$f":"IFERROR(IF(A1595=\"\",\"\",IF(VLOOKUP(A1595,'Romaneio da Carga'!E:E,1,0)=BD!A1595,\"Volume Ok\",\"Volume não pertence a carga\")),\"Volume não pertence a carga\")","v":""}]
[null,{"$f":"IFERROR(IF(A1596=\"\",\"\",IF(VLOOKUP(A1596,'Romaneio da Carga'!E:E,1,0)=BD!A1596,\"Volume Ok\",\"Volume não pertence a carga\")),\"Volume não pertence a carga\")","v":""}]
[null,{"$f":"IFERROR(IF(A1597=\"\",\"\",IF(VLOOKUP(A1597,'Romaneio da Carga'!E:E,1,0)=BD!A1597,\"Volume Ok\",\"Volume não pertence a carga\")),\"Volume não pertence a carga\")","v":""}]
[null,{"$f":"IFERROR(IF(A1598=\"\",\"\",IF(VLOOKUP(A1598,'Romaneio da Carga'!E:E,1,0)=BD!A1598,\"Volume Ok\",\"Volume não pertence a carga\")),\"Volume não pertence a carga\")","v":""}]
[null,{"$f":"IFERROR(IF(A1599=\"\",\"\",IF(VLOOKUP(A1599,'Romaneio da Carga'!E:E,1,0)=BD!A1599,\"Volume Ok\",\"Volume não pertence a carga\")),\"Volume não pertence a carga\")","v":""}]
[null,{"$f":"IFERROR(IF(A1600=\"\",\"\",IF(VLOOKUP(A1600,'Romaneio da Carga'!E:E,1,0)=BD!A1600,\"Volume Ok\",\"Volume não pertence a carga\")),\"Volume não pertence a carga\")","v":""}]
[null,{"$f":"IFERROR(IF(A1601=\"\",\"\",IF(VLOOKUP(A1601,'Romaneio da Carga'!E:E,1,0)=BD!A1601,\"Volume Ok\",\"Volume não pertence a carga\")),\"Volume não pertence a carga\")","v":""}]
[null,{"$f":"IFERROR(IF(A1602=\"\",\"\",IF(VLOOKUP(A1602,'Romaneio da Carga'!E:E,1,0)=BD!A1602,\"Volume Ok\",\"Volume não pertence a carga\")),\"Volume não pertence a carga\")","v":""}]
[null,{"$f":"IFERROR(IF(A1603=\"\",\"\",IF(VLOOKUP(A1603,'Romaneio da Carga'!E:E,1,0)=BD!A1603,\"Volume Ok\",\"Volume não pertence a carga\")),\"Volume não pertence a carga\")","v":""}]
[null,{"$f":"IFERROR(IF(A1604=\"\",\"\",IF(VLOOKUP(A1604,'Romaneio da Carga'!E:E,1,0)=BD!A1604,\"Volume Ok\",\"Volume não pertence a carga\")),\"Volume não pertence a carga\")","v":""}]
[null,{"$f":"IFERROR(IF(A1605=\"\",\"\",IF(VLOOKUP(A1605,'Romaneio da Carga'!E:E,1,0)=BD!A1605,\"Volume Ok\",\"Volume não pertence a carga\")),\"Volume não pertence a carga\")","v":""}]
[null,{"$f":"IFERROR(IF(A1606=\"\",\"\",IF(VLOOKUP(A1606,'Romaneio da Carga'!E:E,1,0)=BD!A1606,\"Volume Ok\",\"Volume não pertence a carga\")),\"Volume não pertence a carga\")","v":""}]
[null,{"$f":"IFERROR(IF(A1607=\"\",\"\",IF(VLOOKUP(A1607,'Romaneio da Carga'!E:E,1,0)=BD!A1607,\"Volume Ok\",\"Volume não pertence a carga\")),\"Volume não pertence a carga\")","v":""}]
[null,{"$f":"IFERROR(IF(A1608=\"\",\"\",IF(VLOOKUP(A1608,'Romaneio da Carga'!E:E,1,0)=BD!A1608,\"Volume Ok\",\"Volume não pertence a carga\")),\"Volume não pertence a carga\")","v":""}]
[null,{"$f":"IFERROR(IF(A1609=\"\",\"\",IF(VLOOKUP(A1609,'Romaneio da Carga'!E:E,1,0)=BD!A1609,\"Volume Ok\",\"Volume não pertence a carga\")),\"Volume não pertence a carga\")","v":""}]
[null,{"$f":"IFERROR(IF(A1610=\"\",\"\",IF(VLOOKUP(A1610,'Romaneio da Carga'!E:E,1,0)=BD!A1610,\"Volume Ok\",\"Volume não pertence a carga\")),\"Volume não pertence a carga\")","v":""}]
[null,{"$f":"IFERROR(IF(A1611=\"\",\"\",IF(VLOOKUP(A1611,'Romaneio da Carga'!E:E,1,0)=BD!A1611,\"Volume Ok\",\"Volume não pertence a carga\")),\"Volume não pertence a carga\")","v":""}]
[null,{"$f":"IFERROR(IF(A1612=\"\",\"\",IF(VLOOKUP(A1612,'Romaneio da Carga'!E:E,1,0)=BD!A1612,\"Volume Ok\",\"Volume não pertence a carga\")),\"Volume não pertence a carga\")","v":""}]
[null,{"$f":"IFERROR(IF(A1613=\"\",\"\",IF(VLOOKUP(A1613,'Romaneio da Carga'!E:E,1,0)=BD!A1613,\"Volume Ok\",\"Volume não pertence a carga\")),\"Volume não pertence a carga\")","v":""}]
[null,{"$f":"IFERROR(IF(A1614=\"\",\"\",IF(VLOOKUP(A1614,'Romaneio da Carga'!E:E,1,0)=BD!A1614,\"Volume Ok\",\"Volume não pertence a carga\")),\"Volume não pertence a carga\")","v":""}]
[null,{"$f":"IFERROR(IF(A1615=\"\",\"\",IF(VLOOKUP(A1615,'Romaneio da Carga'!E:E,1,0)=BD!A1615,\"Volume Ok\",\"Volume não pertence a carga\")),\"Volume não pertence a carga\")","v":""}]
[null,{"$f":"IFERROR(IF(A1616=\"\",\"\",IF(VLOOKUP(A1616,'Romaneio da Carga'!E:E,1,0)=BD!A1616,\"Volume Ok\",\"Volume não pertence a carga\")),\"Volume não pertence a carga\")","v":""}]
[null,{"$f":"IFERROR(IF(A1617=\"\",\"\",IF(VLOOKUP(A1617,'Romaneio da Carga'!E:E,1,0)=BD!A1617,\"Volume Ok\",\"Volume não pertence a carga\")),\"Volume não pertence a carga\")","v":""}]
[null,{"$f":"IFERROR(IF(A1618=\"\",\"\",IF(VLOOKUP(A1618,'Romaneio da Carga'!E:E,1,0)=BD!A1618,\"Volume Ok\",\"Volume não pertence a carga\")),\"Volume não pertence a carga\")","v":""}]
[null,{"$f":"IFERROR(IF(A1619=\"\",\"\",IF(VLOOKUP(A1619,'Romaneio da Carga'!E:E,1,0)=BD!A1619,\"Volume Ok\",\"Volume não pertence a carga\")),\"Volume não pertence a carga\")","v":""}]
[null,{"$f":"IFERROR(IF(A1620=\"\",\"\",IF(VLOOKUP(A1620,'Romaneio da Carga'!E:E,1,0)=BD!A1620,\"Volume Ok\",\"Volume não pertence a carga\")),\"Volume não pertence a carga\")","v":""}]
[null,{"$f":"IFERROR(IF(A1621=\"\",\"\",IF(VLOOKUP(A1621,'Romaneio da Carga'!E:E,1,0)=BD!A1621,\"Volume Ok\",\"Volume não pertence a carga\")),\"Volume não pertence a carga\")","v":""}]
[null,{"$f":"IFERROR(IF(A1622=\"\",\"\",IF(VLOOKUP(A1622,'Romaneio da Carga'!E:E,1,0)=BD!A1622,\"Volume Ok\",\"Volume não pertence a carga\")),\"Volume não pertence a carga\")","v":""}]
[null,{"$f":"IFERROR(IF(A1623=\"\",\"\",IF(VLOOKUP(A1623,'Romaneio da Carga'!E:E,1,0)=BD!A1623,\"Volume Ok\",\"Volume não pertence a carga\")),\"Volume não pertence a carga\")","v":""}]
[null,{"$f":"IFERROR(IF(A1624=\"\",\"\",IF(VLOOKUP(A1624,'Romaneio da Carga'!E:E,1,0)=BD!A1624,\"Volume Ok\",\"Volume não pertence a carga\")),\"Volume não pertence a carga\")","v":""}]
[null,{"$f":"IFERROR(IF(A1625=\"\",\"\",IF(VLOOKUP(A1625,'Romaneio da Carga'!E:E,1,0)=BD!A1625,\"Volume Ok\",\"Volume não pertence a carga\")),\"Volume não pertence a carga\")","v":""}]
[null,{"$f":"IFERROR(IF(A1626=\"\",\"\",IF(VLOOKUP(A1626,'Romaneio da Carga'!E:E,1,0)=BD!A1626,\"Volume Ok\",\"Volume não pertence a carga\")),\"Volume não pertence a carga\")","v":""}]
[null,{"$f":"IFERROR(IF(A1627=\"\",\"\",IF(VLOOKUP(A1627,'Romaneio da Carga'!E:E,1,0)=BD!A1627,\"Volume Ok\",\"Volume não pertence a carga\")),\"Volume não pertence a carga\")","v":""}]
[null,{"$f":"IFERROR(IF(A1628=\"\",\"\",IF(VLOOKUP(A1628,'Romaneio da Carga'!E:E,1,0)=BD!A1628,\"Volume Ok\",\"Volume não pertence a carga\")),\"Volume não pertence a carga\")","v":""}]
[null,{"$f":"IFERROR(IF(A1629=\"\",\"\",IF(VLOOKUP(A1629,'Romaneio da Carga'!E:E,1,0)=BD!A1629,\"Volume Ok\",\"Volume não pertence a carga\")),\"Volume não pertence a carga\")","v":""}]
[null,{"$f":"IFERROR(IF(A1630=\"\",\"\",IF(VLOOKUP(A1630,'Romaneio da Carga'!E:E,1,0)=BD!A1630,\"Volume Ok\",\"Volume não pertence a carga\")),\"Volume não pertence a carga\")","v":""}]
[null,{"$f":"IFERROR(IF(A1631=\"\",\"\",IF(VLOOKUP(A1631,'Romaneio da Carga'!E:E,1,0)=BD!A1631,\"Volume Ok\",\"Volume não pertence a carga\")),\"Volume não pertence a carga\")","v":""}]
[null,{"$f":"IFERROR(IF(A1632=\"\",\"\",IF(VLOOKUP(A1632,'Romaneio da Carga'!E:E,1,0)=BD!A1632,\"Volume Ok\",\"Volume não pertence a carga\")),\"Volume não pertence a carga\")","v":""}]
[null,{"$f":"IFERROR(IF(A1633=\"\",\"\",IF(VLOOKUP(A1633,'Romaneio da Carga'!E:E,1,0)=BD!A1633,\"Volume Ok\",\"Volume não pertence a carga\")),\"Volume não pertence a carga\")","v":""}]
[null,{"$f":"IFERROR(IF(A1634=\"\",\"\",IF(VLOOKUP(A1634,'Romaneio da Carga'!E:E,1,0)=BD!A1634,\"Volume Ok\",\"Volume não pertence a carga\")),\"Volume não pertence a carga\")","v":""}]
[null,{"$f":"IFERROR(IF(A1635=\"\",\"\",IF(VLOOKUP(A1635,'Romaneio da Carga'!E:E,1,0)=BD!A1635,\"Volume Ok\",\"Volume não pertence a carga\")),\"Volume não pertence a carga\")","v":""}]
[null,{"$f":"IFERROR(IF(A1636=\"\",\"\",IF(VLOOKUP(A1636,'Romaneio da Carga'!E:E,1,0)=BD!A1636,\"Volume Ok\",\"Volume não pertence a carga\")),\"Volume não pertence a carga\")","v":""}]
[null,{"$f":"IFERROR(IF(A1637=\"\",\"\",IF(VLOOKUP(A1637,'Romaneio da Carga'!E:E,1,0)=BD!A1637,\"Volume Ok\",\"Volume não pertence a carga\")),\"Volume não pertence a carga\")","v":""}]
[null,{"$f":"IFERROR(IF(A1638=\"\",\"\",IF(VLOOKUP(A1638,'Romaneio da Carga'!E:E,1,0)=BD!A1638,\"Volume Ok\",\"Volume não pertence a carga\")),\"Volume não pertence a carga\")","v":""}]
[null,{"$f":"IFERROR(IF(A1639=\"\",\"\",IF(VLOOKUP(A1639,'Romaneio da Carga'!E:E,1,0)=BD!A1639,\"Volume Ok\",\"Volume não pertence a carga\")),\"Volume não pertence a carga\")","v":""}]
[null,{"$f":"IFERROR(IF(A1640=\"\",\"\",IF(VLOOKUP(A1640,'Romaneio da Carga'!E:E,1,0)=BD!A1640,\"Volume Ok\",\"Volume não pertence a carga\")),\"Volume não pertence a carga\")","v":""}]
[null,{"$f":"IFERROR(IF(A1641=\"\",\"\",IF(VLOOKUP(A1641,'Romaneio da Carga'!E:E,1,0)=BD!A1641,\"Volume Ok\",\"Volume não pertence a carga\")),\"Volume não pertence a carga\")","v":""}]
[null,{"$f":"IFERROR(IF(A1642=\"\",\"\",IF(VLOOKUP(A1642,'Romaneio da Carga'!E:E,1,0)=BD!A1642,\"Volume Ok\",\"Volume não pertence a carga\")),\"Volume não pertence a carga\")","v":""}]
[null,{"$f":"IFERROR(IF(A1643=\"\",\"\",IF(VLOOKUP(A1643,'Romaneio da Carga'!E:E,1,0)=BD!A1643,\"Volume Ok\",\"Volume não pertence a carga\")),\"Volume não pertence a carga\")","v":""}]
[null,{"$f":"IFERROR(IF(A1644=\"\",\"\",IF(VLOOKUP(A1644,'Romaneio da Carga'!E:E,1,0)=BD!A1644,\"Volume Ok\",\"Volume não pertence a carga\")),\"Volume não pertence a carga\")","v":""}]
[null,{"$f":"IFERROR(IF(A1645=\"\",\"\",IF(VLOOKUP(A1645,'Romaneio da Carga'!E:E,1,0)=BD!A1645,\"Volume Ok\",\"Volume não pertence a carga\")),\"Volume não pertence a carga\")","v":""}]
[null,{"$f":"IFERROR(IF(A1646=\"\",\"\",IF(VLOOKUP(A1646,'Romaneio da Carga'!E:E,1,0)=BD!A1646,\"Volume Ok\",\"Volume não pertence a carga\")),\"Volume não pertence a carga\")","v":""}]
[null,{"$f":"IFERROR(IF(A1647=\"\",\"\",IF(VLOOKUP(A1647,'Romaneio da Carga'!E:E,1,0)=BD!A1647,\"Volume Ok\",\"Volume não pertence a carga\")),\"Volume não pertence a carga\")","v":""}]
[null,{"$f":"IFERROR(IF(A1648=\"\",\"\",IF(VLOOKUP(A1648,'Romaneio da Carga'!E:E,1,0)=BD!A1648,\"Volume Ok\",\"Volume não pertence a carga\")),\"Volume não pertence a carga\")","v":""}]
[null,{"$f":"IFERROR(IF(A1649=\"\",\"\",IF(VLOOKUP(A1649,'Romaneio da Carga'!E:E,1,0)=BD!A1649,\"Volume Ok\",\"Volume não pertence a carga\")),\"Volume não pertence a carga\")","v":""}]
[null,{"$f":"IFERROR(IF(A1650=\"\",\"\",IF(VLOOKUP(A1650,'Romaneio da Carga'!E:E,1,0)=BD!A1650,\"Volume Ok\",\"Volume não pertence a carga\")),\"Volume não pertence a carga\")","v":""}]
[null,{"$f":"IFERROR(IF(A1651=\"\",\"\",IF(VLOOKUP(A1651,'Romaneio da Carga'!E:E,1,0)=BD!A1651,\"Volume Ok\",\"Volume não pertence a carga\")),\"Volume não pertence a carga\")","v":""}]
[null,{"$f":"IFERROR(IF(A1652=\"\",\"\",IF(VLOOKUP(A1652,'Romaneio da Carga'!E:E,1,0)=BD!A1652,\"Volume Ok\",\"Volume não pertence a carga\")),\"Volume não pertence a carga\")","v":""}]
[null,{"$f":"IFERROR(IF(A1653=\"\",\"\",IF(VLOOKUP(A1653,'Romaneio da Carga'!E:E,1,0)=BD!A1653,\"Volume Ok\",\"Volume não pertence a carga\")),\"Volume não pertence a carga\")","v":""}]
[null,{"$f":"IFERROR(IF(A1654=\"\",\"\",IF(VLOOKUP(A1654,'Romaneio da Carga'!E:E,1,0)=BD!A1654,\"Volume Ok\",\"Volume não pertence a carga\")),\"Volume não pertence a carga\")","v":""}]
[null,{"$f":"IFERROR(IF(A1655=\"\",\"\",IF(VLOOKUP(A1655,'Romaneio da Carga'!E:E,1,0)=BD!A1655,\"Volume Ok\",\"Volume não pertence a carga\")),\"Volume não pertence a carga\")","v":""}]
[null,{"$f":"IFERROR(IF(A1656=\"\",\"\",IF(VLOOKUP(A1656,'Romaneio da Carga'!E:E,1,0)=BD!A1656,\"Volume Ok\",\"Volume não pertence a carga\")),\"Volume não pertence a carga\")","v":""}]
[null,{"$f":"IFERROR(IF(A1657=\"\",\"\",IF(VLOOKUP(A1657,'Romaneio da Carga'!E:E,1,0)=BD!A1657,\"Volume Ok\",\"Volume não pertence a carga\")),\"Volume não pertence a carga\")","v":""}]
[null,{"$f":"IFERROR(IF(A1658=\"\",\"\",IF(VLOOKUP(A1658,'Romaneio da Carga'!E:E,1,0)=BD!A1658,\"Volume Ok\",\"Volume não pertence a carga\")),\"Volume não pertence a carga\")","v":""}]
[null,{"$f":"IFERROR(IF(A1659=\"\",\"\",IF(VLOOKUP(A1659,'Romaneio da Carga'!E:E,1,0)=BD!A1659,\"Volume Ok\",\"Volume não pertence a carga\")),\"Volume não pertence a carga\")","v":""}]
[null,{"$f":"IFERROR(IF(A1660=\"\",\"\",IF(VLOOKUP(A1660,'Romaneio da Carga'!E:E,1,0)=BD!A1660,\"Volume Ok\",\"Volume não pertence a carga\")),\"Volume não pertence a carga\")","v":""}]
[null,{"$f":"IFERROR(IF(A1661=\"\",\"\",IF(VLOOKUP(A1661,'Romaneio da Carga'!E:E,1,0)=BD!A1661,\"Volume Ok\",\"Volume não pertence a carga\")),\"Volume não pertence a carga\")","v":""}]
[null,{"$f":"IFERROR(IF(A1662=\"\",\"\",IF(VLOOKUP(A1662,'Romaneio da Carga'!E:E,1,0)=BD!A1662,\"Volume Ok\",\"Volume não pertence a carga\")),\"Volume não pertence a carga\")","v":""}]
[null,{"$f":"IFERROR(IF(A1663=\"\",\"\",IF(VLOOKUP(A1663,'Romaneio da Carga'!E:E,1,0)=BD!A1663,\"Volume Ok\",\"Volume não pertence a carga\")),\"Volume não pertence a carga\")","v":""}]
[null,{"$f":"IFERROR(IF(A1664=\"\",\"\",IF(VLOOKUP(A1664,'Romaneio da Carga'!E:E,1,0)=BD!A1664,\"Volume Ok\",\"Volume não pertence a carga\")),\"Volume não pertence a carga\")","v":""}]
[null,{"$f":"IFERROR(IF(A1665=\"\",\"\",IF(VLOOKUP(A1665,'Romaneio da Carga'!E:E,1,0)=BD!A1665,\"Volume Ok\",\"Volume não pertence a carga\")),\"Volume não pertence a carga\")","v":""}]
[null,{"$f":"IFERROR(IF(A1666=\"\",\"\",IF(VLOOKUP(A1666,'Romaneio da Carga'!E:E,1,0)=BD!A1666,\"Volume Ok\",\"Volume não pertence a carga\")),\"Volume não pertence a carga\")","v":""}]
[null,{"$f":"IFERROR(IF(A1667=\"\",\"\",IF(VLOOKUP(A1667,'Romaneio da Carga'!E:E,1,0)=BD!A1667,\"Volume Ok\",\"Volume não pertence a carga\")),\"Volume não pertence a carga\")","v":""}]
[null,{"$f":"IFERROR(IF(A1668=\"\",\"\",IF(VLOOKUP(A1668,'Romaneio da Carga'!E:E,1,0)=BD!A1668,\"Volume Ok\",\"Volume não pertence a carga\")),\"Volume não pertence a carga\")","v":""}]
[null,{"$f":"IFERROR(IF(A1669=\"\",\"\",IF(VLOOKUP(A1669,'Romaneio da Carga'!E:E,1,0)=BD!A1669,\"Volume Ok\",\"Volume não pertence a carga\")),\"Volume não pertence a carga\")","v":""}]
[null,{"$f":"IFERROR(IF(A1670=\"\",\"\",IF(VLOOKUP(A1670,'Romaneio da Carga'!E:E,1,0)=BD!A1670,\"Volume Ok\",\"Volume não pertence a carga\")),\"Volume não pertence a carga\")","v":""}]
[null,{"$f":"IFERROR(IF(A1671=\"\",\"\",IF(VLOOKUP(A1671,'Romaneio da Carga'!E:E,1,0)=BD!A1671,\"Volume Ok\",\"Volume não pertence a carga\")),\"Volume não pertence a carga\")","v":""}]
[null,{"$f":"IFERROR(IF(A1672=\"\",\"\",IF(VLOOKUP(A1672,'Romaneio da Carga'!E:E,1,0)=BD!A1672,\"Volume Ok\",\"Volume não pertence a carga\")),\"Volume não pertence a carga\")","v":""}]
[null,{"$f":"IFERROR(IF(A1673=\"\",\"\",IF(VLOOKUP(A1673,'Romaneio da Carga'!E:E,1,0)=BD!A1673,\"Volume Ok\",\"Volume não pertence a carga\")),\"Volume não pertence a carga\")","v":""}]
[null,{"$f":"IFERROR(IF(A1674=\"\",\"\",IF(VLOOKUP(A1674,'Romaneio da Carga'!E:E,1,0)=BD!A1674,\"Volume Ok\",\"Volume não pertence a carga\")),\"Volume não pertence a carga\")","v":""}]
[null,{"$f":"IFERROR(IF(A1675=\"\",\"\",IF(VLOOKUP(A1675,'Romaneio da Carga'!E:E,1,0)=BD!A1675,\"Volume Ok\",\"Volume não pertence a carga\")),\"Volume não pertence a carga\")","v":""}]
[null,{"$f":"IFERROR(IF(A1676=\"\",\"\",IF(VLOOKUP(A1676,'Romaneio da Carga'!E:E,1,0)=BD!A1676,\"Volume Ok\",\"Volume não pertence a carga\")),\"Volume não pertence a carga\")","v":""}]
[null,{"$f":"IFERROR(IF(A1677=\"\",\"\",IF(VLOOKUP(A1677,'Romaneio da Carga'!E:E,1,0)=BD!A1677,\"Volume Ok\",\"Volume não pertence a carga\")),\"Volume não pertence a carga\")","v":""}]
[null,{"$f":"IFERROR(IF(A1678=\"\",\"\",IF(VLOOKUP(A1678,'Romaneio da Carga'!E:E,1,0)=BD!A1678,\"Volume Ok\",\"Volume não pertence a carga\")),\"Volume não pertence a carga\")","v":""}]
[null,{"$f":"IFERROR(IF(A1679=\"\",\"\",IF(VLOOKUP(A1679,'Romaneio da Carga'!E:E,1,0)=BD!A1679,\"Volume Ok\",\"Volume não pertence a carga\")),\"Volume não pertence a carga\")","v":""}]
[null,{"$f":"IFERROR(IF(A1680=\"\",\"\",IF(VLOOKUP(A1680,'Romaneio da Carga'!E:E,1,0)=BD!A1680,\"Volume Ok\",\"Volume não pertence a carga\")),\"Volume não pertence a carga\")","v":""}]
[null,{"$f":"IFERROR(IF(A1681=\"\",\"\",IF(VLOOKUP(A1681,'Romaneio da Carga'!E:E,1,0)=BD!A1681,\"Volume Ok\",\"Volume não pertence a carga\")),\"Volume não pertence a carga\")","v":""}]
[null,{"$f":"IFERROR(IF(A1682=\"\",\"\",IF(VLOOKUP(A1682,'Romaneio da Carga'!E:E,1,0)=BD!A1682,\"Volume Ok\",\"Volume não pertence a carga\")),\"Volume não pertence a carga\")","v":""}]
[null,{"$f":"IFERROR(IF(A1683=\"\",\"\",IF(VLOOKUP(A1683,'Romaneio da Carga'!E:E,1,0)=BD!A1683,\"Volume Ok\",\"Volume não pertence a carga\")),\"Volume não pertence a carga\")","v":""}]
[null,{"$f":"IFERROR(IF(A1684=\"\",\"\",IF(VLOOKUP(A1684,'Romaneio da Carga'!E:E,1,0)=BD!A1684,\"Volume Ok\",\"Volume não pertence a carga\")),\"Volume não pertence a carga\")","v":""}]
[null,{"$f":"IFERROR(IF(A1685=\"\",\"\",IF(VLOOKUP(A1685,'Romaneio da Carga'!E:E,1,0)=BD!A1685,\"Volume Ok\",\"Volume não pertence a carga\")),\"Volume não pertence a carga\")","v":""}]
[null,{"$f":"IFERROR(IF(A1686=\"\",\"\",IF(VLOOKUP(A1686,'Romaneio da Carga'!E:E,1,0)=BD!A1686,\"Volume Ok\",\"Volume não pertence a carga\")),\"Volume não pertence a carga\")","v":""}]
[null,{"$f":"IFERROR(IF(A1687=\"\",\"\",IF(VLOOKUP(A1687,'Romaneio da Carga'!E:E,1,0)=BD!A1687,\"Volume Ok\",\"Volume não pertence a carga\")),\"Volume não pertence a carga\")","v":""}]
[null,{"$f":"IFERROR(IF(A1688=\"\",\"\",IF(VLOOKUP(A1688,'Romaneio da Carga'!E:E,1,0)=BD!A1688,\"Volume Ok\",\"Volume não pertence a carga\")),\"Volume não pertence a carga\")","v":""}]
[null,{"$f":"IFERROR(IF(A1689=\"\",\"\",IF(VLOOKUP(A1689,'Romaneio da Carga'!E:E,1,0)=BD!A1689,\"Volume Ok\",\"Volume não pertence a carga\")),\"Volume não pertence a carga\")","v":""}]
[null,{"$f":"IFERROR(IF(A1690=\"\",\"\",IF(VLOOKUP(A1690,'Romaneio da Carga'!E:E,1,0)=BD!A1690,\"Volume Ok\",\"Volume não pertence a carga\")),\"Volume não pertence a carga\")","v":""}]
[null,{"$f":"IFERROR(IF(A1691=\"\",\"\",IF(VLOOKUP(A1691,'Romaneio da Carga'!E:E,1,0)=BD!A1691,\"Volume Ok\",\"Volume não pertence a carga\")),\"Volume não pertence a carga\")","v":""}]
[null,{"$f":"IFERROR(IF(A1692=\"\",\"\",IF(VLOOKUP(A1692,'Romaneio da Carga'!E:E,1,0)=BD!A1692,\"Volume Ok\",\"Volume não pertence a carga\")),\"Volume não pertence a carga\")","v":""}]
[null,{"$f":"IFERROR(IF(A1693=\"\",\"\",IF(VLOOKUP(A1693,'Romaneio da Carga'!E:E,1,0)=BD!A1693,\"Volume Ok\",\"Volume não pertence a carga\")),\"Volume não pertence a carga\")","v":""}]
[null,{"$f":"IFERROR(IF(A1694=\"\",\"\",IF(VLOOKUP(A1694,'Romaneio da Carga'!E:E,1,0)=BD!A1694,\"Volume Ok\",\"Volume não pertence a carga\")),\"Volume não pertence a carga\")","v":""}]
[null,{"$f":"IFERROR(IF(A1695=\"\",\"\",IF(VLOOKUP(A1695,'Romaneio da Carga'!E:E,1,0)=BD!A1695,\"Volume Ok\",\"Volume não pertence a carga\")),\"Volume não pertence a carga\")","v":""}]
[null,{"$f":"IFERROR(IF(A1696=\"\",\"\",IF(VLOOKUP(A1696,'Romaneio da Carga'!E:E,1,0)=BD!A1696,\"Volume Ok\",\"Volume não pertence a carga\")),\"Volume não pertence a carga\")","v":""}]
[null,{"$f":"IFERROR(IF(A1697=\"\",\"\",IF(VLOOKUP(A1697,'Romaneio da Carga'!E:E,1,0)=BD!A1697,\"Volume Ok\",\"Volume não pertence a carga\")),\"Volume não pertence a carga\")","v":""}]
[null,{"$f":"IFERROR(IF(A1698=\"\",\"\",IF(VLOOKUP(A1698,'Romaneio da Carga'!E:E,1,0)=BD!A1698,\"Volume Ok\",\"Volume não pertence a carga\")),\"Volume não pertence a carga\")","v":""}]
[null,{"$f":"IFERROR(IF(A1699=\"\",\"\",IF(VLOOKUP(A1699,'Romaneio da Carga'!E:E,1,0)=BD!A1699,\"Volume Ok\",\"Volume não pertence a carga\")),\"Volume não pertence a carga\")","v":""}]
[null,{"$f":"IFERROR(IF(A1700=\"\",\"\",IF(VLOOKUP(A1700,'Romaneio da Carga'!E:E,1,0)=BD!A1700,\"Volume Ok\",\"Volume não pertence a carga\")),\"Volume não pertence a carga\")","v":""}]
[null,{"$f":"IFERROR(IF(A1701=\"\",\"\",IF(VLOOKUP(A1701,'Romaneio da Carga'!E:E,1,0)=BD!A1701,\"Volume Ok\",\"Volume não pertence a carga\")),\"Volume não pertence a carga\")","v":""}]
[null,{"$f":"IFERROR(IF(A1702=\"\",\"\",IF(VLOOKUP(A1702,'Romaneio da Carga'!E:E,1,0)=BD!A1702,\"Volume Ok\",\"Volume não pertence a carga\")),\"Volume não pertence a carga\")","v":""}]
[null,{"$f":"IFERROR(IF(A1703=\"\",\"\",IF(VLOOKUP(A1703,'Romaneio da Carga'!E:E,1,0)=BD!A1703,\"Volume Ok\",\"Volume não pertence a carga\")),\"Volume não pertence a carga\")","v":""}]
[null,{"$f":"IFERROR(IF(A1704=\"\",\"\",IF(VLOOKUP(A1704,'Romaneio da Carga'!E:E,1,0)=BD!A1704,\"Volume Ok\",\"Volume não pertence a carga\")),\"Volume não pertence a carga\")","v":""}]
[null,{"$f":"IFERROR(IF(A1705=\"\",\"\",IF(VLOOKUP(A1705,'Romaneio da Carga'!E:E,1,0)=BD!A1705,\"Volume Ok\",\"Volume não pertence a carga\")),\"Volume não pertence a carga\")","v":""}]
[null,{"$f":"IFERROR(IF(A1706=\"\",\"\",IF(VLOOKUP(A1706,'Romaneio da Carga'!E:E,1,0)=BD!A1706,\"Volume Ok\",\"Volume não pertence a carga\")),\"Volume não pertence a carga\")","v":""}]
[null,{"$f":"IFERROR(IF(A1707=\"\",\"\",IF(VLOOKUP(A1707,'Romaneio da Carga'!E:E,1,0)=BD!A1707,\"Volume Ok\",\"Volume não pertence a carga\")),\"Volume não pertence a carga\")","v":""}]
[null,{"$f":"IFERROR(IF(A1708=\"\",\"\",IF(VLOOKUP(A1708,'Romaneio da Carga'!E:E,1,0)=BD!A1708,\"Volume Ok\",\"Volume não pertence a carga\")),\"Volume não pertence a carga\")","v":""}]
[null,{"$f":"IFERROR(IF(A1709=\"\",\"\",IF(VLOOKUP(A1709,'Romaneio da Carga'!E:E,1,0)=BD!A1709,\"Volume Ok\",\"Volume não pertence a carga\")),\"Volume não pertence a carga\")","v":""}]
[null,{"$f":"IFERROR(IF(A1710=\"\",\"\",IF(VLOOKUP(A1710,'Romaneio da Carga'!E:E,1,0)=BD!A1710,\"Volume Ok\",\"Volume não pertence a carga\")),\"Volume não pertence a carga\")","v":""}]
[null,{"$f":"IFERROR(IF(A1711=\"\",\"\",IF(VLOOKUP(A1711,'Romaneio da Carga'!E:E,1,0)=BD!A1711,\"Volume Ok\",\"Volume não pertence a carga\")),\"Volume não pertence a carga\")","v":""}]
[null,{"$f":"IFERROR(IF(A1712=\"\",\"\",IF(VLOOKUP(A1712,'Romaneio da Carga'!E:E,1,0)=BD!A1712,\"Volume Ok\",\"Volume não pertence a carga\")),\"Volume não pertence a carga\")","v":""}]
[null,{"$f":"IFERROR(IF(A1713=\"\",\"\",IF(VLOOKUP(A1713,'Romaneio da Carga'!E:E,1,0)=BD!A1713,\"Volume Ok\",\"Volume não pertence a carga\")),\"Volume não pertence a carga\")","v":""}]
[null,{"$f":"IFERROR(IF(A1714=\"\",\"\",IF(VLOOKUP(A1714,'Romaneio da Carga'!E:E,1,0)=BD!A1714,\"Volume Ok\",\"Volume não pertence a carga\")),\"Volume não pertence a carga\")","v":""}]
[null,{"$f":"IFERROR(IF(A1715=\"\",\"\",IF(VLOOKUP(A1715,'Romaneio da Carga'!E:E,1,0)=BD!A1715,\"Volume Ok\",\"Volume não pertence a carga\")),\"Volume não pertence a carga\")","v":""}]
[null,{"$f":"IFERROR(IF(A1716=\"\",\"\",IF(VLOOKUP(A1716,'Romaneio da Carga'!E:E,1,0)=BD!A1716,\"Volume Ok\",\"Volume não pertence a carga\")),\"Volume não pertence a carga\")","v":""}]
[null,{"$f":"IFERROR(IF(A1717=\"\",\"\",IF(VLOOKUP(A1717,'Romaneio da Carga'!E:E,1,0)=BD!A1717,\"Volume Ok\",\"Volume não pertence a carga\")),\"Volume não pertence a carga\")","v":""}]
[null,{"$f":"IFERROR(IF(A1718=\"\",\"\",IF(VLOOKUP(A1718,'Romaneio da Carga'!E:E,1,0)=BD!A1718,\"Volume Ok\",\"Volume não pertence a carga\")),\"Volume não pertence a carga\")","v":""}]
[null,{"$f":"IFERROR(IF(A1719=\"\",\"\",IF(VLOOKUP(A1719,'Romaneio da Carga'!E:E,1,0)=BD!A1719,\"Volume Ok\",\"Volume não pertence a carga\")),\"Volume não pertence a carga\")","v":""}]
[null,{"$f":"IFERROR(IF(A1720=\"\",\"\",IF(VLOOKUP(A1720,'Romaneio da Carga'!E:E,1,0)=BD!A1720,\"Volume Ok\",\"Volume não pertence a carga\")),\"Volume não pertence a carga\")","v":""}]
[null,{"$f":"IFERROR(IF(A1721=\"\",\"\",IF(VLOOKUP(A1721,'Romaneio da Carga'!E:E,1,0)=BD!A1721,\"Volume Ok\",\"Volume não pertence a carga\")),\"Volume não pertence a carga\")","v":""}]
[null,{"$f":"IFERROR(IF(A1722=\"\",\"\",IF(VLOOKUP(A1722,'Romaneio da Carga'!E:E,1,0)=BD!A1722,\"Volume Ok\",\"Volume não pertence a carga\")),\"Volume não pertence a carga\")","v":""}]
[null,{"$f":"IFERROR(IF(A1723=\"\",\"\",IF(VLOOKUP(A1723,'Romaneio da Carga'!E:E,1,0)=BD!A1723,\"Volume Ok\",\"Volume não pertence a carga\")),\"Volume não pertence a carga\")","v":""}]
[null,{"$f":"IFERROR(IF(A1724=\"\",\"\",IF(VLOOKUP(A1724,'Romaneio da Carga'!E:E,1,0)=BD!A1724,\"Volume Ok\",\"Volume não pertence a carga\")),\"Volume não pertence a carga\")","v":""}]
[null,{"$f":"IFERROR(IF(A1725=\"\",\"\",IF(VLOOKUP(A1725,'Romaneio da Carga'!E:E,1,0)=BD!A1725,\"Volume Ok\",\"Volume não pertence a carga\")),\"Volume não pertence a carga\")","v":""}]
[null,{"$f":"IFERROR(IF(A1726=\"\",\"\",IF(VLOOKUP(A1726,'Romaneio da Carga'!E:E,1,0)=BD!A1726,\"Volume Ok\",\"Volume não pertence a carga\")),\"Volume não pertence a carga\")","v":""}]
[null,{"$f":"IFERROR(IF(A1727=\"\",\"\",IF(VLOOKUP(A1727,'Romaneio da Carga'!E:E,1,0)=BD!A1727,\"Volume Ok\",\"Volume não pertence a carga\")),\"Volume não pertence a carga\")","v":""}]
[null,{"$f":"IFERROR(IF(A1728=\"\",\"\",IF(VLOOKUP(A1728,'Romaneio da Carga'!E:E,1,0)=BD!A1728,\"Volume Ok\",\"Volume não pertence a carga\")),\"Volume não pertence a carga\")","v":""}]
[null,{"$f":"IFERROR(IF(A1729=\"\",\"\",IF(VLOOKUP(A1729,'Romaneio da Carga'!E:E,1,0)=BD!A1729,\"Volume Ok\",\"Volume não pertence a carga\")),\"Volume não pertence a carga\")","v":""}]
[null,{"$f":"IFERROR(IF(A1730=\"\",\"\",IF(VLOOKUP(A1730,'Romaneio da Carga'!E:E,1,0)=BD!A1730,\"Volume Ok\",\"Volume não pertence a carga\")),\"Volume não pertence a carga\")","v":""}]
[null,{"$f":"IFERROR(IF(A1731=\"\",\"\",IF(VLOOKUP(A1731,'Romaneio da Carga'!E:E,1,0)=BD!A1731,\"Volume Ok\",\"Volume não pertence a carga\")),\"Volume não pertence a carga\")","v":""}]
[null,{"$f":"IFERROR(IF(A1732=\"\",\"\",IF(VLOOKUP(A1732,'Romaneio da Carga'!E:E,1,0)=BD!A1732,\"Volume Ok\",\"Volume não pertence a carga\")),\"Volume não pertence a carga\")","v":""}]
[null,{"$f":"IFERROR(IF(A1733=\"\",\"\",IF(VLOOKUP(A1733,'Romaneio da Carga'!E:E,1,0)=BD!A1733,\"Volume Ok\",\"Volume não pertence a carga\")),\"Volume não pertence a carga\")","v":""}]
[null,{"$f":"IFERROR(IF(A1734=\"\",\"\",IF(VLOOKUP(A1734,'Romaneio da Carga'!E:E,1,0)=BD!A1734,\"Volume Ok\",\"Volume não pertence a carga\")),\"Volume não pertence a carga\")","v":""}]
[null,{"$f":"IFERROR(IF(A1735=\"\",\"\",IF(VLOOKUP(A1735,'Romaneio da Carga'!E:E,1,0)=BD!A1735,\"Volume Ok\",\"Volume não pertence a carga\")),\"Volume não pertence a carga\")","v":""}]
[null,{"$f":"IFERROR(IF(A1736=\"\",\"\",IF(VLOOKUP(A1736,'Romaneio da Carga'!E:E,1,0)=BD!A1736,\"Volume Ok\",\"Volume não pertence a carga\")),\"Volume não pertence a carga\")","v":""}]
[null,{"$f":"IFERROR(IF(A1737=\"\",\"\",IF(VLOOKUP(A1737,'Romaneio da Carga'!E:E,1,0)=BD!A1737,\"Volume Ok\",\"Volume não pertence a carga\")),\"Volume não pertence a carga\")","v":""}]
[null,{"$f":"IFERROR(IF(A1738=\"\",\"\",IF(VLOOKUP(A1738,'Romaneio da Carga'!E:E,1,0)=BD!A1738,\"Volume Ok\",\"Volume não pertence a carga\")),\"Volume não pertence a carga\")","v":""}]
[null,{"$f":"IFERROR(IF(A1739=\"\",\"\",IF(VLOOKUP(A1739,'Romaneio da Carga'!E:E,1,0)=BD!A1739,\"Volume Ok\",\"Volume não pertence a carga\")),\"Volume não pertence a carga\")","v":""}]
[null,{"$f":"IFERROR(IF(A1740=\"\",\"\",IF(VLOOKUP(A1740,'Romaneio da Carga'!E:E,1,0)=BD!A1740,\"Volume Ok\",\"Volume não pertence a carga\")),\"Volume não pertence a carga\")","v":""}]
[null,{"$f":"IFERROR(IF(A1741=\"\",\"\",IF(VLOOKUP(A1741,'Romaneio da Carga'!E:E,1,0)=BD!A1741,\"Volume Ok\",\"Volume não pertence a carga\")),\"Volume não pertence a carga\")","v":""}]
[null,{"$f":"IFERROR(IF(A1742=\"\",\"\",IF(VLOOKUP(A1742,'Romaneio da Carga'!E:E,1,0)=BD!A1742,\"Volume Ok\",\"Volume não pertence a carga\")),\"Volume não pertence a carga\")","v":""}]
[null,{"$f":"IFERROR(IF(A1743=\"\",\"\",IF(VLOOKUP(A1743,'Romaneio da Carga'!E:E,1,0)=BD!A1743,\"Volume Ok\",\"Volume não pertence a carga\")),\"Volume não pertence a carga\")","v":""}]
[null,{"$f":"IFERROR(IF(A1744=\"\",\"\",IF(VLOOKUP(A1744,'Romaneio da Carga'!E:E,1,0)=BD!A1744,\"Volume Ok\",\"Volume não pertence a carga\")),\"Volume não pertence a carga\")","v":""}]
[null,{"$f":"IFERROR(IF(A1745=\"\",\"\",IF(VLOOKUP(A1745,'Romaneio da Carga'!E:E,1,0)=BD!A1745,\"Volume Ok\",\"Volume não pertence a carga\")),\"Volume não pertence a carga\")","v":""}]
[null,{"$f":"IFERROR(IF(A1746=\"\",\"\",IF(VLOOKUP(A1746,'Romaneio da Carga'!E:E,1,0)=BD!A1746,\"Volume Ok\",\"Volume não pertence a carga\")),\"Volume não pertence a carga\")","v":""}]
[null,{"$f":"IFERROR(IF(A1747=\"\",\"\",IF(VLOOKUP(A1747,'Romaneio da Carga'!E:E,1,0)=BD!A1747,\"Volume Ok\",\"Volume não pertence a carga\")),\"Volume não pertence a carga\")","v":""}]
[null,{"$f":"IFERROR(IF(A1748=\"\",\"\",IF(VLOOKUP(A1748,'Romaneio da Carga'!E:E,1,0)=BD!A1748,\"Volume Ok\",\"Volume não pertence a carga\")),\"Volume não pertence a carga\")","v":""}]
[null,{"$f":"IFERROR(IF(A1749=\"\",\"\",IF(VLOOKUP(A1749,'Romaneio da Carga'!E:E,1,0)=BD!A1749,\"Volume Ok\",\"Volume não pertence a carga\")),\"Volume não pertence a carga\")","v":""}]
[null,{"$f":"IFERROR(IF(A1750=\"\",\"\",IF(VLOOKUP(A1750,'Romaneio da Carga'!E:E,1,0)=BD!A1750,\"Volume Ok\",\"Volume não pertence a carga\")),\"Volume não pertence a carga\")","v":""}]
[null,{"$f":"IFERROR(IF(A1751=\"\",\"\",IF(VLOOKUP(A1751,'Romaneio da Carga'!E:E,1,0)=BD!A1751,\"Volume Ok\",\"Volume não pertence a carga\")),\"Volume não pertence a carga\")","v":""}]
[null,{"$f":"IFERROR(IF(A1752=\"\",\"\",IF(VLOOKUP(A1752,'Romaneio da Carga'!E:E,1,0)=BD!A1752,\"Volume Ok\",\"Volume não pertence a carga\")),\"Volume não pertence a carga\")","v":""}]
[null,{"$f":"IFERROR(IF(A1753=\"\",\"\",IF(VLOOKUP(A1753,'Romaneio da Carga'!E:E,1,0)=BD!A1753,\"Volume Ok\",\"Volume não pertence a carga\")),\"Volume não pertence a carga\")","v":""}]
[null,{"$f":"IFERROR(IF(A1754=\"\",\"\",IF(VLOOKUP(A1754,'Romaneio da Carga'!E:E,1,0)=BD!A1754,\"Volume Ok\",\"Volume não pertence a carga\")),\"Volume não pertence a carga\")","v":""}]
[null,{"$f":"IFERROR(IF(A1755=\"\",\"\",IF(VLOOKUP(A1755,'Romaneio da Carga'!E:E,1,0)=BD!A1755,\"Volume Ok\",\"Volume não pertence a carga\")),\"Volume não pertence a carga\")","v":""}]
[null,{"$f":"IFERROR(IF(A1756=\"\",\"\",IF(VLOOKUP(A1756,'Romaneio da Carga'!E:E,1,0)=BD!A1756,\"Volume Ok\",\"Volume não pertence a carga\")),\"Volume não pertence a carga\")","v":""}]
[null,{"$f":"IFERROR(IF(A1757=\"\",\"\",IF(VLOOKUP(A1757,'Romaneio da Carga'!E:E,1,0)=BD!A1757,\"Volume Ok\",\"Volume não pertence a carga\")),\"Volume não pertence a carga\")","v":""}]
[null,{"$f":"IFERROR(IF(A1758=\"\",\"\",IF(VLOOKUP(A1758,'Romaneio da Carga'!E:E,1,0)=BD!A1758,\"Volume Ok\",\"Volume não pertence a carga\")),\"Volume não pertence a carga\")","v":""}]
[null,{"$f":"IFERROR(IF(A1759=\"\",\"\",IF(VLOOKUP(A1759,'Romaneio da Carga'!E:E,1,0)=BD!A1759,\"Volume Ok\",\"Volume não pertence a carga\")),\"Volume não pertence a carga\")","v":""}]
[null,{"$f":"IFERROR(IF(A1760=\"\",\"\",IF(VLOOKUP(A1760,'Romaneio da Carga'!E:E,1,0)=BD!A1760,\"Volume Ok\",\"Volume não pertence a carga\")),\"Volume não pertence a carga\")","v":""}]
[null,{"$f":"IFERROR(IF(A1761=\"\",\"\",IF(VLOOKUP(A1761,'Romaneio da Carga'!E:E,1,0)=BD!A1761,\"Volume Ok\",\"Volume não pertence a carga\")),\"Volume não pertence a carga\")","v":""}]
[null,{"$f":"IFERROR(IF(A1762=\"\",\"\",IF(VLOOKUP(A1762,'Romaneio da Carga'!E:E,1,0)=BD!A1762,\"Volume Ok\",\"Volume não pertence a carga\")),\"Volume não pertence a carga\")","v":""}]
[null,{"$f":"IFERROR(IF(A1763=\"\",\"\",IF(VLOOKUP(A1763,'Romaneio da Carga'!E:E,1,0)=BD!A1763,\"Volume Ok\",\"Volume não pertence a carga\")),\"Volume não pertence a carga\")","v":""}]
[null,{"$f":"IFERROR(IF(A1764=\"\",\"\",IF(VLOOKUP(A1764,'Romaneio da Carga'!E:E,1,0)=BD!A1764,\"Volume Ok\",\"Volume não pertence a carga\")),\"Volume não pertence a carga\")","v":""}]
[null,{"$f":"IFERROR(IF(A1765=\"\",\"\",IF(VLOOKUP(A1765,'Romaneio da Carga'!E:E,1,0)=BD!A1765,\"Volume Ok\",\"Volume não pertence a carga\")),\"Volume não pertence a carga\")","v":""}]
[null,{"$f":"IFERROR(IF(A1766=\"\",\"\",IF(VLOOKUP(A1766,'Romaneio da Carga'!E:E,1,0)=BD!A1766,\"Volume Ok\",\"Volume não pertence a carga\")),\"Volume não pertence a carga\")","v":""}]
[null,{"$f":"IFERROR(IF(A1767=\"\",\"\",IF(VLOOKUP(A1767,'Romaneio da Carga'!E:E,1,0)=BD!A1767,\"Volume Ok\",\"Volume não pertence a carga\")),\"Volume não pertence a carga\")","v":""}]
[null,{"$f":"IFERROR(IF(A1768=\"\",\"\",IF(VLOOKUP(A1768,'Romaneio da Carga'!E:E,1,0)=BD!A1768,\"Volume Ok\",\"Volume não pertence a carga\")),\"Volume não pertence a carga\")","v":""}]
[null,{"$f":"IFERROR(IF(A1769=\"\",\"\",IF(VLOOKUP(A1769,'Romaneio da Carga'!E:E,1,0)=BD!A1769,\"Volume Ok\",\"Volume não pertence a carga\")),\"Volume não pertence a carga\")","v":""}]
[null,{"$f":"IFERROR(IF(A1770=\"\",\"\",IF(VLOOKUP(A1770,'Romaneio da Carga'!E:E,1,0)=BD!A1770,\"Volume Ok\",\"Volume não pertence a carga\")),\"Volume não pertence a carga\")","v":""}]
[null,{"$f":"IFERROR(IF(A1771=\"\",\"\",IF(VLOOKUP(A1771,'Romaneio da Carga'!E:E,1,0)=BD!A1771,\"Volume Ok\",\"Volume não pertence a carga\")),\"Volume não pertence a carga\")","v":""}]
[null,{"$f":"IFERROR(IF(A1772=\"\",\"\",IF(VLOOKUP(A1772,'Romaneio da Carga'!E:E,1,0)=BD!A1772,\"Volume Ok\",\"Volume não pertence a carga\")),\"Volume não pertence a carga\")","v":""}]
[null,{"$f":"IFERROR(IF(A1773=\"\",\"\",IF(VLOOKUP(A1773,'Romaneio da Carga'!E:E,1,0)=BD!A1773,\"Volume Ok\",\"Volume não pertence a carga\")),\"Volume não pertence a carga\")","v":""}]
[null,{"$f":"IFERROR(IF(A1774=\"\",\"\",IF(VLOOKUP(A1774,'Romaneio da Carga'!E:E,1,0)=BD!A1774,\"Volume Ok\",\"Volume não pertence a carga\")),\"Volume não pertence a carga\")","v":""}]
[null,{"$f":"IFERROR(IF(A1775=\"\",\"\",IF(VLOOKUP(A1775,'Romaneio da Carga'!E:E,1,0)=BD!A1775,\"Volume Ok\",\"Volume não pertence a carga\")),\"Volume não pertence a carga\")","v":""}]
[null,{"$f":"IFERROR(IF(A1776=\"\",\"\",IF(VLOOKUP(A1776,'Romaneio da Carga'!E:E,1,0)=BD!A1776,\"Volume Ok\",\"Volume não pertence a carga\")),\"Volume não pertence a carga\")","v":""}]
[null,{"$f":"IFERROR(IF(A1777=\"\",\"\",IF(VLOOKUP(A1777,'Romaneio da Carga'!E:E,1,0)=BD!A1777,\"Volume Ok\",\"Volume não pertence a carga\")),\"Volume não pertence a carga\")","v":""}]
[null,{"$f":"IFERROR(IF(A1778=\"\",\"\",IF(VLOOKUP(A1778,'Romaneio da Carga'!E:E,1,0)=BD!A1778,\"Volume Ok\",\"Volume não pertence a carga\")),\"Volume não pertence a carga\")","v":""}]
[null,{"$f":"IFERROR(IF(A1779=\"\",\"\",IF(VLOOKUP(A1779,'Romaneio da Carga'!E:E,1,0)=BD!A1779,\"Volume Ok\",\"Volume não pertence a carga\")),\"Volume não pertence a carga\")","v":""}]
[null,{"$f":"IFERROR(IF(A1780=\"\",\"\",IF(VLOOKUP(A1780,'Romaneio da Carga'!E:E,1,0)=BD!A1780,\"Volume Ok\",\"Volume não pertence a carga\")),\"Volume não pertence a carga\")","v":""}]
[null,{"$f":"IFERROR(IF(A1781=\"\",\"\",IF(VLOOKUP(A1781,'Romaneio da Carga'!E:E,1,0)=BD!A1781,\"Volume Ok\",\"Volume não pertence a carga\")),\"Volume não pertence a carga\")","v":""}]
[null,{"$f":"IFERROR(IF(A1782=\"\",\"\",IF(VLOOKUP(A1782,'Romaneio da Carga'!E:E,1,0)=BD!A1782,\"Volume Ok\",\"Volume não pertence a carga\")),\"Volume não pertence a carga\")","v":""}]
[null,{"$f":"IFERROR(IF(A1783=\"\",\"\",IF(VLOOKUP(A1783,'Romaneio da Carga'!E:E,1,0)=BD!A1783,\"Volume Ok\",\"Volume não pertence a carga\")),\"Volume não pertence a carga\")","v":""}]
[null,{"$f":"IFERROR(IF(A1784=\"\",\"\",IF(VLOOKUP(A1784,'Romaneio da Carga'!E:E,1,0)=BD!A1784,\"Volume Ok\",\"Volume não pertence a carga\")),\"Volume não pertence a carga\")","v":""}]
[null,{"$f":"IFERROR(IF(A1785=\"\",\"\",IF(VLOOKUP(A1785,'Romaneio da Carga'!E:E,1,0)=BD!A1785,\"Volume Ok\",\"Volume não pertence a carga\")),\"Volume não pertence a carga\")","v":""}]
[null,{"$f":"IFERROR(IF(A1786=\"\",\"\",IF(VLOOKUP(A1786,'Romaneio da Carga'!E:E,1,0)=BD!A1786,\"Volume Ok\",\"Volume não pertence a carga\")),\"Volume não pertence a carga\")","v":""}]
[null,{"$f":"IFERROR(IF(A1787=\"\",\"\",IF(VLOOKUP(A1787,'Romaneio da Carga'!E:E,1,0)=BD!A1787,\"Volume Ok\",\"Volume não pertence a carga\")),\"Volume não pertence a carga\")","v":""}]
[null,{"$f":"IFERROR(IF(A1788=\"\",\"\",IF(VLOOKUP(A1788,'Romaneio da Carga'!E:E,1,0)=BD!A1788,\"Volume Ok\",\"Volume não pertence a carga\")),\"Volume não pertence a carga\")","v":""}]
[null,{"$f":"IFERROR(IF(A1789=\"\",\"\",IF(VLOOKUP(A1789,'Romaneio da Carga'!E:E,1,0)=BD!A1789,\"Volume Ok\",\"Volume não pertence a carga\")),\"Volume não pertence a carga\")","v":""}]
[null,{"$f":"IFERROR(IF(A1790=\"\",\"\",IF(VLOOKUP(A1790,'Romaneio da Carga'!E:E,1,0)=BD!A1790,\"Volume Ok\",\"Volume não pertence a carga\")),\"Volume não pertence a carga\")","v":""}]
[null,{"$f":"IFERROR(IF(A1791=\"\",\"\",IF(VLOOKUP(A1791,'Romaneio da Carga'!E:E,1,0)=BD!A1791,\"Volume Ok\",\"Volume não pertence a carga\")),\"Volume não pertence a carga\")","v":""}]
[null,{"$f":"IFERROR(IF(A1792=\"\",\"\",IF(VLOOKUP(A1792,'Romaneio da Carga'!E:E,1,0)=BD!A1792,\"Volume Ok\",\"Volume não pertence a carga\")),\"Volume não pertence a carga\")","v":""}]
[null,{"$f":"IFERROR(IF(A1793=\"\",\"\",IF(VLOOKUP(A1793,'Romaneio da Carga'!E:E,1,0)=BD!A1793,\"Volume Ok\",\"Volume não pertence a carga\")),\"Volume não pertence a carga\")","v":""}]
[null,{"$f":"IFERROR(IF(A1794=\"\",\"\",IF(VLOOKUP(A1794,'Romaneio da Carga'!E:E,1,0)=BD!A1794,\"Volume Ok\",\"Volume não pertence a carga\")),\"Volume não pertence a carga\")","v":""}]
[null,{"$f":"IFERROR(IF(A1795=\"\",\"\",IF(VLOOKUP(A1795,'Romaneio da Carga'!E:E,1,0)=BD!A1795,\"Volume Ok\",\"Volume não pertence a carga\")),\"Volume não pertence a carga\")","v":""}]
[null,{"$f":"IFERROR(IF(A1796=\"\",\"\",IF(VLOOKUP(A1796,'Romaneio da Carga'!E:E,1,0)=BD!A1796,\"Volume Ok\",\"Volume não pertence a carga\")),\"Volume não pertence a carga\")","v":""}]
[null,{"$f":"IFERROR(IF(A1797=\"\",\"\",IF(VLOOKUP(A1797,'Romaneio da Carga'!E:E,1,0)=BD!A1797,\"Volume Ok\",\"Volume não pertence a carga\")),\"Volume não pertence a carga\")","v":""}]
[null,{"$f":"IFERROR(IF(A1798=\"\",\"\",IF(VLOOKUP(A1798,'Romaneio da Carga'!E:E,1,0)=BD!A1798,\"Volume Ok\",\"Volume não pertence a carga\")),\"Volume não pertence a carga\")","v":""}]
[null,{"$f":"IFERROR(IF(A1799=\"\",\"\",IF(VLOOKUP(A1799,'Romaneio da Carga'!E:E,1,0)=BD!A1799,\"Volume Ok\",\"Volume não pertence a carga\")),\"Volume não pertence a carga\")","v":""}]
[null,{"$f":"IFERROR(IF(A1800=\"\",\"\",IF(VLOOKUP(A1800,'Romaneio da Carga'!E:E,1,0)=BD!A1800,\"Volume Ok\",\"Volume não pertence a carga\")),\"Volume não pertence a carga\")","v":""}]
[null,{"$f":"IFERROR(IF(A1801=\"\",\"\",IF(VLOOKUP(A1801,'Romaneio da Carga'!E:E,1,0)=BD!A1801,\"Volume Ok\",\"Volume não pertence a carga\")),\"Volume não pertence a carga\")","v":""}]
[null,{"$f":"IFERROR(IF(A1802=\"\",\"\",IF(VLOOKUP(A1802,'Romaneio da Carga'!E:E,1,0)=BD!A1802,\"Volume Ok\",\"Volume não pertence a carga\")),\"Volume não pertence a carga\")","v":""}]
[null,{"$f":"IFERROR(IF(A1803=\"\",\"\",IF(VLOOKUP(A1803,'Romaneio da Carga'!E:E,1,0)=BD!A1803,\"Volume Ok\",\"Volume não pertence a carga\")),\"Volume não pertence a carga\")","v":""}]
[null,{"$f":"IFERROR(IF(A1804=\"\",\"\",IF(VLOOKUP(A1804,'Romaneio da Carga'!E:E,1,0)=BD!A1804,\"Volume Ok\",\"Volume não pertence a carga\")),\"Volume não pertence a carga\")","v":""}]
[null,{"$f":"IFERROR(IF(A1805=\"\",\"\",IF(VLOOKUP(A1805,'Romaneio da Carga'!E:E,1,0)=BD!A1805,\"Volume Ok\",\"Volume não pertence a carga\")),\"Volume não pertence a carga\")","v":""}]
[null,{"$f":"IFERROR(IF(A1806=\"\",\"\",IF(VLOOKUP(A1806,'Romaneio da Carga'!E:E,1,0)=BD!A1806,\"Volume Ok\",\"Volume não pertence a carga\")),\"Volume não pertence a carga\")","v":""}]
[null,{"$f":"IFERROR(IF(A1807=\"\",\"\",IF(VLOOKUP(A1807,'Romaneio da Carga'!E:E,1,0)=BD!A1807,\"Volume Ok\",\"Volume não pertence a carga\")),\"Volume não pertence a carga\")","v":""}]
[null,{"$f":"IFERROR(IF(A1808=\"\",\"\",IF(VLOOKUP(A1808,'Romaneio da Carga'!E:E,1,0)=BD!A1808,\"Volume Ok\",\"Volume não pertence a carga\")),\"Volume não pertence a carga\")","v":""}]
[null,{"$f":"IFERROR(IF(A1809=\"\",\"\",IF(VLOOKUP(A1809,'Romaneio da Carga'!E:E,1,0)=BD!A1809,\"Volume Ok\",\"Volume não pertence a carga\")),\"Volume não pertence a carga\")","v":""}]
[null,{"$f":"IFERROR(IF(A1810=\"\",\"\",IF(VLOOKUP(A1810,'Romaneio da Carga'!E:E,1,0)=BD!A1810,\"Volume Ok\",\"Volume não pertence a carga\")),\"Volume não pertence a carga\")","v":""}]
[null,{"$f":"IFERROR(IF(A1811=\"\",\"\",IF(VLOOKUP(A1811,'Romaneio da Carga'!E:E,1,0)=BD!A1811,\"Volume Ok\",\"Volume não pertence a carga\")),\"Volume não pertence a carga\")","v":""}]
[null,{"$f":"IFERROR(IF(A1812=\"\",\"\",IF(VLOOKUP(A1812,'Romaneio da Carga'!E:E,1,0)=BD!A1812,\"Volume Ok\",\"Volume não pertence a carga\")),\"Volume não pertence a carga\")","v":""}]
[null,{"$f":"IFERROR(IF(A1813=\"\",\"\",IF(VLOOKUP(A1813,'Romaneio da Carga'!E:E,1,0)=BD!A1813,\"Volume Ok\",\"Volume não pertence a carga\")),\"Volume não pertence a carga\")","v":""}]
[null,{"$f":"IFERROR(IF(A1814=\"\",\"\",IF(VLOOKUP(A1814,'Romaneio da Carga'!E:E,1,0)=BD!A1814,\"Volume Ok\",\"Volume não pertence a carga\")),\"Volume não pertence a carga\")","v":""}]
[null,{"$f":"IFERROR(IF(A1815=\"\",\"\",IF(VLOOKUP(A1815,'Romaneio da Carga'!E:E,1,0)=BD!A1815,\"Volume Ok\",\"Volume não pertence a carga\")),\"Volume não pertence a carga\")","v":""}]
[null,{"$f":"IFERROR(IF(A1816=\"\",\"\",IF(VLOOKUP(A1816,'Romaneio da Carga'!E:E,1,0)=BD!A1816,\"Volume Ok\",\"Volume não pertence a carga\")),\"Volume não pertence a carga\")","v":""}]
[null,{"$f":"IFERROR(IF(A1817=\"\",\"\",IF(VLOOKUP(A1817,'Romaneio da Carga'!E:E,1,0)=BD!A1817,\"Volume Ok\",\"Volume não pertence a carga\")),\"Volume não pertence a carga\")","v":""}]
[null,{"$f":"IFERROR(IF(A1818=\"\",\"\",IF(VLOOKUP(A1818,'Romaneio da Carga'!E:E,1,0)=BD!A1818,\"Volume Ok\",\"Volume não pertence a carga\")),\"Volume não pertence a carga\")","v":""}]
[null,{"$f":"IFERROR(IF(A1819=\"\",\"\",IF(VLOOKUP(A1819,'Romaneio da Carga'!E:E,1,0)=BD!A1819,\"Volume Ok\",\"Volume não pertence a carga\")),\"Volume não pertence a carga\")","v":""}]
[null,{"$f":"IFERROR(IF(A1820=\"\",\"\",IF(VLOOKUP(A1820,'Romaneio da Carga'!E:E,1,0)=BD!A1820,\"Volume Ok\",\"Volume não pertence a carga\")),\"Volume não pertence a carga\")","v":""}]
[null,{"$f":"IFERROR(IF(A1821=\"\",\"\",IF(VLOOKUP(A1821,'Romaneio da Carga'!E:E,1,0)=BD!A1821,\"Volume Ok\",\"Volume não pertence a carga\")),\"Volume não pertence a carga\")","v":""}]
[null,{"$f":"IFERROR(IF(A1822=\"\",\"\",IF(VLOOKUP(A1822,'Romaneio da Carga'!E:E,1,0)=BD!A1822,\"Volume Ok\",\"Volume não pertence a carga\")),\"Volume não pertence a carga\")","v":""}]
[null,{"$f":"IFERROR(IF(A1823=\"\",\"\",IF(VLOOKUP(A1823,'Romaneio da Carga'!E:E,1,0)=BD!A1823,\"Volume Ok\",\"Volume não pertence a carga\")),\"Volume não pertence a carga\")","v":""}]
[null,{"$f":"IFERROR(IF(A1824=\"\",\"\",IF(VLOOKUP(A1824,'Romaneio da Carga'!E:E,1,0)=BD!A1824,\"Volume Ok\",\"Volume não pertence a carga\")),\"Volume não pertence a carga\")","v":""}]
[null,{"$f":"IFERROR(IF(A1825=\"\",\"\",IF(VLOOKUP(A1825,'Romaneio da Carga'!E:E,1,0)=BD!A1825,\"Volume Ok\",\"Volume não pertence a carga\")),\"Volume não pertence a carga\")","v":""}]
[null,{"$f":"IFERROR(IF(A1826=\"\",\"\",IF(VLOOKUP(A1826,'Romaneio da Carga'!E:E,1,0)=BD!A1826,\"Volume Ok\",\"Volume não pertence a carga\")),\"Volume não pertence a carga\")","v":""}]
[null,{"$f":"IFERROR(IF(A1827=\"\",\"\",IF(VLOOKUP(A1827,'Romaneio da Carga'!E:E,1,0)=BD!A1827,\"Volume Ok\",\"Volume não pertence a carga\")),\"Volume não pertence a carga\")","v":""}]
[null,{"$f":"IFERROR(IF(A1828=\"\",\"\",IF(VLOOKUP(A1828,'Romaneio da Carga'!E:E,1,0)=BD!A1828,\"Volume Ok\",\"Volume não pertence a carga\")),\"Volume não pertence a carga\")","v":""}]
[null,{"$f":"IFERROR(IF(A1829=\"\",\"\",IF(VLOOKUP(A1829,'Romaneio da Carga'!E:E,1,0)=BD!A1829,\"Volume Ok\",\"Volume não pertence a carga\")),\"Volume não pertence a carga\")","v":""}]
[null,{"$f":"IFERROR(IF(A1830=\"\",\"\",IF(VLOOKUP(A1830,'Romaneio da Carga'!E:E,1,0)=BD!A1830,\"Volume Ok\",\"Volume não pertence a carga\")),\"Volume não pertence a carga\")","v":""}]
[null,{"$f":"IFERROR(IF(A1831=\"\",\"\",IF(VLOOKUP(A1831,'Romaneio da Carga'!E:E,1,0)=BD!A1831,\"Volume Ok\",\"Volume não pertence a carga\")),\"Volume não pertence a carga\")","v":""}]
[null,{"$f":"IFERROR(IF(A1832=\"\",\"\",IF(VLOOKUP(A1832,'Romaneio da Carga'!E:E,1,0)=BD!A1832,\"Volume Ok\",\"Volume não pertence a carga\")),\"Volume não pertence a carga\")","v":""}]
[null,{"$f":"IFERROR(IF(A1833=\"\",\"\",IF(VLOOKUP(A1833,'Romaneio da Carga'!E:E,1,0)=BD!A1833,\"Volume Ok\",\"Volume não pertence a carga\")),\"Volume não pertence a carga\")","v":""}]
[null,{"$f":"IFERROR(IF(A1834=\"\",\"\",IF(VLOOKUP(A1834,'Romaneio da Carga'!E:E,1,0)=BD!A1834,\"Volume Ok\",\"Volume não pertence a carga\")),\"Volume não pertence a carga\")","v":""}]
[null,{"$f":"IFERROR(IF(A1835=\"\",\"\",IF(VLOOKUP(A1835,'Romaneio da Carga'!E:E,1,0)=BD!A1835,\"Volume Ok\",\"Volume não pertence a carga\")),\"Volume não pertence a carga\")","v":""}]
[null,{"$f":"IFERROR(IF(A1836=\"\",\"\",IF(VLOOKUP(A1836,'Romaneio da Carga'!E:E,1,0)=BD!A1836,\"Volume Ok\",\"Volume não pertence a carga\")),\"Volume não pertence a carga\")","v":""}]
[null,{"$f":"IFERROR(IF(A1837=\"\",\"\",IF(VLOOKUP(A1837,'Romaneio da Carga'!E:E,1,0)=BD!A1837,\"Volume Ok\",\"Volume não pertence a carga\")),\"Volume não pertence a carga\")","v":""}]
[null,{"$f":"IFERROR(IF(A1838=\"\",\"\",IF(VLOOKUP(A1838,'Romaneio da Carga'!E:E,1,0)=BD!A1838,\"Volume Ok\",\"Volume não pertence a carga\")),\"Volume não pertence a carga\")","v":""}]
[null,{"$f":"IFERROR(IF(A1839=\"\",\"\",IF(VLOOKUP(A1839,'Romaneio da Carga'!E:E,1,0)=BD!A1839,\"Volume Ok\",\"Volume não pertence a carga\")),\"Volume não pertence a carga\")","v":""}]
[null,{"$f":"IFERROR(IF(A1840=\"\",\"\",IF(VLOOKUP(A1840,'Romaneio da Carga'!E:E,1,0)=BD!A1840,\"Volume Ok\",\"Volume não pertence a carga\")),\"Volume não pertence a carga\")","v":""}]
[null,{"$f":"IFERROR(IF(A1841=\"\",\"\",IF(VLOOKUP(A1841,'Romaneio da Carga'!E:E,1,0)=BD!A1841,\"Volume Ok\",\"Volume não pertence a carga\")),\"Volume não pertence a carga\")","v":""}]
[null,{"$f":"IFERROR(IF(A1842=\"\",\"\",IF(VLOOKUP(A1842,'Romaneio da Carga'!E:E,1,0)=BD!A1842,\"Volume Ok\",\"Volume não pertence a carga\")),\"Volume não pertence a carga\")","v":""}]
[null,{"$f":"IFERROR(IF(A1843=\"\",\"\",IF(VLOOKUP(A1843,'Romaneio da Carga'!E:E,1,0)=BD!A1843,\"Volume Ok\",\"Volume não pertence a carga\")),\"Volume não pertence a carga\")","v":""}]
[null,{"$f":"IFERROR(IF(A1844=\"\",\"\",IF(VLOOKUP(A1844,'Romaneio da Carga'!E:E,1,0)=BD!A1844,\"Volume Ok\",\"Volume não pertence a carga\")),\"Volume não pertence a carga\")","v":""}]
[null,{"$f":"IFERROR(IF(A1845=\"\",\"\",IF(VLOOKUP(A1845,'Romaneio da Carga'!E:E,1,0)=BD!A1845,\"Volume Ok\",\"Volume não pertence a carga\")),\"Volume não pertence a carga\")","v":""}]
[null,{"$f":"IFERROR(IF(A1846=\"\",\"\",IF(VLOOKUP(A1846,'Romaneio da Carga'!E:E,1,0)=BD!A1846,\"Volume Ok\",\"Volume não pertence a carga\")),\"Volume não pertence a carga\")","v":""}]
[null,{"$f":"IFERROR(IF(A1847=\"\",\"\",IF(VLOOKUP(A1847,'Romaneio da Carga'!E:E,1,0)=BD!A1847,\"Volume Ok\",\"Volume não pertence a carga\")),\"Volume não pertence a carga\")","v":""}]
[null,{"$f":"IFERROR(IF(A1848=\"\",\"\",IF(VLOOKUP(A1848,'Romaneio da Carga'!E:E,1,0)=BD!A1848,\"Volume Ok\",\"Volume não pertence a carga\")),\"Volume não pertence a carga\")","v":""}]
[null,{"$f":"IFERROR(IF(A1849=\"\",\"\",IF(VLOOKUP(A1849,'Romaneio da Carga'!E:E,1,0)=BD!A1849,\"Volume Ok\",\"Volume não pertence a carga\")),\"Volume não pertence a carga\")","v":""}]
[null,{"$f":"IFERROR(IF(A1850=\"\",\"\",IF(VLOOKUP(A1850,'Romaneio da Carga'!E:E,1,0)=BD!A1850,\"Volume Ok\",\"Volume não pertence a carga\")),\"Volume não pertence a carga\")","v":""}]
[null,{"$f":"IFERROR(IF(A1851=\"\",\"\",IF(VLOOKUP(A1851,'Romaneio da Carga'!E:E,1,0)=BD!A1851,\"Volume Ok\",\"Volume não pertence a carga\")),\"Volume não pertence a carga\")","v":""}]
[null,{"$f":"IFERROR(IF(A1852=\"\",\"\",IF(VLOOKUP(A1852,'Romaneio da Carga'!E:E,1,0)=BD!A1852,\"Volume Ok\",\"Volume não pertence a carga\")),\"Volume não pertence a carga\")","v":""}]
[null,{"$f":"IFERROR(IF(A1853=\"\",\"\",IF(VLOOKUP(A1853,'Romaneio da Carga'!E:E,1,0)=BD!A1853,\"Volume Ok\",\"Volume não pertence a carga\")),\"Volume não pertence a carga\")","v":""}]
[null,{"$f":"IFERROR(IF(A1854=\"\",\"\",IF(VLOOKUP(A1854,'Romaneio da Carga'!E:E,1,0)=BD!A1854,\"Volume Ok\",\"Volume não pertence a carga\")),\"Volume não pertence a carga\")","v":""}]
[null,{"$f":"IFERROR(IF(A1855=\"\",\"\",IF(VLOOKUP(A1855,'Romaneio da Carga'!E:E,1,0)=BD!A1855,\"Volume Ok\",\"Volume não pertence a carga\")),\"Volume não pertence a carga\")","v":""}]
[null,{"$f":"IFERROR(IF(A1856=\"\",\"\",IF(VLOOKUP(A1856,'Romaneio da Carga'!E:E,1,0)=BD!A1856,\"Volume Ok\",\"Volume não pertence a carga\")),\"Volume não pertence a carga\")","v":""}]
[null,{"$f":"IFERROR(IF(A1857=\"\",\"\",IF(VLOOKUP(A1857,'Romaneio da Carga'!E:E,1,0)=BD!A1857,\"Volume Ok\",\"Volume não pertence a carga\")),\"Volume não pertence a carga\")","v":""}]
[null,{"$f":"IFERROR(IF(A1858=\"\",\"\",IF(VLOOKUP(A1858,'Romaneio da Carga'!E:E,1,0)=BD!A1858,\"Volume Ok\",\"Volume não pertence a carga\")),\"Volume não pertence a carga\")","v":""}]
[null,{"$f":"IFERROR(IF(A1859=\"\",\"\",IF(VLOOKUP(A1859,'Romaneio da Carga'!E:E,1,0)=BD!A1859,\"Volume Ok\",\"Volume não pertence a carga\")),\"Volume não pertence a carga\")","v":""}]
[null,{"$f":"IFERROR(IF(A1860=\"\",\"\",IF(VLOOKUP(A1860,'Romaneio da Carga'!E:E,1,0)=BD!A1860,\"Volume Ok\",\"Volume não pertence a carga\")),\"Volume não pertence a carga\")","v":""}]
[null,{"$f":"IFERROR(IF(A1861=\"\",\"\",IF(VLOOKUP(A1861,'Romaneio da Carga'!E:E,1,0)=BD!A1861,\"Volume Ok\",\"Volume não pertence a carga\")),\"Volume não pertence a carga\")","v":""}]
[null,{"$f":"IFERROR(IF(A1862=\"\",\"\",IF(VLOOKUP(A1862,'Romaneio da Carga'!E:E,1,0)=BD!A1862,\"Volume Ok\",\"Volume não pertence a carga\")),\"Volume não pertence a carga\")","v":""}]
[null,{"$f":"IFERROR(IF(A1863=\"\",\"\",IF(VLOOKUP(A1863,'Romaneio da Carga'!E:E,1,0)=BD!A1863,\"Volume Ok\",\"Volume não pertence a carga\")),\"Volume não pertence a carga\")","v":""}]
[null,{"$f":"IFERROR(IF(A1864=\"\",\"\",IF(VLOOKUP(A1864,'Romaneio da Carga'!E:E,1,0)=BD!A1864,\"Volume Ok\",\"Volume não pertence a carga\")),\"Volume não pertence a carga\")","v":""}]
[null,{"$f":"IFERROR(IF(A1865=\"\",\"\",IF(VLOOKUP(A1865,'Romaneio da Carga'!E:E,1,0)=BD!A1865,\"Volume Ok\",\"Volume não pertence a carga\")),\"Volume não pertence a carga\")","v":""}]
[null,{"$f":"IFERROR(IF(A1866=\"\",\"\",IF(VLOOKUP(A1866,'Romaneio da Carga'!E:E,1,0)=BD!A1866,\"Volume Ok\",\"Volume não pertence a carga\")),\"Volume não pertence a carga\")","v":""}]
[null,{"$f":"IFERROR(IF(A1867=\"\",\"\",IF(VLOOKUP(A1867,'Romaneio da Carga'!E:E,1,0)=BD!A1867,\"Volume Ok\",\"Volume não pertence a carga\")),\"Volume não pertence a carga\")","v":""}]
[null,{"$f":"IFERROR(IF(A1868=\"\",\"\",IF(VLOOKUP(A1868,'Romaneio da Carga'!E:E,1,0)=BD!A1868,\"Volume Ok\",\"Volume não pertence a carga\")),\"Volume não pertence a carga\")","v":""}]
[null,{"$f":"IFERROR(IF(A1869=\"\",\"\",IF(VLOOKUP(A1869,'Romaneio da Carga'!E:E,1,0)=BD!A1869,\"Volume Ok\",\"Volume não pertence a carga\")),\"Volume não pertence a carga\")","v":""}]
[null,{"$f":"IFERROR(IF(A1870=\"\",\"\",IF(VLOOKUP(A1870,'Romaneio da Carga'!E:E,1,0)=BD!A1870,\"Volume Ok\",\"Volume não pertence a carga\")),\"Volume não pertence a carga\")","v":""}]
[null,{"$f":"IFERROR(IF(A1871=\"\",\"\",IF(VLOOKUP(A1871,'Romaneio da Carga'!E:E,1,0)=BD!A1871,\"Volume Ok\",\"Volume não pertence a carga\")),\"Volume não pertence a carga\")","v":""}]
[null,{"$f":"IFERROR(IF(A1872=\"\",\"\",IF(VLOOKUP(A1872,'Romaneio da Carga'!E:E,1,0)=BD!A1872,\"Volume Ok\",\"Volume não pertence a carga\")),\"Volume não pertence a carga\")","v":""}]
[null,{"$f":"IFERROR(IF(A1873=\"\",\"\",IF(VLOOKUP(A1873,'Romaneio da Carga'!E:E,1,0)=BD!A1873,\"Volume Ok\",\"Volume não pertence a carga\")),\"Volume não pertence a carga\")","v":""}]
[null,{"$f":"IFERROR(IF(A1874=\"\",\"\",IF(VLOOKUP(A1874,'Romaneio da Carga'!E:E,1,0)=BD!A1874,\"Volume Ok\",\"Volume não pertence a carga\")),\"Volume não pertence a carga\")","v":""}]
[null,{"$f":"IFERROR(IF(A1875=\"\",\"\",IF(VLOOKUP(A1875,'Romaneio da Carga'!E:E,1,0)=BD!A1875,\"Volume Ok\",\"Volume não pertence a carga\")),\"Volume não pertence a carga\")","v":""}]
[null,{"$f":"IFERROR(IF(A1876=\"\",\"\",IF(VLOOKUP(A1876,'Romaneio da Carga'!E:E,1,0)=BD!A1876,\"Volume Ok\",\"Volume não pertence a carga\")),\"Volume não pertence a carga\")","v":""}]
[null,{"$f":"IFERROR(IF(A1877=\"\",\"\",IF(VLOOKUP(A1877,'Romaneio da Carga'!E:E,1,0)=BD!A1877,\"Volume Ok\",\"Volume não pertence a carga\")),\"Volume não pertence a carga\")","v":""}]
[null,{"$f":"IFERROR(IF(A1878=\"\",\"\",IF(VLOOKUP(A1878,'Romaneio da Carga'!E:E,1,0)=BD!A1878,\"Volume Ok\",\"Volume não pertence a carga\")),\"Volume não pertence a carga\")","v":""}]
[null,{"$f":"IFERROR(IF(A1879=\"\",\"\",IF(VLOOKUP(A1879,'Romaneio da Carga'!E:E,1,0)=BD!A1879,\"Volume Ok\",\"Volume não pertence a carga\")),\"Volume não pertence a carga\")","v":""}]
[null,{"$f":"IFERROR(IF(A1880=\"\",\"\",IF(VLOOKUP(A1880,'Romaneio da Carga'!E:E,1,0)=BD!A1880,\"Volume Ok\",\"Volume não pertence a carga\")),\"Volume não pertence a carga\")","v":""}]
[null,{"$f":"IFERROR(IF(A1881=\"\",\"\",IF(VLOOKUP(A1881,'Romaneio da Carga'!E:E,1,0)=BD!A1881,\"Volume Ok\",\"Volume não pertence a carga\")),\"Volume não pertence a carga\")","v":""}]
[null,{"$f":"IFERROR(IF(A1882=\"\",\"\",IF(VLOOKUP(A1882,'Romaneio da Carga'!E:E,1,0)=BD!A1882,\"Volume Ok\",\"Volume não pertence a carga\")),\"Volume não pertence a carga\")","v":""}]
[null,{"$f":"IFERROR(IF(A1883=\"\",\"\",IF(VLOOKUP(A1883,'Romaneio da Carga'!E:E,1,0)=BD!A1883,\"Volume Ok\",\"Volume não pertence a carga\")),\"Volume não pertence a carga\")","v":""}]
[null,{"$f":"IFERROR(IF(A1884=\"\",\"\",IF(VLOOKUP(A1884,'Romaneio da Carga'!E:E,1,0)=BD!A1884,\"Volume Ok\",\"Volume não pertence a carga\")),\"Volume não pertence a carga\")","v":""}]
[null,{"$f":"IFERROR(IF(A1885=\"\",\"\",IF(VLOOKUP(A1885,'Romaneio da Carga'!E:E,1,0)=BD!A1885,\"Volume Ok\",\"Volume não pertence a carga\")),\"Volume não pertence a carga\")","v":""}]
[null,{"$f":"IFERROR(IF(A1886=\"\",\"\",IF(VLOOKUP(A1886,'Romaneio da Carga'!E:E,1,0)=BD!A1886,\"Volume Ok\",\"Volume não pertence a carga\")),\"Volume não pertence a carga\")","v":""}]
[null,{"$f":"IFERROR(IF(A1887=\"\",\"\",IF(VLOOKUP(A1887,'Romaneio da Carga'!E:E,1,0)=BD!A1887,\"Volume Ok\",\"Volume não pertence a carga\")),\"Volume não pertence a carga\")","v":""}]
[null,{"$f":"IFERROR(IF(A1888=\"\",\"\",IF(VLOOKUP(A1888,'Romaneio da Carga'!E:E,1,0)=BD!A1888,\"Volume Ok\",\"Volume não pertence a carga\")),\"Volume não pertence a carga\")","v":""}]
[null,{"$f":"IFERROR(IF(A1889=\"\",\"\",IF(VLOOKUP(A1889,'Romaneio da Carga'!E:E,1,0)=BD!A1889,\"Volume Ok\",\"Volume não pertence a carga\")),\"Volume não pertence a carga\")","v":""}]
[null,{"$f":"IFERROR(IF(A1890=\"\",\"\",IF(VLOOKUP(A1890,'Romaneio da Carga'!E:E,1,0)=BD!A1890,\"Volume Ok\",\"Volume não pertence a carga\")),\"Volume não pertence a carga\")","v":""}]
[null,{"$f":"IFERROR(IF(A1891=\"\",\"\",IF(VLOOKUP(A1891,'Romaneio da Carga'!E:E,1,0)=BD!A1891,\"Volume Ok\",\"Volume não pertence a carga\")),\"Volume não pertence a carga\")","v":""}]
[null,{"$f":"IFERROR(IF(A1892=\"\",\"\",IF(VLOOKUP(A1892,'Romaneio da Carga'!E:E,1,0)=BD!A1892,\"Volume Ok\",\"Volume não pertence a carga\")),\"Volume não pertence a carga\")","v":""}]
[null,{"$f":"IFERROR(IF(A1893=\"\",\"\",IF(VLOOKUP(A1893,'Romaneio da Carga'!E:E,1,0)=BD!A1893,\"Volume Ok\",\"Volume não pertence a carga\")),\"Volume não pertence a carga\")","v":""}]
[null,{"$f":"IFERROR(IF(A1894=\"\",\"\",IF(VLOOKUP(A1894,'Romaneio da Carga'!E:E,1,0)=BD!A1894,\"Volume Ok\",\"Volume não pertence a carga\")),\"Volume não pertence a carga\")","v":""}]
[null,{"$f":"IFERROR(IF(A1895=\"\",\"\",IF(VLOOKUP(A1895,'Romaneio da Carga'!E:E,1,0)=BD!A1895,\"Volume Ok\",\"Volume não pertence a carga\")),\"Volume não pertence a carga\")","v":""}]
[null,{"$f":"IFERROR(IF(A1896=\"\",\"\",IF(VLOOKUP(A1896,'Romaneio da Carga'!E:E,1,0)=BD!A1896,\"Volume Ok\",\"Volume não pertence a carga\")),\"Volume não pertence a carga\")","v":""}]
[null,{"$f":"IFERROR(IF(A1897=\"\",\"\",IF(VLOOKUP(A1897,'Romaneio da Carga'!E:E,1,0)=BD!A1897,\"Volume Ok\",\"Volume não pertence a carga\")),\"Volume não pertence a carga\")","v":""}]
[null,{"$f":"IFERROR(IF(A1898=\"\",\"\",IF(VLOOKUP(A1898,'Romaneio da Carga'!E:E,1,0)=BD!A1898,\"Volume Ok\",\"Volume não pertence a carga\")),\"Volume não pertence a carga\")","v":""}]
[null,{"$f":"IFERROR(IF(A1899=\"\",\"\",IF(VLOOKUP(A1899,'Romaneio da Carga'!E:E,1,0)=BD!A1899,\"Volume Ok\",\"Volume não pertence a carga\")),\"Volume não pertence a carga\")","v":""}]
[null,{"$f":"IFERROR(IF(A1900=\"\",\"\",IF(VLOOKUP(A1900,'Romaneio da Carga'!E:E,1,0)=BD!A1900,\"Volume Ok\",\"Volume não pertence a carga\")),\"Volume não pertence a carga\")","v":""}]
[null,{"$f":"IFERROR(IF(A1901=\"\",\"\",IF(VLOOKUP(A1901,'Romaneio da Carga'!E:E,1,0)=BD!A1901,\"Volume Ok\",\"Volume não pertence a carga\")),\"Volume não pertence a carga\")","v":""}]
[null,{"$f":"IFERROR(IF(A1902=\"\",\"\",IF(VLOOKUP(A1902,'Romaneio da Carga'!E:E,1,0)=BD!A1902,\"Volume Ok\",\"Volume não pertence a carga\")),\"Volume não pertence a carga\")","v":""}]
[null,{"$f":"IFERROR(IF(A1903=\"\",\"\",IF(VLOOKUP(A1903,'Romaneio da Carga'!E:E,1,0)=BD!A1903,\"Volume Ok\",\"Volume não pertence a carga\")),\"Volume não pertence a carga\")","v":""}]
[null,{"$f":"IFERROR(IF(A1904=\"\",\"\",IF(VLOOKUP(A1904,'Romaneio da Carga'!E:E,1,0)=BD!A1904,\"Volume Ok\",\"Volume não pertence a carga\")),\"Volume não pertence a carga\")","v":""}]
[null,{"$f":"IFERROR(IF(A1905=\"\",\"\",IF(VLOOKUP(A1905,'Romaneio da Carga'!E:E,1,0)=BD!A1905,\"Volume Ok\",\"Volume não pertence a carga\")),\"Volume não pertence a carga\")","v":""}]
[null,{"$f":"IFERROR(IF(A1906=\"\",\"\",IF(VLOOKUP(A1906,'Romaneio da Carga'!E:E,1,0)=BD!A1906,\"Volume Ok\",\"Volume não pertence a carga\")),\"Volume não pertence a carga\")","v":""}]
[null,{"$f":"IFERROR(IF(A1907=\"\",\"\",IF(VLOOKUP(A1907,'Romaneio da Carga'!E:E,1,0)=BD!A1907,\"Volume Ok\",\"Volume não pertence a carga\")),\"Volume não pertence a carga\")","v":""}]
[null,{"$f":"IFERROR(IF(A1908=\"\",\"\",IF(VLOOKUP(A1908,'Romaneio da Carga'!E:E,1,0)=BD!A1908,\"Volume Ok\",\"Volume não pertence a carga\")),\"Volume não pertence a carga\")","v":""}]
[null,{"$f":"IFERROR(IF(A1909=\"\",\"\",IF(VLOOKUP(A1909,'Romaneio da Carga'!E:E,1,0)=BD!A1909,\"Volume Ok\",\"Volume não pertence a carga\")),\"Volume não pertence a carga\")","v":""}]
[null,{"$f":"IFERROR(IF(A1910=\"\",\"\",IF(VLOOKUP(A1910,'Romaneio da Carga'!E:E,1,0)=BD!A1910,\"Volume Ok\",\"Volume não pertence a carga\")),\"Volume não pertence a carga\")","v":""}]
[null,{"$f":"IFERROR(IF(A1911=\"\",\"\",IF(VLOOKUP(A1911,'Romaneio da Carga'!E:E,1,0)=BD!A1911,\"Volume Ok\",\"Volume não pertence a carga\")),\"Volume não pertence a carga\")","v":""}]
[null,{"$f":"IFERROR(IF(A1912=\"\",\"\",IF(VLOOKUP(A1912,'Romaneio da Carga'!E:E,1,0)=BD!A1912,\"Volume Ok\",\"Volume não pertence a carga\")),\"Volume não pertence a carga\")","v":""}]
[null,{"$f":"IFERROR(IF(A1913=\"\",\"\",IF(VLOOKUP(A1913,'Romaneio da Carga'!E:E,1,0)=BD!A1913,\"Volume Ok\",\"Volume não pertence a carga\")),\"Volume não pertence a carga\")","v":""}]
[null,{"$f":"IFERROR(IF(A1914=\"\",\"\",IF(VLOOKUP(A1914,'Romaneio da Carga'!E:E,1,0)=BD!A1914,\"Volume Ok\",\"Volume não pertence a carga\")),\"Volume não pertence a carga\")","v":""}]
[null,{"$f":"IFERROR(IF(A1915=\"\",\"\",IF(VLOOKUP(A1915,'Romaneio da Carga'!E:E,1,0)=BD!A1915,\"Volume Ok\",\"Volume não pertence a carga\")),\"Volume não pertence a carga\")","v":""}]
[null,{"$f":"IFERROR(IF(A1916=\"\",\"\",IF(VLOOKUP(A1916,'Romaneio da Carga'!E:E,1,0)=BD!A1916,\"Volume Ok\",\"Volume não pertence a carga\")),\"Volume não pertence a carga\")","v":""}]
[null,{"$f":"IFERROR(IF(A1917=\"\",\"\",IF(VLOOKUP(A1917,'Romaneio da Carga'!E:E,1,0)=BD!A1917,\"Volume Ok\",\"Volume não pertence a carga\")),\"Volume não pertence a carga\")","v":""}]
[null,{"$f":"IFERROR(IF(A1918=\"\",\"\",IF(VLOOKUP(A1918,'Romaneio da Carga'!E:E,1,0)=BD!A1918,\"Volume Ok\",\"Volume não pertence a carga\")),\"Volume não pertence a carga\")","v":""}]
[null,{"$f":"IFERROR(IF(A1919=\"\",\"\",IF(VLOOKUP(A1919,'Romaneio da Carga'!E:E,1,0)=BD!A1919,\"Volume Ok\",\"Volume não pertence a carga\")),\"Volume não pertence a carga\")","v":""}]
[null,{"$f":"IFERROR(IF(A1920=\"\",\"\",IF(VLOOKUP(A1920,'Romaneio da Carga'!E:E,1,0)=BD!A1920,\"Volume Ok\",\"Volume não pertence a carga\")),\"Volume não pertence a carga\")","v":""}]
[null,{"$f":"IFERROR(IF(A1921=\"\",\"\",IF(VLOOKUP(A1921,'Romaneio da Carga'!E:E,1,0)=BD!A1921,\"Volume Ok\",\"Volume não pertence a carga\")),\"Volume não pertence a carga\")","v":""}]
[null,{"$f":"IFERROR(IF(A1922=\"\",\"\",IF(VLOOKUP(A1922,'Romaneio da Carga'!E:E,1,0)=BD!A1922,\"Volume Ok\",\"Volume não pertence a carga\")),\"Volume não pertence a carga\")","v":""}]
[null,{"$f":"IFERROR(IF(A1923=\"\",\"\",IF(VLOOKUP(A1923,'Romaneio da Carga'!E:E,1,0)=BD!A1923,\"Volume Ok\",\"Volume não pertence a carga\")),\"Volume não pertence a carga\")","v":""}]
[null,{"$f":"IFERROR(IF(A1924=\"\",\"\",IF(VLOOKUP(A1924,'Romaneio da Carga'!E:E,1,0)=BD!A1924,\"Volume Ok\",\"Volume não pertence a carga\")),\"Volume não pertence a carga\")","v":""}]
[null,{"$f":"IFERROR(IF(A1925=\"\",\"\",IF(VLOOKUP(A1925,'Romaneio da Carga'!E:E,1,0)=BD!A1925,\"Volume Ok\",\"Volume não pertence a carga\")),\"Volume não pertence a carga\")","v":""}]
[null,{"$f":"IFERROR(IF(A1926=\"\",\"\",IF(VLOOKUP(A1926,'Romaneio da Carga'!E:E,1,0)=BD!A1926,\"Volume Ok\",\"Volume não pertence a carga\")),\"Volume não pertence a carga\")","v":""}]
[null,{"$f":"IFERROR(IF(A1927=\"\",\"\",IF(VLOOKUP(A1927,'Romaneio da Carga'!E:E,1,0)=BD!A1927,\"Volume Ok\",\"Volume não pertence a carga\")),\"Volume não pertence a carga\")","v":""}]
[null,{"$f":"IFERROR(IF(A1928=\"\",\"\",IF(VLOOKUP(A1928,'Romaneio da Carga'!E:E,1,0)=BD!A1928,\"Volume Ok\",\"Volume não pertence a carga\")),\"Volume não pertence a carga\")","v":""}]
[null,{"$f":"IFERROR(IF(A1929=\"\",\"\",IF(VLOOKUP(A1929,'Romaneio da Carga'!E:E,1,0)=BD!A1929,\"Volume Ok\",\"Volume não pertence a carga\")),\"Volume não pertence a carga\")","v":""}]
[null,{"$f":"IFERROR(IF(A1930=\"\",\"\",IF(VLOOKUP(A1930,'Romaneio da Carga'!E:E,1,0)=BD!A1930,\"Volume Ok\",\"Volume não pertence a carga\")),\"Volume não pertence a carga\")","v":""}]
[null,{"$f":"IFERROR(IF(A1931=\"\",\"\",IF(VLOOKUP(A1931,'Romaneio da Carga'!E:E,1,0)=BD!A1931,\"Volume Ok\",\"Volume não pertence a carga\")),\"Volume não pertence a carga\")","v":""}]
[null,{"$f":"IFERROR(IF(A1932=\"\",\"\",IF(VLOOKUP(A1932,'Romaneio da Carga'!E:E,1,0)=BD!A1932,\"Volume Ok\",\"Volume não pertence a carga\")),\"Volume não pertence a carga\")","v":""}]
[null,{"$f":"IFERROR(IF(A1933=\"\",\"\",IF(VLOOKUP(A1933,'Romaneio da Carga'!E:E,1,0)=BD!A1933,\"Volume Ok\",\"Volume não pertence a carga\")),\"Volume não pertence a carga\")","v":""}]
[null,{"$f":"IFERROR(IF(A1934=\"\",\"\",IF(VLOOKUP(A1934,'Romaneio da Carga'!E:E,1,0)=BD!A1934,\"Volume Ok\",\"Volume não pertence a carga\")),\"Volume não pertence a carga\")","v":""}]
[null,{"$f":"IFERROR(IF(A1935=\"\",\"\",IF(VLOOKUP(A1935,'Romaneio da Carga'!E:E,1,0)=BD!A1935,\"Volume Ok\",\"Volume não pertence a carga\")),\"Volume não pertence a carga\")","v":""}]
[null,{"$f":"IFERROR(IF(A1936=\"\",\"\",IF(VLOOKUP(A1936,'Romaneio da Carga'!E:E,1,0)=BD!A1936,\"Volume Ok\",\"Volume não pertence a carga\")),\"Volume não pertence a carga\")","v":""}]
[null,{"$f":"IFERROR(IF(A1937=\"\",\"\",IF(VLOOKUP(A1937,'Romaneio da Carga'!E:E,1,0)=BD!A1937,\"Volume Ok\",\"Volume não pertence a carga\")),\"Volume não pertence a carga\")","v":""}]
[null,{"$f":"IFERROR(IF(A1938=\"\",\"\",IF(VLOOKUP(A1938,'Romaneio da Carga'!E:E,1,0)=BD!A1938,\"Volume Ok\",\"Volume não pertence a carga\")),\"Volume não pertence a carga\")","v":""}]
[null,{"$f":"IFERROR(IF(A1939=\"\",\"\",IF(VLOOKUP(A1939,'Romaneio da Carga'!E:E,1,0)=BD!A1939,\"Volume Ok\",\"Volume não pertence a carga\")),\"Volume não pertence a carga\")","v":""}]
[null,{"$f":"IFERROR(IF(A1940=\"\",\"\",IF(VLOOKUP(A1940,'Romaneio da Carga'!E:E,1,0)=BD!A1940,\"Volume Ok\",\"Volume não pertence a carga\")),\"Volume não pertence a carga\")","v":""}]
[null,{"$f":"IFERROR(IF(A1941=\"\",\"\",IF(VLOOKUP(A1941,'Romaneio da Carga'!E:E,1,0)=BD!A1941,\"Volume Ok\",\"Volume não pertence a carga\")),\"Volume não pertence a carga\")","v":""}]
[null,{"$f":"IFERROR(IF(A1942=\"\",\"\",IF(VLOOKUP(A1942,'Romaneio da Carga'!E:E,1,0)=BD!A1942,\"Volume Ok\",\"Volume não pertence a carga\")),\"Volume não pertence a carga\")","v":""}]
[null,{"$f":"IFERROR(IF(A1943=\"\",\"\",IF(VLOOKUP(A1943,'Romaneio da Carga'!E:E,1,0)=BD!A1943,\"Volume Ok\",\"Volume não pertence a carga\")),\"Volume não pertence a carga\")","v":""}]
[null,{"$f":"IFERROR(IF(A1944=\"\",\"\",IF(VLOOKUP(A1944,'Romaneio da Carga'!E:E,1,0)=BD!A1944,\"Volume Ok\",\"Volume não pertence a carga\")),\"Volume não pertence a carga\")","v":""}]
[null,{"$f":"IFERROR(IF(A1945=\"\",\"\",IF(VLOOKUP(A1945,'Romaneio da Carga'!E:E,1,0)=BD!A1945,\"Volume Ok\",\"Volume não pertence a carga\")),\"Volume não pertence a carga\")","v":""}]
[null,{"$f":"IFERROR(IF(A1946=\"\",\"\",IF(VLOOKUP(A1946,'Romaneio da Carga'!E:E,1,0)=BD!A1946,\"Volume Ok\",\"Volume não pertence a carga\")),\"Volume não pertence a carga\")","v":""}]
[null,{"$f":"IFERROR(IF(A1947=\"\",\"\",IF(VLOOKUP(A1947,'Romaneio da Carga'!E:E,1,0)=BD!A1947,\"Volume Ok\",\"Volume não pertence a carga\")),\"Volume não pertence a carga\")","v":""}]
[null,{"$f":"IFERROR(IF(A1948=\"\",\"\",IF(VLOOKUP(A1948,'Romaneio da Carga'!E:E,1,0)=BD!A1948,\"Volume Ok\",\"Volume não pertence a carga\")),\"Volume não pertence a carga\")","v":""}]
[null,{"$f":"IFERROR(IF(A1949=\"\",\"\",IF(VLOOKUP(A1949,'Romaneio da Carga'!E:E,1,0)=BD!A1949,\"Volume Ok\",\"Volume não pertence a carga\")),\"Volume não pertence a carga\")","v":""}]
[null,{"$f":"IFERROR(IF(A1950=\"\",\"\",IF(VLOOKUP(A1950,'Romaneio da Carga'!E:E,1,0)=BD!A1950,\"Volume Ok\",\"Volume não pertence a carga\")),\"Volume não pertence a carga\")","v":""}]
[null,{"$f":"IFERROR(IF(A1951=\"\",\"\",IF(VLOOKUP(A1951,'Romaneio da Carga'!E:E,1,0)=BD!A1951,\"Volume Ok\",\"Volume não pertence a carga\")),\"Volume não pertence a carga\")","v":""}]
[null,{"$f":"IFERROR(IF(A1952=\"\",\"\",IF(VLOOKUP(A1952,'Romaneio da Carga'!E:E,1,0)=BD!A1952,\"Volume Ok\",\"Volume não pertence a carga\")),\"Volume não pertence a carga\")","v":""}]
[null,{"$f":"IFERROR(IF(A1953=\"\",\"\",IF(VLOOKUP(A1953,'Romaneio da Carga'!E:E,1,0)=BD!A1953,\"Volume Ok\",\"Volume não pertence a carga\")),\"Volume não pertence a carga\")","v":""}]
[null,{"$f":"IFERROR(IF(A1954=\"\",\"\",IF(VLOOKUP(A1954,'Romaneio da Carga'!E:E,1,0)=BD!A1954,\"Volume Ok\",\"Volume não pertence a carga\")),\"Volume não pertence a carga\")","v":""}]
[null,{"$f":"IFERROR(IF(A1955=\"\",\"\",IF(VLOOKUP(A1955,'Romaneio da Carga'!E:E,1,0)=BD!A1955,\"Volume Ok\",\"Volume não pertence a carga\")),\"Volume não pertence a carga\")","v":""}]
[null,{"$f":"IFERROR(IF(A1956=\"\",\"\",IF(VLOOKUP(A1956,'Romaneio da Carga'!E:E,1,0)=BD!A1956,\"Volume Ok\",\"Volume não pertence a carga\")),\"Volume não pertence a carga\")","v":""}]
[null,{"$f":"IFERROR(IF(A1957=\"\",\"\",IF(VLOOKUP(A1957,'Romaneio da Carga'!E:E,1,0)=BD!A1957,\"Volume Ok\",\"Volume não pertence a carga\")),\"Volume não pertence a carga\")","v":""}]
[null,{"$f":"IFERROR(IF(A1958=\"\",\"\",IF(VLOOKUP(A1958,'Romaneio da Carga'!E:E,1,0)=BD!A1958,\"Volume Ok\",\"Volume não pertence a carga\")),\"Volume não pertence a carga\")","v":""}]
[null,{"$f":"IFERROR(IF(A1959=\"\",\"\",IF(VLOOKUP(A1959,'Romaneio da Carga'!E:E,1,0)=BD!A1959,\"Volume Ok\",\"Volume não pertence a carga\")),\"Volume não pertence a carga\")","v":""}]
[null,{"$f":"IFERROR(IF(A1960=\"\",\"\",IF(VLOOKUP(A1960,'Romaneio da Carga'!E:E,1,0)=BD!A1960,\"Volume Ok\",\"Volume não pertence a carga\")),\"Volume não pertence a carga\")","v":""}]
[null,{"$f":"IFERROR(IF(A1961=\"\",\"\",IF(VLOOKUP(A1961,'Romaneio da Carga'!E:E,1,0)=BD!A1961,\"Volume Ok\",\"Volume não pertence a carga\")),\"Volume não pertence a carga\")","v":""}]
[null,{"$f":"IFERROR(IF(A1962=\"\",\"\",IF(VLOOKUP(A1962,'Romaneio da Carga'!E:E,1,0)=BD!A1962,\"Volume Ok\",\"Volume não pertence a carga\")),\"Volume não pertence a carga\")","v":""}]
[null,{"$f":"IFERROR(IF(A1963=\"\",\"\",IF(VLOOKUP(A1963,'Romaneio da Carga'!E:E,1,0)=BD!A1963,\"Volume Ok\",\"Volume não pertence a carga\")),\"Volume não pertence a carga\")","v":""}]
[null,{"$f":"IFERROR(IF(A1964=\"\",\"\",IF(VLOOKUP(A1964,'Romaneio da Carga'!E:E,1,0)=BD!A1964,\"Volume Ok\",\"Volume não pertence a carga\")),\"Volume não pertence a carga\")","v":""}]
[null,{"$f":"IFERROR(IF(A1965=\"\",\"\",IF(VLOOKUP(A1965,'Romaneio da Carga'!E:E,1,0)=BD!A1965,\"Volume Ok\",\"Volume não pertence a carga\")),\"Volume não pertence a carga\")","v":""}]
[null,{"$f":"IFERROR(IF(A1966=\"\",\"\",IF(VLOOKUP(A1966,'Romaneio da Carga'!E:E,1,0)=BD!A1966,\"Volume Ok\",\"Volume não pertence a carga\")),\"Volume não pertence a carga\")","v":""}]
[null,{"$f":"IFERROR(IF(A1967=\"\",\"\",IF(VLOOKUP(A1967,'Romaneio da Carga'!E:E,1,0)=BD!A1967,\"Volume Ok\",\"Volume não pertence a carga\")),\"Volume não pertence a carga\")","v":""}]
[null,{"$f":"IFERROR(IF(A1968=\"\",\"\",IF(VLOOKUP(A1968,'Romaneio da Carga'!E:E,1,0)=BD!A1968,\"Volume Ok\",\"Volume não pertence a carga\")),\"Volume não pertence a carga\")","v":""}]
[null,{"$f":"IFERROR(IF(A1969=\"\",\"\",IF(VLOOKUP(A1969,'Romaneio da Carga'!E:E,1,0)=BD!A1969,\"Volume Ok\",\"Volume não pertence a carga\")),\"Volume não pertence a carga\")","v":""}]
[null,{"$f":"IFERROR(IF(A1970=\"\",\"\",IF(VLOOKUP(A1970,'Romaneio da Carga'!E:E,1,0)=BD!A1970,\"Volume Ok\",\"Volume não pertence a carga\")),\"Volume não pertence a carga\")","v":""}]
[null,{"$f":"IFERROR(IF(A1971=\"\",\"\",IF(VLOOKUP(A1971,'Romaneio da Carga'!E:E,1,0)=BD!A1971,\"Volume Ok\",\"Volume não pertence a carga\")),\"Volume não pertence a carga\")","v":""}]
[null,{"$f":"IFERROR(IF(A1972=\"\",\"\",IF(VLOOKUP(A1972,'Romaneio da Carga'!E:E,1,0)=BD!A1972,\"Volume Ok\",\"Volume não pertence a carga\")),\"Volume não pertence a carga\")","v":""}]
[null,{"$f":"IFERROR(IF(A1973=\"\",\"\",IF(VLOOKUP(A1973,'Romaneio da Carga'!E:E,1,0)=BD!A1973,\"Volume Ok\",\"Volume não pertence a carga\")),\"Volume não pertence a carga\")","v":""}]
[null,{"$f":"IFERROR(IF(A1974=\"\",\"\",IF(VLOOKUP(A1974,'Romaneio da Carga'!E:E,1,0)=BD!A1974,\"Volume Ok\",\"Volume não pertence a carga\")),\"Volume não pertence a carga\")","v":""}]
[null,{"$f":"IFERROR(IF(A1975=\"\",\"\",IF(VLOOKUP(A1975,'Romaneio da Carga'!E:E,1,0)=BD!A1975,\"Volume Ok\",\"Volume não pertence a carga\")),\"Volume não pertence a carga\")","v":""}]
[null,{"$f":"IFERROR(IF(A1976=\"\",\"\",IF(VLOOKUP(A1976,'Romaneio da Carga'!E:E,1,0)=BD!A1976,\"Volume Ok\",\"Volume não pertence a carga\")),\"Volume não pertence a carga\")","v":""}]
[null,{"$f":"IFERROR(IF(A1977=\"\",\"\",IF(VLOOKUP(A1977,'Romaneio da Carga'!E:E,1,0)=BD!A1977,\"Volume Ok\",\"Volume não pertence a carga\")),\"Volume não pertence a carga\")","v":""}]
[null,{"$f":"IFERROR(IF(A1978=\"\",\"\",IF(VLOOKUP(A1978,'Romaneio da Carga'!E:E,1,0)=BD!A1978,\"Volume Ok\",\"Volume não pertence a carga\")),\"Volume não pertence a carga\")","v":""}]
[null,{"$f":"IFERROR(IF(A1979=\"\",\"\",IF(VLOOKUP(A1979,'Romaneio da Carga'!E:E,1,0)=BD!A1979,\"Volume Ok\",\"Volume não pertence a carga\")),\"Volume não pertence a carga\")","v":""}]
[null,{"$f":"IFERROR(IF(A1980=\"\",\"\",IF(VLOOKUP(A1980,'Romaneio da Carga'!E:E,1,0)=BD!A1980,\"Volume Ok\",\"Volume não pertence a carga\")),\"Volume não pertence a carga\")","v":""}]
[null,{"$f":"IFERROR(IF(A1981=\"\",\"\",IF(VLOOKUP(A1981,'Romaneio da Carga'!E:E,1,0)=BD!A1981,\"Volume Ok\",\"Volume não pertence a carga\")),\"Volume não pertence a carga\")","v":""}]
[null,{"$f":"IFERROR(IF(A1982=\"\",\"\",IF(VLOOKUP(A1982,'Romaneio da Carga'!E:E,1,0)=BD!A1982,\"Volume Ok\",\"Volume não pertence a carga\")),\"Volume não pertence a carga\")","v":""}]
[null,{"$f":"IFERROR(IF(A1983=\"\",\"\",IF(VLOOKUP(A1983,'Romaneio da Carga'!E:E,1,0)=BD!A1983,\"Volume Ok\",\"Volume não pertence a carga\")),\"Volume não pertence a carga\")","v":""}]
[null,{"$f":"IFERROR(IF(A1984=\"\",\"\",IF(VLOOKUP(A1984,'Romaneio da Carga'!E:E,1,0)=BD!A1984,\"Volume Ok\",\"Volume não pertence a carga\")),\"Volume não pertence a carga\")","v":""}]
[null,{"$f":"IFERROR(IF(A1985=\"\",\"\",IF(VLOOKUP(A1985,'Romaneio da Carga'!E:E,1,0)=BD!A1985,\"Volume Ok\",\"Volume não pertence a carga\")),\"Volume não pertence a carga\")","v":""}]
[null,{"$f":"IFERROR(IF(A1986=\"\",\"\",IF(VLOOKUP(A1986,'Romaneio da Carga'!E:E,1,0)=BD!A1986,\"Volume Ok\",\"Volume não pertence a carga\")),\"Volume não pertence a carga\")","v":""}]
[null,{"$f":"IFERROR(IF(A1987=\"\",\"\",IF(VLOOKUP(A1987,'Romaneio da Carga'!E:E,1,0)=BD!A1987,\"Volume Ok\",\"Volume não pertence a carga\")),\"Volume não pertence a carga\")","v":""}]
[null,{"$f":"IFERROR(IF(A1988=\"\",\"\",IF(VLOOKUP(A1988,'Romaneio da Carga'!E:E,1,0)=BD!A1988,\"Volume Ok\",\"Volume não pertence a carga\")),\"Volume não pertence a carga\")","v":""}]
[null,{"$f":"IFERROR(IF(A1989=\"\",\"\",IF(VLOOKUP(A1989,'Romaneio da Carga'!E:E,1,0)=BD!A1989,\"Volume Ok\",\"Volume não pertence a carga\")),\"Volume não pertence a carga\")","v":""}]
[null,{"$f":"IFERROR(IF(A1990=\"\",\"\",IF(VLOOKUP(A1990,'Romaneio da Carga'!E:E,1,0)=BD!A1990,\"Volume Ok\",\"Volume não pertence a carga\")),\"Volume não pertence a carga\")","v":""}]
[null,{"$f":"IFERROR(IF(A1991=\"\",\"\",IF(VLOOKUP(A1991,'Romaneio da Carga'!E:E,1,0)=BD!A1991,\"Volume Ok\",\"Volume não pertence a carga\")),\"Volume não pertence a carga\")","v":""}]
[null,{"$f":"IFERROR(IF(A1992=\"\",\"\",IF(VLOOKUP(A1992,'Romaneio da Carga'!E:E,1,0)=BD!A1992,\"Volume Ok\",\"Volume não pertence a carga\")),\"Volume não pertence a carga\")","v":""}]
[null,{"$f":"IFERROR(IF(A1993=\"\",\"\",IF(VLOOKUP(A1993,'Romaneio da Carga'!E:E,1,0)=BD!A1993,\"Volume Ok\",\"Volume não pertence a carga\")),\"Volume não pertence a carga\")","v":""}]
[null,{"$f":"IFERROR(IF(A1994=\"\",\"\",IF(VLOOKUP(A1994,'Romaneio da Carga'!E:E,1,0)=BD!A1994,\"Volume Ok\",\"Volume não pertence a carga\")),\"Volume não pertence a carga\")","v":""}]
[null,{"$f":"IFERROR(IF(A1995=\"\",\"\",IF(VLOOKUP(A1995,'Romaneio da Carga'!E:E,1,0)=BD!A1995,\"Volume Ok\",\"Volume não pertence a carga\")),\"Volume não pertence a carga\")","v":""}]
[null,{"$f":"IFERROR(IF(A1996=\"\",\"\",IF(VLOOKUP(A1996,'Romaneio da Carga'!E:E,1,0)=BD!A1996,\"Volume Ok\",\"Volume não pertence a carga\")),\"Volume não pertence a carga\")","v":""}]
[null,{"$f":"IFERROR(IF(A1997=\"\",\"\",IF(VLOOKUP(A1997,'Romaneio da Carga'!E:E,1,0)=BD!A1997,\"Volume Ok\",\"Volume não pertence a carga\")),\"Volume não pertence a carga\")","v":""}]
[null,{"$f":"IFERROR(IF(A1998=\"\",\"\",IF(VLOOKUP(A1998,'Romaneio da Carga'!E:E,1,0)=BD!A1998,\"Volume Ok\",\"Volume não pertence a carga\")),\"Volume não pertence a carga\")","v":""}]
[null,{"$f":"IFERROR(IF(A1999=\"\",\"\",IF(VLOOKUP(A1999,'Romaneio da Carga'!E:E,1,0)=BD!A1999,\"Volume Ok\",\"Volume não pertence a carga\")),\"Volume não pertence a carga\")","v":""}]
[null,{"$f":"IFERROR(IF(A2000=\"\",\"\",IF(VLOOKUP(A2000,'Romaneio da Carga'!E:E,1,0)=BD!A2000,\"Volume Ok\",\"Volume não pertence a carga\")),\"Volume não pertence a carga\")","v":""}]
[null,{"$f":"IFERROR(IF(A2001=\"\",\"\",IF(VLOOKUP(A2001,'Romaneio da Carga'!E:E,1,0)=BD!A2001,\"Volume Ok\",\"Volume não pertence a carga\")),\"Volume não pertence a carga\")","v":""}]
[null,{"$f":"IFERROR(IF(A2002=\"\",\"\",IF(VLOOKUP(A2002,'Romaneio da Carga'!E:E,1,0)=BD!A2002,\"Volume Ok\",\"Volume não pertence a carga\")),\"Volume não pertence a carga\")","v":""}]
[null,{"$f":"IFERROR(IF(A2003=\"\",\"\",IF(VLOOKUP(A2003,'Romaneio da Carga'!E:E,1,0)=BD!A2003,\"Volume Ok\",\"Volume não pertence a carga\")),\"Volume não pertence a carga\")","v":""}]
[null,{"$f":"IFERROR(IF(A2004=\"\",\"\",IF(VLOOKUP(A2004,'Romaneio da Carga'!E:E,1,0)=BD!A2004,\"Volume Ok\",\"Volume não pertence a carga\")),\"Volume não pertence a carga\")","v":""}]
[null,{"$f":"IFERROR(IF(A2005=\"\",\"\",IF(VLOOKUP(A2005,'Romaneio da Carga'!E:E,1,0)=BD!A2005,\"Volume Ok\",\"Volume não pertence a carga\")),\"Volume não pertence a carga\")","v":""}]
[null,{"$f":"IFERROR(IF(A2006=\"\",\"\",IF(VLOOKUP(A2006,'Romaneio da Carga'!E:E,1,0)=BD!A2006,\"Volume Ok\",\"Volume não pertence a carga\")),\"Volume não pertence a carga\")","v":""}]
[null,{"$f":"IFERROR(IF(A2007=\"\",\"\",IF(VLOOKUP(A2007,'Romaneio da Carga'!E:E,1,0)=BD!A2007,\"Volume Ok\",\"Volume não pertence a carga\")),\"Volume não pertence a carga\")","v":""}]
[null,{"$f":"IFERROR(IF(A2008=\"\",\"\",IF(VLOOKUP(A2008,'Romaneio da Carga'!E:E,1,0)=BD!A2008,\"Volume Ok\",\"Volume não pertence a carga\")),\"Volume não pertence a carga\")","v":""}]
[null,{"$f":"IFERROR(IF(A2009=\"\",\"\",IF(VLOOKUP(A2009,'Romaneio da Carga'!E:E,1,0)=BD!A2009,\"Volume Ok\",\"Volume não pertence a carga\")),\"Volume não pertence a carga\")","v":""}]
[null,{"$f":"IFERROR(IF(A2010=\"\",\"\",IF(VLOOKUP(A2010,'Romaneio da Carga'!E:E,1,0)=BD!A2010,\"Volume Ok\",\"Volume não pertence a carga\")),\"Volume não pertence a carga\")","v":""}]
[null,{"$f":"IFERROR(IF(A2011=\"\",\"\",IF(VLOOKUP(A2011,'Romaneio da Carga'!E:E,1,0)=BD!A2011,\"Volume Ok\",\"Volume não pertence a carga\")),\"Volume não pertence a carga\")","v":""}]
[null,{"$f":"IFERROR(IF(A2012=\"\",\"\",IF(VLOOKUP(A2012,'Romaneio da Carga'!E:E,1,0)=BD!A2012,\"Volume Ok\",\"Volume não pertence a carga\")),\"Volume não pertence a carga\")","v":""}]
[null,{"$f":"IFERROR(IF(A2013=\"\",\"\",IF(VLOOKUP(A2013,'Romaneio da Carga'!E:E,1,0)=BD!A2013,\"Volume Ok\",\"Volume não pertence a carga\")),\"Volume não pertence a carga\")","v":""}]
[null,{"$f":"IFERROR(IF(A2014=\"\",\"\",IF(VLOOKUP(A2014,'Romaneio da Carga'!E:E,1,0)=BD!A2014,\"Volume Ok\",\"Volume não pertence a carga\")),\"Volume não pertence a carga\")","v":""}]
[null,{"$f":"IFERROR(IF(A2015=\"\",\"\",IF(VLOOKUP(A2015,'Romaneio da Carga'!E:E,1,0)=BD!A2015,\"Volume Ok\",\"Volume não pertence a carga\")),\"Volume não pertence a carga\")","v":""}]
[null,{"$f":"IFERROR(IF(A2016=\"\",\"\",IF(VLOOKUP(A2016,'Romaneio da Carga'!E:E,1,0)=BD!A2016,\"Volume Ok\",\"Volume não pertence a carga\")),\"Volume não pertence a carga\")","v":""}]
[null,{"$f":"IFERROR(IF(A2017=\"\",\"\",IF(VLOOKUP(A2017,'Romaneio da Carga'!E:E,1,0)=BD!A2017,\"Volume Ok\",\"Volume não pertence a carga\")),\"Volume não pertence a carga\")","v":""}]
[null,{"$f":"IFERROR(IF(A2018=\"\",\"\",IF(VLOOKUP(A2018,'Romaneio da Carga'!E:E,1,0)=BD!A2018,\"Volume Ok\",\"Volume não pertence a carga\")),\"Volume não pertence a carga\")","v":""}]
[null,{"$f":"IFERROR(IF(A2019=\"\",\"\",IF(VLOOKUP(A2019,'Romaneio da Carga'!E:E,1,0)=BD!A2019,\"Volume Ok\",\"Volume não pertence a carga\")),\"Volume não pertence a carga\")","v":""}]
[null,{"$f":"IFERROR(IF(A2020=\"\",\"\",IF(VLOOKUP(A2020,'Romaneio da Carga'!E:E,1,0)=BD!A2020,\"Volume Ok\",\"Volume não pertence a carga\")),\"Volume não pertence a carga\")","v":""}]
[null,{"$f":"IFERROR(IF(A2021=\"\",\"\",IF(VLOOKUP(A2021,'Romaneio da Carga'!E:E,1,0)=BD!A2021,\"Volume Ok\",\"Volume não pertence a carga\")),\"Volume não pertence a carga\")","v":""}]
[null,{"$f":"IFERROR(IF(A2022=\"\",\"\",IF(VLOOKUP(A2022,'Romaneio da Carga'!E:E,1,0)=BD!A2022,\"Volume Ok\",\"Volume não pertence a carga\")),\"Volume não pertence a carga\")","v":""}]
[null,{"$f":"IFERROR(IF(A2023=\"\",\"\",IF(VLOOKUP(A2023,'Romaneio da Carga'!E:E,1,0)=BD!A2023,\"Volume Ok\",\"Volume não pertence a carga\")),\"Volume não pertence a carga\")","v":""}]
[null,{"$f":"IFERROR(IF(A2024=\"\",\"\",IF(VLOOKUP(A2024,'Romaneio da Carga'!E:E,1,0)=BD!A2024,\"Volume Ok\",\"Volume não pertence a carga\")),\"Volume não pertence a carga\")","v":""}]
[null,{"$f":"IFERROR(IF(A2025=\"\",\"\",IF(VLOOKUP(A2025,'Romaneio da Carga'!E:E,1,0)=BD!A2025,\"Volume Ok\",\"Volume não pertence a carga\")),\"Volume não pertence a carga\")","v":""}]
[null,{"$f":"IFERROR(IF(A2026=\"\",\"\",IF(VLOOKUP(A2026,'Romaneio da Carga'!E:E,1,0)=BD!A2026,\"Volume Ok\",\"Volume não pertence a carga\")),\"Volume não pertence a carga\")","v":""}]
[null,{"$f":"IFERROR(IF(A2027=\"\",\"\",IF(VLOOKUP(A2027,'Romaneio da Carga'!E:E,1,0)=BD!A2027,\"Volume Ok\",\"Volume não pertence a carga\")),\"Volume não pertence a carga\")","v":""}]
[null,{"$f":"IFERROR(IF(A2028=\"\",\"\",IF(VLOOKUP(A2028,'Romaneio da Carga'!E:E,1,0)=BD!A2028,\"Volume Ok\",\"Volume não pertence a carga\")),\"Volume não pertence a carga\")","v":""}]
[null,{"$f":"IFERROR(IF(A2029=\"\",\"\",IF(VLOOKUP(A2029,'Romaneio da Carga'!E:E,1,0)=BD!A2029,\"Volume Ok\",\"Volume não pertence a carga\")),\"Volume não pertence a carga\")","v":""}]
[null,{"$f":"IFERROR(IF(A2030=\"\",\"\",IF(VLOOKUP(A2030,'Romaneio da Carga'!E:E,1,0)=BD!A2030,\"Volume Ok\",\"Volume não pertence a carga\")),\"Volume não pertence a carga\")","v":""}]
[null,{"$f":"IFERROR(IF(A2031=\"\",\"\",IF(VLOOKUP(A2031,'Romaneio da Carga'!E:E,1,0)=BD!A2031,\"Volume Ok\",\"Volume não pertence a carga\")),\"Volume não pertence a carga\")","v":""}]
[null,{"$f":"IFERROR(IF(A2032=\"\",\"\",IF(VLOOKUP(A2032,'Romaneio da Carga'!E:E,1,0)=BD!A2032,\"Volume Ok\",\"Volume não pertence a carga\")),\"Volume não pertence a carga\")","v":""}]
[null,{"$f":"IFERROR(IF(A2033=\"\",\"\",IF(VLOOKUP(A2033,'Romaneio da Carga'!E:E,1,0)=BD!A2033,\"Volume Ok\",\"Volume não pertence a carga\")),\"Volume não pertence a carga\")","v":""}]
[null,{"$f":"IFERROR(IF(A2034=\"\",\"\",IF(VLOOKUP(A2034,'Romaneio da Carga'!E:E,1,0)=BD!A2034,\"Volume Ok\",\"Volume não pertence a carga\")),\"Volume não pertence a carga\")","v":""}]
[null,{"$f":"IFERROR(IF(A2035=\"\",\"\",IF(VLOOKUP(A2035,'Romaneio da Carga'!E:E,1,0)=BD!A2035,\"Volume Ok\",\"Volume não pertence a carga\")),\"Volume não pertence a carga\")","v":""}]
[null,{"$f":"IFERROR(IF(A2036=\"\",\"\",IF(VLOOKUP(A2036,'Romaneio da Carga'!E:E,1,0)=BD!A2036,\"Volume Ok\",\"Volume não pertence a carga\")),\"Volume não pertence a carga\")","v":""}]
[null,{"$f":"IFERROR(IF(A2037=\"\",\"\",IF(VLOOKUP(A2037,'Romaneio da Carga'!E:E,1,0)=BD!A2037,\"Volume Ok\",\"Volume não pertence a carga\")),\"Volume não pertence a carga\")","v":""}]
[null,{"$f":"IFERROR(IF(A2038=\"\",\"\",IF(VLOOKUP(A2038,'Romaneio da Carga'!E:E,1,0)=BD!A2038,\"Volume Ok\",\"Volume não pertence a carga\")),\"Volume não pertence a carga\")","v":""}]
[null,{"$f":"IFERROR(IF(A2039=\"\",\"\",IF(VLOOKUP(A2039,'Romaneio da Carga'!E:E,1,0)=BD!A2039,\"Volume Ok\",\"Volume não pertence a carga\")),\"Volume não pertence a carga\")","v":""}]
[null,{"$f":"IFERROR(IF(A2040=\"\",\"\",IF(VLOOKUP(A2040,'Romaneio da Carga'!E:E,1,0)=BD!A2040,\"Volume Ok\",\"Volume não pertence a carga\")),\"Volume não pertence a carga\")","v":""}]
[null,{"$f":"IFERROR(IF(A2041=\"\",\"\",IF(VLOOKUP(A2041,'Romaneio da Carga'!E:E,1,0)=BD!A2041,\"Volume Ok\",\"Volume não pertence a carga\")),\"Volume não pertence a carga\")","v":""}]
[null,{"$f":"IFERROR(IF(A2042=\"\",\"\",IF(VLOOKUP(A2042,'Romaneio da Carga'!E:E,1,0)=BD!A2042,\"Volume Ok\",\"Volume não pertence a carga\")),\"Volume não pertence a carga\")","v":""}]
[null,{"$f":"IFERROR(IF(A2043=\"\",\"\",IF(VLOOKUP(A2043,'Romaneio da Carga'!E:E,1,0)=BD!A2043,\"Volume Ok\",\"Volume não pertence a carga\")),\"Volume não pertence a carga\")","v":""}]
[null,{"$f":"IFERROR(IF(A2044=\"\",\"\",IF(VLOOKUP(A2044,'Romaneio da Carga'!E:E,1,0)=BD!A2044,\"Volume Ok\",\"Volume não pertence a carga\")),\"Volume não pertence a carga\")","v":""}]
[null,{"$f":"IFERROR(IF(A2045=\"\",\"\",IF(VLOOKUP(A2045,'Romaneio da Carga'!E:E,1,0)=BD!A2045,\"Volume Ok\",\"Volume não pertence a carga\")),\"Volume não pertence a carga\")","v":""}]
[null,{"$f":"IFERROR(IF(A2046=\"\",\"\",IF(VLOOKUP(A2046,'Romaneio da Carga'!E:E,1,0)=BD!A2046,\"Volume Ok\",\"Volume não pertence a carga\")),\"Volume não pertence a carga\")","v":""}]
[null,{"$f":"IFERROR(IF(A2047=\"\",\"\",IF(VLOOKUP(A2047,'Romaneio da Carga'!E:E,1,0)=BD!A2047,\"Volume Ok\",\"Volume não pertence a carga\")),\"Volume não pertence a carga\")","v":""}]
[null,{"$f":"IFERROR(IF(A2048=\"\",\"\",IF(VLOOKUP(A2048,'Romaneio da Carga'!E:E,1,0)=BD!A2048,\"Volume Ok\",\"Volume não pertence a carga\")),\"Volume não pertence a carga\")","v":""}]
[null,{"$f":"IFERROR(IF(A2049=\"\",\"\",IF(VLOOKUP(A2049,'Romaneio da Carga'!E:E,1,0)=BD!A2049,\"Volume Ok\",\"Volume não pertence a carga\")),\"Volume não pertence a carga\")","v":""}]
[null,{"$f":"IFERROR(IF(A2050=\"\",\"\",IF(VLOOKUP(A2050,'Romaneio da Carga'!E:E,1,0)=BD!A2050,\"Volume Ok\",\"Volume não pertence a carga\")),\"Volume não pertence a carga\")","v":""}]
[null,{"$f":"IFERROR(IF(A2051=\"\",\"\",IF(VLOOKUP(A2051,'Romaneio da Carga'!E:E,1,0)=BD!A2051,\"Volume Ok\",\"Volume não pertence a carga\")),\"Volume não pertence a carga\")","v":""}]
[null,{"$f":"IFERROR(IF(A2052=\"\",\"\",IF(VLOOKUP(A2052,'Romaneio da Carga'!E:E,1,0)=BD!A2052,\"Volume Ok\",\"Volume não pertence a carga\")),\"Volume não pertence a carga\")","v":""}]
[null,{"$f":"IFERROR(IF(A2053=\"\",\"\",IF(VLOOKUP(A2053,'Romaneio da Carga'!E:E,1,0)=BD!A2053,\"Volume Ok\",\"Volume não pertence a carga\")),\"Volume não pertence a carga\")","v":""}]
[null,{"$f":"IFERROR(IF(A2054=\"\",\"\",IF(VLOOKUP(A2054,'Romaneio da Carga'!E:E,1,0)=BD!A2054,\"Volume Ok\",\"Volume não pertence a carga\")),\"Volume não pertence a carga\")","v":""}]
[null,{"$f":"IFERROR(IF(A2055=\"\",\"\",IF(VLOOKUP(A2055,'Romaneio da Carga'!E:E,1,0)=BD!A2055,\"Volume Ok\",\"Volume não pertence a carga\")),\"Volume não pertence a carga\")","v":""}]
[null,{"$f":"IFERROR(IF(A2056=\"\",\"\",IF(VLOOKUP(A2056,'Romaneio da Carga'!E:E,1,0)=BD!A2056,\"Volume Ok\",\"Volume não pertence a carga\")),\"Volume não pertence a carga\")","v":""}]
[null,{"$f":"IFERROR(IF(A2057=\"\",\"\",IF(VLOOKUP(A2057,'Romaneio da Carga'!E:E,1,0)=BD!A2057,\"Volume Ok\",\"Volume não pertence a carga\")),\"Volume não pertence a carga\")","v":""}]
[null,{"$f":"IFERROR(IF(A2058=\"\",\"\",IF(VLOOKUP(A2058,'Romaneio da Carga'!E:E,1,0)=BD!A2058,\"Volume Ok\",\"Volume não pertence a carga\")),\"Volume não pertence a carga\")","v":""}]
[null,{"$f":"IFERROR(IF(A2059=\"\",\"\",IF(VLOOKUP(A2059,'Romaneio da Carga'!E:E,1,0)=BD!A2059,\"Volume Ok\",\"Volume não pertence a carga\")),\"Volume não pertence a carga\")","v":""}]
[null,{"$f":"IFERROR(IF(A2060=\"\",\"\",IF(VLOOKUP(A2060,'Romaneio da Carga'!E:E,1,0)=BD!A2060,\"Volume Ok\",\"Volume não pertence a carga\")),\"Volume não pertence a carga\")","v":""}]
[null,{"$f":"IFERROR(IF(A2061=\"\",\"\",IF(VLOOKUP(A2061,'Romaneio da Carga'!E:E,1,0)=BD!A2061,\"Volume Ok\",\"Volume não pertence a carga\")),\"Volume não pertence a carga\")","v":""}]
[null,{"$f":"IFERROR(IF(A2062=\"\",\"\",IF(VLOOKUP(A2062,'Romaneio da Carga'!E:E,1,0)=BD!A2062,\"Volume Ok\",\"Volume não pertence a carga\")),\"Volume não pertence a carga\")","v":""}]
[null,{"$f":"IFERROR(IF(A2063=\"\",\"\",IF(VLOOKUP(A2063,'Romaneio da Carga'!E:E,1,0)=BD!A2063,\"Volume Ok\",\"Volume não pertence a carga\")),\"Volume não pertence a carga\")","v":""}]
[null,{"$f":"IFERROR(IF(A2064=\"\",\"\",IF(VLOOKUP(A2064,'Romaneio da Carga'!E:E,1,0)=BD!A2064,\"Volume Ok\",\"Volume não pertence a carga\")),\"Volume não pertence a carga\")","v":""}]
[null,{"$f":"IFERROR(IF(A2065=\"\",\"\",IF(VLOOKUP(A2065,'Romaneio da Carga'!E:E,1,0)=BD!A2065,\"Volume Ok\",\"Volume não pertence a carga\")),\"Volume não pertence a carga\")","v":""}]
[null,{"$f":"IFERROR(IF(A2066=\"\",\"\",IF(VLOOKUP(A2066,'Romaneio da Carga'!E:E,1,0)=BD!A2066,\"Volume Ok\",\"Volume não pertence a carga\")),\"Volume não pertence a carga\")","v":""}]
[null,{"$f":"IFERROR(IF(A2067=\"\",\"\",IF(VLOOKUP(A2067,'Romaneio da Carga'!E:E,1,0)=BD!A2067,\"Volume Ok\",\"Volume não pertence a carga\")),\"Volume não pertence a carga\")","v":""}]
[null,{"$f":"IFERROR(IF(A2068=\"\",\"\",IF(VLOOKUP(A2068,'Romaneio da Carga'!E:E,1,0)=BD!A2068,\"Volume Ok\",\"Volume não pertence a carga\")),\"Volume não pertence a carga\")","v":""}]
[null,{"$f":"IFERROR(IF(A2069=\"\",\"\",IF(VLOOKUP(A2069,'Romaneio da Carga'!E:E,1,0)=BD!A2069,\"Volume Ok\",\"Volume não pertence a carga\")),\"Volume não pertence a carga\")","v":""}]
[null,{"$f":"IFERROR(IF(A2070=\"\",\"\",IF(VLOOKUP(A2070,'Romaneio da Carga'!E:E,1,0)=BD!A2070,\"Volume Ok\",\"Volume não pertence a carga\")),\"Volume não pertence a carga\")","v":""}]
[null,{"$f":"IFERROR(IF(A2071=\"\",\"\",IF(VLOOKUP(A2071,'Romaneio da Carga'!E:E,1,0)=BD!A2071,\"Volume Ok\",\"Volume não pertence a carga\")),\"Volume não pertence a carga\")","v":""}]
[null,{"$f":"IFERROR(IF(A2072=\"\",\"\",IF(VLOOKUP(A2072,'Romaneio da Carga'!E:E,1,0)=BD!A2072,\"Volume Ok\",\"Volume não pertence a carga\")),\"Volume não pertence a carga\")","v":""}]
[null,{"$f":"IFERROR(IF(A2073=\"\",\"\",IF(VLOOKUP(A2073,'Romaneio da Carga'!E:E,1,0)=BD!A2073,\"Volume Ok\",\"Volume não pertence a carga\")),\"Volume não pertence a carga\")","v":""}]
[null,{"$f":"IFERROR(IF(A2074=\"\",\"\",IF(VLOOKUP(A2074,'Romaneio da Carga'!E:E,1,0)=BD!A2074,\"Volume Ok\",\"Volume não pertence a carga\")),\"Volume não pertence a carga\")","v":""}]
[null,{"$f":"IFERROR(IF(A2075=\"\",\"\",IF(VLOOKUP(A2075,'Romaneio da Carga'!E:E,1,0)=BD!A2075,\"Volume Ok\",\"Volume não pertence a carga\")),\"Volume não pertence a carga\")","v":""}]
[null,{"$f":"IFERROR(IF(A2076=\"\",\"\",IF(VLOOKUP(A2076,'Romaneio da Carga'!E:E,1,0)=BD!A2076,\"Volume Ok\",\"Volume não pertence a carga\")),\"Volume não pertence a carga\")","v":""}]
[null,{"$f":"IFERROR(IF(A2077=\"\",\"\",IF(VLOOKUP(A2077,'Romaneio da Carga'!E:E,1,0)=BD!A2077,\"Volume Ok\",\"Volume não pertence a carga\")),\"Volume não pertence a carga\")","v":""}]
[null,{"$f":"IFERROR(IF(A2078=\"\",\"\",IF(VLOOKUP(A2078,'Romaneio da Carga'!E:E,1,0)=BD!A2078,\"Volume Ok\",\"Volume não pertence a carga\")),\"Volume não pertence a carga\")","v":""}]
[null,{"$f":"IFERROR(IF(A2079=\"\",\"\",IF(VLOOKUP(A2079,'Romaneio da Carga'!E:E,1,0)=BD!A2079,\"Volume Ok\",\"Volume não pertence a carga\")),\"Volume não pertence a carga\")","v":""}]
[null,{"$f":"IFERROR(IF(A2080=\"\",\"\",IF(VLOOKUP(A2080,'Romaneio da Carga'!E:E,1,0)=BD!A2080,\"Volume Ok\",\"Volume não pertence a carga\")),\"Volume não pertence a carga\")","v":""}]
[null,{"$f":"IFERROR(IF(A2081=\"\",\"\",IF(VLOOKUP(A2081,'Romaneio da Carga'!E:E,1,0)=BD!A2081,\"Volume Ok\",\"Volume não pertence a carga\")),\"Volume não pertence a carga\")","v":""}]
[null,{"$f":"IFERROR(IF(A2082=\"\",\"\",IF(VLOOKUP(A2082,'Romaneio da Carga'!E:E,1,0)=BD!A2082,\"Volume Ok\",\"Volume não pertence a carga\")),\"Volume não pertence a carga\")","v":""}]
[null,{"$f":"IFERROR(IF(A2083=\"\",\"\",IF(VLOOKUP(A2083,'Romaneio da Carga'!E:E,1,0)=BD!A2083,\"Volume Ok\",\"Volume não pertence a carga\")),\"Volume não pertence a carga\")","v":""}]
[null,{"$f":"IFERROR(IF(A2084=\"\",\"\",IF(VLOOKUP(A2084,'Romaneio da Carga'!E:E,1,0)=BD!A2084,\"Volume Ok\",\"Volume não pertence a carga\")),\"Volume não pertence a carga\")","v":""}]
[null,{"$f":"IFERROR(IF(A2085=\"\",\"\",IF(VLOOKUP(A2085,'Romaneio da Carga'!E:E,1,0)=BD!A2085,\"Volume Ok\",\"Volume não pertence a carga\")),\"Volume não pertence a carga\")","v":""}]
[null,{"$f":"IFERROR(IF(A2086=\"\",\"\",IF(VLOOKUP(A2086,'Romaneio da Carga'!E:E,1,0)=BD!A2086,\"Volume Ok\",\"Volume não pertence a carga\")),\"Volume não pertence a carga\")","v":""}]
[null,{"$f":"IFERROR(IF(A2087=\"\",\"\",IF(VLOOKUP(A2087,'Romaneio da Carga'!E:E,1,0)=BD!A2087,\"Volume Ok\",\"Volume não pertence a carga\")),\"Volume não pertence a carga\")","v":""}]
[null,{"$f":"IFERROR(IF(A2088=\"\",\"\",IF(VLOOKUP(A2088,'Romaneio da Carga'!E:E,1,0)=BD!A2088,\"Volume Ok\",\"Volume não pertence a carga\")),\"Volume não pertence a carga\")","v":""}]
[null,{"$f":"IFERROR(IF(A2089=\"\",\"\",IF(VLOOKUP(A2089,'Romaneio da Carga'!E:E,1,0)=BD!A2089,\"Volume Ok\",\"Volume não pertence a carga\")),\"Volume não pertence a carga\")","v":""}]
[null,{"$f":"IFERROR(IF(A2090=\"\",\"\",IF(VLOOKUP(A2090,'Romaneio da Carga'!E:E,1,0)=BD!A2090,\"Volume Ok\",\"Volume não pertence a carga\")),\"Volume não pertence a carga\")","v":""}]
[null,{"$f":"IFERROR(IF(A2091=\"\",\"\",IF(VLOOKUP(A2091,'Romaneio da Carga'!E:E,1,0)=BD!A2091,\"Volume Ok\",\"Volume não pertence a carga\")),\"Volume não pertence a carga\")","v":""}]
[null,{"$f":"IFERROR(IF(A2092=\"\",\"\",IF(VLOOKUP(A2092,'Romaneio da Carga'!E:E,1,0)=BD!A2092,\"Volume Ok\",\"Volume não pertence a carga\")),\"Volume não pertence a carga\")","v":""}]
[null,{"$f":"IFERROR(IF(A2093=\"\",\"\",IF(VLOOKUP(A2093,'Romaneio da Carga'!E:E,1,0)=BD!A2093,\"Volume Ok\",\"Volume não pertence a carga\")),\"Volume não pertence a carga\")","v":""}]
[null,{"$f":"IFERROR(IF(A2094=\"\",\"\",IF(VLOOKUP(A2094,'Romaneio da Carga'!E:E,1,0)=BD!A2094,\"Volume Ok\",\"Volume não pertence a carga\")),\"Volume não pertence a carga\")","v":""}]
[null,{"$f":"IFERROR(IF(A2095=\"\",\"\",IF(VLOOKUP(A2095,'Romaneio da Carga'!E:E,1,0)=BD!A2095,\"Volume Ok\",\"Volume não pertence a carga\")),\"Volume não pertence a carga\")","v":""}]
[null,{"$f":"IFERROR(IF(A2096=\"\",\"\",IF(VLOOKUP(A2096,'Romaneio da Carga'!E:E,1,0)=BD!A2096,\"Volume Ok\",\"Volume não pertence a carga\")),\"Volume não pertence a carga\")","v":""}]
[null,{"$f":"IFERROR(IF(A2097=\"\",\"\",IF(VLOOKUP(A2097,'Romaneio da Carga'!E:E,1,0)=BD!A2097,\"Volume Ok\",\"Volume não pertence a carga\")),\"Volume não pertence a carga\")","v":""}]
[null,{"$f":"IFERROR(IF(A2098=\"\",\"\",IF(VLOOKUP(A2098,'Romaneio da Carga'!E:E,1,0)=BD!A2098,\"Volume Ok\",\"Volume não pertence a carga\")),\"Volume não pertence a carga\")","v":""}]
[null,{"$f":"IFERROR(IF(A2099=\"\",\"\",IF(VLOOKUP(A2099,'Romaneio da Carga'!E:E,1,0)=BD!A2099,\"Volume Ok\",\"Volume não pertence a carga\")),\"Volume não pertence a carga\")","v":""}]
[null,{"$f":"IFERROR(IF(A2100=\"\",\"\",IF(VLOOKUP(A2100,'Romaneio da Carga'!E:E,1,0)=BD!A2100,\"Volume Ok\",\"Volume não pertence a carga\")),\"Volume não pertence a carga\")","v":""}]
[null,{"$f":"IFERROR(IF(A2101=\"\",\"\",IF(VLOOKUP(A2101,'Romaneio da Carga'!E:E,1,0)=BD!A2101,\"Volume Ok\",\"Volume não pertence a carga\")),\"Volume não pertence a carga\")","v":""}]
[null,{"$f":"IFERROR(IF(A2102=\"\",\"\",IF(VLOOKUP(A2102,'Romaneio da Carga'!E:E,1,0)=BD!A2102,\"Volume Ok\",\"Volume não pertence a carga\")),\"Volume não pertence a carga\")","v":""}]
[null,{"$f":"IFERROR(IF(A2103=\"\",\"\",IF(VLOOKUP(A2103,'Romaneio da Carga'!E:E,1,0)=BD!A2103,\"Volume Ok\",\"Volume não pertence a carga\")),\"Volume não pertence a carga\")","v":""}]
[null,{"$f":"IFERROR(IF(A2104=\"\",\"\",IF(VLOOKUP(A2104,'Romaneio da Carga'!E:E,1,0)=BD!A2104,\"Volume Ok\",\"Volume não pertence a carga\")),\"Volume não pertence a carga\")","v":""}]
[null,{"$f":"IFERROR(IF(A2105=\"\",\"\",IF(VLOOKUP(A2105,'Romaneio da Carga'!E:E,1,0)=BD!A2105,\"Volume Ok\",\"Volume não pertence a carga\")),\"Volume não pertence a carga\")","v":""}]
[null,{"$f":"IFERROR(IF(A2106=\"\",\"\",IF(VLOOKUP(A2106,'Romaneio da Carga'!E:E,1,0)=BD!A2106,\"Volume Ok\",\"Volume não pertence a carga\")),\"Volume não pertence a carga\")","v":""}]
[null,{"$f":"IFERROR(IF(A2107=\"\",\"\",IF(VLOOKUP(A2107,'Romaneio da Carga'!E:E,1,0)=BD!A2107,\"Volume Ok\",\"Volume não pertence a carga\")),\"Volume não pertence a carga\")","v":""}]
[null,{"$f":"IFERROR(IF(A2108=\"\",\"\",IF(VLOOKUP(A2108,'Romaneio da Carga'!E:E,1,0)=BD!A2108,\"Volume Ok\",\"Volume não pertence a carga\")),\"Volume não pertence a carga\")","v":""}]
[null,{"$f":"IFERROR(IF(A2109=\"\",\"\",IF(VLOOKUP(A2109,'Romaneio da Carga'!E:E,1,0)=BD!A2109,\"Volume Ok\",\"Volume não pertence a carga\")),\"Volume não pertence a carga\")","v":""}]
[null,{"$f":"IFERROR(IF(A2110=\"\",\"\",IF(VLOOKUP(A2110,'Romaneio da Carga'!E:E,1,0)=BD!A2110,\"Volume Ok\",\"Volume não pertence a carga\")),\"Volume não pertence a carga\")","v":""}]
[null,{"$f":"IFERROR(IF(A2111=\"\",\"\",IF(VLOOKUP(A2111,'Romaneio da Carga'!E:E,1,0)=BD!A2111,\"Volume Ok\",\"Volume não pertence a carga\")),\"Volume não pertence a carga\")","v":""}]
[null,{"$f":"IFERROR(IF(A2112=\"\",\"\",IF(VLOOKUP(A2112,'Romaneio da Carga'!E:E,1,0)=BD!A2112,\"Volume Ok\",\"Volume não pertence a carga\")),\"Volume não pertence a carga\")","v":""}]
[null,{"$f":"IFERROR(IF(A2113=\"\",\"\",IF(VLOOKUP(A2113,'Romaneio da Carga'!E:E,1,0)=BD!A2113,\"Volume Ok\",\"Volume não pertence a carga\")),\"Volume não pertence a carga\")","v":""}]
[null,{"$f":"IFERROR(IF(A2114=\"\",\"\",IF(VLOOKUP(A2114,'Romaneio da Carga'!E:E,1,0)=BD!A2114,\"Volume Ok\",\"Volume não pertence a carga\")),\"Volume não pertence a carga\")","v":""}]
[null,{"$f":"IFERROR(IF(A2115=\"\",\"\",IF(VLOOKUP(A2115,'Romaneio da Carga'!E:E,1,0)=BD!A2115,\"Volume Ok\",\"Volume não pertence a carga\")),\"Volume não pertence a carga\")","v":""}]
[null,{"$f":"IFERROR(IF(A2116=\"\",\"\",IF(VLOOKUP(A2116,'Romaneio da Carga'!E:E,1,0)=BD!A2116,\"Volume Ok\",\"Volume não pertence a carga\")),\"Volume não pertence a carga\")","v":""}]
[null,{"$f":"IFERROR(IF(A2117=\"\",\"\",IF(VLOOKUP(A2117,'Romaneio da Carga'!E:E,1,0)=BD!A2117,\"Volume Ok\",\"Volume não pertence a carga\")),\"Volume não pertence a carga\")","v":""}]
[null,{"$f":"IFERROR(IF(A2118=\"\",\"\",IF(VLOOKUP(A2118,'Romaneio da Carga'!E:E,1,0)=BD!A2118,\"Volume Ok\",\"Volume não pertence a carga\")),\"Volume não pertence a carga\")","v":""}]
[null,{"$f":"IFERROR(IF(A2119=\"\",\"\",IF(VLOOKUP(A2119,'Romaneio da Carga'!E:E,1,0)=BD!A2119,\"Volume Ok\",\"Volume não pertence a carga\")),\"Volume não pertence a carga\")","v":""}]
[null,{"$f":"IFERROR(IF(A2120=\"\",\"\",IF(VLOOKUP(A2120,'Romaneio da Carga'!E:E,1,0)=BD!A2120,\"Volume Ok\",\"Volume não pertence a carga\")),\"Volume não pertence a carga\")","v":""}]
[null,{"$f":"IFERROR(IF(A2121=\"\",\"\",IF(VLOOKUP(A2121,'Romaneio da Carga'!E:E,1,0)=BD!A2121,\"Volume Ok\",\"Volume não pertence a carga\")),\"Volume não pertence a carga\")","v":""}]
[null,{"$f":"IFERROR(IF(A2122=\"\",\"\",IF(VLOOKUP(A2122,'Romaneio da Carga'!E:E,1,0)=BD!A2122,\"Volume Ok\",\"Volume não pertence a carga\")),\"Volume não pertence a carga\")","v":""}]
[null,{"$f":"IFERROR(IF(A2123=\"\",\"\",IF(VLOOKUP(A2123,'Romaneio da Carga'!E:E,1,0)=BD!A2123,\"Volume Ok\",\"Volume não pertence a carga\")),\"Volume não pertence a carga\")","v":""}]
[null,{"$f":"IFERROR(IF(A2124=\"\",\"\",IF(VLOOKUP(A2124,'Romaneio da Carga'!E:E,1,0)=BD!A2124,\"Volume Ok\",\"Volume não pertence a carga\")),\"Volume não pertence a carga\")","v":""}]
[null,{"$f":"IFERROR(IF(A2125=\"\",\"\",IF(VLOOKUP(A2125,'Romaneio da Carga'!E:E,1,0)=BD!A2125,\"Volume Ok\",\"Volume não pertence a carga\")),\"Volume não pertence a carga\")","v":""}]
[null,{"$f":"IFERROR(IF(A2126=\"\",\"\",IF(VLOOKUP(A2126,'Romaneio da Carga'!E:E,1,0)=BD!A2126,\"Volume Ok\",\"Volume não pertence a carga\")),\"Volume não pertence a carga\")","v":""}]
[null,{"$f":"IFERROR(IF(A2127=\"\",\"\",IF(VLOOKUP(A2127,'Romaneio da Carga'!E:E,1,0)=BD!A2127,\"Volume Ok\",\"Volume não pertence a carga\")),\"Volume não pertence a carga\")","v":""}]
[null,{"$f":"IFERROR(IF(A2128=\"\",\"\",IF(VLOOKUP(A2128,'Romaneio da Carga'!E:E,1,0)=BD!A2128,\"Volume Ok\",\"Volume não pertence a carga\")),\"Volume não pertence a carga\")","v":""}]
[null,{"$f":"IFERROR(IF(A2129=\"\",\"\",IF(VLOOKUP(A2129,'Romaneio da Carga'!E:E,1,0)=BD!A2129,\"Volume Ok\",\"Volume não pertence a carga\")),\"Volume não pertence a carga\")","v":""}]
[null,{"$f":"IFERROR(IF(A2130=\"\",\"\",IF(VLOOKUP(A2130,'Romaneio da Carga'!E:E,1,0)=BD!A2130,\"Volume Ok\",\"Volume não pertence a carga\")),\"Volume não pertence a carga\")","v":""}]
[null,{"$f":"IFERROR(IF(A2131=\"\",\"\",IF(VLOOKUP(A2131,'Romaneio da Carga'!E:E,1,0)=BD!A2131,\"Volume Ok\",\"Volume não pertence a carga\")),\"Volume não pertence a carga\")","v":""}]
[null,{"$f":"IFERROR(IF(A2132=\"\",\"\",IF(VLOOKUP(A2132,'Romaneio da Carga'!E:E,1,0)=BD!A2132,\"Volume Ok\",\"Volume não pertence a carga\")),\"Volume não pertence a carga\")","v":""}]
[null,{"$f":"IFERROR(IF(A2133=\"\",\"\",IF(VLOOKUP(A2133,'Romaneio da Carga'!E:E,1,0)=BD!A2133,\"Volume Ok\",\"Volume não pertence a carga\")),\"Volume não pertence a carga\")","v":""}]
[null,{"$f":"IFERROR(IF(A2134=\"\",\"\",IF(VLOOKUP(A2134,'Romaneio da Carga'!E:E,1,0)=BD!A2134,\"Volume Ok\",\"Volume não pertence a carga\")),\"Volume não pertence a carga\")","v":""}]
[null,{"$f":"IFERROR(IF(A2135=\"\",\"\",IF(VLOOKUP(A2135,'Romaneio da Carga'!E:E,1,0)=BD!A2135,\"Volume Ok\",\"Volume não pertence a carga\")),\"Volume não pertence a carga\")","v":""}]
[null,{"$f":"IFERROR(IF(A2136=\"\",\"\",IF(VLOOKUP(A2136,'Romaneio da Carga'!E:E,1,0)=BD!A2136,\"Volume Ok\",\"Volume não pertence a carga\")),\"Volume não pertence a carga\")","v":""}]
[null,{"$f":"IFERROR(IF(A2137=\"\",\"\",IF(VLOOKUP(A2137,'Romaneio da Carga'!E:E,1,0)=BD!A2137,\"Volume Ok\",\"Volume não pertence a carga\")),\"Volume não pertence a carga\")","v":""}]
[null,{"$f":"IFERROR(IF(A2138=\"\",\"\",IF(VLOOKUP(A2138,'Romaneio da Carga'!E:E,1,0)=BD!A2138,\"Volume Ok\",\"Volume não pertence a carga\")),\"Volume não pertence a carga\")","v":""}]
[null,{"$f":"IFERROR(IF(A2139=\"\",\"\",IF(VLOOKUP(A2139,'Romaneio da Carga'!E:E,1,0)=BD!A2139,\"Volume Ok\",\"Volume não pertence a carga\")),\"Volume não pertence a carga\")","v":""}]
[null,{"$f":"IFERROR(IF(A2140=\"\",\"\",IF(VLOOKUP(A2140,'Romaneio da Carga'!E:E,1,0)=BD!A2140,\"Volume Ok\",\"Volume não pertence a carga\")),\"Volume não pertence a carga\")","v":""}]
[null,{"$f":"IFERROR(IF(A2141=\"\",\"\",IF(VLOOKUP(A2141,'Romaneio da Carga'!E:E,1,0)=BD!A2141,\"Volume Ok\",\"Volume não pertence a carga\")),\"Volume não pertence a carga\")","v":""}]
[null,{"$f":"IFERROR(IF(A2142=\"\",\"\",IF(VLOOKUP(A2142,'Romaneio da Carga'!E:E,1,0)=BD!A2142,\"Volume Ok\",\"Volume não pertence a carga\")),\"Volume não pertence a carga\")","v":""}]
[null,{"$f":"IFERROR(IF(A2143=\"\",\"\",IF(VLOOKUP(A2143,'Romaneio da Carga'!E:E,1,0)=BD!A2143,\"Volume Ok\",\"Volume não pertence a carga\")),\"Volume não pertence a carga\")","v":""}]
[null,{"$f":"IFERROR(IF(A2144=\"\",\"\",IF(VLOOKUP(A2144,'Romaneio da Carga'!E:E,1,0)=BD!A2144,\"Volume Ok\",\"Volume não pertence a carga\")),\"Volume não pertence a carga\")","v":""}]
[null,{"$f":"IFERROR(IF(A2145=\"\",\"\",IF(VLOOKUP(A2145,'Romaneio da Carga'!E:E,1,0)=BD!A2145,\"Volume Ok\",\"Volume não pertence a carga\")),\"Volume não pertence a carga\")","v":""}]
[null,{"$f":"IFERROR(IF(A2146=\"\",\"\",IF(VLOOKUP(A2146,'Romaneio da Carga'!E:E,1,0)=BD!A2146,\"Volume Ok\",\"Volume não pertence a carga\")),\"Volume não pertence a carga\")","v":""}]
[null,{"$f":"IFERROR(IF(A2147=\"\",\"\",IF(VLOOKUP(A2147,'Romaneio da Carga'!E:E,1,0)=BD!A2147,\"Volume Ok\",\"Volume não pertence a carga\")),\"Volume não pertence a carga\")","v":""}]
[null,{"$f":"IFERROR(IF(A2148=\"\",\"\",IF(VLOOKUP(A2148,'Romaneio da Carga'!E:E,1,0)=BD!A2148,\"Volume Ok\",\"Volume não pertence a carga\")),\"Volume não pertence a carga\")","v":""}]
[null,{"$f":"IFERROR(IF(A2149=\"\",\"\",IF(VLOOKUP(A2149,'Romaneio da Carga'!E:E,1,0)=BD!A2149,\"Volume Ok\",\"Volume não pertence a carga\")),\"Volume não pertence a carga\")","v":""}]
[null,{"$f":"IFERROR(IF(A2150=\"\",\"\",IF(VLOOKUP(A2150,'Romaneio da Carga'!E:E,1,0)=BD!A2150,\"Volume Ok\",\"Volume não pertence a carga\")),\"Volume não pertence a carga\")","v":""}]
[null,{"$f":"IFERROR(IF(A2151=\"\",\"\",IF(VLOOKUP(A2151,'Romaneio da Carga'!E:E,1,0)=BD!A2151,\"Volume Ok\",\"Volume não pertence a carga\")),\"Volume não pertence a carga\")","v":""}]
[null,{"$f":"IFERROR(IF(A2152=\"\",\"\",IF(VLOOKUP(A2152,'Romaneio da Carga'!E:E,1,0)=BD!A2152,\"Volume Ok\",\"Volume não pertence a carga\")),\"Volume não pertence a carga\")","v":""}]
[null,{"$f":"IFERROR(IF(A2153=\"\",\"\",IF(VLOOKUP(A2153,'Romaneio da Carga'!E:E,1,0)=BD!A2153,\"Volume Ok\",\"Volume não pertence a carga\")),\"Volume não pertence a carga\")","v":""}]
[null,{"$f":"IFERROR(IF(A2154=\"\",\"\",IF(VLOOKUP(A2154,'Romaneio da Carga'!E:E,1,0)=BD!A2154,\"Volume Ok\",\"Volume não pertence a carga\")),\"Volume não pertence a carga\")","v":""}]
[null,{"$f":"IFERROR(IF(A2155=\"\",\"\",IF(VLOOKUP(A2155,'Romaneio da Carga'!E:E,1,0)=BD!A2155,\"Volume Ok\",\"Volume não pertence a carga\")),\"Volume não pertence a carga\")","v":""}]
[null,{"$f":"IFERROR(IF(A2156=\"\",\"\",IF(VLOOKUP(A2156,'Romaneio da Carga'!E:E,1,0)=BD!A2156,\"Volume Ok\",\"Volume não pertence a carga\")),\"Volume não pertence a carga\")","v":""}]
[null,{"$f":"IFERROR(IF(A2157=\"\",\"\",IF(VLOOKUP(A2157,'Romaneio da Carga'!E:E,1,0)=BD!A2157,\"Volume Ok\",\"Volume não pertence a carga\")),\"Volume não pertence a carga\")","v":""}]
[null,{"$f":"IFERROR(IF(A2158=\"\",\"\",IF(VLOOKUP(A2158,'Romaneio da Carga'!E:E,1,0)=BD!A2158,\"Volume Ok\",\"Volume não pertence a carga\")),\"Volume não pertence a carga\")","v":""}]
[null,{"$f":"IFERROR(IF(A2159=\"\",\"\",IF(VLOOKUP(A2159,'Romaneio da Carga'!E:E,1,0)=BD!A2159,\"Volume Ok\",\"Volume não pertence a carga\")),\"Volume não pertence a carga\")","v":""}]
[null,{"$f":"IFERROR(IF(A2160=\"\",\"\",IF(VLOOKUP(A2160,'Romaneio da Carga'!E:E,1,0)=BD!A2160,\"Volume Ok\",\"Volume não pertence a carga\")),\"Volume não pertence a carga\")","v":""}]
[null,{"$f":"IFERROR(IF(A2161=\"\",\"\",IF(VLOOKUP(A2161,'Romaneio da Carga'!E:E,1,0)=BD!A2161,\"Volume Ok\",\"Volume não pertence a carga\")),\"Volume não pertence a carga\")","v":""}]
[null,{"$f":"IFERROR(IF(A2162=\"\",\"\",IF(VLOOKUP(A2162,'Romaneio da Carga'!E:E,1,0)=BD!A2162,\"Volume Ok\",\"Volume não pertence a carga\")),\"Volume não pertence a carga\")","v":""}]
[null,{"$f":"IFERROR(IF(A2163=\"\",\"\",IF(VLOOKUP(A2163,'Romaneio da Carga'!E:E,1,0)=BD!A2163,\"Volume Ok\",\"Volume não pertence a carga\")),\"Volume não pertence a carga\")","v":""}]
[null,{"$f":"IFERROR(IF(A2164=\"\",\"\",IF(VLOOKUP(A2164,'Romaneio da Carga'!E:E,1,0)=BD!A2164,\"Volume Ok\",\"Volume não pertence a carga\")),\"Volume não pertence a carga\")","v":""}]
[null,{"$f":"IFERROR(IF(A2165=\"\",\"\",IF(VLOOKUP(A2165,'Romaneio da Carga'!E:E,1,0)=BD!A2165,\"Volume Ok\",\"Volume não pertence a carga\")),\"Volume não pertence a carga\")","v":""}]
[null,{"$f":"IFERROR(IF(A2166=\"\",\"\",IF(VLOOKUP(A2166,'Romaneio da Carga'!E:E,1,0)=BD!A2166,\"Volume Ok\",\"Volume não pertence a carga\")),\"Volume não pertence a carga\")","v":""}]
[null,{"$f":"IFERROR(IF(A2167=\"\",\"\",IF(VLOOKUP(A2167,'Romaneio da Carga'!E:E,1,0)=BD!A2167,\"Volume Ok\",\"Volume não pertence a carga\")),\"Volume não pertence a carga\")","v":""}]
[null,{"$f":"IFERROR(IF(A2168=\"\",\"\",IF(VLOOKUP(A2168,'Romaneio da Carga'!E:E,1,0)=BD!A2168,\"Volume Ok\",\"Volume não pertence a carga\")),\"Volume não pertence a carga\")","v":""}]
[null,{"$f":"IFERROR(IF(A2169=\"\",\"\",IF(VLOOKUP(A2169,'Romaneio da Carga'!E:E,1,0)=BD!A2169,\"Volume Ok\",\"Volume não pertence a carga\")),\"Volume não pertence a carga\")","v":""}]
[null,{"$f":"IFERROR(IF(A2170=\"\",\"\",IF(VLOOKUP(A2170,'Romaneio da Carga'!E:E,1,0)=BD!A2170,\"Volume Ok\",\"Volume não pertence a carga\")),\"Volume não pertence a carga\")","v":""}]
[null,{"$f":"IFERROR(IF(A2171=\"\",\"\",IF(VLOOKUP(A2171,'Romaneio da Carga'!E:E,1,0)=BD!A2171,\"Volume Ok\",\"Volume não pertence a carga\")),\"Volume não pertence a carga\")","v":""}]
[null,{"$f":"IFERROR(IF(A2172=\"\",\"\",IF(VLOOKUP(A2172,'Romaneio da Carga'!E:E,1,0)=BD!A2172,\"Volume Ok\",\"Volume não pertence a carga\")),\"Volume não pertence a carga\")","v":""}]
[null,{"$f":"IFERROR(IF(A2173=\"\",\"\",IF(VLOOKUP(A2173,'Romaneio da Carga'!E:E,1,0)=BD!A2173,\"Volume Ok\",\"Volume não pertence a carga\")),\"Volume não pertence a carga\")","v":""}]
[null,{"$f":"IFERROR(IF(A2174=\"\",\"\",IF(VLOOKUP(A2174,'Romaneio da Carga'!E:E,1,0)=BD!A2174,\"Volume Ok\",\"Volume não pertence a carga\")),\"Volume não pertence a carga\")","v":""}]
[null,{"$f":"IFERROR(IF(A2175=\"\",\"\",IF(VLOOKUP(A2175,'Romaneio da Carga'!E:E,1,0)=BD!A2175,\"Volume Ok\",\"Volume não pertence a carga\")),\"Volume não pertence a carga\")","v":""}]
[null,{"$f":"IFERROR(IF(A2176=\"\",\"\",IF(VLOOKUP(A2176,'Romaneio da Carga'!E:E,1,0)=BD!A2176,\"Volume Ok\",\"Volume não pertence a carga\")),\"Volume não pertence a carga\")","v":""}]
[null,{"$f":"IFERROR(IF(A2177=\"\",\"\",IF(VLOOKUP(A2177,'Romaneio da Carga'!E:E,1,0)=BD!A2177,\"Volume Ok\",\"Volume não pertence a carga\")),\"Volume não pertence a carga\")","v":""}]
[null,{"$f":"IFERROR(IF(A2178=\"\",\"\",IF(VLOOKUP(A2178,'Romaneio da Carga'!E:E,1,0)=BD!A2178,\"Volume Ok\",\"Volume não pertence a carga\")),\"Volume não pertence a carga\")","v":""}]
[null,{"$f":"IFERROR(IF(A2179=\"\",\"\",IF(VLOOKUP(A2179,'Romaneio da Carga'!E:E,1,0)=BD!A2179,\"Volume Ok\",\"Volume não pertence a carga\")),\"Volume não pertence a carga\")","v":""}]
[null,{"$f":"IFERROR(IF(A2180=\"\",\"\",IF(VLOOKUP(A2180,'Romaneio da Carga'!E:E,1,0)=BD!A2180,\"Volume Ok\",\"Volume não pertence a carga\")),\"Volume não pertence a carga\")","v":""}]
[null,{"$f":"IFERROR(IF(A2181=\"\",\"\",IF(VLOOKUP(A2181,'Romaneio da Carga'!E:E,1,0)=BD!A2181,\"Volume Ok\",\"Volume não pertence a carga\")),\"Volume não pertence a carga\")","v":""}]
[null,{"$f":"IFERROR(IF(A2182=\"\",\"\",IF(VLOOKUP(A2182,'Romaneio da Carga'!E:E,1,0)=BD!A2182,\"Volume Ok\",\"Volume não pertence a carga\")),\"Volume não pertence a carga\")","v":""}]
[null,{"$f":"IFERROR(IF(A2183=\"\",\"\",IF(VLOOKUP(A2183,'Romaneio da Carga'!E:E,1,0)=BD!A2183,\"Volume Ok\",\"Volume não pertence a carga\")),\"Volume não pertence a carga\")","v":""}]
[null,{"$f":"IFERROR(IF(A2184=\"\",\"\",IF(VLOOKUP(A2184,'Romaneio da Carga'!E:E,1,0)=BD!A2184,\"Volume Ok\",\"Volume não pertence a carga\")),\"Volume não pertence a carga\")","v":""}]
[null,{"$f":"IFERROR(IF(A2185=\"\",\"\",IF(VLOOKUP(A2185,'Romaneio da Carga'!E:E,1,0)=BD!A2185,\"Volume Ok\",\"Volume não pertence a carga\")),\"Volume não pertence a carga\")","v":""}]
[null,{"$f":"IFERROR(IF(A2186=\"\",\"\",IF(VLOOKUP(A2186,'Romaneio da Carga'!E:E,1,0)=BD!A2186,\"Volume Ok\",\"Volume não pertence a carga\")),\"Volume não pertence a carga\")","v":""}]
[null,{"$f":"IFERROR(IF(A2187=\"\",\"\",IF(VLOOKUP(A2187,'Romaneio da Carga'!E:E,1,0)=BD!A2187,\"Volume Ok\",\"Volume não pertence a carga\")),\"Volume não pertence a carga\")","v":""}]
[null,{"$f":"IFERROR(IF(A2188=\"\",\"\",IF(VLOOKUP(A2188,'Romaneio da Carga'!E:E,1,0)=BD!A2188,\"Volume Ok\",\"Volume não pertence a carga\")),\"Volume não pertence a carga\")","v":""}]
[null,{"$f":"IFERROR(IF(A2189=\"\",\"\",IF(VLOOKUP(A2189,'Romaneio da Carga'!E:E,1,0)=BD!A2189,\"Volume Ok\",\"Volume não pertence a carga\")),\"Volume não pertence a carga\")","v":""}]
[null,{"$f":"IFERROR(IF(A2190=\"\",\"\",IF(VLOOKUP(A2190,'Romaneio da Carga'!E:E,1,0)=BD!A2190,\"Volume Ok\",\"Volume não pertence a carga\")),\"Volume não pertence a carga\")","v":""}]
[null,{"$f":"IFERROR(IF(A2191=\"\",\"\",IF(VLOOKUP(A2191,'Romaneio da Carga'!E:E,1,0)=BD!A2191,\"Volume Ok\",\"Volume não pertence a carga\")),\"Volume não pertence a carga\")","v":""}]
[null,{"$f":"IFERROR(IF(A2192=\"\",\"\",IF(VLOOKUP(A2192,'Romaneio da Carga'!E:E,1,0)=BD!A2192,\"Volume Ok\",\"Volume não pertence a carga\")),\"Volume não pertence a carga\")","v":""}]
[null,{"$f":"IFERROR(IF(A2193=\"\",\"\",IF(VLOOKUP(A2193,'Romaneio da Carga'!E:E,1,0)=BD!A2193,\"Volume Ok\",\"Volume não pertence a carga\")),\"Volume não pertence a carga\")","v":""}]
[null,{"$f":"IFERROR(IF(A2194=\"\",\"\",IF(VLOOKUP(A2194,'Romaneio da Carga'!E:E,1,0)=BD!A2194,\"Volume Ok\",\"Volume não pertence a carga\")),\"Volume não pertence a carga\")","v":""}]
[null,{"$f":"IFERROR(IF(A2195=\"\",\"\",IF(VLOOKUP(A2195,'Romaneio da Carga'!E:E,1,0)=BD!A2195,\"Volume Ok\",\"Volume não pertence a carga\")),\"Volume não pertence a carga\")","v":""}]
[null,{"$f":"IFERROR(IF(A2196=\"\",\"\",IF(VLOOKUP(A2196,'Romaneio da Carga'!E:E,1,0)=BD!A2196,\"Volume Ok\",\"Volume não pertence a carga\")),\"Volume não pertence a carga\")","v":""}]
[null,{"$f":"IFERROR(IF(A2197=\"\",\"\",IF(VLOOKUP(A2197,'Romaneio da Carga'!E:E,1,0)=BD!A2197,\"Volume Ok\",\"Volume não pertence a carga\")),\"Volume não pertence a carga\")","v":""}]
[null,{"$f":"IFERROR(IF(A2198=\"\",\"\",IF(VLOOKUP(A2198,'Romaneio da Carga'!E:E,1,0)=BD!A2198,\"Volume Ok\",\"Volume não pertence a carga\")),\"Volume não pertence a carga\")","v":""}]
[null,{"$f":"IFERROR(IF(A2199=\"\",\"\",IF(VLOOKUP(A2199,'Romaneio da Carga'!E:E,1,0)=BD!A2199,\"Volume Ok\",\"Volume não pertence a carga\")),\"Volume não pertence a carga\")","v":""}]
[null,{"$f":"IFERROR(IF(A2200=\"\",\"\",IF(VLOOKUP(A2200,'Romaneio da Carga'!E:E,1,0)=BD!A2200,\"Volume Ok\",\"Volume não pertence a carga\")),\"Volume não pertence a carga\")","v":""}]
[null,{"$f":"IFERROR(IF(A2201=\"\",\"\",IF(VLOOKUP(A2201,'Romaneio da Carga'!E:E,1,0)=BD!A2201,\"Volume Ok\",\"Volume não pertence a carga\")),\"Volume não pertence a carga\")","v":""}]
[null,{"$f":"IFERROR(IF(A2202=\"\",\"\",IF(VLOOKUP(A2202,'Romaneio da Carga'!E:E,1,0)=BD!A2202,\"Volume Ok\",\"Volume não pertence a carga\")),\"Volume não pertence a carga\")","v":""}]
[null,{"$f":"IFERROR(IF(A2203=\"\",\"\",IF(VLOOKUP(A2203,'Romaneio da Carga'!E:E,1,0)=BD!A2203,\"Volume Ok\",\"Volume não pertence a carga\")),\"Volume não pertence a carga\")","v":""}]
[null,{"$f":"IFERROR(IF(A2204=\"\",\"\",IF(VLOOKUP(A2204,'Romaneio da Carga'!E:E,1,0)=BD!A2204,\"Volume Ok\",\"Volume não pertence a carga\")),\"Volume não pertence a carga\")","v":""}]
[null,{"$f":"IFERROR(IF(A2205=\"\",\"\",IF(VLOOKUP(A2205,'Romaneio da Carga'!E:E,1,0)=BD!A2205,\"Volume Ok\",\"Volume não pertence a carga\")),\"Volume não pertence a carga\")","v":""}]
[null,{"$f":"IFERROR(IF(A2206=\"\",\"\",IF(VLOOKUP(A2206,'Romaneio da Carga'!E:E,1,0)=BD!A2206,\"Volume Ok\",\"Volume não pertence a carga\")),\"Volume não pertence a carga\")","v":""}]
[null,{"$f":"IFERROR(IF(A2207=\"\",\"\",IF(VLOOKUP(A2207,'Romaneio da Carga'!E:E,1,0)=BD!A2207,\"Volume Ok\",\"Volume não pertence a carga\")),\"Volume não pertence a carga\")","v":""}]
[null,{"$f":"IFERROR(IF(A2208=\"\",\"\",IF(VLOOKUP(A2208,'Romaneio da Carga'!E:E,1,0)=BD!A2208,\"Volume Ok\",\"Volume não pertence a carga\")),\"Volume não pertence a carga\")","v":""}]
[null,{"$f":"IFERROR(IF(A2209=\"\",\"\",IF(VLOOKUP(A2209,'Romaneio da Carga'!E:E,1,0)=BD!A2209,\"Volume Ok\",\"Volume não pertence a carga\")),\"Volume não pertence a carga\")","v":""}]
[null,{"$f":"IFERROR(IF(A2210=\"\",\"\",IF(VLOOKUP(A2210,'Romaneio da Carga'!E:E,1,0)=BD!A2210,\"Volume Ok\",\"Volume não pertence a carga\")),\"Volume não pertence a carga\")","v":""}]
[null,{"$f":"IFERROR(IF(A2211=\"\",\"\",IF(VLOOKUP(A2211,'Romaneio da Carga'!E:E,1,0)=BD!A2211,\"Volume Ok\",\"Volume não pertence a carga\")),\"Volume não pertence a carga\")","v":""}]
[null,{"$f":"IFERROR(IF(A2212=\"\",\"\",IF(VLOOKUP(A2212,'Romaneio da Carga'!E:E,1,0)=BD!A2212,\"Volume Ok\",\"Volume não pertence a carga\")),\"Volume não pertence a carga\")","v":""}]
[null,{"$f":"IFERROR(IF(A2213=\"\",\"\",IF(VLOOKUP(A2213,'Romaneio da Carga'!E:E,1,0)=BD!A2213,\"Volume Ok\",\"Volume não pertence a carga\")),\"Volume não pertence a carga\")","v":""}]
[null,{"$f":"IFERROR(IF(A2214=\"\",\"\",IF(VLOOKUP(A2214,'Romaneio da Carga'!E:E,1,0)=BD!A2214,\"Volume Ok\",\"Volume não pertence a carga\")),\"Volume não pertence a carga\")","v":""}]
[null,{"$f":"IFERROR(IF(A2215=\"\",\"\",IF(VLOOKUP(A2215,'Romaneio da Carga'!E:E,1,0)=BD!A2215,\"Volume Ok\",\"Volume não pertence a carga\")),\"Volume não pertence a carga\")","v":""}]
[null,{"$f":"IFERROR(IF(A2216=\"\",\"\",IF(VLOOKUP(A2216,'Romaneio da Carga'!E:E,1,0)=BD!A2216,\"Volume Ok\",\"Volume não pertence a carga\")),\"Volume não pertence a carga\")","v":""}]
[null,{"$f":"IFERROR(IF(A2217=\"\",\"\",IF(VLOOKUP(A2217,'Romaneio da Carga'!E:E,1,0)=BD!A2217,\"Volume Ok\",\"Volume não pertence a carga\")),\"Volume não pertence a carga\")","v":""}]
[null,{"$f":"IFERROR(IF(A2218=\"\",\"\",IF(VLOOKUP(A2218,'Romaneio da Carga'!E:E,1,0)=BD!A2218,\"Volume Ok\",\"Volume não pertence a carga\")),\"Volume não pertence a carga\")","v":""}]
[null,{"$f":"IFERROR(IF(A2219=\"\",\"\",IF(VLOOKUP(A2219,'Romaneio da Carga'!E:E,1,0)=BD!A2219,\"Volume Ok\",\"Volume não pertence a carga\")),\"Volume não pertence a carga\")","v":""}]
[null,{"$f":"IFERROR(IF(A2220=\"\",\"\",IF(VLOOKUP(A2220,'Romaneio da Carga'!E:E,1,0)=BD!A2220,\"Volume Ok\",\"Volume não pertence a carga\")),\"Volume não pertence a carga\")","v":""}]
[null,{"$f":"IFERROR(IF(A2221=\"\",\"\",IF(VLOOKUP(A2221,'Romaneio da Carga'!E:E,1,0)=BD!A2221,\"Volume Ok\",\"Volume não pertence a carga\")),\"Volume não pertence a carga\")","v":""}]
[null,{"$f":"IFERROR(IF(A2222=\"\",\"\",IF(VLOOKUP(A2222,'Romaneio da Carga'!E:E,1,0)=BD!A2222,\"Volume Ok\",\"Volume não pertence a carga\")),\"Volume não pertence a carga\")","v":""}]
[null,{"$f":"IFERROR(IF(A2223=\"\",\"\",IF(VLOOKUP(A2223,'Romaneio da Carga'!E:E,1,0)=BD!A2223,\"Volume Ok\",\"Volume não pertence a carga\")),\"Volume não pertence a carga\")","v":""}]
[null,{"$f":"IFERROR(IF(A2224=\"\",\"\",IF(VLOOKUP(A2224,'Romaneio da Carga'!E:E,1,0)=BD!A2224,\"Volume Ok\",\"Volume não pertence a carga\")),\"Volume não pertence a carga\")","v":""}]
[null,{"$f":"IFERROR(IF(A2225=\"\",\"\",IF(VLOOKUP(A2225,'Romaneio da Carga'!E:E,1,0)=BD!A2225,\"Volume Ok\",\"Volume não pertence a carga\")),\"Volume não pertence a carga\")","v":""}]
[null,{"$f":"IFERROR(IF(A2226=\"\",\"\",IF(VLOOKUP(A2226,'Romaneio da Carga'!E:E,1,0)=BD!A2226,\"Volume Ok\",\"Volume não pertence a carga\")),\"Volume não pertence a carga\")","v":""}]
[null,{"$f":"IFERROR(IF(A2227=\"\",\"\",IF(VLOOKUP(A2227,'Romaneio da Carga'!E:E,1,0)=BD!A2227,\"Volume Ok\",\"Volume não pertence a carga\")),\"Volume não pertence a carga\")","v":""}]
[null,{"$f":"IFERROR(IF(A2228=\"\",\"\",IF(VLOOKUP(A2228,'Romaneio da Carga'!E:E,1,0)=BD!A2228,\"Volume Ok\",\"Volume não pertence a carga\")),\"Volume não pertence a carga\")","v":""}]
[null,{"$f":"IFERROR(IF(A2229=\"\",\"\",IF(VLOOKUP(A2229,'Romaneio da Carga'!E:E,1,0)=BD!A2229,\"Volume Ok\",\"Volume não pertence a carga\")),\"Volume não pertence a carga\")","v":""}]
[null,{"$f":"IFERROR(IF(A2230=\"\",\"\",IF(VLOOKUP(A2230,'Romaneio da Carga'!E:E,1,0)=BD!A2230,\"Volume Ok\",\"Volume não pertence a carga\")),\"Volume não pertence a carga\")","v":""}]
[null,{"$f":"IFERROR(IF(A2231=\"\",\"\",IF(VLOOKUP(A2231,'Romaneio da Carga'!E:E,1,0)=BD!A2231,\"Volume Ok\",\"Volume não pertence a carga\")),\"Volume não pertence a carga\")","v":""}]
[null,{"$f":"IFERROR(IF(A2232=\"\",\"\",IF(VLOOKUP(A2232,'Romaneio da Carga'!E:E,1,0)=BD!A2232,\"Volume Ok\",\"Volume não pertence a carga\")),\"Volume não pertence a carga\")","v":""}]
[null,{"$f":"IFERROR(IF(A2233=\"\",\"\",IF(VLOOKUP(A2233,'Romaneio da Carga'!E:E,1,0)=BD!A2233,\"Volume Ok\",\"Volume não pertence a carga\")),\"Volume não pertence a carga\")","v":""}]
[null,{"$f":"IFERROR(IF(A2234=\"\",\"\",IF(VLOOKUP(A2234,'Romaneio da Carga'!E:E,1,0)=BD!A2234,\"Volume Ok\",\"Volume não pertence a carga\")),\"Volume não pertence a carga\")","v":""}]
[null,{"$f":"IFERROR(IF(A2235=\"\",\"\",IF(VLOOKUP(A2235,'Romaneio da Carga'!E:E,1,0)=BD!A2235,\"Volume Ok\",\"Volume não pertence a carga\")),\"Volume não pertence a carga\")","v":""}]
[null,{"$f":"IFERROR(IF(A2236=\"\",\"\",IF(VLOOKUP(A2236,'Romaneio da Carga'!E:E,1,0)=BD!A2236,\"Volume Ok\",\"Volume não pertence a carga\")),\"Volume não pertence a carga\")","v":""}]
[null,{"$f":"IFERROR(IF(A2237=\"\",\"\",IF(VLOOKUP(A2237,'Romaneio da Carga'!E:E,1,0)=BD!A2237,\"Volume Ok\",\"Volume não pertence a carga\")),\"Volume não pertence a carga\")","v":""}]
[null,{"$f":"IFERROR(IF(A2238=\"\",\"\",IF(VLOOKUP(A2238,'Romaneio da Carga'!E:E,1,0)=BD!A2238,\"Volume Ok\",\"Volume não pertence a carga\")),\"Volume não pertence a carga\")","v":""}]
[null,{"$f":"IFERROR(IF(A2239=\"\",\"\",IF(VLOOKUP(A2239,'Romaneio da Carga'!E:E,1,0)=BD!A2239,\"Volume Ok\",\"Volume não pertence a carga\")),\"Volume não pertence a carga\")","v":""}]
[null,{"$f":"IFERROR(IF(A2240=\"\",\"\",IF(VLOOKUP(A2240,'Romaneio da Carga'!E:E,1,0)=BD!A2240,\"Volume Ok\",\"Volume não pertence a carga\")),\"Volume não pertence a carga\")","v":""}]
[null,{"$f":"IFERROR(IF(A2241=\"\",\"\",IF(VLOOKUP(A2241,'Romaneio da Carga'!E:E,1,0)=BD!A2241,\"Volume Ok\",\"Volume não pertence a carga\")),\"Volume não pertence a carga\")","v":""}]
[null,{"$f":"IFERROR(IF(A2242=\"\",\"\",IF(VLOOKUP(A2242,'Romaneio da Carga'!E:E,1,0)=BD!A2242,\"Volume Ok\",\"Volume não pertence a carga\")),\"Volume não pertence a carga\")","v":""}]
[null,{"$f":"IFERROR(IF(A2243=\"\",\"\",IF(VLOOKUP(A2243,'Romaneio da Carga'!E:E,1,0)=BD!A2243,\"Volume Ok\",\"Volume não pertence a carga\")),\"Volume não pertence a carga\")","v":""}]
[null,{"$f":"IFERROR(IF(A2244=\"\",\"\",IF(VLOOKUP(A2244,'Romaneio da Carga'!E:E,1,0)=BD!A2244,\"Volume Ok\",\"Volume não pertence a carga\")),\"Volume não pertence a carga\")","v":""}]
[null,{"$f":"IFERROR(IF(A2245=\"\",\"\",IF(VLOOKUP(A2245,'Romaneio da Carga'!E:E,1,0)=BD!A2245,\"Volume Ok\",\"Volume não pertence a carga\")),\"Volume não pertence a carga\")","v":""}]
[null,{"$f":"IFERROR(IF(A2246=\"\",\"\",IF(VLOOKUP(A2246,'Romaneio da Carga'!E:E,1,0)=BD!A2246,\"Volume Ok\",\"Volume não pertence a carga\")),\"Volume não pertence a carga\")","v":""}]
[null,{"$f":"IFERROR(IF(A2247=\"\",\"\",IF(VLOOKUP(A2247,'Romaneio da Carga'!E:E,1,0)=BD!A2247,\"Volume Ok\",\"Volume não pertence a carga\")),\"Volume não pertence a carga\")","v":""}]
[null,{"$f":"IFERROR(IF(A2248=\"\",\"\",IF(VLOOKUP(A2248,'Romaneio da Carga'!E:E,1,0)=BD!A2248,\"Volume Ok\",\"Volume não pertence a carga\")),\"Volume não pertence a carga\")","v":""}]
[null,{"$f":"IFERROR(IF(A2249=\"\",\"\",IF(VLOOKUP(A2249,'Romaneio da Carga'!E:E,1,0)=BD!A2249,\"Volume Ok\",\"Volume não pertence a carga\")),\"Volume não pertence a carga\")","v":""}]
[null,{"$f":"IFERROR(IF(A2250=\"\",\"\",IF(VLOOKUP(A2250,'Romaneio da Carga'!E:E,1,0)=BD!A2250,\"Volume Ok\",\"Volume não pertence a carga\")),\"Volume não pertence a carga\")","v":""}]
[null,{"$f":"IFERROR(IF(A2251=\"\",\"\",IF(VLOOKUP(A2251,'Romaneio da Carga'!E:E,1,0)=BD!A2251,\"Volume Ok\",\"Volume não pertence a carga\")),\"Volume não pertence a carga\")","v":""}]
[null,{"$f":"IFERROR(IF(A2252=\"\",\"\",IF(VLOOKUP(A2252,'Romaneio da Carga'!E:E,1,0)=BD!A2252,\"Volume Ok\",\"Volume não pertence a carga\")),\"Volume não pertence a carga\")","v":""}]
[null,{"$f":"IFERROR(IF(A2253=\"\",\"\",IF(VLOOKUP(A2253,'Romaneio da Carga'!E:E,1,0)=BD!A2253,\"Volume Ok\",\"Volume não pertence a carga\")),\"Volume não pertence a carga\")","v":""}]
[null,{"$f":"IFERROR(IF(A2254=\"\",\"\",IF(VLOOKUP(A2254,'Romaneio da Carga'!E:E,1,0)=BD!A2254,\"Volume Ok\",\"Volume não pertence a carga\")),\"Volume não pertence a carga\")","v":""}]
[null,{"$f":"IFERROR(IF(A2255=\"\",\"\",IF(VLOOKUP(A2255,'Romaneio da Carga'!E:E,1,0)=BD!A2255,\"Volume Ok\",\"Volume não pertence a carga\")),\"Volume não pertence a carga\")","v":""}]
[null,{"$f":"IFERROR(IF(A2256=\"\",\"\",IF(VLOOKUP(A2256,'Romaneio da Carga'!E:E,1,0)=BD!A2256,\"Volume Ok\",\"Volume não pertence a carga\")),\"Volume não pertence a carga\")","v":""}]
[null,{"$f":"IFERROR(IF(A2257=\"\",\"\",IF(VLOOKUP(A2257,'Romaneio da Carga'!E:E,1,0)=BD!A2257,\"Volume Ok\",\"Volume não pertence a carga\")),\"Volume não pertence a carga\")","v":""}]
[null,{"$f":"IFERROR(IF(A2258=\"\",\"\",IF(VLOOKUP(A2258,'Romaneio da Carga'!E:E,1,0)=BD!A2258,\"Volume Ok\",\"Volume não pertence a carga\")),\"Volume não pertence a carga\")","v":""}]
[null,{"$f":"IFERROR(IF(A2259=\"\",\"\",IF(VLOOKUP(A2259,'Romaneio da Carga'!E:E,1,0)=BD!A2259,\"Volume Ok\",\"Volume não pertence a carga\")),\"Volume não pertence a carga\")","v":""}]
[null,{"$f":"IFERROR(IF(A2260=\"\",\"\",IF(VLOOKUP(A2260,'Romaneio da Carga'!E:E,1,0)=BD!A2260,\"Volume Ok\",\"Volume não pertence a carga\")),\"Volume não pertence a carga\")","v":""}]
[null,{"$f":"IFERROR(IF(A2261=\"\",\"\",IF(VLOOKUP(A2261,'Romaneio da Carga'!E:E,1,0)=BD!A2261,\"Volume Ok\",\"Volume não pertence a carga\")),\"Volume não pertence a carga\")","v":""}]
[null,{"$f":"IFERROR(IF(A2262=\"\",\"\",IF(VLOOKUP(A2262,'Romaneio da Carga'!E:E,1,0)=BD!A2262,\"Volume Ok\",\"Volume não pertence a carga\")),\"Volume não pertence a carga\")","v":""}]
[null,{"$f":"IFERROR(IF(A2263=\"\",\"\",IF(VLOOKUP(A2263,'Romaneio da Carga'!E:E,1,0)=BD!A2263,\"Volume Ok\",\"Volume não pertence a carga\")),\"Volume não pertence a carga\")","v":""}]
[null,{"$f":"IFERROR(IF(A2264=\"\",\"\",IF(VLOOKUP(A2264,'Romaneio da Carga'!E:E,1,0)=BD!A2264,\"Volume Ok\",\"Volume não pertence a carga\")),\"Volume não pertence a carga\")","v":""}]
[null,{"$f":"IFERROR(IF(A2265=\"\",\"\",IF(VLOOKUP(A2265,'Romaneio da Carga'!E:E,1,0)=BD!A2265,\"Volume Ok\",\"Volume não pertence a carga\")),\"Volume não pertence a carga\")","v":""}]
[null,{"$f":"IFERROR(IF(A2266=\"\",\"\",IF(VLOOKUP(A2266,'Romaneio da Carga'!E:E,1,0)=BD!A2266,\"Volume Ok\",\"Volume não pertence a carga\")),\"Volume não pertence a carga\")","v":""}]
[null,{"$f":"IFERROR(IF(A2267=\"\",\"\",IF(VLOOKUP(A2267,'Romaneio da Carga'!E:E,1,0)=BD!A2267,\"Volume Ok\",\"Volume não pertence a carga\")),\"Volume não pertence a carga\")","v":""}]
[null,{"$f":"IFERROR(IF(A2268=\"\",\"\",IF(VLOOKUP(A2268,'Romaneio da Carga'!E:E,1,0)=BD!A2268,\"Volume Ok\",\"Volume não pertence a carga\")),\"Volume não pertence a carga\")","v":""}]
[null,{"$f":"IFERROR(IF(A2269=\"\",\"\",IF(VLOOKUP(A2269,'Romaneio da Carga'!E:E,1,0)=BD!A2269,\"Volume Ok\",\"Volume não pertence a carga\")),\"Volume não pertence a carga\")","v":""}]
[null,{"$f":"IFERROR(IF(A2270=\"\",\"\",IF(VLOOKUP(A2270,'Romaneio da Carga'!E:E,1,0)=BD!A2270,\"Volume Ok\",\"Volume não pertence a carga\")),\"Volume não pertence a carga\")","v":""}]
[null,{"$f":"IFERROR(IF(A2271=\"\",\"\",IF(VLOOKUP(A2271,'Romaneio da Carga'!E:E,1,0)=BD!A2271,\"Volume Ok\",\"Volume não pertence a carga\")),\"Volume não pertence a carga\")","v":""}]
[null,{"$f":"IFERROR(IF(A2272=\"\",\"\",IF(VLOOKUP(A2272,'Romaneio da Carga'!E:E,1,0)=BD!A2272,\"Volume Ok\",\"Volume não pertence a carga\")),\"Volume não pertence a carga\")","v":""}]
[null,{"$f":"IFERROR(IF(A2273=\"\",\"\",IF(VLOOKUP(A2273,'Romaneio da Carga'!E:E,1,0)=BD!A2273,\"Volume Ok\",\"Volume não pertence a carga\")),\"Volume não pertence a carga\")","v":""}]
[null,{"$f":"IFERROR(IF(A2274=\"\",\"\",IF(VLOOKUP(A2274,'Romaneio da Carga'!E:E,1,0)=BD!A2274,\"Volume Ok\",\"Volume não pertence a carga\")),\"Volume não pertence a carga\")","v":""}]
[null,{"$f":"IFERROR(IF(A2275=\"\",\"\",IF(VLOOKUP(A2275,'Romaneio da Carga'!E:E,1,0)=BD!A2275,\"Volume Ok\",\"Volume não pertence a carga\")),\"Volume não pertence a carga\")","v":""}]
[null,{"$f":"IFERROR(IF(A2276=\"\",\"\",IF(VLOOKUP(A2276,'Romaneio da Carga'!E:E,1,0)=BD!A2276,\"Volume Ok\",\"Volume não pertence a carga\")),\"Volume não pertence a carga\")","v":""}]
[null,{"$f":"IFERROR(IF(A2277=\"\",\"\",IF(VLOOKUP(A2277,'Romaneio da Carga'!E:E,1,0)=BD!A2277,\"Volume Ok\",\"Volume não pertence a carga\")),\"Volume não pertence a carga\")","v":""}]
[null,{"$f":"IFERROR(IF(A2278=\"\",\"\",IF(VLOOKUP(A2278,'Romaneio da Carga'!E:E,1,0)=BD!A2278,\"Volume Ok\",\"Volume não pertence a carga\")),\"Volume não pertence a carga\")","v":""}]
[null,{"$f":"IFERROR(IF(A2279=\"\",\"\",IF(VLOOKUP(A2279,'Romaneio da Carga'!E:E,1,0)=BD!A2279,\"Volume Ok\",\"Volume não pertence a carga\")),\"Volume não pertence a carga\")","v":""}]
[null,{"$f":"IFERROR(IF(A2280=\"\",\"\",IF(VLOOKUP(A2280,'Romaneio da Carga'!E:E,1,0)=BD!A2280,\"Volume Ok\",\"Volume não pertence a carga\")),\"Volume não pertence a carga\")","v":""}]
[null,{"$f":"IFERROR(IF(A2281=\"\",\"\",IF(VLOOKUP(A2281,'Romaneio da Carga'!E:E,1,0)=BD!A2281,\"Volume Ok\",\"Volume não pertence a carga\")),\"Volume não pertence a carga\")","v":""}]
[null,{"$f":"IFERROR(IF(A2282=\"\",\"\",IF(VLOOKUP(A2282,'Romaneio da Carga'!E:E,1,0)=BD!A2282,\"Volume Ok\",\"Volume não pertence a carga\")),\"Volume não pertence a carga\")","v":""}]
[null,{"$f":"IFERROR(IF(A2283=\"\",\"\",IF(VLOOKUP(A2283,'Romaneio da Carga'!E:E,1,0)=BD!A2283,\"Volume Ok\",\"Volume não pertence a carga\")),\"Volume não pertence a carga\")","v":""}]
[null,{"$f":"IFERROR(IF(A2284=\"\",\"\",IF(VLOOKUP(A2284,'Romaneio da Carga'!E:E,1,0)=BD!A2284,\"Volume Ok\",\"Volume não pertence a carga\")),\"Volume não pertence a carga\")","v":""}]
[null,{"$f":"IFERROR(IF(A2285=\"\",\"\",IF(VLOOKUP(A2285,'Romaneio da Carga'!E:E,1,0)=BD!A2285,\"Volume Ok\",\"Volume não pertence a carga\")),\"Volume não pertence a carga\")","v":""}]
[null,{"$f":"IFERROR(IF(A2286=\"\",\"\",IF(VLOOKUP(A2286,'Romaneio da Carga'!E:E,1,0)=BD!A2286,\"Volume Ok\",\"Volume não pertence a carga\")),\"Volume não pertence a carga\")","v":""}]
[null,{"$f":"IFERROR(IF(A2287=\"\",\"\",IF(VLOOKUP(A2287,'Romaneio da Carga'!E:E,1,0)=BD!A2287,\"Volume Ok\",\"Volume não pertence a carga\")),\"Volume não pertence a carga\")","v":""}]
[null,{"$f":"IFERROR(IF(A2288=\"\",\"\",IF(VLOOKUP(A2288,'Romaneio da Carga'!E:E,1,0)=BD!A2288,\"Volume Ok\",\"Volume não pertence a carga\")),\"Volume não pertence a carga\")","v":""}]
[null,{"$f":"IFERROR(IF(A2289=\"\",\"\",IF(VLOOKUP(A2289,'Romaneio da Carga'!E:E,1,0)=BD!A2289,\"Volume Ok\",\"Volume não pertence a carga\")),\"Volume não pertence a carga\")","v":""}]
[null,{"$f":"IFERROR(IF(A2290=\"\",\"\",IF(VLOOKUP(A2290,'Romaneio da Carga'!E:E,1,0)=BD!A2290,\"Volume Ok\",\"Volume não pertence a carga\")),\"Volume não pertence a carga\")","v":""}]
[null,{"$f":"IFERROR(IF(A2291=\"\",\"\",IF(VLOOKUP(A2291,'Romaneio da Carga'!E:E,1,0)=BD!A2291,\"Volume Ok\",\"Volume não pertence a carga\")),\"Volume não pertence a carga\")","v":""}]
[null,{"$f":"IFERROR(IF(A2292=\"\",\"\",IF(VLOOKUP(A2292,'Romaneio da Carga'!E:E,1,0)=BD!A2292,\"Volume Ok\",\"Volume não pertence a carga\")),\"Volume não pertence a carga\")","v":""}]
[null,{"$f":"IFERROR(IF(A2293=\"\",\"\",IF(VLOOKUP(A2293,'Romaneio da Carga'!E:E,1,0)=BD!A2293,\"Volume Ok\",\"Volume não pertence a carga\")),\"Volume não pertence a carga\")","v":""}]
[null,{"$f":"IFERROR(IF(A2294=\"\",\"\",IF(VLOOKUP(A2294,'Romaneio da Carga'!E:E,1,0)=BD!A2294,\"Volume Ok\",\"Volume não pertence a carga\")),\"Volume não pertence a carga\")","v":""}]
[null,{"$f":"IFERROR(IF(A2295=\"\",\"\",IF(VLOOKUP(A2295,'Romaneio da Carga'!E:E,1,0)=BD!A2295,\"Volume Ok\",\"Volume não pertence a carga\")),\"Volume não pertence a carga\")","v":""}]
[null,{"$f":"IFERROR(IF(A2296=\"\",\"\",IF(VLOOKUP(A2296,'Romaneio da Carga'!E:E,1,0)=BD!A2296,\"Volume Ok\",\"Volume não pertence a carga\")),\"Volume não pertence a carga\")","v":""}]
[null,{"$f":"IFERROR(IF(A2297=\"\",\"\",IF(VLOOKUP(A2297,'Romaneio da Carga'!E:E,1,0)=BD!A2297,\"Volume Ok\",\"Volume não pertence a carga\")),\"Volume não pertence a carga\")","v":""}]
[null,{"$f":"IFERROR(IF(A2298=\"\",\"\",IF(VLOOKUP(A2298,'Romaneio da Carga'!E:E,1,0)=BD!A2298,\"Volume Ok\",\"Volume não pertence a carga\")),\"Volume não pertence a carga\")","v":""}]
[null,{"$f":"IFERROR(IF(A2299=\"\",\"\",IF(VLOOKUP(A2299,'Romaneio da Carga'!E:E,1,0)=BD!A2299,\"Volume Ok\",\"Volume não pertence a carga\")),\"Volume não pertence a carga\")","v":""}]
[null,{"$f":"IFERROR(IF(A2300=\"\",\"\",IF(VLOOKUP(A2300,'Romaneio da Carga'!E:E,1,0)=BD!A2300,\"Volume Ok\",\"Volume não pertence a carga\")),\"Volume não pertence a carga\")","v":""}]
[null,{"$f":"IFERROR(IF(A2301=\"\",\"\",IF(VLOOKUP(A2301,'Romaneio da Carga'!E:E,1,0)=BD!A2301,\"Volume Ok\",\"Volume não pertence a carga\")),\"Volume não pertence a carga\")","v":""}]
[null,{"$f":"IFERROR(IF(A2302=\"\",\"\",IF(VLOOKUP(A2302,'Romaneio da Carga'!E:E,1,0)=BD!A2302,\"Volume Ok\",\"Volume não pertence a carga\")),\"Volume não pertence a carga\")","v":""}]
[null,{"$f":"IFERROR(IF(A2303=\"\",\"\",IF(VLOOKUP(A2303,'Romaneio da Carga'!E:E,1,0)=BD!A2303,\"Volume Ok\",\"Volume não pertence a carga\")),\"Volume não pertence a carga\")","v":""}]
[null,{"$f":"IFERROR(IF(A2304=\"\",\"\",IF(VLOOKUP(A2304,'Romaneio da Carga'!E:E,1,0)=BD!A2304,\"Volume Ok\",\"Volume não pertence a carga\")),\"Volume não pertence a carga\")","v":""}]
[null,{"$f":"IFERROR(IF(A2305=\"\",\"\",IF(VLOOKUP(A2305,'Romaneio da Carga'!E:E,1,0)=BD!A2305,\"Volume Ok\",\"Volume não pertence a carga\")),\"Volume não pertence a carga\")","v":""}]
[null,{"$f":"IFERROR(IF(A2306=\"\",\"\",IF(VLOOKUP(A2306,'Romaneio da Carga'!E:E,1,0)=BD!A2306,\"Volume Ok\",\"Volume não pertence a carga\")),\"Volume não pertence a carga\")","v":""}]
[null,{"$f":"IFERROR(IF(A2307=\"\",\"\",IF(VLOOKUP(A2307,'Romaneio da Carga'!E:E,1,0)=BD!A2307,\"Volume Ok\",\"Volume não pertence a carga\")),\"Volume não pertence a carga\")","v":""}]
[null,{"$f":"IFERROR(IF(A2308=\"\",\"\",IF(VLOOKUP(A2308,'Romaneio da Carga'!E:E,1,0)=BD!A2308,\"Volume Ok\",\"Volume não pertence a carga\")),\"Volume não pertence a carga\")","v":""}]
[null,{"$f":"IFERROR(IF(A2309=\"\",\"\",IF(VLOOKUP(A2309,'Romaneio da Carga'!E:E,1,0)=BD!A2309,\"Volume Ok\",\"Volume não pertence a carga\")),\"Volume não pertence a carga\")","v":""}]
[null,{"$f":"IFERROR(IF(A2310=\"\",\"\",IF(VLOOKUP(A2310,'Romaneio da Carga'!E:E,1,0)=BD!A2310,\"Volume Ok\",\"Volume não pertence a carga\")),\"Volume não pertence a carga\")","v":""}]
[null,{"$f":"IFERROR(IF(A2311=\"\",\"\",IF(VLOOKUP(A2311,'Romaneio da Carga'!E:E,1,0)=BD!A2311,\"Volume Ok\",\"Volume não pertence a carga\")),\"Volume não pertence a carga\")","v":""}]
[null,{"$f":"IFERROR(IF(A2312=\"\",\"\",IF(VLOOKUP(A2312,'Romaneio da Carga'!E:E,1,0)=BD!A2312,\"Volume Ok\",\"Volume não pertence a carga\")),\"Volume não pertence a carga\")","v":""}]
[null,{"$f":"IFERROR(IF(A2313=\"\",\"\",IF(VLOOKUP(A2313,'Romaneio da Carga'!E:E,1,0)=BD!A2313,\"Volume Ok\",\"Volume não pertence a carga\")),\"Volume não pertence a carga\")","v":""}]
[null,{"$f":"IFERROR(IF(A2314=\"\",\"\",IF(VLOOKUP(A2314,'Romaneio da Carga'!E:E,1,0)=BD!A2314,\"Volume Ok\",\"Volume não pertence a carga\")),\"Volume não pertence a carga\")","v":""}]
[null,{"$f":"IFERROR(IF(A2315=\"\",\"\",IF(VLOOKUP(A2315,'Romaneio da Carga'!E:E,1,0)=BD!A2315,\"Volume Ok\",\"Volume não pertence a carga\")),\"Volume não pertence a carga\")","v":""}]
[null,{"$f":"IFERROR(IF(A2316=\"\",\"\",IF(VLOOKUP(A2316,'Romaneio da Carga'!E:E,1,0)=BD!A2316,\"Volume Ok\",\"Volume não pertence a carga\")),\"Volume não pertence a carga\")","v":""}]
[null,{"$f":"IFERROR(IF(A2317=\"\",\"\",IF(VLOOKUP(A2317,'Romaneio da Carga'!E:E,1,0)=BD!A2317,\"Volume Ok\",\"Volume não pertence a carga\")),\"Volume não pertence a carga\")","v":""}]
[null,{"$f":"IFERROR(IF(A2318=\"\",\"\",IF(VLOOKUP(A2318,'Romaneio da Carga'!E:E,1,0)=BD!A2318,\"Volume Ok\",\"Volume não pertence a carga\")),\"Volume não pertence a carga\")","v":""}]
[null,{"$f":"IFERROR(IF(A2319=\"\",\"\",IF(VLOOKUP(A2319,'Romaneio da Carga'!E:E,1,0)=BD!A2319,\"Volume Ok\",\"Volume não pertence a carga\")),\"Volume não pertence a carga\")","v":""}]
[null,{"$f":"IFERROR(IF(A2320=\"\",\"\",IF(VLOOKUP(A2320,'Romaneio da Carga'!E:E,1,0)=BD!A2320,\"Volume Ok\",\"Volume não pertence a carga\")),\"Volume não pertence a carga\")","v":""}]
[null,{"$f":"IFERROR(IF(A2321=\"\",\"\",IF(VLOOKUP(A2321,'Romaneio da Carga'!E:E,1,0)=BD!A2321,\"Volume Ok\",\"Volume não pertence a carga\")),\"Volume não pertence a carga\")","v":""}]
[null,{"$f":"IFERROR(IF(A2322=\"\",\"\",IF(VLOOKUP(A2322,'Romaneio da Carga'!E:E,1,0)=BD!A2322,\"Volume Ok\",\"Volume não pertence a carga\")),\"Volume não pertence a carga\")","v":""}]
[null,{"$f":"IFERROR(IF(A2323=\"\",\"\",IF(VLOOKUP(A2323,'Romaneio da Carga'!E:E,1,0)=BD!A2323,\"Volume Ok\",\"Volume não pertence a carga\")),\"Volume não pertence a carga\")","v":""}]
[null,{"$f":"IFERROR(IF(A2324=\"\",\"\",IF(VLOOKUP(A2324,'Romaneio da Carga'!E:E,1,0)=BD!A2324,\"Volume Ok\",\"Volume não pertence a carga\")),\"Volume não pertence a carga\")","v":""}]
[null,{"$f":"IFERROR(IF(A2325=\"\",\"\",IF(VLOOKUP(A2325,'Romaneio da Carga'!E:E,1,0)=BD!A2325,\"Volume Ok\",\"Volume não pertence a carga\")),\"Volume não pertence a carga\")","v":""}]
[null,{"$f":"IFERROR(IF(A2326=\"\",\"\",IF(VLOOKUP(A2326,'Romaneio da Carga'!E:E,1,0)=BD!A2326,\"Volume Ok\",\"Volume não pertence a carga\")),\"Volume não pertence a carga\")","v":""}]
[null,{"$f":"IFERROR(IF(A2327=\"\",\"\",IF(VLOOKUP(A2327,'Romaneio da Carga'!E:E,1,0)=BD!A2327,\"Volume Ok\",\"Volume não pertence a carga\")),\"Volume não pertence a carga\")","v":""}]
[null,{"$f":"IFERROR(IF(A2328=\"\",\"\",IF(VLOOKUP(A2328,'Romaneio da Carga'!E:E,1,0)=BD!A2328,\"Volume Ok\",\"Volume não pertence a carga\")),\"Volume não pertence a carga\")","v":""}]
[null,{"$f":"IFERROR(IF(A2329=\"\",\"\",IF(VLOOKUP(A2329,'Romaneio da Carga'!E:E,1,0)=BD!A2329,\"Volume Ok\",\"Volume não pertence a carga\")),\"Volume não pertence a carga\")","v":""}]
[null,{"$f":"IFERROR(IF(A2330=\"\",\"\",IF(VLOOKUP(A2330,'Romaneio da Carga'!E:E,1,0)=BD!A2330,\"Volume Ok\",\"Volume não pertence a carga\")),\"Volume não pertence a carga\")","v":""}]
[null,{"$f":"IFERROR(IF(A2331=\"\",\"\",IF(VLOOKUP(A2331,'Romaneio da Carga'!E:E,1,0)=BD!A2331,\"Volume Ok\",\"Volume não pertence a carga\")),\"Volume não pertence a carga\")","v":""}]
[null,{"$f":"IFERROR(IF(A2332=\"\",\"\",IF(VLOOKUP(A2332,'Romaneio da Carga'!E:E,1,0)=BD!A2332,\"Volume Ok\",\"Volume não pertence a carga\")),\"Volume não pertence a carga\")","v":""}]
[null,{"$f":"IFERROR(IF(A2333=\"\",\"\",IF(VLOOKUP(A2333,'Romaneio da Carga'!E:E,1,0)=BD!A2333,\"Volume Ok\",\"Volume não pertence a carga\")),\"Volume não pertence a carga\")","v":""}]
[null,{"$f":"IFERROR(IF(A2334=\"\",\"\",IF(VLOOKUP(A2334,'Romaneio da Carga'!E:E,1,0)=BD!A2334,\"Volume Ok\",\"Volume não pertence a carga\")),\"Volume não pertence a carga\")","v":""}]
[null,{"$f":"IFERROR(IF(A2335=\"\",\"\",IF(VLOOKUP(A2335,'Romaneio da Carga'!E:E,1,0)=BD!A2335,\"Volume Ok\",\"Volume não pertence a carga\")),\"Volume não pertence a carga\")","v":""}]
[null,{"$f":"IFERROR(IF(A2336=\"\",\"\",IF(VLOOKUP(A2336,'Romaneio da Carga'!E:E,1,0)=BD!A2336,\"Volume Ok\",\"Volume não pertence a carga\")),\"Volume não pertence a carga\")","v":""}]
[null,{"$f":"IFERROR(IF(A2337=\"\",\"\",IF(VLOOKUP(A2337,'Romaneio da Carga'!E:E,1,0)=BD!A2337,\"Volume Ok\",\"Volume não pertence a carga\")),\"Volume não pertence a carga\")","v":""}]
[null,{"$f":"IFERROR(IF(A2338=\"\",\"\",IF(VLOOKUP(A2338,'Romaneio da Carga'!E:E,1,0)=BD!A2338,\"Volume Ok\",\"Volume não pertence a carga\")),\"Volume não pertence a carga\")","v":""}]
[null,{"$f":"IFERROR(IF(A2339=\"\",\"\",IF(VLOOKUP(A2339,'Romaneio da Carga'!E:E,1,0)=BD!A2339,\"Volume Ok\",\"Volume não pertence a carga\")),\"Volume não pertence a carga\")","v":""}]
[null,{"$f":"IFERROR(IF(A2340=\"\",\"\",IF(VLOOKUP(A2340,'Romaneio da Carga'!E:E,1,0)=BD!A2340,\"Volume Ok\",\"Volume não pertence a carga\")),\"Volume não pertence a carga\")","v":""}]
[null,{"$f":"IFERROR(IF(A2341=\"\",\"\",IF(VLOOKUP(A2341,'Romaneio da Carga'!E:E,1,0)=BD!A2341,\"Volume Ok\",\"Volume não pertence a carga\")),\"Volume não pertence a carga\")","v":""}]
[null,{"$f":"IFERROR(IF(A2342=\"\",\"\",IF(VLOOKUP(A2342,'Romaneio da Carga'!E:E,1,0)=BD!A2342,\"Volume Ok\",\"Volume não pertence a carga\")),\"Volume não pertence a carga\")","v":""}]
[null,{"$f":"IFERROR(IF(A2343=\"\",\"\",IF(VLOOKUP(A2343,'Romaneio da Carga'!E:E,1,0)=BD!A2343,\"Volume Ok\",\"Volume não pertence a carga\")),\"Volume não pertence a carga\")","v":""}]
[null,{"$f":"IFERROR(IF(A2344=\"\",\"\",IF(VLOOKUP(A2344,'Romaneio da Carga'!E:E,1,0)=BD!A2344,\"Volume Ok\",\"Volume não pertence a carga\")),\"Volume não pertence a carga\")","v":""}]
[null,{"$f":"IFERROR(IF(A2345=\"\",\"\",IF(VLOOKUP(A2345,'Romaneio da Carga'!E:E,1,0)=BD!A2345,\"Volume Ok\",\"Volume não pertence a carga\")),\"Volume não pertence a carga\")","v":""}]
[null,{"$f":"IFERROR(IF(A2346=\"\",\"\",IF(VLOOKUP(A2346,'Romaneio da Carga'!E:E,1,0)=BD!A2346,\"Volume Ok\",\"Volume não pertence a carga\")),\"Volume não pertence a carga\")","v":""}]
[null,{"$f":"IFERROR(IF(A2347=\"\",\"\",IF(VLOOKUP(A2347,'Romaneio da Carga'!E:E,1,0)=BD!A2347,\"Volume Ok\",\"Volume não pertence a carga\")),\"Volume não pertence a carga\")","v":""}]
[null,{"$f":"IFERROR(IF(A2348=\"\",\"\",IF(VLOOKUP(A2348,'Romaneio da Carga'!E:E,1,0)=BD!A2348,\"Volume Ok\",\"Volume não pertence a carga\")),\"Volume não pertence a carga\")","v":""}]
[null,{"$f":"IFERROR(IF(A2349=\"\",\"\",IF(VLOOKUP(A2349,'Romaneio da Carga'!E:E,1,0)=BD!A2349,\"Volume Ok\",\"Volume não pertence a carga\")),\"Volume não pertence a carga\")","v":""}]
[null,{"$f":"IFERROR(IF(A2350=\"\",\"\",IF(VLOOKUP(A2350,'Romaneio da Carga'!E:E,1,0)=BD!A2350,\"Volume Ok\",\"Volume não pertence a carga\")),\"Volume não pertence a carga\")","v":""}]
[null,{"$f":"IFERROR(IF(A2351=\"\",\"\",IF(VLOOKUP(A2351,'Romaneio da Carga'!E:E,1,0)=BD!A2351,\"Volume Ok\",\"Volume não pertence a carga\")),\"Volume não pertence a carga\")","v":""}]
[null,{"$f":"IFERROR(IF(A2352=\"\",\"\",IF(VLOOKUP(A2352,'Romaneio da Carga'!E:E,1,0)=BD!A2352,\"Volume Ok\",\"Volume não pertence a carga\")),\"Volume não pertence a carga\")","v":""}]
[null,{"$f":"IFERROR(IF(A2353=\"\",\"\",IF(VLOOKUP(A2353,'Romaneio da Carga'!E:E,1,0)=BD!A2353,\"Volume Ok\",\"Volume não pertence a carga\")),\"Volume não pertence a carga\")","v":""}]
[null,{"$f":"IFERROR(IF(A2354=\"\",\"\",IF(VLOOKUP(A2354,'Romaneio da Carga'!E:E,1,0)=BD!A2354,\"Volume Ok\",\"Volume não pertence a carga\")),\"Volume não pertence a carga\")","v":""}]
[null,{"$f":"IFERROR(IF(A2355=\"\",\"\",IF(VLOOKUP(A2355,'Romaneio da Carga'!E:E,1,0)=BD!A2355,\"Volume Ok\",\"Volume não pertence a carga\")),\"Volume não pertence a carga\")","v":""}]
[null,{"$f":"IFERROR(IF(A2356=\"\",\"\",IF(VLOOKUP(A2356,'Romaneio da Carga'!E:E,1,0)=BD!A2356,\"Volume Ok\",\"Volume não pertence a carga\")),\"Volume não pertence a carga\")","v":""}]
[null,{"$f":"IFERROR(IF(A2357=\"\",\"\",IF(VLOOKUP(A2357,'Romaneio da Carga'!E:E,1,0)=BD!A2357,\"Volume Ok\",\"Volume não pertence a carga\")),\"Volume não pertence a carga\")","v":""}]
[null,{"$f":"IFERROR(IF(A2358=\"\",\"\",IF(VLOOKUP(A2358,'Romaneio da Carga'!E:E,1,0)=BD!A2358,\"Volume Ok\",\"Volume não pertence a carga\")),\"Volume não pertence a carga\")","v":""}]
[null,{"$f":"IFERROR(IF(A2359=\"\",\"\",IF(VLOOKUP(A2359,'Romaneio da Carga'!E:E,1,0)=BD!A2359,\"Volume Ok\",\"Volume não pertence a carga\")),\"Volume não pertence a carga\")","v":""}]
[null,{"$f":"IFERROR(IF(A2360=\"\",\"\",IF(VLOOKUP(A2360,'Romaneio da Carga'!E:E,1,0)=BD!A2360,\"Volume Ok\",\"Volume não pertence a carga\")),\"Volume não pertence a carga\")","v":""}]
[null,{"$f":"IFERROR(IF(A2361=\"\",\"\",IF(VLOOKUP(A2361,'Romaneio da Carga'!E:E,1,0)=BD!A2361,\"Volume Ok\",\"Volume não pertence a carga\")),\"Volume não pertence a carga\")","v":""}]
[null,{"$f":"IFERROR(IF(A2362=\"\",\"\",IF(VLOOKUP(A2362,'Romaneio da Carga'!E:E,1,0)=BD!A2362,\"Volume Ok\",\"Volume não pertence a carga\")),\"Volume não pertence a carga\")","v":""}]
[null,{"$f":"IFERROR(IF(A2363=\"\",\"\",IF(VLOOKUP(A2363,'Romaneio da Carga'!E:E,1,0)=BD!A2363,\"Volume Ok\",\"Volume não pertence a carga\")),\"Volume não pertence a carga\")","v":""}]
[null,{"$f":"IFERROR(IF(A2364=\"\",\"\",IF(VLOOKUP(A2364,'Romaneio da Carga'!E:E,1,0)=BD!A2364,\"Volume Ok\",\"Volume não pertence a carga\")),\"Volume não pertence a carga\")","v":""}]
[null,{"$f":"IFERROR(IF(A2365=\"\",\"\",IF(VLOOKUP(A2365,'Romaneio da Carga'!E:E,1,0)=BD!A2365,\"Volume Ok\",\"Volume não pertence a carga\")),\"Volume não pertence a carga\")","v":""}]
[null,{"$f":"IFERROR(IF(A2366=\"\",\"\",IF(VLOOKUP(A2366,'Romaneio da Carga'!E:E,1,0)=BD!A2366,\"Volume Ok\",\"Volume não pertence a carga\")),\"Volume não pertence a carga\")","v":""}]
[null,{"$f":"IFERROR(IF(A2367=\"\",\"\",IF(VLOOKUP(A2367,'Romaneio da Carga'!E:E,1,0)=BD!A2367,\"Volume Ok\",\"Volume não pertence a carga\")),\"Volume não pertence a carga\")","v":""}]
[null,{"$f":"IFERROR(IF(A2368=\"\",\"\",IF(VLOOKUP(A2368,'Romaneio da Carga'!E:E,1,0)=BD!A2368,\"Volume Ok\",\"Volume não pertence a carga\")),\"Volume não pertence a carga\")","v":""}]
[null,{"$f":"IFERROR(IF(A2369=\"\",\"\",IF(VLOOKUP(A2369,'Romaneio da Carga'!E:E,1,0)=BD!A2369,\"Volume Ok\",\"Volume não pertence a carga\")),\"Volume não pertence a carga\")","v":""}]
[null,{"$f":"IFERROR(IF(A2370=\"\",\"\",IF(VLOOKUP(A2370,'Romaneio da Carga'!E:E,1,0)=BD!A2370,\"Volume Ok\",\"Volume não pertence a carga\")),\"Volume não pertence a carga\")","v":""}]
[null,{"$f":"IFERROR(IF(A2371=\"\",\"\",IF(VLOOKUP(A2371,'Romaneio da Carga'!E:E,1,0)=BD!A2371,\"Volume Ok\",\"Volume não pertence a carga\")),\"Volume não pertence a carga\")","v":""}]
[null,{"$f":"IFERROR(IF(A2372=\"\",\"\",IF(VLOOKUP(A2372,'Romaneio da Carga'!E:E,1,0)=BD!A2372,\"Volume Ok\",\"Volume não pertence a carga\")),\"Volume não pertence a carga\")","v":""}]
[null,{"$f":"IFERROR(IF(A2373=\"\",\"\",IF(VLOOKUP(A2373,'Romaneio da Carga'!E:E,1,0)=BD!A2373,\"Volume Ok\",\"Volume não pertence a carga\")),\"Volume não pertence a carga\")","v":""}]
[null,{"$f":"IFERROR(IF(A2374=\"\",\"\",IF(VLOOKUP(A2374,'Romaneio da Carga'!E:E,1,0)=BD!A2374,\"Volume Ok\",\"Volume não pertence a carga\")),\"Volume não pertence a carga\")","v":""}]
[null,{"$f":"IFERROR(IF(A2375=\"\",\"\",IF(VLOOKUP(A2375,'Romaneio da Carga'!E:E,1,0)=BD!A2375,\"Volume Ok\",\"Volume não pertence a carga\")),\"Volume não pertence a carga\")","v":""}]
[null,{"$f":"IFERROR(IF(A2376=\"\",\"\",IF(VLOOKUP(A2376,'Romaneio da Carga'!E:E,1,0)=BD!A2376,\"Volume Ok\",\"Volume não pertence a carga\")),\"Volume não pertence a carga\")","v":""}]
[null,{"$f":"IFERROR(IF(A2377=\"\",\"\",IF(VLOOKUP(A2377,'Romaneio da Carga'!E:E,1,0)=BD!A2377,\"Volume Ok\",\"Volume não pertence a carga\")),\"Volume não pertence a carga\")","v":""}]
[null,{"$f":"IFERROR(IF(A2378=\"\",\"\",IF(VLOOKUP(A2378,'Romaneio da Carga'!E:E,1,0)=BD!A2378,\"Volume Ok\",\"Volume não pertence a carga\")),\"Volume não pertence a carga\")","v":""}]
[null,{"$f":"IFERROR(IF(A2379=\"\",\"\",IF(VLOOKUP(A2379,'Romaneio da Carga'!E:E,1,0)=BD!A2379,\"Volume Ok\",\"Volume não pertence a carga\")),\"Volume não pertence a carga\")","v":""}]
[null,{"$f":"IFERROR(IF(A2380=\"\",\"\",IF(VLOOKUP(A2380,'Romaneio da Carga'!E:E,1,0)=BD!A2380,\"Volume Ok\",\"Volume não pertence a carga\")),\"Volume não pertence a carga\")","v":""}]
[null,{"$f":"IFERROR(IF(A2381=\"\",\"\",IF(VLOOKUP(A2381,'Romaneio da Carga'!E:E,1,0)=BD!A2381,\"Volume Ok\",\"Volume não pertence a carga\")),\"Volume não pertence a carga\")","v":""}]
[null,{"$f":"IFERROR(IF(A2382=\"\",\"\",IF(VLOOKUP(A2382,'Romaneio da Carga'!E:E,1,0)=BD!A2382,\"Volume Ok\",\"Volume não pertence a carga\")),\"Volume não pertence a carga\")","v":""}]
[null,{"$f":"IFERROR(IF(A2383=\"\",\"\",IF(VLOOKUP(A2383,'Romaneio da Carga'!E:E,1,0)=BD!A2383,\"Volume Ok\",\"Volume não pertence a carga\")),\"Volume não pertence a carga\")","v":""}]
[null,{"$f":"IFERROR(IF(A2384=\"\",\"\",IF(VLOOKUP(A2384,'Romaneio da Carga'!E:E,1,0)=BD!A2384,\"Volume Ok\",\"Volume não pertence a carga\")),\"Volume não pertence a carga\")","v":""}]
[null,{"$f":"IFERROR(IF(A2385=\"\",\"\",IF(VLOOKUP(A2385,'Romaneio da Carga'!E:E,1,0)=BD!A2385,\"Volume Ok\",\"Volume não pertence a carga\")),\"Volume não pertence a carga\")","v":""}]
[null,{"$f":"IFERROR(IF(A2386=\"\",\"\",IF(VLOOKUP(A2386,'Romaneio da Carga'!E:E,1,0)=BD!A2386,\"Volume Ok\",\"Volume não pertence a carga\")),\"Volume não pertence a carga\")","v":""}]
[null,{"$f":"IFERROR(IF(A2387=\"\",\"\",IF(VLOOKUP(A2387,'Romaneio da Carga'!E:E,1,0)=BD!A2387,\"Volume Ok\",\"Volume não pertence a carga\")),\"Volume não pertence a carga\")","v":""}]
[null,{"$f":"IFERROR(IF(A2388=\"\",\"\",IF(VLOOKUP(A2388,'Romaneio da Carga'!E:E,1,0)=BD!A2388,\"Volume Ok\",\"Volume não pertence a carga\")),\"Volume não pertence a carga\")","v":""}]
[null,{"$f":"IFERROR(IF(A2389=\"\",\"\",IF(VLOOKUP(A2389,'Romaneio da Carga'!E:E,1,0)=BD!A2389,\"Volume Ok\",\"Volume não pertence a carga\")),\"Volume não pertence a carga\")","v":""}]
[null,{"$f":"IFERROR(IF(A2390=\"\",\"\",IF(VLOOKUP(A2390,'Romaneio da Carga'!E:E,1,0)=BD!A2390,\"Volume Ok\",\"Volume não pertence a carga\")),\"Volume não pertence a carga\")","v":""}]
[null,{"$f":"IFERROR(IF(A2391=\"\",\"\",IF(VLOOKUP(A2391,'Romaneio da Carga'!E:E,1,0)=BD!A2391,\"Volume Ok\",\"Volume não pertence a carga\")),\"Volume não pertence a carga\")","v":""}]
[null,{"$f":"IFERROR(IF(A2392=\"\",\"\",IF(VLOOKUP(A2392,'Romaneio da Carga'!E:E,1,0)=BD!A2392,\"Volume Ok\",\"Volume não pertence a carga\")),\"Volume não pertence a carga\")","v":""}]
[null,{"$f":"IFERROR(IF(A2393=\"\",\"\",IF(VLOOKUP(A2393,'Romaneio da Carga'!E:E,1,0)=BD!A2393,\"Volume Ok\",\"Volume não pertence a carga\")),\"Volume não pertence a carga\")","v":""}]
[null,{"$f":"IFERROR(IF(A2394=\"\",\"\",IF(VLOOKUP(A2394,'Romaneio da Carga'!E:E,1,0)=BD!A2394,\"Volume Ok\",\"Volume não pertence a carga\")),\"Volume não pertence a carga\")","v":""}]
[null,{"$f":"IFERROR(IF(A2395=\"\",\"\",IF(VLOOKUP(A2395,'Romaneio da Carga'!E:E,1,0)=BD!A2395,\"Volume Ok\",\"Volume não pertence a carga\")),\"Volume não pertence a carga\")","v":""}]
[null,{"$f":"IFERROR(IF(A2396=\"\",\"\",IF(VLOOKUP(A2396,'Romaneio da Carga'!E:E,1,0)=BD!A2396,\"Volume Ok\",\"Volume não pertence a carga\")),\"Volume não pertence a carga\")","v":""}]
[null,{"$f":"IFERROR(IF(A2397=\"\",\"\",IF(VLOOKUP(A2397,'Romaneio da Carga'!E:E,1,0)=BD!A2397,\"Volume Ok\",\"Volume não pertence a carga\")),\"Volume não pertence a carga\")","v":""}]
[null,{"$f":"IFERROR(IF(A2398=\"\",\"\",IF(VLOOKUP(A2398,'Romaneio da Carga'!E:E,1,0)=BD!A2398,\"Volume Ok\",\"Volume não pertence a carga\")),\"Volume não pertence a carga\")","v":""}]
[null,{"$f":"IFERROR(IF(A2399=\"\",\"\",IF(VLOOKUP(A2399,'Romaneio da Carga'!E:E,1,0)=BD!A2399,\"Volume Ok\",\"Volume não pertence a carga\")),\"Volume não pertence a carga\")","v":""}]
[null,{"$f":"IFERROR(IF(A2400=\"\",\"\",IF(VLOOKUP(A2400,'Romaneio da Carga'!E:E,1,0)=BD!A2400,\"Volume Ok\",\"Volume não pertence a carga\")),\"Volume não pertence a carga\")","v":""}]
[null,{"$f":"IFERROR(IF(A2401=\"\",\"\",IF(VLOOKUP(A2401,'Romaneio da Carga'!E:E,1,0)=BD!A2401,\"Volume Ok\",\"Volume não pertence a carga\")),\"Volume não pertence a carga\")","v":""}]
[null,{"$f":"IFERROR(IF(A2402=\"\",\"\",IF(VLOOKUP(A2402,'Romaneio da Carga'!E:E,1,0)=BD!A2402,\"Volume Ok\",\"Volume não pertence a carga\")),\"Volume não pertence a carga\")","v":""}]
[null,{"$f":"IFERROR(IF(A2403=\"\",\"\",IF(VLOOKUP(A2403,'Romaneio da Carga'!E:E,1,0)=BD!A2403,\"Volume Ok\",\"Volume não pertence a carga\")),\"Volume não pertence a carga\")","v":""}]
[null,{"$f":"IFERROR(IF(A2404=\"\",\"\",IF(VLOOKUP(A2404,'Romaneio da Carga'!E:E,1,0)=BD!A2404,\"Volume Ok\",\"Volume não pertence a carga\")),\"Volume não pertence a carga\")","v":""}]
[null,{"$f":"IFERROR(IF(A2405=\"\",\"\",IF(VLOOKUP(A2405,'Romaneio da Carga'!E:E,1,0)=BD!A2405,\"Volume Ok\",\"Volume não pertence a carga\")),\"Volume não pertence a carga\")","v":""}]
[null,{"$f":"IFERROR(IF(A2406=\"\",\"\",IF(VLOOKUP(A2406,'Romaneio da Carga'!E:E,1,0)=BD!A2406,\"Volume Ok\",\"Volume não pertence a carga\")),\"Volume não pertence a carga\")","v":""}]
[null,{"$f":"IFERROR(IF(A2407=\"\",\"\",IF(VLOOKUP(A2407,'Romaneio da Carga'!E:E,1,0)=BD!A2407,\"Volume Ok\",\"Volume não pertence a carga\")),\"Volume não pertence a carga\")","v":""}]
[null,{"$f":"IFERROR(IF(A2408=\"\",\"\",IF(VLOOKUP(A2408,'Romaneio da Carga'!E:E,1,0)=BD!A2408,\"Volume Ok\",\"Volume não pertence a carga\")),\"Volume não pertence a carga\")","v":""}]
[null,{"$f":"IFERROR(IF(A2409=\"\",\"\",IF(VLOOKUP(A2409,'Romaneio da Carga'!E:E,1,0)=BD!A2409,\"Volume Ok\",\"Volume não pertence a carga\")),\"Volume não pertence a carga\")","v":""}]
[null,{"$f":"IFERROR(IF(A2410=\"\",\"\",IF(VLOOKUP(A2410,'Romaneio da Carga'!E:E,1,0)=BD!A2410,\"Volume Ok\",\"Volume não pertence a carga\")),\"Volume não pertence a carga\")","v":""}]
[null,{"$f":"IFERROR(IF(A2411=\"\",\"\",IF(VLOOKUP(A2411,'Romaneio da Carga'!E:E,1,0)=BD!A2411,\"Volume Ok\",\"Volume não pertence a carga\")),\"Volume não pertence a carga\")","v":""}]
[null,{"$f":"IFERROR(IF(A2412=\"\",\"\",IF(VLOOKUP(A2412,'Romaneio da Carga'!E:E,1,0)=BD!A2412,\"Volume Ok\",\"Volume não pertence a carga\")),\"Volume não pertence a carga\")","v":""}]
[null,{"$f":"IFERROR(IF(A2413=\"\",\"\",IF(VLOOKUP(A2413,'Romaneio da Carga'!E:E,1,0)=BD!A2413,\"Volume Ok\",\"Volume não pertence a carga\")),\"Volume não pertence a carga\")","v":""}]
[null,{"$f":"IFERROR(IF(A2414=\"\",\"\",IF(VLOOKUP(A2414,'Romaneio da Carga'!E:E,1,0)=BD!A2414,\"Volume Ok\",\"Volume não pertence a carga\")),\"Volume não pertence a carga\")","v":""}]
[null,{"$f":"IFERROR(IF(A2415=\"\",\"\",IF(VLOOKUP(A2415,'Romaneio da Carga'!E:E,1,0)=BD!A2415,\"Volume Ok\",\"Volume não pertence a carga\")),\"Volume não pertence a carga\")","v":""}]
[null,{"$f":"IFERROR(IF(A2416=\"\",\"\",IF(VLOOKUP(A2416,'Romaneio da Carga'!E:E,1,0)=BD!A2416,\"Volume Ok\",\"Volume não pertence a carga\")),\"Volume não pertence a carga\")","v":""}]
[null,{"$f":"IFERROR(IF(A2417=\"\",\"\",IF(VLOOKUP(A2417,'Romaneio da Carga'!E:E,1,0)=BD!A2417,\"Volume Ok\",\"Volume não pertence a carga\")),\"Volume não pertence a carga\")","v":""}]
[null,{"$f":"IFERROR(IF(A2418=\"\",\"\",IF(VLOOKUP(A2418,'Romaneio da Carga'!E:E,1,0)=BD!A2418,\"Volume Ok\",\"Volume não pertence a carga\")),\"Volume não pertence a carga\")","v":""}]
[null,{"$f":"IFERROR(IF(A2419=\"\",\"\",IF(VLOOKUP(A2419,'Romaneio da Carga'!E:E,1,0)=BD!A2419,\"Volume Ok\",\"Volume não pertence a carga\")),\"Volume não pertence a carga\")","v":""}]
[null,{"$f":"IFERROR(IF(A2420=\"\",\"\",IF(VLOOKUP(A2420,'Romaneio da Carga'!E:E,1,0)=BD!A2420,\"Volume Ok\",\"Volume não pertence a carga\")),\"Volume não pertence a carga\")","v":""}]
[null,{"$f":"IFERROR(IF(A2421=\"\",\"\",IF(VLOOKUP(A2421,'Romaneio da Carga'!E:E,1,0)=BD!A2421,\"Volume Ok\",\"Volume não pertence a carga\")),\"Volume não pertence a carga\")","v":""}]
[null,{"$f":"IFERROR(IF(A2422=\"\",\"\",IF(VLOOKUP(A2422,'Romaneio da Carga'!E:E,1,0)=BD!A2422,\"Volume Ok\",\"Volume não pertence a carga\")),\"Volume não pertence a carga\")","v":""}]
[null,{"$f":"IFERROR(IF(A2423=\"\",\"\",IF(VLOOKUP(A2423,'Romaneio da Carga'!E:E,1,0)=BD!A2423,\"Volume Ok\",\"Volume não pertence a carga\")),\"Volume não pertence a carga\")","v":""}]
[null,{"$f":"IFERROR(IF(A2424=\"\",\"\",IF(VLOOKUP(A2424,'Romaneio da Carga'!E:E,1,0)=BD!A2424,\"Volume Ok\",\"Volume não pertence a carga\")),\"Volume não pertence a carga\")","v":""}]
[null,{"$f":"IFERROR(IF(A2425=\"\",\"\",IF(VLOOKUP(A2425,'Romaneio da Carga'!E:E,1,0)=BD!A2425,\"Volume Ok\",\"Volume não pertence a carga\")),\"Volume não pertence a carga\")","v":""}]
[null,{"$f":"IFERROR(IF(A2426=\"\",\"\",IF(VLOOKUP(A2426,'Romaneio da Carga'!E:E,1,0)=BD!A2426,\"Volume Ok\",\"Volume não pertence a carga\")),\"Volume não pertence a carga\")","v":""}]
[null,{"$f":"IFERROR(IF(A2427=\"\",\"\",IF(VLOOKUP(A2427,'Romaneio da Carga'!E:E,1,0)=BD!A2427,\"Volume Ok\",\"Volume não pertence a carga\")),\"Volume não pertence a carga\")","v":""}]
[null,{"$f":"IFERROR(IF(A2428=\"\",\"\",IF(VLOOKUP(A2428,'Romaneio da Carga'!E:E,1,0)=BD!A2428,\"Volume Ok\",\"Volume não pertence a carga\")),\"Volume não pertence a carga\")","v":""}]
[null,{"$f":"IFERROR(IF(A2429=\"\",\"\",IF(VLOOKUP(A2429,'Romaneio da Carga'!E:E,1,0)=BD!A2429,\"Volume Ok\",\"Volume não pertence a carga\")),\"Volume não pertence a carga\")","v":""}]
[null,{"$f":"IFERROR(IF(A2430=\"\",\"\",IF(VLOOKUP(A2430,'Romaneio da Carga'!E:E,1,0)=BD!A2430,\"Volume Ok\",\"Volume não pertence a carga\")),\"Volume não pertence a carga\")","v":""}]
[null,{"$f":"IFERROR(IF(A2431=\"\",\"\",IF(VLOOKUP(A2431,'Romaneio da Carga'!E:E,1,0)=BD!A2431,\"Volume Ok\",\"Volume não pertence a carga\")),\"Volume não pertence a carga\")","v":""}]
[null,{"$f":"IFERROR(IF(A2432=\"\",\"\",IF(VLOOKUP(A2432,'Romaneio da Carga'!E:E,1,0)=BD!A2432,\"Volume Ok\",\"Volume não pertence a carga\")),\"Volume não pertence a carga\")","v":""}]
[null,{"$f":"IFERROR(IF(A2433=\"\",\"\",IF(VLOOKUP(A2433,'Romaneio da Carga'!E:E,1,0)=BD!A2433,\"Volume Ok\",\"Volume não pertence a carga\")),\"Volume não pertence a carga\")","v":""}]
[null,{"$f":"IFERROR(IF(A2434=\"\",\"\",IF(VLOOKUP(A2434,'Romaneio da Carga'!E:E,1,0)=BD!A2434,\"Volume Ok\",\"Volume não pertence a carga\")),\"Volume não pertence a carga\")","v":""}]
[null,{"$f":"IFERROR(IF(A2435=\"\",\"\",IF(VLOOKUP(A2435,'Romaneio da Carga'!E:E,1,0)=BD!A2435,\"Volume Ok\",\"Volume não pertence a carga\")),\"Volume não pertence a carga\")","v":""}]
[null,{"$f":"IFERROR(IF(A2436=\"\",\"\",IF(VLOOKUP(A2436,'Romaneio da Carga'!E:E,1,0)=BD!A2436,\"Volume Ok\",\"Volume não pertence a carga\")),\"Volume não pertence a carga\")","v":""}]
[null,{"$f":"IFERROR(IF(A2437=\"\",\"\",IF(VLOOKUP(A2437,'Romaneio da Carga'!E:E,1,0)=BD!A2437,\"Volume Ok\",\"Volume não pertence a carga\")),\"Volume não pertence a carga\")","v":""}]
[null,{"$f":"IFERROR(IF(A2438=\"\",\"\",IF(VLOOKUP(A2438,'Romaneio da Carga'!E:E,1,0)=BD!A2438,\"Volume Ok\",\"Volume não pertence a carga\")),\"Volume não pertence a carga\")","v":""}]
[null,{"$f":"IFERROR(IF(A2439=\"\",\"\",IF(VLOOKUP(A2439,'Romaneio da Carga'!E:E,1,0)=BD!A2439,\"Volume Ok\",\"Volume não pertence a carga\")),\"Volume não pertence a carga\")","v":""}]
[null,{"$f":"IFERROR(IF(A2440=\"\",\"\",IF(VLOOKUP(A2440,'Romaneio da Carga'!E:E,1,0)=BD!A2440,\"Volume Ok\",\"Volume não pertence a carga\")),\"Volume não pertence a carga\")","v":""}]
[null,{"$f":"IFERROR(IF(A2441=\"\",\"\",IF(VLOOKUP(A2441,'Romaneio da Carga'!E:E,1,0)=BD!A2441,\"Volume Ok\",\"Volume não pertence a carga\")),\"Volume não pertence a carga\")","v":""}]
[null,{"$f":"IFERROR(IF(A2442=\"\",\"\",IF(VLOOKUP(A2442,'Romaneio da Carga'!E:E,1,0)=BD!A2442,\"Volume Ok\",\"Volume não pertence a carga\")),\"Volume não pertence a carga\")","v":""}]
[null,{"$f":"IFERROR(IF(A2443=\"\",\"\",IF(VLOOKUP(A2443,'Romaneio da Carga'!E:E,1,0)=BD!A2443,\"Volume Ok\",\"Volume não pertence a carga\")),\"Volume não pertence a carga\")","v":""}]
[null,{"$f":"IFERROR(IF(A2444=\"\",\"\",IF(VLOOKUP(A2444,'Romaneio da Carga'!E:E,1,0)=BD!A2444,\"Volume Ok\",\"Volume não pertence a carga\")),\"Volume não pertence a carga\")","v":""}]
[null,{"$f":"IFERROR(IF(A2445=\"\",\"\",IF(VLOOKUP(A2445,'Romaneio da Carga'!E:E,1,0)=BD!A2445,\"Volume Ok\",\"Volume não pertence a carga\")),\"Volume não pertence a carga\")","v":""}]
[null,{"$f":"IFERROR(IF(A2446=\"\",\"\",IF(VLOOKUP(A2446,'Romaneio da Carga'!E:E,1,0)=BD!A2446,\"Volume Ok\",\"Volume não pertence a carga\")),\"Volume não pertence a carga\")","v":""}]
[null,{"$f":"IFERROR(IF(A2447=\"\",\"\",IF(VLOOKUP(A2447,'Romaneio da Carga'!E:E,1,0)=BD!A2447,\"Volume Ok\",\"Volume não pertence a carga\")),\"Volume não pertence a carga\")","v":""}]
[null,{"$f":"IFERROR(IF(A2448=\"\",\"\",IF(VLOOKUP(A2448,'Romaneio da Carga'!E:E,1,0)=BD!A2448,\"Volume Ok\",\"Volume não pertence a carga\")),\"Volume não pertence a carga\")","v":""}]
[null,{"$f":"IFERROR(IF(A2449=\"\",\"\",IF(VLOOKUP(A2449,'Romaneio da Carga'!E:E,1,0)=BD!A2449,\"Volume Ok\",\"Volume não pertence a carga\")),\"Volume não pertence a carga\")","v":""}]
[null,{"$f":"IFERROR(IF(A2450=\"\",\"\",IF(VLOOKUP(A2450,'Romaneio da Carga'!E:E,1,0)=BD!A2450,\"Volume Ok\",\"Volume não pertence a carga\")),\"Volume não pertence a carga\")","v":""}]
[null,{"$f":"IFERROR(IF(A2451=\"\",\"\",IF(VLOOKUP(A2451,'Romaneio da Carga'!E:E,1,0)=BD!A2451,\"Volume Ok\",\"Volume não pertence a carga\")),\"Volume não pertence a carga\")","v":""}]
[null,{"$f":"IFERROR(IF(A2452=\"\",\"\",IF(VLOOKUP(A2452,'Romaneio da Carga'!E:E,1,0)=BD!A2452,\"Volume Ok\",\"Volume não pertence a carga\")),\"Volume não pertence a carga\")","v":""}]
[null,{"$f":"IFERROR(IF(A2453=\"\",\"\",IF(VLOOKUP(A2453,'Romaneio da Carga'!E:E,1,0)=BD!A2453,\"Volume Ok\",\"Volume não pertence a carga\")),\"Volume não pertence a carga\")","v":""}]
[null,{"$f":"IFERROR(IF(A2454=\"\",\"\",IF(VLOOKUP(A2454,'Romaneio da Carga'!E:E,1,0)=BD!A2454,\"Volume Ok\",\"Volume não pertence a carga\")),\"Volume não pertence a carga\")","v":""}]
[null,{"$f":"IFERROR(IF(A2455=\"\",\"\",IF(VLOOKUP(A2455,'Romaneio da Carga'!E:E,1,0)=BD!A2455,\"Volume Ok\",\"Volume não pertence a carga\")),\"Volume não pertence a carga\")","v":""}]
[null,{"$f":"IFERROR(IF(A2456=\"\",\"\",IF(VLOOKUP(A2456,'Romaneio da Carga'!E:E,1,0)=BD!A2456,\"Volume Ok\",\"Volume não pertence a carga\")),\"Volume não pertence a carga\")","v":""}]
[null,{"$f":"IFERROR(IF(A2457=\"\",\"\",IF(VLOOKUP(A2457,'Romaneio da Carga'!E:E,1,0)=BD!A2457,\"Volume Ok\",\"Volume não pertence a carga\")),\"Volume não pertence a carga\")","v":""}]
[null,{"$f":"IFERROR(IF(A2458=\"\",\"\",IF(VLOOKUP(A2458,'Romaneio da Carga'!E:E,1,0)=BD!A2458,\"Volume Ok\",\"Volume não pertence a carga\")),\"Volume não pertence a carga\")","v":""}]
[null,{"$f":"IFERROR(IF(A2459=\"\",\"\",IF(VLOOKUP(A2459,'Romaneio da Carga'!E:E,1,0)=BD!A2459,\"Volume Ok\",\"Volume não pertence a carga\")),\"Volume não pertence a carga\")","v":""}]
[null,{"$f":"IFERROR(IF(A2460=\"\",\"\",IF(VLOOKUP(A2460,'Romaneio da Carga'!E:E,1,0)=BD!A2460,\"Volume Ok\",\"Volume não pertence a carga\")),\"Volume não pertence a carga\")","v":""}]
[null,{"$f":"IFERROR(IF(A2461=\"\",\"\",IF(VLOOKUP(A2461,'Romaneio da Carga'!E:E,1,0)=BD!A2461,\"Volume Ok\",\"Volume não pertence a carga\")),\"Volume não pertence a carga\")","v":""}]
[null,{"$f":"IFERROR(IF(A2462=\"\",\"\",IF(VLOOKUP(A2462,'Romaneio da Carga'!E:E,1,0)=BD!A2462,\"Volume Ok\",\"Volume não pertence a carga\")),\"Volume não pertence a carga\")","v":""}]
[null,{"$f":"IFERROR(IF(A2463=\"\",\"\",IF(VLOOKUP(A2463,'Romaneio da Carga'!E:E,1,0)=BD!A2463,\"Volume Ok\",\"Volume não pertence a carga\")),\"Volume não pertence a carga\")","v":""}]
[null,{"$f":"IFERROR(IF(A2464=\"\",\"\",IF(VLOOKUP(A2464,'Romaneio da Carga'!E:E,1,0)=BD!A2464,\"Volume Ok\",\"Volume não pertence a carga\")),\"Volume não pertence a carga\")","v":""}]
[null,{"$f":"IFERROR(IF(A2465=\"\",\"\",IF(VLOOKUP(A2465,'Romaneio da Carga'!E:E,1,0)=BD!A2465,\"Volume Ok\",\"Volume não pertence a carga\")),\"Volume não pertence a carga\")","v":""}]
[null,{"$f":"IFERROR(IF(A2466=\"\",\"\",IF(VLOOKUP(A2466,'Romaneio da Carga'!E:E,1,0)=BD!A2466,\"Volume Ok\",\"Volume não pertence a carga\")),\"Volume não pertence a carga\")","v":""}]
[null,{"$f":"IFERROR(IF(A2467=\"\",\"\",IF(VLOOKUP(A2467,'Romaneio da Carga'!E:E,1,0)=BD!A2467,\"Volume Ok\",\"Volume não pertence a carga\")),\"Volume não pertence a carga\")","v":""}]
[null,{"$f":"IFERROR(IF(A2468=\"\",\"\",IF(VLOOKUP(A2468,'Romaneio da Carga'!E:E,1,0)=BD!A2468,\"Volume Ok\",\"Volume não pertence a carga\")),\"Volume não pertence a carga\")","v":""}]
[null,{"$f":"IFERROR(IF(A2469=\"\",\"\",IF(VLOOKUP(A2469,'Romaneio da Carga'!E:E,1,0)=BD!A2469,\"Volume Ok\",\"Volume não pertence a carga\")),\"Volume não pertence a carga\")","v":""}]
[null,{"$f":"IFERROR(IF(A2470=\"\",\"\",IF(VLOOKUP(A2470,'Romaneio da Carga'!E:E,1,0)=BD!A2470,\"Volume Ok\",\"Volume não pertence a carga\")),\"Volume não pertence a carga\")","v":""}]
[null,{"$f":"IFERROR(IF(A2471=\"\",\"\",IF(VLOOKUP(A2471,'Romaneio da Carga'!E:E,1,0)=BD!A2471,\"Volume Ok\",\"Volume não pertence a carga\")),\"Volume não pertence a carga\")","v":""}]
[null,{"$f":"IFERROR(IF(A2472=\"\",\"\",IF(VLOOKUP(A2472,'Romaneio da Carga'!E:E,1,0)=BD!A2472,\"Volume Ok\",\"Volume não pertence a carga\")),\"Volume não pertence a carga\")","v":""}]
[null,{"$f":"IFERROR(IF(A2473=\"\",\"\",IF(VLOOKUP(A2473,'Romaneio da Carga'!E:E,1,0)=BD!A2473,\"Volume Ok\",\"Volume não pertence a carga\")),\"Volume não pertence a carga\")","v":""}]
[null,{"$f":"IFERROR(IF(A2474=\"\",\"\",IF(VLOOKUP(A2474,'Romaneio da Carga'!E:E,1,0)=BD!A2474,\"Volume Ok\",\"Volume não pertence a carga\")),\"Volume não pertence a carga\")","v":""}]
[null,{"$f":"IFERROR(IF(A2475=\"\",\"\",IF(VLOOKUP(A2475,'Romaneio da Carga'!E:E,1,0)=BD!A2475,\"Volume Ok\",\"Volume não pertence a carga\")),\"Volume não pertence a carga\")","v":""}]
[null,{"$f":"IFERROR(IF(A2476=\"\",\"\",IF(VLOOKUP(A2476,'Romaneio da Carga'!E:E,1,0)=BD!A2476,\"Volume Ok\",\"Volume não pertence a carga\")),\"Volume não pertence a carga\")","v":""}]
[null,{"$f":"IFERROR(IF(A2477=\"\",\"\",IF(VLOOKUP(A2477,'Romaneio da Carga'!E:E,1,0)=BD!A2477,\"Volume Ok\",\"Volume não pertence a carga\")),\"Volume não pertence a carga\")","v":""}]
[null,{"$f":"IFERROR(IF(A2478=\"\",\"\",IF(VLOOKUP(A2478,'Romaneio da Carga'!E:E,1,0)=BD!A2478,\"Volume Ok\",\"Volume não pertence a carga\")),\"Volume não pertence a carga\")","v":""}]
[null,{"$f":"IFERROR(IF(A2479=\"\",\"\",IF(VLOOKUP(A2479,'Romaneio da Carga'!E:E,1,0)=BD!A2479,\"Volume Ok\",\"Volume não pertence a carga\")),\"Volume não pertence a carga\")","v":""}]
[null,{"$f":"IFERROR(IF(A2480=\"\",\"\",IF(VLOOKUP(A2480,'Romaneio da Carga'!E:E,1,0)=BD!A2480,\"Volume Ok\",\"Volume não pertence a carga\")),\"Volume não pertence a carga\")","v":""}]
[null,{"$f":"IFERROR(IF(A2481=\"\",\"\",IF(VLOOKUP(A2481,'Romaneio da Carga'!E:E,1,0)=BD!A2481,\"Volume Ok\",\"Volume não pertence a carga\")),\"Volume não pertence a carga\")","v":""}]
[null,{"$f":"IFERROR(IF(A2482=\"\",\"\",IF(VLOOKUP(A2482,'Romaneio da Carga'!E:E,1,0)=BD!A2482,\"Volume Ok\",\"Volume não pertence a carga\")),\"Volume não pertence a carga\")","v":""}]
[null,{"$f":"IFERROR(IF(A2483=\"\",\"\",IF(VLOOKUP(A2483,'Romaneio da Carga'!E:E,1,0)=BD!A2483,\"Volume Ok\",\"Volume não pertence a carga\")),\"Volume não pertence a carga\")","v":""}]
[null,{"$f":"IFERROR(IF(A2484=\"\",\"\",IF(VLOOKUP(A2484,'Romaneio da Carga'!E:E,1,0)=BD!A2484,\"Volume Ok\",\"Volume não pertence a carga\")),\"Volume não pertence a carga\")","v":""}]
[null,{"$f":"IFERROR(IF(A2485=\"\",\"\",IF(VLOOKUP(A2485,'Romaneio da Carga'!E:E,1,0)=BD!A2485,\"Volume Ok\",\"Volume não pertence a carga\")),\"Volume não pertence a carga\")","v":""}]
[null,{"$f":"IFERROR(IF(A2486=\"\",\"\",IF(VLOOKUP(A2486,'Romaneio da Carga'!E:E,1,0)=BD!A2486,\"Volume Ok\",\"Volume não pertence a carga\")),\"Volume não pertence a carga\")","v":""}]
[null,{"$f":"IFERROR(IF(A2487=\"\",\"\",IF(VLOOKUP(A2487,'Romaneio da Carga'!E:E,1,0)=BD!A2487,\"Volume Ok\",\"Volume não pertence a carga\")),\"Volume não pertence a carga\")","v":""}]
[null,{"$f":"IFERROR(IF(A2488=\"\",\"\",IF(VLOOKUP(A2488,'Romaneio da Carga'!E:E,1,0)=BD!A2488,\"Volume Ok\",\"Volume não pertence a carga\")),\"Volume não pertence a carga\")","v":""}]
[null,{"$f":"IFERROR(IF(A2489=\"\",\"\",IF(VLOOKUP(A2489,'Romaneio da Carga'!E:E,1,0)=BD!A2489,\"Volume Ok\",\"Volume não pertence a carga\")),\"Volume não pertence a carga\")","v":""}]
[null,{"$f":"IFERROR(IF(A2490=\"\",\"\",IF(VLOOKUP(A2490,'Romaneio da Carga'!E:E,1,0)=BD!A2490,\"Volume Ok\",\"Volume não pertence a carga\")),\"Volume não pertence a carga\")","v":""}]
[null,{"$f":"IFERROR(IF(A2491=\"\",\"\",IF(VLOOKUP(A2491,'Romaneio da Carga'!E:E,1,0)=BD!A2491,\"Volume Ok\",\"Volume não pertence a carga\")),\"Volume não pertence a carga\")","v":""}]
[null,{"$f":"IFERROR(IF(A2492=\"\",\"\",IF(VLOOKUP(A2492,'Romaneio da Carga'!E:E,1,0)=BD!A2492,\"Volume Ok\",\"Volume não pertence a carga\")),\"Volume não pertence a carga\")","v":""}]
[null,{"$f":"IFERROR(IF(A2493=\"\",\"\",IF(VLOOKUP(A2493,'Romaneio da Carga'!E:E,1,0)=BD!A2493,\"Volume Ok\",\"Volume não pertence a carga\")),\"Volume não pertence a carga\")","v":""}]
[null,{"$f":"IFERROR(IF(A2494=\"\",\"\",IF(VLOOKUP(A2494,'Romaneio da Carga'!E:E,1,0)=BD!A2494,\"Volume Ok\",\"Volume não pertence a carga\")),\"Volume não pertence a carga\")","v":""}]
[null,{"$f":"IFERROR(IF(A2495=\"\",\"\",IF(VLOOKUP(A2495,'Romaneio da Carga'!E:E,1,0)=BD!A2495,\"Volume Ok\",\"Volume não pertence a carga\")),\"Volume não pertence a carga\")","v":""}]
[null,{"$f":"IFERROR(IF(A2496=\"\",\"\",IF(VLOOKUP(A2496,'Romaneio da Carga'!E:E,1,0)=BD!A2496,\"Volume Ok\",\"Volume não pertence a carga\")),\"Volume não pertence a carga\")","v":""}]
[null,{"$f":"IFERROR(IF(A2497=\"\",\"\",IF(VLOOKUP(A2497,'Romaneio da Carga'!E:E,1,0)=BD!A2497,\"Volume Ok\",\"Volume não pertence a carga\")),\"Volume não pertence a carga\")","v":""}]
[null,{"$f":"IFERROR(IF(A2498=\"\",\"\",IF(VLOOKUP(A2498,'Romaneio da Carga'!E:E,1,0)=BD!A2498,\"Volume Ok\",\"Volume não pertence a carga\")),\"Volume não pertence a carga\")","v":""}]
[null,{"$f":"IFERROR(IF(A2499=\"\",\"\",IF(VLOOKUP(A2499,'Romaneio da Carga'!E:E,1,0)=BD!A2499,\"Volume Ok\",\"Volume não pertence a carga\")),\"Volume não pertence a carga\")","v":""}]
[null,{"$f":"IFERROR(IF(A2500=\"\",\"\",IF(VLOOKUP(A2500,'Romaneio da Carga'!E:E,1,0)=BD!A2500,\"Volume Ok\",\"Volume não pertence a carga\")),\"Volume não pertence a carga\")","v":""}]
[null,{"$f":"IFERROR(IF(A2501=\"\",\"\",IF(VLOOKUP(A2501,'Romaneio da Carga'!E:E,1,0)=BD!A2501,\"Volume Ok\",\"Volume não pertence a carga\")),\"Volume não pertence a carga\")","v":""}]
[null,{"$f":"IFERROR(IF(A2502=\"\",\"\",IF(VLOOKUP(A2502,'Romaneio da Carga'!E:E,1,0)=BD!A2502,\"Volume Ok\",\"Volume não pertence a carga\")),\"Volume não pertence a carga\")","v":""}]
[null,{"$f":"IFERROR(IF(A2503=\"\",\"\",IF(VLOOKUP(A2503,'Romaneio da Carga'!E:E,1,0)=BD!A2503,\"Volume Ok\",\"Volume não pertence a carga\")),\"Volume não pertence a carga\")","v":""}]
[null,{"$f":"IFERROR(IF(A2504=\"\",\"\",IF(VLOOKUP(A2504,'Romaneio da Carga'!E:E,1,0)=BD!A2504,\"Volume Ok\",\"Volume não pertence a carga\")),\"Volume não pertence a carga\")","v":""}]
[null,{"$f":"IFERROR(IF(A2505=\"\",\"\",IF(VLOOKUP(A2505,'Romaneio da Carga'!E:E,1,0)=BD!A2505,\"Volume Ok\",\"Volume não pertence a carga\")),\"Volume não pertence a carga\")","v":""}]
[null,{"$f":"IFERROR(IF(A2506=\"\",\"\",IF(VLOOKUP(A2506,'Romaneio da Carga'!E:E,1,0)=BD!A2506,\"Volume Ok\",\"Volume não pertence a carga\")),\"Volume não pertence a carga\")","v":""}]
[null,{"$f":"IFERROR(IF(A2507=\"\",\"\",IF(VLOOKUP(A2507,'Romaneio da Carga'!E:E,1,0)=BD!A2507,\"Volume Ok\",\"Volume não pertence a carga\")),\"Volume não pertence a carga\")","v":""}]
[null,{"$f":"IFERROR(IF(A2508=\"\",\"\",IF(VLOOKUP(A2508,'Romaneio da Carga'!E:E,1,0)=BD!A2508,\"Volume Ok\",\"Volume não pertence a carga\")),\"Volume não pertence a carga\")","v":""}]
[null,{"$f":"IFERROR(IF(A2509=\"\",\"\",IF(VLOOKUP(A2509,'Romaneio da Carga'!E:E,1,0)=BD!A2509,\"Volume Ok\",\"Volume não pertence a carga\")),\"Volume não pertence a carga\")","v":""}]
[null,{"$f":"IFERROR(IF(A2510=\"\",\"\",IF(VLOOKUP(A2510,'Romaneio da Carga'!E:E,1,0)=BD!A2510,\"Volume Ok\",\"Volume não pertence a carga\")),\"Volume não pertence a carga\")","v":""}]
[null,{"$f":"IFERROR(IF(A2511=\"\",\"\",IF(VLOOKUP(A2511,'Romaneio da Carga'!E:E,1,0)=BD!A2511,\"Volume Ok\",\"Volume não pertence a carga\")),\"Volume não pertence a carga\")","v":""}]
[null,{"$f":"IFERROR(IF(A2512=\"\",\"\",IF(VLOOKUP(A2512,'Romaneio da Carga'!E:E,1,0)=BD!A2512,\"Volume Ok\",\"Volume não pertence a carga\")),\"Volume não pertence a carga\")","v":""}]
[null,{"$f":"IFERROR(IF(A2513=\"\",\"\",IF(VLOOKUP(A2513,'Romaneio da Carga'!E:E,1,0)=BD!A2513,\"Volume Ok\",\"Volume não pertence a carga\")),\"Volume não pertence a carga\")","v":""}]
[null,{"$f":"IFERROR(IF(A2514=\"\",\"\",IF(VLOOKUP(A2514,'Romaneio da Carga'!E:E,1,0)=BD!A2514,\"Volume Ok\",\"Volume não pertence a carga\")),\"Volume não pertence a carga\")","v":""}]
[null,{"$f":"IFERROR(IF(A2515=\"\",\"\",IF(VLOOKUP(A2515,'Romaneio da Carga'!E:E,1,0)=BD!A2515,\"Volume Ok\",\"Volume não pertence a carga\")),\"Volume não pertence a carga\")","v":""}]
[null,{"$f":"IFERROR(IF(A2516=\"\",\"\",IF(VLOOKUP(A2516,'Romaneio da Carga'!E:E,1,0)=BD!A2516,\"Volume Ok\",\"Volume não pertence a carga\")),\"Volume não pertence a carga\")","v":""}]
[null,{"$f":"IFERROR(IF(A2517=\"\",\"\",IF(VLOOKUP(A2517,'Romaneio da Carga'!E:E,1,0)=BD!A2517,\"Volume Ok\",\"Volume não pertence a carga\")),\"Volume não pertence a carga\")","v":""}]
[null,{"$f":"IFERROR(IF(A2518=\"\",\"\",IF(VLOOKUP(A2518,'Romaneio da Carga'!E:E,1,0)=BD!A2518,\"Volume Ok\",\"Volume não pertence a carga\")),\"Volume não pertence a carga\")","v":""}]
[null,{"$f":"IFERROR(IF(A2519=\"\",\"\",IF(VLOOKUP(A2519,'Romaneio da Carga'!E:E,1,0)=BD!A2519,\"Volume Ok\",\"Volume não pertence a carga\")),\"Volume não pertence a carga\")","v":""}]
[null,{"$f":"IFERROR(IF(A2520=\"\",\"\",IF(VLOOKUP(A2520,'Romaneio da Carga'!E:E,1,0)=BD!A2520,\"Volume Ok\",\"Volume não pertence a carga\")),\"Volume não pertence a carga\")","v":""}]
[null,{"$f":"IFERROR(IF(A2521=\"\",\"\",IF(VLOOKUP(A2521,'Romaneio da Carga'!E:E,1,0)=BD!A2521,\"Volume Ok\",\"Volume não pertence a carga\")),\"Volume não pertence a carga\")","v":""}]
[null,{"$f":"IFERROR(IF(A2522=\"\",\"\",IF(VLOOKUP(A2522,'Romaneio da Carga'!E:E,1,0)=BD!A2522,\"Volume Ok\",\"Volume não pertence a carga\")),\"Volume não pertence a carga\")","v":""}]
[null,{"$f":"IFERROR(IF(A2523=\"\",\"\",IF(VLOOKUP(A2523,'Romaneio da Carga'!E:E,1,0)=BD!A2523,\"Volume Ok\",\"Volume não pertence a carga\")),\"Volume não pertence a carga\")","v":""}]
[null,{"$f":"IFERROR(IF(A2524=\"\",\"\",IF(VLOOKUP(A2524,'Romaneio da Carga'!E:E,1,0)=BD!A2524,\"Volume Ok\",\"Volume não pertence a carga\")),\"Volume não pertence a carga\")","v":""}]
[null,{"$f":"IFERROR(IF(A2525=\"\",\"\",IF(VLOOKUP(A2525,'Romaneio da Carga'!E:E,1,0)=BD!A2525,\"Volume Ok\",\"Volume não pertence a carga\")),\"Volume não pertence a carga\")","v":""}]
[null,{"$f":"IFERROR(IF(A2526=\"\",\"\",IF(VLOOKUP(A2526,'Romaneio da Carga'!E:E,1,0)=BD!A2526,\"Volume Ok\",\"Volume não pertence a carga\")),\"Volume não pertence a carga\")","v":""}]
[null,{"$f":"IFERROR(IF(A2527=\"\",\"\",IF(VLOOKUP(A2527,'Romaneio da Carga'!E:E,1,0)=BD!A2527,\"Volume Ok\",\"Volume não pertence a carga\")),\"Volume não pertence a carga\")","v":""}]
[null,{"$f":"IFERROR(IF(A2528=\"\",\"\",IF(VLOOKUP(A2528,'Romaneio da Carga'!E:E,1,0)=BD!A2528,\"Volume Ok\",\"Volume não pertence a carga\")),\"Volume não pertence a carga\")","v":""}]
[null,{"$f":"IFERROR(IF(A2529=\"\",\"\",IF(VLOOKUP(A2529,'Romaneio da Carga'!E:E,1,0)=BD!A2529,\"Volume Ok\",\"Volume não pertence a carga\")),\"Volume não pertence a carga\")","v":""}]
[null,{"$f":"IFERROR(IF(A2530=\"\",\"\",IF(VLOOKUP(A2530,'Romaneio da Carga'!E:E,1,0)=BD!A2530,\"Volume Ok\",\"Volume não pertence a carga\")),\"Volume não pertence a carga\")","v":""}]
[null,{"$f":"IFERROR(IF(A2531=\"\",\"\",IF(VLOOKUP(A2531,'Romaneio da Carga'!E:E,1,0)=BD!A2531,\"Volume Ok\",\"Volume não pertence a carga\")),\"Volume não pertence a carga\")","v":""}]
[null,{"$f":"IFERROR(IF(A2532=\"\",\"\",IF(VLOOKUP(A2532,'Romaneio da Carga'!E:E,1,0)=BD!A2532,\"Volume Ok\",\"Volume não pertence a carga\")),\"Volume não pertence a carga\")","v":""}]
[null,{"$f":"IFERROR(IF(A2533=\"\",\"\",IF(VLOOKUP(A2533,'Romaneio da Carga'!E:E,1,0)=BD!A2533,\"Volume Ok\",\"Volume não pertence a carga\")),\"Volume não pertence a carga\")","v":""}]
[null,{"$f":"IFERROR(IF(A2534=\"\",\"\",IF(VLOOKUP(A2534,'Romaneio da Carga'!E:E,1,0)=BD!A2534,\"Volume Ok\",\"Volume não pertence a carga\")),\"Volume não pertence a carga\")","v":""}]
[null,{"$f":"IFERROR(IF(A2535=\"\",\"\",IF(VLOOKUP(A2535,'Romaneio da Carga'!E:E,1,0)=BD!A2535,\"Volume Ok\",\"Volume não pertence a carga\")),\"Volume não pertence a carga\")","v":""}]
[null,{"$f":"IFERROR(IF(A2536=\"\",\"\",IF(VLOOKUP(A2536,'Romaneio da Carga'!E:E,1,0)=BD!A2536,\"Volume Ok\",\"Volume não pertence a carga\")),\"Volume não pertence a carga\")","v":""}]
[null,{"$f":"IFERROR(IF(A2537=\"\",\"\",IF(VLOOKUP(A2537,'Romaneio da Carga'!E:E,1,0)=BD!A2537,\"Volume Ok\",\"Volume não pertence a carga\")),\"Volume não pertence a carga\")","v":""}]
[null,{"$f":"IFERROR(IF(A2538=\"\",\"\",IF(VLOOKUP(A2538,'Romaneio da Carga'!E:E,1,0)=BD!A2538,\"Volume Ok\",\"Volume não pertence a carga\")),\"Volume não pertence a carga\")","v":""}]
[null,{"$f":"IFERROR(IF(A2539=\"\",\"\",IF(VLOOKUP(A2539,'Romaneio da Carga'!E:E,1,0)=BD!A2539,\"Volume Ok\",\"Volume não pertence a carga\")),\"Volume não pertence a carga\")","v":""}]
[null,{"$f":"IFERROR(IF(A2540=\"\",\"\",IF(VLOOKUP(A2540,'Romaneio da Carga'!E:E,1,0)=BD!A2540,\"Volume Ok\",\"Volume não pertence a carga\")),\"Volume não pertence a carga\")","v":""}]
[null,{"$f":"IFERROR(IF(A2541=\"\",\"\",IF(VLOOKUP(A2541,'Romaneio da Carga'!E:E,1,0)=BD!A2541,\"Volume Ok\",\"Volume não pertence a carga\")),\"Volume não pertence a carga\")","v":""}]
[null,{"$f":"IFERROR(IF(A2542=\"\",\"\",IF(VLOOKUP(A2542,'Romaneio da Carga'!E:E,1,0)=BD!A2542,\"Volume Ok\",\"Volume não pertence a carga\")),\"Volume não pertence a carga\")","v":""}]
[null,{"$f":"IFERROR(IF(A2543=\"\",\"\",IF(VLOOKUP(A2543,'Romaneio da Carga'!E:E,1,0)=BD!A2543,\"Volume Ok\",\"Volume não pertence a carga\")),\"Volume não pertence a carga\")","v":""}]
[null,{"$f":"IFERROR(IF(A2544=\"\",\"\",IF(VLOOKUP(A2544,'Romaneio da Carga'!E:E,1,0)=BD!A2544,\"Volume Ok\",\"Volume não pertence a carga\")),\"Volume não pertence a carga\")","v":""}]
[null,{"$f":"IFERROR(IF(A2545=\"\",\"\",IF(VLOOKUP(A2545,'Romaneio da Carga'!E:E,1,0)=BD!A2545,\"Volume Ok\",\"Volume não pertence a carga\")),\"Volume não pertence a carga\")","v":""}]
[null,{"$f":"IFERROR(IF(A2546=\"\",\"\",IF(VLOOKUP(A2546,'Romaneio da Carga'!E:E,1,0)=BD!A2546,\"Volume Ok\",\"Volume não pertence a carga\")),\"Volume não pertence a carga\")","v":""}]
[null,{"$f":"IFERROR(IF(A2547=\"\",\"\",IF(VLOOKUP(A2547,'Romaneio da Carga'!E:E,1,0)=BD!A2547,\"Volume Ok\",\"Volume não pertence a carga\")),\"Volume não pertence a carga\")","v":""}]
[null,{"$f":"IFERROR(IF(A2548=\"\",\"\",IF(VLOOKUP(A2548,'Romaneio da Carga'!E:E,1,0)=BD!A2548,\"Volume Ok\",\"Volume não pertence a carga\")),\"Volume não pertence a carga\")","v":""}]
[null,{"$f":"IFERROR(IF(A2549=\"\",\"\",IF(VLOOKUP(A2549,'Romaneio da Carga'!E:E,1,0)=BD!A2549,\"Volume Ok\",\"Volume não pertence a carga\")),\"Volume não pertence a carga\")","v":""}]
[null,{"$f":"IFERROR(IF(A2550=\"\",\"\",IF(VLOOKUP(A2550,'Romaneio da Carga'!E:E,1,0)=BD!A2550,\"Volume Ok\",\"Volume não pertence a carga\")),\"Volume não pertence a carga\")","v":""}]
[null,{"$f":"IFERROR(IF(A2551=\"\",\"\",IF(VLOOKUP(A2551,'Romaneio da Carga'!E:E,1,0)=BD!A2551,\"Volume Ok\",\"Volume não pertence a carga\")),\"Volume não pertence a carga\")","v":""}]
[null,{"$f":"IFERROR(IF(A2552=\"\",\"\",IF(VLOOKUP(A2552,'Romaneio da Carga'!E:E,1,0)=BD!A2552,\"Volume Ok\",\"Volume não pertence a carga\")),\"Volume não pertence a carga\")","v":""}]
[null,{"$f":"IFERROR(IF(A2553=\"\",\"\",IF(VLOOKUP(A2553,'Romaneio da Carga'!E:E,1,0)=BD!A2553,\"Volume Ok\",\"Volume não pertence a carga\")),\"Volume não pertence a carga\")","v":""}]
[null,{"$f":"IFERROR(IF(A2554=\"\",\"\",IF(VLOOKUP(A2554,'Romaneio da Carga'!E:E,1,0)=BD!A2554,\"Volume Ok\",\"Volume não pertence a carga\")),\"Volume não pertence a carga\")","v":""}]
[null,{"$f":"IFERROR(IF(A2555=\"\",\"\",IF(VLOOKUP(A2555,'Romaneio da Carga'!E:E,1,0)=BD!A2555,\"Volume Ok\",\"Volume não pertence a carga\")),\"Volume não pertence a carga\")","v":""}]
[null,{"$f":"IFERROR(IF(A2556=\"\",\"\",IF(VLOOKUP(A2556,'Romaneio da Carga'!E:E,1,0)=BD!A2556,\"Volume Ok\",\"Volume não pertence a carga\")),\"Volume não pertence a carga\")","v":""}]
[null,{"$f":"IFERROR(IF(A2557=\"\",\"\",IF(VLOOKUP(A2557,'Romaneio da Carga'!E:E,1,0)=BD!A2557,\"Volume Ok\",\"Volume não pertence a carga\")),\"Volume não pertence a carga\")","v":""}]
[null,{"$f":"IFERROR(IF(A2558=\"\",\"\",IF(VLOOKUP(A2558,'Romaneio da Carga'!E:E,1,0)=BD!A2558,\"Volume Ok\",\"Volume não pertence a carga\")),\"Volume não pertence a carga\")","v":""}]
[null,{"$f":"IFERROR(IF(A2559=\"\",\"\",IF(VLOOKUP(A2559,'Romaneio da Carga'!E:E,1,0)=BD!A2559,\"Volume Ok\",\"Volume não pertence a carga\")),\"Volume não pertence a carga\")","v":""}]
[null,{"$f":"IFERROR(IF(A2560=\"\",\"\",IF(VLOOKUP(A2560,'Romaneio da Carga'!E:E,1,0)=BD!A2560,\"Volume Ok\",\"Volume não pertence a carga\")),\"Volume não pertence a carga\")","v":""}]
[null,{"$f":"IFERROR(IF(A2561=\"\",\"\",IF(VLOOKUP(A2561,'Romaneio da Carga'!E:E,1,0)=BD!A2561,\"Volume Ok\",\"Volume não pertence a carga\")),\"Volume não pertence a carga\")","v":""}]
[null,{"$f":"IFERROR(IF(A2562=\"\",\"\",IF(VLOOKUP(A2562,'Romaneio da Carga'!E:E,1,0)=BD!A2562,\"Volume Ok\",\"Volume não pertence a carga\")),\"Volume não pertence a carga\")","v":""}]
[null,{"$f":"IFERROR(IF(A2563=\"\",\"\",IF(VLOOKUP(A2563,'Romaneio da Carga'!E:E,1,0)=BD!A2563,\"Volume Ok\",\"Volume não pertence a carga\")),\"Volume não pertence a carga\")","v":""}]
[null,{"$f":"IFERROR(IF(A2564=\"\",\"\",IF(VLOOKUP(A2564,'Romaneio da Carga'!E:E,1,0)=BD!A2564,\"Volume Ok\",\"Volume não pertence a carga\")),\"Volume não pertence a carga\")","v":""}]
[null,{"$f":"IFERROR(IF(A2565=\"\",\"\",IF(VLOOKUP(A2565,'Romaneio da Carga'!E:E,1,0)=BD!A2565,\"Volume Ok\",\"Volume não pertence a carga\")),\"Volume não pertence a carga\")","v":""}]
[null,{"$f":"IFERROR(IF(A2566=\"\",\"\",IF(VLOOKUP(A2566,'Romaneio da Carga'!E:E,1,0)=BD!A2566,\"Volume Ok\",\"Volume não pertence a carga\")),\"Volume não pertence a carga\")","v":""}]
[null,{"$f":"IFERROR(IF(A2567=\"\",\"\",IF(VLOOKUP(A2567,'Romaneio da Carga'!E:E,1,0)=BD!A2567,\"Volume Ok\",\"Volume não pertence a carga\")),\"Volume não pertence a carga\")","v":""}]
[null,{"$f":"IFERROR(IF(A2568=\"\",\"\",IF(VLOOKUP(A2568,'Romaneio da Carga'!E:E,1,0)=BD!A2568,\"Volume Ok\",\"Volume não pertence a carga\")),\"Volume não pertence a carga\")","v":""}]
[null,{"$f":"IFERROR(IF(A2569=\"\",\"\",IF(VLOOKUP(A2569,'Romaneio da Carga'!E:E,1,0)=BD!A2569,\"Volume Ok\",\"Volume não pertence a carga\")),\"Volume não pertence a carga\")","v":""}]
[null,{"$f":"IFERROR(IF(A2570=\"\",\"\",IF(VLOOKUP(A2570,'Romaneio da Carga'!E:E,1,0)=BD!A2570,\"Volume Ok\",\"Volume não pertence a carga\")),\"Volume não pertence a carga\")","v":""}]
[null,{"$f":"IFERROR(IF(A2571=\"\",\"\",IF(VLOOKUP(A2571,'Romaneio da Carga'!E:E,1,0)=BD!A2571,\"Volume Ok\",\"Volume não pertence a carga\")),\"Volume não pertence a carga\")","v":""}]
[null,{"$f":"IFERROR(IF(A2572=\"\",\"\",IF(VLOOKUP(A2572,'Romaneio da Carga'!E:E,1,0)=BD!A2572,\"Volume Ok\",\"Volume não pertence a carga\")),\"Volume não pertence a carga\")","v":""}]
[null,{"$f":"IFERROR(IF(A2573=\"\",\"\",IF(VLOOKUP(A2573,'Romaneio da Carga'!E:E,1,0)=BD!A2573,\"Volume Ok\",\"Volume não pertence a carga\")),\"Volume não pertence a carga\")","v":""}]
[null,{"$f":"IFERROR(IF(A2574=\"\",\"\",IF(VLOOKUP(A2574,'Romaneio da Carga'!E:E,1,0)=BD!A2574,\"Volume Ok\",\"Volume não pertence a carga\")),\"Volume não pertence a carga\")","v":""}]
[null,{"$f":"IFERROR(IF(A2575=\"\",\"\",IF(VLOOKUP(A2575,'Romaneio da Carga'!E:E,1,0)=BD!A2575,\"Volume Ok\",\"Volume não pertence a carga\")),\"Volume não pertence a carga\")","v":""}]
[null,{"$f":"IFERROR(IF(A2576=\"\",\"\",IF(VLOOKUP(A2576,'Romaneio da Carga'!E:E,1,0)=BD!A2576,\"Volume Ok\",\"Volume não pertence a carga\")),\"Volume não pertence a carga\")","v":""}]
[null,{"$f":"IFERROR(IF(A2577=\"\",\"\",IF(VLOOKUP(A2577,'Romaneio da Carga'!E:E,1,0)=BD!A2577,\"Volume Ok\",\"Volume não pertence a carga\")),\"Volume não pertence a carga\")","v":""}]
[null,{"$f":"IFERROR(IF(A2578=\"\",\"\",IF(VLOOKUP(A2578,'Romaneio da Carga'!E:E,1,0)=BD!A2578,\"Volume Ok\",\"Volume não pertence a carga\")),\"Volume não pertence a carga\")","v":""}]
[null,{"$f":"IFERROR(IF(A2579=\"\",\"\",IF(VLOOKUP(A2579,'Romaneio da Carga'!E:E,1,0)=BD!A2579,\"Volume Ok\",\"Volume não pertence a carga\")),\"Volume não pertence a carga\")","v":""}]
[null,{"$f":"IFERROR(IF(A2580=\"\",\"\",IF(VLOOKUP(A2580,'Romaneio da Carga'!E:E,1,0)=BD!A2580,\"Volume Ok\",\"Volume não pertence a carga\")),\"Volume não pertence a carga\")","v":""}]
[null,{"$f":"IFERROR(IF(A2581=\"\",\"\",IF(VLOOKUP(A2581,'Romaneio da Carga'!E:E,1,0)=BD!A2581,\"Volume Ok\",\"Volume não pertence a carga\")),\"Volume não pertence a carga\")","v":""}]
[null,{"$f":"IFERROR(IF(A2582=\"\",\"\",IF(VLOOKUP(A2582,'Romaneio da Carga'!E:E,1,0)=BD!A2582,\"Volume Ok\",\"Volume não pertence a carga\")),\"Volume não pertence a carga\")","v":""}]
[null,{"$f":"IFERROR(IF(A2583=\"\",\"\",IF(VLOOKUP(A2583,'Romaneio da Carga'!E:E,1,0)=BD!A2583,\"Volume Ok\",\"Volume não pertence a carga\")),\"Volume não pertence a carga\")","v":""}]
[null,{"$f":"IFERROR(IF(A2584=\"\",\"\",IF(VLOOKUP(A2584,'Romaneio da Carga'!E:E,1,0)=BD!A2584,\"Volume Ok\",\"Volume não pertence a carga\")),\"Volume não pertence a carga\")","v":""}]
[null,{"$f":"IFERROR(IF(A2585=\"\",\"\",IF(VLOOKUP(A2585,'Romaneio da Carga'!E:E,1,0)=BD!A2585,\"Volume Ok\",\"Volume não pertence a carga\")),\"Volume não pertence a carga\")","v":""}]
[null,{"$f":"IFERROR(IF(A2586=\"\",\"\",IF(VLOOKUP(A2586,'Romaneio da Carga'!E:E,1,0)=BD!A2586,\"Volume Ok\",\"Volume não pertence a carga\")),\"Volume não pertence a carga\")","v":""}]
[null,{"$f":"IFERROR(IF(A2587=\"\",\"\",IF(VLOOKUP(A2587,'Romaneio da Carga'!E:E,1,0)=BD!A2587,\"Volume Ok\",\"Volume não pertence a carga\")),\"Volume não pertence a carga\")","v":""}]
[null,{"$f":"IFERROR(IF(A2588=\"\",\"\",IF(VLOOKUP(A2588,'Romaneio da Carga'!E:E,1,0)=BD!A2588,\"Volume Ok\",\"Volume não pertence a carga\")),\"Volume não pertence a carga\")","v":""}]
[null,{"$f":"IFERROR(IF(A2589=\"\",\"\",IF(VLOOKUP(A2589,'Romaneio da Carga'!E:E,1,0)=BD!A2589,\"Volume Ok\",\"Volume não pertence a carga\")),\"Volume não pertence a carga\")","v":""}]
[null,{"$f":"IFERROR(IF(A2590=\"\",\"\",IF(VLOOKUP(A2590,'Romaneio da Carga'!E:E,1,0)=BD!A2590,\"Volume Ok\",\"Volume não pertence a carga\")),\"Volume não pertence a carga\")","v":""}]
[null,{"$f":"IFERROR(IF(A2591=\"\",\"\",IF(VLOOKUP(A2591,'Romaneio da Carga'!E:E,1,0)=BD!A2591,\"Volume Ok\",\"Volume não pertence a carga\")),\"Volume não pertence a carga\")","v":""}]
[null,{"$f":"IFERROR(IF(A2592=\"\",\"\",IF(VLOOKUP(A2592,'Romaneio da Carga'!E:E,1,0)=BD!A2592,\"Volume Ok\",\"Volume não pertence a carga\")),\"Volume não pertence a carga\")","v":""}]
[null,{"$f":"IFERROR(IF(A2593=\"\",\"\",IF(VLOOKUP(A2593,'Romaneio da Carga'!E:E,1,0)=BD!A2593,\"Volume Ok\",\"Volume não pertence a carga\")),\"Volume não pertence a carga\")","v":""}]
[null,{"$f":"IFERROR(IF(A2594=\"\",\"\",IF(VLOOKUP(A2594,'Romaneio da Carga'!E:E,1,0)=BD!A2594,\"Volume Ok\",\"Volume não pertence a carga\")),\"Volume não pertence a carga\")","v":""}]
[null,{"$f":"IFERROR(IF(A2595=\"\",\"\",IF(VLOOKUP(A2595,'Romaneio da Carga'!E:E,1,0)=BD!A2595,\"Volume Ok\",\"Volume não pertence a carga\")),\"Volume não pertence a carga\")","v":""}]
[null,{"$f":"IFERROR(IF(A2596=\"\",\"\",IF(VLOOKUP(A2596,'Romaneio da Carga'!E:E,1,0)=BD!A2596,\"Volume Ok\",\"Volume não pertence a carga\")),\"Volume não pertence a carga\")","v":""}]
[null,{"$f":"IFERROR(IF(A2597=\"\",\"\",IF(VLOOKUP(A2597,'Romaneio da Carga'!E:E,1,0)=BD!A2597,\"Volume Ok\",\"Volume não pertence a carga\")),\"Volume não pertence a carga\")","v":""}]
[null,{"$f":"IFERROR(IF(A2598=\"\",\"\",IF(VLOOKUP(A2598,'Romaneio da Carga'!E:E,1,0)=BD!A2598,\"Volume Ok\",\"Volume não pertence a carga\")),\"Volume não pertence a carga\")","v":""}]
[null,{"$f":"IFERROR(IF(A2599=\"\",\"\",IF(VLOOKUP(A2599,'Romaneio da Carga'!E:E,1,0)=BD!A2599,\"Volume Ok\",\"Volume não pertence a carga\")),\"Volume não pertence a carga\")","v":""}]
[null,{"$f":"IFERROR(IF(A2600=\"\",\"\",IF(VLOOKUP(A2600,'Romaneio da Carga'!E:E,1,0)=BD!A2600,\"Volume Ok\",\"Volume não pertence a carga\")),\"Volume não pertence a carga\")","v":""}]
[null,{"$f":"IFERROR(IF(A2601=\"\",\"\",IF(VLOOKUP(A2601,'Romaneio da Carga'!E:E,1,0)=BD!A2601,\"Volume Ok\",\"Volume não pertence a carga\")),\"Volume não pertence a carga\")","v":""}]
[null,{"$f":"IFERROR(IF(A2602=\"\",\"\",IF(VLOOKUP(A2602,'Romaneio da Carga'!E:E,1,0)=BD!A2602,\"Volume Ok\",\"Volume não pertence a carga\")),\"Volume não pertence a carga\")","v":""}]
[null,{"$f":"IFERROR(IF(A2603=\"\",\"\",IF(VLOOKUP(A2603,'Romaneio da Carga'!E:E,1,0)=BD!A2603,\"Volume Ok\",\"Volume não pertence a carga\")),\"Volume não pertence a carga\")","v":""}]
[null,{"$f":"IFERROR(IF(A2604=\"\",\"\",IF(VLOOKUP(A2604,'Romaneio da Carga'!E:E,1,0)=BD!A2604,\"Volume Ok\",\"Volume não pertence a carga\")),\"Volume não pertence a carga\")","v":""}]
[null,{"$f":"IFERROR(IF(A2605=\"\",\"\",IF(VLOOKUP(A2605,'Romaneio da Carga'!E:E,1,0)=BD!A2605,\"Volume Ok\",\"Volume não pertence a carga\")),\"Volume não pertence a carga\")","v":""}]
[null,{"$f":"IFERROR(IF(A2606=\"\",\"\",IF(VLOOKUP(A2606,'Romaneio da Carga'!E:E,1,0)=BD!A2606,\"Volume Ok\",\"Volume não pertence a carga\")),\"Volume não pertence a carga\")","v":""}]
[null,{"$f":"IFERROR(IF(A2607=\"\",\"\",IF(VLOOKUP(A2607,'Romaneio da Carga'!E:E,1,0)=BD!A2607,\"Volume Ok\",\"Volume não pertence a carga\")),\"Volume não pertence a carga\")","v":""}]
[null,{"$f":"IFERROR(IF(A2608=\"\",\"\",IF(VLOOKUP(A2608,'Romaneio da Carga'!E:E,1,0)=BD!A2608,\"Volume Ok\",\"Volume não pertence a carga\")),\"Volume não pertence a carga\")","v":""}]
[null,{"$f":"IFERROR(IF(A2609=\"\",\"\",IF(VLOOKUP(A2609,'Romaneio da Carga'!E:E,1,0)=BD!A2609,\"Volume Ok\",\"Volume não pertence a carga\")),\"Volume não pertence a carga\")","v":""}]
[null,{"$f":"IFERROR(IF(A2610=\"\",\"\",IF(VLOOKUP(A2610,'Romaneio da Carga'!E:E,1,0)=BD!A2610,\"Volume Ok\",\"Volume não pertence a carga\")),\"Volume não pertence a carga\")","v":""}]
[null,{"$f":"IFERROR(IF(A2611=\"\",\"\",IF(VLOOKUP(A2611,'Romaneio da Carga'!E:E,1,0)=BD!A2611,\"Volume Ok\",\"Volume não pertence a carga\")),\"Volume não pertence a carga\")","v":""}]
[null,{"$f":"IFERROR(IF(A2612=\"\",\"\",IF(VLOOKUP(A2612,'Romaneio da Carga'!E:E,1,0)=BD!A2612,\"Volume Ok\",\"Volume não pertence a carga\")),\"Volume não pertence a carga\")","v":""}]
[null,{"$f":"IFERROR(IF(A2613=\"\",\"\",IF(VLOOKUP(A2613,'Romaneio da Carga'!E:E,1,0)=BD!A2613,\"Volume Ok\",\"Volume não pertence a carga\")),\"Volume não pertence a carga\")","v":""}]
[null,{"$f":"IFERROR(IF(A2614=\"\",\"\",IF(VLOOKUP(A2614,'Romaneio da Carga'!E:E,1,0)=BD!A2614,\"Volume Ok\",\"Volume não pertence a carga\")),\"Volume não pertence a carga\")","v":""}]
[null,{"$f":"IFERROR(IF(A2615=\"\",\"\",IF(VLOOKUP(A2615,'Romaneio da Carga'!E:E,1,0)=BD!A2615,\"Volume Ok\",\"Volume não pertence a carga\")),\"Volume não pertence a carga\")","v":""}]
[null,{"$f":"IFERROR(IF(A2616=\"\",\"\",IF(VLOOKUP(A2616,'Romaneio da Carga'!E:E,1,0)=BD!A2616,\"Volume Ok\",\"Volume não pertence a carga\")),\"Volume não pertence a carga\")","v":""}]
[null,{"$f":"IFERROR(IF(A2617=\"\",\"\",IF(VLOOKUP(A2617,'Romaneio da Carga'!E:E,1,0)=BD!A2617,\"Volume Ok\",\"Volume não pertence a carga\")),\"Volume não pertence a carga\")","v":""}]
[null,{"$f":"IFERROR(IF(A2618=\"\",\"\",IF(VLOOKUP(A2618,'Romaneio da Carga'!E:E,1,0)=BD!A2618,\"Volume Ok\",\"Volume não pertence a carga\")),\"Volume não pertence a carga\")","v":""}]
[null,{"$f":"IFERROR(IF(A2619=\"\",\"\",IF(VLOOKUP(A2619,'Romaneio da Carga'!E:E,1,0)=BD!A2619,\"Volume Ok\",\"Volume não pertence a carga\")),\"Volume não pertence a carga\")","v":""}]
[null,{"$f":"IFERROR(IF(A2620=\"\",\"\",IF(VLOOKUP(A2620,'Romaneio da Carga'!E:E,1,0)=BD!A2620,\"Volume Ok\",\"Volume não pertence a carga\")),\"Volume não pertence a carga\")","v":""}]
[null,{"$f":"IFERROR(IF(A2621=\"\",\"\",IF(VLOOKUP(A2621,'Romaneio da Carga'!E:E,1,0)=BD!A2621,\"Volume Ok\",\"Volume não pertence a carga\")),\"Volume não pertence a carga\")","v":""}]
[null,{"$f":"IFERROR(IF(A2622=\"\",\"\",IF(VLOOKUP(A2622,'Romaneio da Carga'!E:E,1,0)=BD!A2622,\"Volume Ok\",\"Volume não pertence a carga\")),\"Volume não pertence a carga\")","v":""}]
[null,{"$f":"IFERROR(IF(A2623=\"\",\"\",IF(VLOOKUP(A2623,'Romaneio da Carga'!E:E,1,0)=BD!A2623,\"Volume Ok\",\"Volume não pertence a carga\")),\"Volume não pertence a carga\")","v":""}]
[null,{"$f":"IFERROR(IF(A2624=\"\",\"\",IF(VLOOKUP(A2624,'Romaneio da Carga'!E:E,1,0)=BD!A2624,\"Volume Ok\",\"Volume não pertence a carga\")),\"Volume não pertence a carga\")","v":""}]
[null,{"$f":"IFERROR(IF(A2625=\"\",\"\",IF(VLOOKUP(A2625,'Romaneio da Carga'!E:E,1,0)=BD!A2625,\"Volume Ok\",\"Volume não pertence a carga\")),\"Volume não pertence a carga\")","v":""}]
[null,{"$f":"IFERROR(IF(A2626=\"\",\"\",IF(VLOOKUP(A2626,'Romaneio da Carga'!E:E,1,0)=BD!A2626,\"Volume Ok\",\"Volume não pertence a carga\")),\"Volume não pertence a carga\")","v":""}]
[null,{"$f":"IFERROR(IF(A2627=\"\",\"\",IF(VLOOKUP(A2627,'Romaneio da Carga'!E:E,1,0)=BD!A2627,\"Volume Ok\",\"Volume não pertence a carga\")),\"Volume não pertence a carga\")","v":""}]
[null,{"$f":"IFERROR(IF(A2628=\"\",\"\",IF(VLOOKUP(A2628,'Romaneio da Carga'!E:E,1,0)=BD!A2628,\"Volume Ok\",\"Volume não pertence a carga\")),\"Volume não pertence a carga\")","v":""}]
[null,{"$f":"IFERROR(IF(A2629=\"\",\"\",IF(VLOOKUP(A2629,'Romaneio da Carga'!E:E,1,0)=BD!A2629,\"Volume Ok\",\"Volume não pertence a carga\")),\"Volume não pertence a carga\")","v":""}]
[null,{"$f":"IFERROR(IF(A2630=\"\",\"\",IF(VLOOKUP(A2630,'Romaneio da Carga'!E:E,1,0)=BD!A2630,\"Volume Ok\",\"Volume não pertence a carga\")),\"Volume não pertence a carga\")","v":""}]
[null,{"$f":"IFERROR(IF(A2631=\"\",\"\",IF(VLOOKUP(A2631,'Romaneio da Carga'!E:E,1,0)=BD!A2631,\"Volume Ok\",\"Volume não pertence a carga\")),\"Volume não pertence a carga\")","v":""}]
[null,{"$f":"IFERROR(IF(A2632=\"\",\"\",IF(VLOOKUP(A2632,'Romaneio da Carga'!E:E,1,0)=BD!A2632,\"Volume Ok\",\"Volume não pertence a carga\")),\"Volume não pertence a carga\")","v":""}]
[null,{"$f":"IFERROR(IF(A2633=\"\",\"\",IF(VLOOKUP(A2633,'Romaneio da Carga'!E:E,1,0)=BD!A2633,\"Volume Ok\",\"Volume não pertence a carga\")),\"Volume não pertence a carga\")","v":""}]
[null,{"$f":"IFERROR(IF(A2634=\"\",\"\",IF(VLOOKUP(A2634,'Romaneio da Carga'!E:E,1,0)=BD!A2634,\"Volume Ok\",\"Volume não pertence a carga\")),\"Volume não pertence a carga\")","v":""}]
[null,{"$f":"IFERROR(IF(A2635=\"\",\"\",IF(VLOOKUP(A2635,'Romaneio da Carga'!E:E,1,0)=BD!A2635,\"Volume Ok\",\"Volume não pertence a carga\")),\"Volume não pertence a carga\")","v":""}]
[null,{"$f":"IFERROR(IF(A2636=\"\",\"\",IF(VLOOKUP(A2636,'Romaneio da Carga'!E:E,1,0)=BD!A2636,\"Volume Ok\",\"Volume não pertence a carga\")),\"Volume não pertence a carga\")","v":""}]
[null,{"$f":"IFERROR(IF(A2637=\"\",\"\",IF(VLOOKUP(A2637,'Romaneio da Carga'!E:E,1,0)=BD!A2637,\"Volume Ok\",\"Volume não pertence a carga\")),\"Volume não pertence a carga\")","v":""}]
[null,{"$f":"IFERROR(IF(A2638=\"\",\"\",IF(VLOOKUP(A2638,'Romaneio da Carga'!E:E,1,0)=BD!A2638,\"Volume Ok\",\"Volume não pertence a carga\")),\"Volume não pertence a carga\")","v":""}]
[null,{"$f":"IFERROR(IF(A2639=\"\",\"\",IF(VLOOKUP(A2639,'Romaneio da Carga'!E:E,1,0)=BD!A2639,\"Volume Ok\",\"Volume não pertence a carga\")),\"Volume não pertence a carga\")","v":""}]
[null,{"$f":"IFERROR(IF(A2640=\"\",\"\",IF(VLOOKUP(A2640,'Romaneio da Carga'!E:E,1,0)=BD!A2640,\"Volume Ok\",\"Volume não pertence a carga\")),\"Volume não pertence a carga\")","v":""}]
[null,{"$f":"IFERROR(IF(A2641=\"\",\"\",IF(VLOOKUP(A2641,'Romaneio da Carga'!E:E,1,0)=BD!A2641,\"Volume Ok\",\"Volume não pertence a carga\")),\"Volume não pertence a carga\")","v":""}]
[null,{"$f":"IFERROR(IF(A2642=\"\",\"\",IF(VLOOKUP(A2642,'Romaneio da Carga'!E:E,1,0)=BD!A2642,\"Volume Ok\",\"Volume não pertence a carga\")),\"Volume não pertence a carga\")","v":""}]
[null,{"$f":"IFERROR(IF(A2643=\"\",\"\",IF(VLOOKUP(A2643,'Romaneio da Carga'!E:E,1,0)=BD!A2643,\"Volume Ok\",\"Volume não pertence a carga\")),\"Volume não pertence a carga\")","v":""}]
[null,{"$f":"IFERROR(IF(A2644=\"\",\"\",IF(VLOOKUP(A2644,'Romaneio da Carga'!E:E,1,0)=BD!A2644,\"Volume Ok\",\"Volume não pertence a carga\")),\"Volume não pertence a carga\")","v":""}]
[null,{"$f":"IFERROR(IF(A2645=\"\",\"\",IF(VLOOKUP(A2645,'Romaneio da Carga'!E:E,1,0)=BD!A2645,\"Volume Ok\",\"Volume não pertence a carga\")),\"Volume não pertence a carga\")","v":""}]
[null,{"$f":"IFERROR(IF(A2646=\"\",\"\",IF(VLOOKUP(A2646,'Romaneio da Carga'!E:E,1,0)=BD!A2646,\"Volume Ok\",\"Volume não pertence a carga\")),\"Volume não pertence a carga\")","v":""}]
[null,{"$f":"IFERROR(IF(A2647=\"\",\"\",IF(VLOOKUP(A2647,'Romaneio da Carga'!E:E,1,0)=BD!A2647,\"Volume Ok\",\"Volume não pertence a carga\")),\"Volume não pertence a carga\")","v":""}]
[null,{"$f":"IFERROR(IF(A2648=\"\",\"\",IF(VLOOKUP(A2648,'Romaneio da Carga'!E:E,1,0)=BD!A2648,\"Volume Ok\",\"Volume não pertence a carga\")),\"Volume não pertence a carga\")","v":""}]
[null,{"$f":"IFERROR(IF(A2649=\"\",\"\",IF(VLOOKUP(A2649,'Romaneio da Carga'!E:E,1,0)=BD!A2649,\"Volume Ok\",\"Volume não pertence a carga\")),\"Volume não pertence a carga\")","v":""}]
[null,{"$f":"IFERROR(IF(A2650=\"\",\"\",IF(VLOOKUP(A2650,'Romaneio da Carga'!E:E,1,0)=BD!A2650,\"Volume Ok\",\"Volume não pertence a carga\")),\"Volume não pertence a carga\")","v":""}]
[null,{"$f":"IFERROR(IF(A2651=\"\",\"\",IF(VLOOKUP(A2651,'Romaneio da Carga'!E:E,1,0)=BD!A2651,\"Volume Ok\",\"Volume não pertence a carga\")),\"Volume não pertence a carga\")","v":""}]
[null,{"$f":"IFERROR(IF(A2652=\"\",\"\",IF(VLOOKUP(A2652,'Romaneio da Carga'!E:E,1,0)=BD!A2652,\"Volume Ok\",\"Volume não pertence a carga\")),\"Volume não pertence a carga\")","v":""}]
[null,{"$f":"IFERROR(IF(A2653=\"\",\"\",IF(VLOOKUP(A2653,'Romaneio da Carga'!E:E,1,0)=BD!A2653,\"Volume Ok\",\"Volume não pertence a carga\")),\"Volume não pertence a carga\")","v":""}]
[null,{"$f":"IFERROR(IF(A2654=\"\",\"\",IF(VLOOKUP(A2654,'Romaneio da Carga'!E:E,1,0)=BD!A2654,\"Volume Ok\",\"Volume não pertence a carga\")),\"Volume não pertence a carga\")","v":""}]
[null,{"$f":"IFERROR(IF(A2655=\"\",\"\",IF(VLOOKUP(A2655,'Romaneio da Carga'!E:E,1,0)=BD!A2655,\"Volume Ok\",\"Volume não pertence a carga\")),\"Volume não pertence a carga\")","v":""}]
[null,{"$f":"IFERROR(IF(A2656=\"\",\"\",IF(VLOOKUP(A2656,'Romaneio da Carga'!E:E,1,0)=BD!A2656,\"Volume Ok\",\"Volume não pertence a carga\")),\"Volume não pertence a carga\")","v":""}]
[null,{"$f":"IFERROR(IF(A2657=\"\",\"\",IF(VLOOKUP(A2657,'Romaneio da Carga'!E:E,1,0)=BD!A2657,\"Volume Ok\",\"Volume não pertence a carga\")),\"Volume não pertence a carga\")","v":""}]
[null,{"$f":"IFERROR(IF(A2658=\"\",\"\",IF(VLOOKUP(A2658,'Romaneio da Carga'!E:E,1,0)=BD!A2658,\"Volume Ok\",\"Volume não pertence a carga\")),\"Volume não pertence a carga\")","v":""}]
[null,{"$f":"IFERROR(IF(A2659=\"\",\"\",IF(VLOOKUP(A2659,'Romaneio da Carga'!E:E,1,0)=BD!A2659,\"Volume Ok\",\"Volume não pertence a carga\")),\"Volume não pertence a carga\")","v":""}]
[null,{"$f":"IFERROR(IF(A2660=\"\",\"\",IF(VLOOKUP(A2660,'Romaneio da Carga'!E:E,1,0)=BD!A2660,\"Volume Ok\",\"Volume não pertence a carga\")),\"Volume não pertence a carga\")","v":""}]
[null,{"$f":"IFERROR(IF(A2661=\"\",\"\",IF(VLOOKUP(A2661,'Romaneio da Carga'!E:E,1,0)=BD!A2661,\"Volume Ok\",\"Volume não pertence a carga\")),\"Volume não pertence a carga\")","v":""}]
[null,{"$f":"IFERROR(IF(A2662=\"\",\"\",IF(VLOOKUP(A2662,'Romaneio da Carga'!E:E,1,0)=BD!A2662,\"Volume Ok\",\"Volume não pertence a carga\")),\"Volume não pertence a carga\")","v":""}]
[null,{"$f":"IFERROR(IF(A2663=\"\",\"\",IF(VLOOKUP(A2663,'Romaneio da Carga'!E:E,1,0)=BD!A2663,\"Volume Ok\",\"Volume não pertence a carga\")),\"Volume não pertence a carga\")","v":""}]
[null,{"$f":"IFERROR(IF(A2664=\"\",\"\",IF(VLOOKUP(A2664,'Romaneio da Carga'!E:E,1,0)=BD!A2664,\"Volume Ok\",\"Volume não pertence a carga\")),\"Volume não pertence a carga\")","v":""}]
[null,{"$f":"IFERROR(IF(A2665=\"\",\"\",IF(VLOOKUP(A2665,'Romaneio da Carga'!E:E,1,0)=BD!A2665,\"Volume Ok\",\"Volume não pertence a carga\")),\"Volume não pertence a carga\")","v":""}]
[null,{"$f":"IFERROR(IF(A2666=\"\",\"\",IF(VLOOKUP(A2666,'Romaneio da Carga'!E:E,1,0)=BD!A2666,\"Volume Ok\",\"Volume não pertence a carga\")),\"Volume não pertence a carga\")","v":""}]
[null,{"$f":"IFERROR(IF(A2667=\"\",\"\",IF(VLOOKUP(A2667,'Romaneio da Carga'!E:E,1,0)=BD!A2667,\"Volume Ok\",\"Volume não pertence a carga\")),\"Volume não pertence a carga\")","v":""}]
[null,{"$f":"IFERROR(IF(A2668=\"\",\"\",IF(VLOOKUP(A2668,'Romaneio da Carga'!E:E,1,0)=BD!A2668,\"Volume Ok\",\"Volume não pertence a carga\")),\"Volume não pertence a carga\")","v":""}]
[null,{"$f":"IFERROR(IF(A2669=\"\",\"\",IF(VLOOKUP(A2669,'Romaneio da Carga'!E:E,1,0)=BD!A2669,\"Volume Ok\",\"Volume não pertence a carga\")),\"Volume não pertence a carga\")","v":""}]
[null,{"$f":"IFERROR(IF(A2670=\"\",\"\",IF(VLOOKUP(A2670,'Romaneio da Carga'!E:E,1,0)=BD!A2670,\"Volume Ok\",\"Volume não pertence a carga\")),\"Volume não pertence a carga\")","v":""}]
[null,{"$f":"IFERROR(IF(A2671=\"\",\"\",IF(VLOOKUP(A2671,'Romaneio da Carga'!E:E,1,0)=BD!A2671,\"Volume Ok\",\"Volume não pertence a carga\")),\"Volume não pertence a carga\")","v":""}]
[null,{"$f":"IFERROR(IF(A2672=\"\",\"\",IF(VLOOKUP(A2672,'Romaneio da Carga'!E:E,1,0)=BD!A2672,\"Volume Ok\",\"Volume não pertence a carga\")),\"Volume não pertence a carga\")","v":""}]
[null,{"$f":"IFERROR(IF(A2673=\"\",\"\",IF(VLOOKUP(A2673,'Romaneio da Carga'!E:E,1,0)=BD!A2673,\"Volume Ok\",\"Volume não pertence a carga\")),\"Volume não pertence a carga\")","v":""}]
[null,{"$f":"IFERROR(IF(A2674=\"\",\"\",IF(VLOOKUP(A2674,'Romaneio da Carga'!E:E,1,0)=BD!A2674,\"Volume Ok\",\"Volume não pertence a carga\")),\"Volume não pertence a carga\")","v":""}]
[null,{"$f":"IFERROR(IF(A2675=\"\",\"\",IF(VLOOKUP(A2675,'Romaneio da Carga'!E:E,1,0)=BD!A2675,\"Volume Ok\",\"Volume não pertence a carga\")),\"Volume não pertence a carga\")","v":""}]
[null,{"$f":"IFERROR(IF(A2676=\"\",\"\",IF(VLOOKUP(A2676,'Romaneio da Carga'!E:E,1,0)=BD!A2676,\"Volume Ok\",\"Volume não pertence a carga\")),\"Volume não pertence a carga\")","v":""}]
[null,{"$f":"IFERROR(IF(A2677=\"\",\"\",IF(VLOOKUP(A2677,'Romaneio da Carga'!E:E,1,0)=BD!A2677,\"Volume Ok\",\"Volume não pertence a carga\")),\"Volume não pertence a carga\")","v":""}]
[null,{"$f":"IFERROR(IF(A2678=\"\",\"\",IF(VLOOKUP(A2678,'Romaneio da Carga'!E:E,1,0)=BD!A2678,\"Volume Ok\",\"Volume não pertence a carga\")),\"Volume não pertence a carga\")","v":""}]
[null,{"$f":"IFERROR(IF(A2679=\"\",\"\",IF(VLOOKUP(A2679,'Romaneio da Carga'!E:E,1,0)=BD!A2679,\"Volume Ok\",\"Volume não pertence a carga\")),\"Volume não pertence a carga\")","v":""}]
[null,{"$f":"IFERROR(IF(A2680=\"\",\"\",IF(VLOOKUP(A2680,'Romaneio da Carga'!E:E,1,0)=BD!A2680,\"Volume Ok\",\"Volume não pertence a carga\")),\"Volume não pertence a carga\")","v":""}]
[null,{"$f":"IFERROR(IF(A2681=\"\",\"\",IF(VLOOKUP(A2681,'Romaneio da Carga'!E:E,1,0)=BD!A2681,\"Volume Ok\",\"Volume não pertence a carga\")),\"Volume não pertence a carga\")","v":""}]
[null,{"$f":"IFERROR(IF(A2682=\"\",\"\",IF(VLOOKUP(A2682,'Romaneio da Carga'!E:E,1,0)=BD!A2682,\"Volume Ok\",\"Volume não pertence a carga\")),\"Volume não pertence a carga\")","v":""}]
[null,{"$f":"IFERROR(IF(A2683=\"\",\"\",IF(VLOOKUP(A2683,'Romaneio da Carga'!E:E,1,0)=BD!A2683,\"Volume Ok\",\"Volume não pertence a carga\")),\"Volume não pertence a carga\")","v":""}]
[null,{"$f":"IFERROR(IF(A2684=\"\",\"\",IF(VLOOKUP(A2684,'Romaneio da Carga'!E:E,1,0)=BD!A2684,\"Volume Ok\",\"Volume não pertence a carga\")),\"Volume não pertence a carga\")","v":""}]
[null,{"$f":"IFERROR(IF(A2685=\"\",\"\",IF(VLOOKUP(A2685,'Romaneio da Carga'!E:E,1,0)=BD!A2685,\"Volume Ok\",\"Volume não pertence a carga\")),\"Volume não pertence a carga\")","v":""}]
[null,{"$f":"IFERROR(IF(A2686=\"\",\"\",IF(VLOOKUP(A2686,'Romaneio da Carga'!E:E,1,0)=BD!A2686,\"Volume Ok\",\"Volume não pertence a carga\")),\"Volume não pertence a carga\")","v":""}]
[null,{"$f":"IFERROR(IF(A2687=\"\",\"\",IF(VLOOKUP(A2687,'Romaneio da Carga'!E:E,1,0)=BD!A2687,\"Volume Ok\",\"Volume não pertence a carga\")),\"Volume não pertence a carga\")","v":""}]
[null,{"$f":"IFERROR(IF(A2688=\"\",\"\",IF(VLOOKUP(A2688,'Romaneio da Carga'!E:E,1,0)=BD!A2688,\"Volume Ok\",\"Volume não pertence a carga\")),\"Volume não pertence a carga\")","v":""}]
[null,{"$f":"IFERROR(IF(A2689=\"\",\"\",IF(VLOOKUP(A2689,'Romaneio da Carga'!E:E,1,0)=BD!A2689,\"Volume Ok\",\"Volume não pertence a carga\")),\"Volume não pertence a carga\")","v":""}]
[null,{"$f":"IFERROR(IF(A2690=\"\",\"\",IF(VLOOKUP(A2690,'Romaneio da Carga'!E:E,1,0)=BD!A2690,\"Volume Ok\",\"Volume não pertence a carga\")),\"Volume não pertence a carga\")","v":""}]
[null,{"$f":"IFERROR(IF(A2691=\"\",\"\",IF(VLOOKUP(A2691,'Romaneio da Carga'!E:E,1,0)=BD!A2691,\"Volume Ok\",\"Volume não pertence a carga\")),\"Volume não pertence a carga\")","v":""}]
[null,{"$f":"IFERROR(IF(A2692=\"\",\"\",IF(VLOOKUP(A2692,'Romaneio da Carga'!E:E,1,0)=BD!A2692,\"Volume Ok\",\"Volume não pertence a carga\")),\"Volume não pertence a carga\")","v":""}]
[null,{"$f":"IFERROR(IF(A2693=\"\",\"\",IF(VLOOKUP(A2693,'Romaneio da Carga'!E:E,1,0)=BD!A2693,\"Volume Ok\",\"Volume não pertence a carga\")),\"Volume não pertence a carga\")","v":""}]
[null,{"$f":"IFERROR(IF(A2694=\"\",\"\",IF(VLOOKUP(A2694,'Romaneio da Carga'!E:E,1,0)=BD!A2694,\"Volume Ok\",\"Volume não pertence a carga\")),\"Volume não pertence a carga\")","v":""}]
[null,{"$f":"IFERROR(IF(A2695=\"\",\"\",IF(VLOOKUP(A2695,'Romaneio da Carga'!E:E,1,0)=BD!A2695,\"Volume Ok\",\"Volume não pertence a carga\")),\"Volume não pertence a carga\")","v":""}]
[null,{"$f":"IFERROR(IF(A2696=\"\",\"\",IF(VLOOKUP(A2696,'Romaneio da Carga'!E:E,1,0)=BD!A2696,\"Volume Ok\",\"Volume não pertence a carga\")),\"Volume não pertence a carga\")","v":""}]
[null,{"$f":"IFERROR(IF(A2697=\"\",\"\",IF(VLOOKUP(A2697,'Romaneio da Carga'!E:E,1,0)=BD!A2697,\"Volume Ok\",\"Volume não pertence a carga\")),\"Volume não pertence a carga\")","v":""}]
[null,{"$f":"IFERROR(IF(A2698=\"\",\"\",IF(VLOOKUP(A2698,'Romaneio da Carga'!E:E,1,0)=BD!A2698,\"Volume Ok\",\"Volume não pertence a carga\")),\"Volume não pertence a carga\")","v":""}]
[null,{"$f":"IFERROR(IF(A2699=\"\",\"\",IF(VLOOKUP(A2699,'Romaneio da Carga'!E:E,1,0)=BD!A2699,\"Volume Ok\",\"Volume não pertence a carga\")),\"Volume não pertence a carga\")","v":""}]
[null,{"$f":"IFERROR(IF(A2700=\"\",\"\",IF(VLOOKUP(A2700,'Romaneio da Carga'!E:E,1,0)=BD!A2700,\"Volume Ok\",\"Volume não pertence a carga\")),\"Volume não pertence a carga\")","v":""}]
[null,{"$f":"IFERROR(IF(A2701=\"\",\"\",IF(VLOOKUP(A2701,'Romaneio da Carga'!E:E,1,0)=BD!A2701,\"Volume Ok\",\"Volume não pertence a carga\")),\"Volume não pertence a carga\")","v":""}]
[null,{"$f":"IFERROR(IF(A2702=\"\",\"\",IF(VLOOKUP(A2702,'Romaneio da Carga'!E:E,1,0)=BD!A2702,\"Volume Ok\",\"Volume não pertence a carga\")),\"Volume não pertence a carga\")","v":""}]
[null,{"$f":"IFERROR(IF(A2703=\"\",\"\",IF(VLOOKUP(A2703,'Romaneio da Carga'!E:E,1,0)=BD!A2703,\"Volume Ok\",\"Volume não pertence a carga\")),\"Volume não pertence a carga\")","v":""}]
[null,{"$f":"IFERROR(IF(A2704=\"\",\"\",IF(VLOOKUP(A2704,'Romaneio da Carga'!E:E,1,0)=BD!A2704,\"Volume Ok\",\"Volume não pertence a carga\")),\"Volume não pertence a carga\")","v":""}]
[null,{"$f":"IFERROR(IF(A2705=\"\",\"\",IF(VLOOKUP(A2705,'Romaneio da Carga'!E:E,1,0)=BD!A2705,\"Volume Ok\",\"Volume não pertence a carga\")),\"Volume não pertence a carga\")","v":""}]
[null,{"$f":"IFERROR(IF(A2706=\"\",\"\",IF(VLOOKUP(A2706,'Romaneio da Carga'!E:E,1,0)=BD!A2706,\"Volume Ok\",\"Volume não pertence a carga\")),\"Volume não pertence a carga\")","v":""}]
[null,{"$f":"IFERROR(IF(A2707=\"\",\"\",IF(VLOOKUP(A2707,'Romaneio da Carga'!E:E,1,0)=BD!A2707,\"Volume Ok\",\"Volume não pertence a carga\")),\"Volume não pertence a carga\")","v":""}]
[null,{"$f":"IFERROR(IF(A2708=\"\",\"\",IF(VLOOKUP(A2708,'Romaneio da Carga'!E:E,1,0)=BD!A2708,\"Volume Ok\",\"Volume não pertence a carga\")),\"Volume não pertence a carga\")","v":""}]
[null,{"$f":"IFERROR(IF(A2709=\"\",\"\",IF(VLOOKUP(A2709,'Romaneio da Carga'!E:E,1,0)=BD!A2709,\"Volume Ok\",\"Volume não pertence a carga\")),\"Volume não pertence a carga\")","v":""}]
[null,{"$f":"IFERROR(IF(A2710=\"\",\"\",IF(VLOOKUP(A2710,'Romaneio da Carga'!E:E,1,0)=BD!A2710,\"Volume Ok\",\"Volume não pertence a carga\")),\"Volume não pertence a carga\")","v":""}]
[null,{"$f":"IFERROR(IF(A2711=\"\",\"\",IF(VLOOKUP(A2711,'Romaneio da Carga'!E:E,1,0)=BD!A2711,\"Volume Ok\",\"Volume não pertence a carga\")),\"Volume não pertence a carga\")","v":""}]
[null,{"$f":"IFERROR(IF(A2712=\"\",\"\",IF(VLOOKUP(A2712,'Romaneio da Carga'!E:E,1,0)=BD!A2712,\"Volume Ok\",\"Volume não pertence a carga\")),\"Volume não pertence a carga\")","v":""}]
[null,{"$f":"IFERROR(IF(A2713=\"\",\"\",IF(VLOOKUP(A2713,'Romaneio da Carga'!E:E,1,0)=BD!A2713,\"Volume Ok\",\"Volume não pertence a carga\")),\"Volume não pertence a carga\")","v":""}]
[null,{"$f":"IFERROR(IF(A2714=\"\",\"\",IF(VLOOKUP(A2714,'Romaneio da Carga'!E:E,1,0)=BD!A2714,\"Volume Ok\",\"Volume não pertence a carga\")),\"Volume não pertence a carga\")","v":""}]
[null,{"$f":"IFERROR(IF(A2715=\"\",\"\",IF(VLOOKUP(A2715,'Romaneio da Carga'!E:E,1,0)=BD!A2715,\"Volume Ok\",\"Volume não pertence a carga\")),\"Volume não pertence a carga\")","v":""}]
[null,{"$f":"IFERROR(IF(A2716=\"\",\"\",IF(VLOOKUP(A2716,'Romaneio da Carga'!E:E,1,0)=BD!A2716,\"Volume Ok\",\"Volume não pertence a carga\")),\"Volume não pertence a carga\")","v":""}]
[null,{"$f":"IFERROR(IF(A2717=\"\",\"\",IF(VLOOKUP(A2717,'Romaneio da Carga'!E:E,1,0)=BD!A2717,\"Volume Ok\",\"Volume não pertence a carga\")),\"Volume não pertence a carga\")","v":""}]
[null,{"$f":"IFERROR(IF(A2718=\"\",\"\",IF(VLOOKUP(A2718,'Romaneio da Carga'!E:E,1,0)=BD!A2718,\"Volume Ok\",\"Volume não pertence a carga\")),\"Volume não pertence a carga\")","v":""}]
[null,{"$f":"IFERROR(IF(A2719=\"\",\"\",IF(VLOOKUP(A2719,'Romaneio da Carga'!E:E,1,0)=BD!A2719,\"Volume Ok\",\"Volume não pertence a carga\")),\"Volume não pertence a carga\")","v":""}]
[null,{"$f":"IFERROR(IF(A2720=\"\",\"\",IF(VLOOKUP(A2720,'Romaneio da Carga'!E:E,1,0)=BD!A2720,\"Volume Ok\",\"Volume não pertence a carga\")),\"Volume não pertence a carga\")","v":""}]
[null,{"$f":"IFERROR(IF(A2721=\"\",\"\",IF(VLOOKUP(A2721,'Romaneio da Carga'!E:E,1,0)=BD!A2721,\"Volume Ok\",\"Volume não pertence a carga\")),\"Volume não pertence a carga\")","v":""}]
[null,{"$f":"IFERROR(IF(A2722=\"\",\"\",IF(VLOOKUP(A2722,'Romaneio da Carga'!E:E,1,0)=BD!A2722,\"Volume Ok\",\"Volume não pertence a carga\")),\"Volume não pertence a carga\")","v":""}]
[null,{"$f":"IFERROR(IF(A2723=\"\",\"\",IF(VLOOKUP(A2723,'Romaneio da Carga'!E:E,1,0)=BD!A2723,\"Volume Ok\",\"Volume não pertence a carga\")),\"Volume não pertence a carga\")","v":""}]
[null,{"$f":"IFERROR(IF(A2724=\"\",\"\",IF(VLOOKUP(A2724,'Romaneio da Carga'!E:E,1,0)=BD!A2724,\"Volume Ok\",\"Volume não pertence a carga\")),\"Volume não pertence a carga\")","v":""}]
[null,{"$f":"IFERROR(IF(A2725=\"\",\"\",IF(VLOOKUP(A2725,'Romaneio da Carga'!E:E,1,0)=BD!A2725,\"Volume Ok\",\"Volume não pertence a carga\")),\"Volume não pertence a carga\")","v":""}]
[null,{"$f":"IFERROR(IF(A2726=\"\",\"\",IF(VLOOKUP(A2726,'Romaneio da Carga'!E:E,1,0)=BD!A2726,\"Volume Ok\",\"Volume não pertence a carga\")),\"Volume não pertence a carga\")","v":""}]
[null,{"$f":"IFERROR(IF(A2727=\"\",\"\",IF(VLOOKUP(A2727,'Romaneio da Carga'!E:E,1,0)=BD!A2727,\"Volume Ok\",\"Volume não pertence a carga\")),\"Volume não pertence a carga\")","v":""}]
[null,{"$f":"IFERROR(IF(A2728=\"\",\"\",IF(VLOOKUP(A2728,'Romaneio da Carga'!E:E,1,0)=BD!A2728,\"Volume Ok\",\"Volume não pertence a carga\")),\"Volume não pertence a carga\")","v":""}]
[null,{"$f":"IFERROR(IF(A2729=\"\",\"\",IF(VLOOKUP(A2729,'Romaneio da Carga'!E:E,1,0)=BD!A2729,\"Volume Ok\",\"Volume não pertence a carga\")),\"Volume não pertence a carga\")","v":""}]
[null,{"$f":"IFERROR(IF(A2730=\"\",\"\",IF(VLOOKUP(A2730,'Romaneio da Carga'!E:E,1,0)=BD!A2730,\"Volume Ok\",\"Volume não pertence a carga\")),\"Volume não pertence a carga\")","v":""}]
[null,{"$f":"IFERROR(IF(A2731=\"\",\"\",IF(VLOOKUP(A2731,'Romaneio da Carga'!E:E,1,0)=BD!A2731,\"Volume Ok\",\"Volume não pertence a carga\")),\"Volume não pertence a carga\")","v":""}]
[null,{"$f":"IFERROR(IF(A2732=\"\",\"\",IF(VLOOKUP(A2732,'Romaneio da Carga'!E:E,1,0)=BD!A2732,\"Volume Ok\",\"Volume não pertence a carga\")),\"Volume não pertence a carga\")","v":""}]
[null,{"$f":"IFERROR(IF(A2733=\"\",\"\",IF(VLOOKUP(A2733,'Romaneio da Carga'!E:E,1,0)=BD!A2733,\"Volume Ok\",\"Volume não pertence a carga\")),\"Volume não pertence a carga\")","v":""}]
[null,{"$f":"IFERROR(IF(A2734=\"\",\"\",IF(VLOOKUP(A2734,'Romaneio da Carga'!E:E,1,0)=BD!A2734,\"Volume Ok\",\"Volume não pertence a carga\")),\"Volume não pertence a carga\")","v":""}]
[null,{"$f":"IFERROR(IF(A2735=\"\",\"\",IF(VLOOKUP(A2735,'Romaneio da Carga'!E:E,1,0)=BD!A2735,\"Volume Ok\",\"Volume não pertence a carga\")),\"Volume não pertence a carga\")","v":""}]
[null,{"$f":"IFERROR(IF(A2736=\"\",\"\",IF(VLOOKUP(A2736,'Romaneio da Carga'!E:E,1,0)=BD!A2736,\"Volume Ok\",\"Volume não pertence a carga\")),\"Volume não pertence a carga\")","v":""}]
[null,{"$f":"IFERROR(IF(A2737=\"\",\"\",IF(VLOOKUP(A2737,'Romaneio da Carga'!E:E,1,0)=BD!A2737,\"Volume Ok\",\"Volume não pertence a carga\")),\"Volume não pertence a carga\")","v":""}]
[null,{"$f":"IFERROR(IF(A2738=\"\",\"\",IF(VLOOKUP(A2738,'Romaneio da Carga'!E:E,1,0)=BD!A2738,\"Volume Ok\",\"Volume não pertence a carga\")),\"Volume não pertence a carga\")","v":""}]
[null,{"$f":"IFERROR(IF(A2739=\"\",\"\",IF(VLOOKUP(A2739,'Romaneio da Carga'!E:E,1,0)=BD!A2739,\"Volume Ok\",\"Volume não pertence a carga\")),\"Volume não pertence a carga\")","v":""}]
[null,{"$f":"IFERROR(IF(A2740=\"\",\"\",IF(VLOOKUP(A2740,'Romaneio da Carga'!E:E,1,0)=BD!A2740,\"Volume Ok\",\"Volume não pertence a carga\")),\"Volume não pertence a carga\")","v":""}]
[null,{"$f":"IFERROR(IF(A2741=\"\",\"\",IF(VLOOKUP(A2741,'Romaneio da Carga'!E:E,1,0)=BD!A2741,\"Volume Ok\",\"Volume não pertence a carga\")),\"Volume não pertence a carga\")","v":""}]
[null,{"$f":"IFERROR(IF(A2742=\"\",\"\",IF(VLOOKUP(A2742,'Romaneio da Carga'!E:E,1,0)=BD!A2742,\"Volume Ok\",\"Volume não pertence a carga\")),\"Volume não pertence a carga\")","v":""}]
[null,{"$f":"IFERROR(IF(A2743=\"\",\"\",IF(VLOOKUP(A2743,'Romaneio da Carga'!E:E,1,0)=BD!A2743,\"Volume Ok\",\"Volume não pertence a carga\")),\"Volume não pertence a carga\")","v":""}]
[null,{"$f":"IFERROR(IF(A2744=\"\",\"\",IF(VLOOKUP(A2744,'Romaneio da Carga'!E:E,1,0)=BD!A2744,\"Volume Ok\",\"Volume não pertence a carga\")),\"Volume não pertence a carga\")","v":""}]
[null,{"$f":"IFERROR(IF(A2745=\"\",\"\",IF(VLOOKUP(A2745,'Romaneio da Carga'!E:E,1,0)=BD!A2745,\"Volume Ok\",\"Volume não pertence a carga\")),\"Volume não pertence a carga\")","v":""}]
[null,{"$f":"IFERROR(IF(A2746=\"\",\"\",IF(VLOOKUP(A2746,'Romaneio da Carga'!E:E,1,0)=BD!A2746,\"Volume Ok\",\"Volume não pertence a carga\")),\"Volume não pertence a carga\")","v":""}]
[null,{"$f":"IFERROR(IF(A2747=\"\",\"\",IF(VLOOKUP(A2747,'Romaneio da Carga'!E:E,1,0)=BD!A2747,\"Volume Ok\",\"Volume não pertence a carga\")),\"Volume não pertence a carga\")","v":""}]
[null,{"$f":"IFERROR(IF(A2748=\"\",\"\",IF(VLOOKUP(A2748,'Romaneio da Carga'!E:E,1,0)=BD!A2748,\"Volume Ok\",\"Volume não pertence a carga\")),\"Volume não pertence a carga\")","v":""}]
[null,{"$f":"IFERROR(IF(A2749=\"\",\"\",IF(VLOOKUP(A2749,'Romaneio da Carga'!E:E,1,0)=BD!A2749,\"Volume Ok\",\"Volume não pertence a carga\")),\"Volume não pertence a carga\")","v":""}]
[null,{"$f":"IFERROR(IF(A2750=\"\",\"\",IF(VLOOKUP(A2750,'Romaneio da Carga'!E:E,1,0)=BD!A2750,\"Volume Ok\",\"Volume não pertence a carga\")),\"Volume não pertence a carga\")","v":""}]
[null,{"$f":"IFERROR(IF(A2751=\"\",\"\",IF(VLOOKUP(A2751,'Romaneio da Carga'!E:E,1,0)=BD!A2751,\"Volume Ok\",\"Volume não pertence a carga\")),\"Volume não pertence a carga\")","v":""}]
[null,{"$f":"IFERROR(IF(A2752=\"\",\"\",IF(VLOOKUP(A2752,'Romaneio da Carga'!E:E,1,0)=BD!A2752,\"Volume Ok\",\"Volume não pertence a carga\")),\"Volume não pertence a carga\")","v":""}]
[null,{"$f":"IFERROR(IF(A2753=\"\",\"\",IF(VLOOKUP(A2753,'Romaneio da Carga'!E:E,1,0)=BD!A2753,\"Volume Ok\",\"Volume não pertence a carga\")),\"Volume não pertence a carga\")","v":""}]
[null,{"$f":"IFERROR(IF(A2754=\"\",\"\",IF(VLOOKUP(A2754,'Romaneio da Carga'!E:E,1,0)=BD!A2754,\"Volume Ok\",\"Volume não pertence a carga\")),\"Volume não pertence a carga\")","v":""}]
[null,{"$f":"IFERROR(IF(A2755=\"\",\"\",IF(VLOOKUP(A2755,'Romaneio da Carga'!E:E,1,0)=BD!A2755,\"Volume Ok\",\"Volume não pertence a carga\")),\"Volume não pertence a carga\")","v":""}]
[null,{"$f":"IFERROR(IF(A2756=\"\",\"\",IF(VLOOKUP(A2756,'Romaneio da Carga'!E:E,1,0)=BD!A2756,\"Volume Ok\",\"Volume não pertence a carga\")),\"Volume não pertence a carga\")","v":""}]
[null,{"$f":"IFERROR(IF(A2757=\"\",\"\",IF(VLOOKUP(A2757,'Romaneio da Carga'!E:E,1,0)=BD!A2757,\"Volume Ok\",\"Volume não pertence a carga\")),\"Volume não pertence a carga\")","v":""}]
[null,{"$f":"IFERROR(IF(A2758=\"\",\"\",IF(VLOOKUP(A2758,'Romaneio da Carga'!E:E,1,0)=BD!A2758,\"Volume Ok\",\"Volume não pertence a carga\")),\"Volume não pertence a carga\")","v":""}]
[null,{"$f":"IFERROR(IF(A2759=\"\",\"\",IF(VLOOKUP(A2759,'Romaneio da Carga'!E:E,1,0)=BD!A2759,\"Volume Ok\",\"Volume não pertence a carga\")),\"Volume não pertence a carga\")","v":""}]
[null,{"$f":"IFERROR(IF(A2760=\"\",\"\",IF(VLOOKUP(A2760,'Romaneio da Carga'!E:E,1,0)=BD!A2760,\"Volume Ok\",\"Volume não pertence a carga\")),\"Volume não pertence a carga\")","v":""}]
[null,{"$f":"IFERROR(IF(A2761=\"\",\"\",IF(VLOOKUP(A2761,'Romaneio da Carga'!E:E,1,0)=BD!A2761,\"Volume Ok\",\"Volume não pertence a carga\")),\"Volume não pertence a carga\")","v":""}]
[null,{"$f":"IFERROR(IF(A2762=\"\",\"\",IF(VLOOKUP(A2762,'Romaneio da Carga'!E:E,1,0)=BD!A2762,\"Volume Ok\",\"Volume não pertence a carga\")),\"Volume não pertence a carga\")","v":""}]
[null,{"$f":"IFERROR(IF(A2763=\"\",\"\",IF(VLOOKUP(A2763,'Romaneio da Carga'!E:E,1,0)=BD!A2763,\"Volume Ok\",\"Volume não pertence a carga\")),\"Volume não pertence a carga\")","v":""}]
[null,{"$f":"IFERROR(IF(A2764=\"\",\"\",IF(VLOOKUP(A2764,'Romaneio da Carga'!E:E,1,0)=BD!A2764,\"Volume Ok\",\"Volume não pertence a carga\")),\"Volume não pertence a carga\")","v":""}]
[null,{"$f":"IFERROR(IF(A2765=\"\",\"\",IF(VLOOKUP(A2765,'Romaneio da Carga'!E:E,1,0)=BD!A2765,\"Volume Ok\",\"Volume não pertence a carga\")),\"Volume não pertence a carga\")","v":""}]
[null,{"$f":"IFERROR(IF(A2766=\"\",\"\",IF(VLOOKUP(A2766,'Romaneio da Carga'!E:E,1,0)=BD!A2766,\"Volume Ok\",\"Volume não pertence a carga\")),\"Volume não pertence a carga\")","v":""}]
[null,{"$f":"IFERROR(IF(A2767=\"\",\"\",IF(VLOOKUP(A2767,'Romaneio da Carga'!E:E,1,0)=BD!A2767,\"Volume Ok\",\"Volume não pertence a carga\")),\"Volume não pertence a carga\")","v":""}]
[null,{"$f":"IFERROR(IF(A2768=\"\",\"\",IF(VLOOKUP(A2768,'Romaneio da Carga'!E:E,1,0)=BD!A2768,\"Volume Ok\",\"Volume não pertence a carga\")),\"Volume não pertence a carga\")","v":""}]
[null,{"$f":"IFERROR(IF(A2769=\"\",\"\",IF(VLOOKUP(A2769,'Romaneio da Carga'!E:E,1,0)=BD!A2769,\"Volume Ok\",\"Volume não pertence a carga\")),\"Volume não pertence a carga\")","v":""}]
[null,{"$f":"IFERROR(IF(A2770=\"\",\"\",IF(VLOOKUP(A2770,'Romaneio da Carga'!E:E,1,0)=BD!A2770,\"Volume Ok\",\"Volume não pertence a carga\")),\"Volume não pertence a carga\")","v":""}]
[null,{"$f":"IFERROR(IF(A2771=\"\",\"\",IF(VLOOKUP(A2771,'Romaneio da Carga'!E:E,1,0)=BD!A2771,\"Volume Ok\",\"Volume não pertence a carga\")),\"Volume não pertence a carga\")","v":""}]
[null,{"$f":"IFERROR(IF(A2772=\"\",\"\",IF(VLOOKUP(A2772,'Romaneio da Carga'!E:E,1,0)=BD!A2772,\"Volume Ok\",\"Volume não pertence a carga\")),\"Volume não pertence a carga\")","v":""}]
[null,{"$f":"IFERROR(IF(A2773=\"\",\"\",IF(VLOOKUP(A2773,'Romaneio da Carga'!E:E,1,0)=BD!A2773,\"Volume Ok\",\"Volume não pertence a carga\")),\"Volume não pertence a carga\")","v":""}]
[null,{"$f":"IFERROR(IF(A2774=\"\",\"\",IF(VLOOKUP(A2774,'Romaneio da Carga'!E:E,1,0)=BD!A2774,\"Volume Ok\",\"Volume não pertence a carga\")),\"Volume não pertence a carga\")","v":""}]
[null,{"$f":"IFERROR(IF(A2775=\"\",\"\",IF(VLOOKUP(A2775,'Romaneio da Carga'!E:E,1,0)=BD!A2775,\"Volume Ok\",\"Volume não pertence a carga\")),\"Volume não pertence a carga\")","v":""}]
[null,{"$f":"IFERROR(IF(A2776=\"\",\"\",IF(VLOOKUP(A2776,'Romaneio da Carga'!E:E,1,0)=BD!A2776,\"Volume Ok\",\"Volume não pertence a carga\")),\"Volume não pertence a carga\")","v":""}]
[null,{"$f":"IFERROR(IF(A2777=\"\",\"\",IF(VLOOKUP(A2777,'Romaneio da Carga'!E:E,1,0)=BD!A2777,\"Volume Ok\",\"Volume não pertence a carga\")),\"Volume não pertence a carga\")","v":""}]
[null,{"$f":"IFERROR(IF(A2778=\"\",\"\",IF(VLOOKUP(A2778,'Romaneio da Carga'!E:E,1,0)=BD!A2778,\"Volume Ok\",\"Volume não pertence a carga\")),\"Volume não pertence a carga\")","v":""}]
[null,{"$f":"IFERROR(IF(A2779=\"\",\"\",IF(VLOOKUP(A2779,'Romaneio da Carga'!E:E,1,0)=BD!A2779,\"Volume Ok\",\"Volume não pertence a carga\")),\"Volume não pertence a carga\")","v":""}]
[null,{"$f":"IFERROR(IF(A2780=\"\",\"\",IF(VLOOKUP(A2780,'Romaneio da Carga'!E:E,1,0)=BD!A2780,\"Volume Ok\",\"Volume não pertence a carga\")),\"Volume não pertence a carga\")","v":""}]
[null,{"$f":"IFERROR(IF(A2781=\"\",\"\",IF(VLOOKUP(A2781,'Romaneio da Carga'!E:E,1,0)=BD!A2781,\"Volume Ok\",\"Volume não pertence a carga\")),\"Volume não pertence a carga\")","v":""}]
[null,{"$f":"IFERROR(IF(A2782=\"\",\"\",IF(VLOOKUP(A2782,'Romaneio da Carga'!E:E,1,0)=BD!A2782,\"Volume Ok\",\"Volume não pertence a carga\")),\"Volume não pertence a carga\")","v":""}]
[null,{"$f":"IFERROR(IF(A2783=\"\",\"\",IF(VLOOKUP(A2783,'Romaneio da Carga'!E:E,1,0)=BD!A2783,\"Volume Ok\",\"Volume não pertence a carga\")),\"Volume não pertence a carga\")","v":""}]
[null,{"$f":"IFERROR(IF(A2784=\"\",\"\",IF(VLOOKUP(A2784,'Romaneio da Carga'!E:E,1,0)=BD!A2784,\"Volume Ok\",\"Volume não pertence a carga\")),\"Volume não pertence a carga\")","v":""}]
[null,{"$f":"IFERROR(IF(A2785=\"\",\"\",IF(VLOOKUP(A2785,'Romaneio da Carga'!E:E,1,0)=BD!A2785,\"Volume Ok\",\"Volume não pertence a carga\")),\"Volume não pertence a carga\")","v":""}]
[null,{"$f":"IFERROR(IF(A2786=\"\",\"\",IF(VLOOKUP(A2786,'Romaneio da Carga'!E:E,1,0)=BD!A2786,\"Volume Ok\",\"Volume não pertence a carga\")),\"Volume não pertence a carga\")","v":""}]
[null,{"$f":"IFERROR(IF(A2787=\"\",\"\",IF(VLOOKUP(A2787,'Romaneio da Carga'!E:E,1,0)=BD!A2787,\"Volume Ok\",\"Volume não pertence a carga\")),\"Volume não pertence a carga\")","v":""}]
[null,{"$f":"IFERROR(IF(A2788=\"\",\"\",IF(VLOOKUP(A2788,'Romaneio da Carga'!E:E,1,0)=BD!A2788,\"Volume Ok\",\"Volume não pertence a carga\")),\"Volume não pertence a carga\")","v":""}]
[null,{"$f":"IFERROR(IF(A2789=\"\",\"\",IF(VLOOKUP(A2789,'Romaneio da Carga'!E:E,1,0)=BD!A2789,\"Volume Ok\",\"Volume não pertence a carga\")),\"Volume não pertence a carga\")","v":""}]
[null,{"$f":"IFERROR(IF(A2790=\"\",\"\",IF(VLOOKUP(A2790,'Romaneio da Carga'!E:E,1,0)=BD!A2790,\"Volume Ok\",\"Volume não pertence a carga\")),\"Volume não pertence a carga\")","v":""}]
[null,{"$f":"IFERROR(IF(A2791=\"\",\"\",IF(VLOOKUP(A2791,'Romaneio da Carga'!E:E,1,0)=BD!A2791,\"Volume Ok\",\"Volume não pertence a carga\")),\"Volume não pertence a carga\")","v":""}]
[null,{"$f":"IFERROR(IF(A2792=\"\",\"\",IF(VLOOKUP(A2792,'Romaneio da Carga'!E:E,1,0)=BD!A2792,\"Volume Ok\",\"Volume não pertence a carga\")),\"Volume não pertence a carga\")","v":""}]
[null,{"$f":"IFERROR(IF(A2793=\"\",\"\",IF(VLOOKUP(A2793,'Romaneio da Carga'!E:E,1,0)=BD!A2793,\"Volume Ok\",\"Volume não pertence a carga\")),\"Volume não pertence a carga\")","v":""}]
[null,{"$f":"IFERROR(IF(A2794=\"\",\"\",IF(VLOOKUP(A2794,'Romaneio da Carga'!E:E,1,0)=BD!A2794,\"Volume Ok\",\"Volume não pertence a carga\")),\"Volume não pertence a carga\")","v":""}]
[null,{"$f":"IFERROR(IF(A2795=\"\",\"\",IF(VLOOKUP(A2795,'Romaneio da Carga'!E:E,1,0)=BD!A2795,\"Volume Ok\",\"Volume não pertence a carga\")),\"Volume não pertence a carga\")","v":""}]
[null,{"$f":"IFERROR(IF(A2796=\"\",\"\",IF(VLOOKUP(A2796,'Romaneio da Carga'!E:E,1,0)=BD!A2796,\"Volume Ok\",\"Volume não pertence a carga\")),\"Volume não pertence a carga\")","v":""}]
[null,{"$f":"IFERROR(IF(A2797=\"\",\"\",IF(VLOOKUP(A2797,'Romaneio da Carga'!E:E,1,0)=BD!A2797,\"Volume Ok\",\"Volume não pertence a carga\")),\"Volume não pertence a carga\")","v":""}]
[null,{"$f":"IFERROR(IF(A2798=\"\",\"\",IF(VLOOKUP(A2798,'Romaneio da Carga'!E:E,1,0)=BD!A2798,\"Volume Ok\",\"Volume não pertence a carga\")),\"Volume não pertence a carga\")","v":""}]
[null,{"$f":"IFERROR(IF(A2799=\"\",\"\",IF(VLOOKUP(A2799,'Romaneio da Carga'!E:E,1,0)=BD!A2799,\"Volume Ok\",\"Volume não pertence a carga\")),\"Volume não pertence a carga\")","v":""}]
[null,{"$f":"IFERROR(IF(A2800=\"\",\"\",IF(VLOOKUP(A2800,'Romaneio da Carga'!E:E,1,0)=BD!A2800,\"Volume Ok\",\"Volume não pertence a carga\")),\"Volume não pertence a carga\")","v":""}]
[null,{"$f":"IFERROR(IF(A2801=\"\",\"\",IF(VLOOKUP(A2801,'Romaneio da Carga'!E:E,1,0)=BD!A2801,\"Volume Ok\",\"Volume não pertence a carga\")),\"Volume não pertence a carga\")","v":""}]
[null,{"$f":"IFERROR(IF(A2802=\"\",\"\",IF(VLOOKUP(A2802,'Romaneio da Carga'!E:E,1,0)=BD!A2802,\"Volume Ok\",\"Volume não pertence a carga\")),\"Volume não pertence a carga\")","v":""}]
[null,{"$f":"IFERROR(IF(A2803=\"\",\"\",IF(VLOOKUP(A2803,'Romaneio da Carga'!E:E,1,0)=BD!A2803,\"Volume Ok\",\"Volume não pertence a carga\")),\"Volume não pertence a carga\")","v":""}]
[null,{"$f":"IFERROR(IF(A2804=\"\",\"\",IF(VLOOKUP(A2804,'Romaneio da Carga'!E:E,1,0)=BD!A2804,\"Volume Ok\",\"Volume não pertence a carga\")),\"Volume não pertence a carga\")","v":""}]
[null,{"$f":"IFERROR(IF(A2805=\"\",\"\",IF(VLOOKUP(A2805,'Romaneio da Carga'!E:E,1,0)=BD!A2805,\"Volume Ok\",\"Volume não pertence a carga\")),\"Volume não pertence a carga\")","v":""}]
[null,{"$f":"IFERROR(IF(A2806=\"\",\"\",IF(VLOOKUP(A2806,'Romaneio da Carga'!E:E,1,0)=BD!A2806,\"Volume Ok\",\"Volume não pertence a carga\")),\"Volume não pertence a carga\")","v":""}]
[null,{"$f":"IFERROR(IF(A2807=\"\",\"\",IF(VLOOKUP(A2807,'Romaneio da Carga'!E:E,1,0)=BD!A2807,\"Volume Ok\",\"Volume não pertence a carga\")),\"Volume não pertence a carga\")","v":""}]
[null,{"$f":"IFERROR(IF(A2808=\"\",\"\",IF(VLOOKUP(A2808,'Romaneio da Carga'!E:E,1,0)=BD!A2808,\"Volume Ok\",\"Volume não pertence a carga\")),\"Volume não pertence a carga\")","v":""}]
[null,{"$f":"IFERROR(IF(A2809=\"\",\"\",IF(VLOOKUP(A2809,'Romaneio da Carga'!E:E,1,0)=BD!A2809,\"Volume Ok\",\"Volume não pertence a carga\")),\"Volume não pertence a carga\")","v":""}]
[null,{"$f":"IFERROR(IF(A2810=\"\",\"\",IF(VLOOKUP(A2810,'Romaneio da Carga'!E:E,1,0)=BD!A2810,\"Volume Ok\",\"Volume não pertence a carga\")),\"Volume não pertence a carga\")","v":""}]
[null,{"$f":"IFERROR(IF(A2811=\"\",\"\",IF(VLOOKUP(A2811,'Romaneio da Carga'!E:E,1,0)=BD!A2811,\"Volume Ok\",\"Volume não pertence a carga\")),\"Volume não pertence a carga\")","v":""}]
[null,{"$f":"IFERROR(IF(A2812=\"\",\"\",IF(VLOOKUP(A2812,'Romaneio da Carga'!E:E,1,0)=BD!A2812,\"Volume Ok\",\"Volume não pertence a carga\")),\"Volume não pertence a carga\")","v":""}]
[null,{"$f":"IFERROR(IF(A2813=\"\",\"\",IF(VLOOKUP(A2813,'Romaneio da Carga'!E:E,1,0)=BD!A2813,\"Volume Ok\",\"Volume não pertence a carga\")),\"Volume não pertence a carga\")","v":""}]
[null,{"$f":"IFERROR(IF(A2814=\"\",\"\",IF(VLOOKUP(A2814,'Romaneio da Carga'!E:E,1,0)=BD!A2814,\"Volume Ok\",\"Volume não pertence a carga\")),\"Volume não pertence a carga\")","v":""}]
[null,{"$f":"IFERROR(IF(A2815=\"\",\"\",IF(VLOOKUP(A2815,'Romaneio da Carga'!E:E,1,0)=BD!A2815,\"Volume Ok\",\"Volume não pertence a carga\")),\"Volume não pertence a carga\")","v":""}]
[null,{"$f":"IFERROR(IF(A2816=\"\",\"\",IF(VLOOKUP(A2816,'Romaneio da Carga'!E:E,1,0)=BD!A2816,\"Volume Ok\",\"Volume não pertence a carga\")),\"Volume não pertence a carga\")","v":""}]
[null,{"$f":"IFERROR(IF(A2817=\"\",\"\",IF(VLOOKUP(A2817,'Romaneio da Carga'!E:E,1,0)=BD!A2817,\"Volume Ok\",\"Volume não pertence a carga\")),\"Volume não pertence a carga\")","v":""}]
[null,{"$f":"IFERROR(IF(A2818=\"\",\"\",IF(VLOOKUP(A2818,'Romaneio da Carga'!E:E,1,0)=BD!A2818,\"Volume Ok\",\"Volume não pertence a carga\")),\"Volume não pertence a carga\")","v":""}]
[null,{"$f":"IFERROR(IF(A2819=\"\",\"\",IF(VLOOKUP(A2819,'Romaneio da Carga'!E:E,1,0)=BD!A2819,\"Volume Ok\",\"Volume não pertence a carga\")),\"Volume não pertence a carga\")","v":""}]
[null,{"$f":"IFERROR(IF(A2820=\"\",\"\",IF(VLOOKUP(A2820,'Romaneio da Carga'!E:E,1,0)=BD!A2820,\"Volume Ok\",\"Volume não pertence a carga\")),\"Volume não pertence a carga\")","v":""}]
[null,{"$f":"IFERROR(IF(A2821=\"\",\"\",IF(VLOOKUP(A2821,'Romaneio da Carga'!E:E,1,0)=BD!A2821,\"Volume Ok\",\"Volume não pertence a carga\")),\"Volume não pertence a carga\")","v":""}]
[null,{"$f":"IFERROR(IF(A2822=\"\",\"\",IF(VLOOKUP(A2822,'Romaneio da Carga'!E:E,1,0)=BD!A2822,\"Volume Ok\",\"Volume não pertence a carga\")),\"Volume não pertence a carga\")","v":""}]
[null,{"$f":"IFERROR(IF(A2823=\"\",\"\",IF(VLOOKUP(A2823,'Romaneio da Carga'!E:E,1,0)=BD!A2823,\"Volume Ok\",\"Volume não pertence a carga\")),\"Volume não pertence a carga\")","v":""}]
[null,{"$f":"IFERROR(IF(A2824=\"\",\"\",IF(VLOOKUP(A2824,'Romaneio da Carga'!E:E,1,0)=BD!A2824,\"Volume Ok\",\"Volume não pertence a carga\")),\"Volume não pertence a carga\")","v":""}]
[null,{"$f":"IFERROR(IF(A2825=\"\",\"\",IF(VLOOKUP(A2825,'Romaneio da Carga'!E:E,1,0)=BD!A2825,\"Volume Ok\",\"Volume não pertence a carga\")),\"Volume não pertence a carga\")","v":""}]
[null,{"$f":"IFERROR(IF(A2826=\"\",\"\",IF(VLOOKUP(A2826,'Romaneio da Carga'!E:E,1,0)=BD!A2826,\"Volume Ok\",\"Volume não pertence a carga\")),\"Volume não pertence a carga\")","v":""}]
[null,{"$f":"IFERROR(IF(A2827=\"\",\"\",IF(VLOOKUP(A2827,'Romaneio da Carga'!E:E,1,0)=BD!A2827,\"Volume Ok\",\"Volume não pertence a carga\")),\"Volume não pertence a carga\")","v":""}]
[null,{"$f":"IFERROR(IF(A2828=\"\",\"\",IF(VLOOKUP(A2828,'Romaneio da Carga'!E:E,1,0)=BD!A2828,\"Volume Ok\",\"Volume não pertence a carga\")),\"Volume não pertence a carga\")","v":""}]
[null,{"$f":"IFERROR(IF(A2829=\"\",\"\",IF(VLOOKUP(A2829,'Romaneio da Carga'!E:E,1,0)=BD!A2829,\"Volume Ok\",\"Volume não pertence a carga\")),\"Volume não pertence a carga\")","v":""}]
[null,{"$f":"IFERROR(IF(A2830=\"\",\"\",IF(VLOOKUP(A2830,'Romaneio da Carga'!E:E,1,0)=BD!A2830,\"Volume Ok\",\"Volume não pertence a carga\")),\"Volume não pertence a carga\")","v":""}]
[null,{"$f":"IFERROR(IF(A2831=\"\",\"\",IF(VLOOKUP(A2831,'Romaneio da Carga'!E:E,1,0)=BD!A2831,\"Volume Ok\",\"Volume não pertence a carga\")),\"Volume não pertence a carga\")","v":""}]
[null,{"$f":"IFERROR(IF(A2832=\"\",\"\",IF(VLOOKUP(A2832,'Romaneio da Carga'!E:E,1,0)=BD!A2832,\"Volume Ok\",\"Volume não pertence a carga\")),\"Volume não pertence a carga\")","v":""}]
[null,{"$f":"IFERROR(IF(A2833=\"\",\"\",IF(VLOOKUP(A2833,'Romaneio da Carga'!E:E,1,0)=BD!A2833,\"Volume Ok\",\"Volume não pertence a carga\")),\"Volume não pertence a carga\")","v":""}]
[null,{"$f":"IFERROR(IF(A2834=\"\",\"\",IF(VLOOKUP(A2834,'Romaneio da Carga'!E:E,1,0)=BD!A2834,\"Volume Ok\",\"Volume não pertence a carga\")),\"Volume não pertence a carga\")","v":""}]
[null,{"$f":"IFERROR(IF(A2835=\"\",\"\",IF(VLOOKUP(A2835,'Romaneio da Carga'!E:E,1,0)=BD!A2835,\"Volume Ok\",\"Volume não pertence a carga\")),\"Volume não pertence a carga\")","v":""}]
[null,{"$f":"IFERROR(IF(A2836=\"\",\"\",IF(VLOOKUP(A2836,'Romaneio da Carga'!E:E,1,0)=BD!A2836,\"Volume Ok\",\"Volume não pertence a carga\")),\"Volume não pertence a carga\")","v":""}]
[null,{"$f":"IFERROR(IF(A2837=\"\",\"\",IF(VLOOKUP(A2837,'Romaneio da Carga'!E:E,1,0)=BD!A2837,\"Volume Ok\",\"Volume não pertence a carga\")),\"Volume não pertence a carga\")","v":""}]
[null,{"$f":"IFERROR(IF(A2838=\"\",\"\",IF(VLOOKUP(A2838,'Romaneio da Carga'!E:E,1,0)=BD!A2838,\"Volume Ok\",\"Volume não pertence a carga\")),\"Volume não pertence a carga\")","v":""}]
[null,{"$f":"IFERROR(IF(A2839=\"\",\"\",IF(VLOOKUP(A2839,'Romaneio da Carga'!E:E,1,0)=BD!A2839,\"Volume Ok\",\"Volume não pertence a carga\")),\"Volume não pertence a carga\")","v":""}]
[null,{"$f":"IFERROR(IF(A2840=\"\",\"\",IF(VLOOKUP(A2840,'Romaneio da Carga'!E:E,1,0)=BD!A2840,\"Volume Ok\",\"Volume não pertence a carga\")),\"Volume não pertence a carga\")","v":""}]
[null,{"$f":"IFERROR(IF(A2841=\"\",\"\",IF(VLOOKUP(A2841,'Romaneio da Carga'!E:E,1,0)=BD!A2841,\"Volume Ok\",\"Volume não pertence a carga\")),\"Volume não pertence a carga\")","v":""}]
[null,{"$f":"IFERROR(IF(A2842=\"\",\"\",IF(VLOOKUP(A2842,'Romaneio da Carga'!E:E,1,0)=BD!A2842,\"Volume Ok\",\"Volume não pertence a carga\")),\"Volume não pertence a carga\")","v":""}]
[null,{"$f":"IFERROR(IF(A2843=\"\",\"\",IF(VLOOKUP(A2843,'Romaneio da Carga'!E:E,1,0)=BD!A2843,\"Volume Ok\",\"Volume não pertence a carga\")),\"Volume não pertence a carga\")","v":""}]
[null,{"$f":"IFERROR(IF(A2844=\"\",\"\",IF(VLOOKUP(A2844,'Romaneio da Carga'!E:E,1,0)=BD!A2844,\"Volume Ok\",\"Volume não pertence a carga\")),\"Volume não pertence a carga\")","v":""}]
[null,{"$f":"IFERROR(IF(A2845=\"\",\"\",IF(VLOOKUP(A2845,'Romaneio da Carga'!E:E,1,0)=BD!A2845,\"Volume Ok\",\"Volume não pertence a carga\")),\"Volume não pertence a carga\")","v":""}]
[null,{"$f":"IFERROR(IF(A2846=\"\",\"\",IF(VLOOKUP(A2846,'Romaneio da Carga'!E:E,1,0)=BD!A2846,\"Volume Ok\",\"Volume não pertence a carga\")),\"Volume não pertence a carga\")","v":""}]
[null,{"$f":"IFERROR(IF(A2847=\"\",\"\",IF(VLOOKUP(A2847,'Romaneio da Carga'!E:E,1,0)=BD!A2847,\"Volume Ok\",\"Volume não pertence a carga\")),\"Volume não pertence a carga\")","v":""}]
[null,{"$f":"IFERROR(IF(A2848=\"\",\"\",IF(VLOOKUP(A2848,'Romaneio da Carga'!E:E,1,0)=BD!A2848,\"Volume Ok\",\"Volume não pertence a carga\")),\"Volume não pertence a carga\")","v":""}]
[null,{"$f":"IFERROR(IF(A2849=\"\",\"\",IF(VLOOKUP(A2849,'Romaneio da Carga'!E:E,1,0)=BD!A2849,\"Volume Ok\",\"Volume não pertence a carga\")),\"Volume não pertence a carga\")","v":""}]
[null,{"$f":"IFERROR(IF(A2850=\"\",\"\",IF(VLOOKUP(A2850,'Romaneio da Carga'!E:E,1,0)=BD!A2850,\"Volume Ok\",\"Volume não pertence a carga\")),\"Volume não pertence a carga\")","v":""}]
[null,{"$f":"IFERROR(IF(A2851=\"\",\"\",IF(VLOOKUP(A2851,'Romaneio da Carga'!E:E,1,0)=BD!A2851,\"Volume Ok\",\"Volume não pertence a carga\")),\"Volume não pertence a carga\")","v":""}]
[null,{"$f":"IFERROR(IF(A2852=\"\",\"\",IF(VLOOKUP(A2852,'Romaneio da Carga'!E:E,1,0)=BD!A2852,\"Volume Ok\",\"Volume não pertence a carga\")),\"Volume não pertence a carga\")","v":""}]
[null,{"$f":"IFERROR(IF(A2853=\"\",\"\",IF(VLOOKUP(A2853,'Romaneio da Carga'!E:E,1,0)=BD!A2853,\"Volume Ok\",\"Volume não pertence a carga\")),\"Volume não pertence a carga\")","v":""}]
[null,{"$f":"IFERROR(IF(A2854=\"\",\"\",IF(VLOOKUP(A2854,'Romaneio da Carga'!E:E,1,0)=BD!A2854,\"Volume Ok\",\"Volume não pertence a carga\")),\"Volume não pertence a carga\")","v":""}]
[null,{"$f":"IFERROR(IF(A2855=\"\",\"\",IF(VLOOKUP(A2855,'Romaneio da Carga'!E:E,1,0)=BD!A2855,\"Volume Ok\",\"Volume não pertence a carga\")),\"Volume não pertence a carga\")","v":""}]
[null,{"$f":"IFERROR(IF(A2856=\"\",\"\",IF(VLOOKUP(A2856,'Romaneio da Carga'!E:E,1,0)=BD!A2856,\"Volume Ok\",\"Volume não pertence a carga\")),\"Volume não pertence a carga\")","v":""}]
[null,{"$f":"IFERROR(IF(A2857=\"\",\"\",IF(VLOOKUP(A2857,'Romaneio da Carga'!E:E,1,0)=BD!A2857,\"Volume Ok\",\"Volume não pertence a carga\")),\"Volume não pertence a carga\")","v":""}]
[null,{"$f":"IFERROR(IF(A2858=\"\",\"\",IF(VLOOKUP(A2858,'Romaneio da Carga'!E:E,1,0)=BD!A2858,\"Volume Ok\",\"Volume não pertence a carga\")),\"Volume não pertence a carga\")","v":""}]
[null,{"$f":"IFERROR(IF(A2859=\"\",\"\",IF(VLOOKUP(A2859,'Romaneio da Carga'!E:E,1,0)=BD!A2859,\"Volume Ok\",\"Volume não pertence a carga\")),\"Volume não pertence a carga\")","v":""}]
[null,{"$f":"IFERROR(IF(A2860=\"\",\"\",IF(VLOOKUP(A2860,'Romaneio da Carga'!E:E,1,0)=BD!A2860,\"Volume Ok\",\"Volume não pertence a carga\")),\"Volume não pertence a carga\")","v":""}]
[null,{"$f":"IFERROR(IF(A2861=\"\",\"\",IF(VLOOKUP(A2861,'Romaneio da Carga'!E:E,1,0)=BD!A2861,\"Volume Ok\",\"Volume não pertence a carga\")),\"Volume não pertence a carga\")","v":""}]
[null,{"$f":"IFERROR(IF(A2862=\"\",\"\",IF(VLOOKUP(A2862,'Romaneio da Carga'!E:E,1,0)=BD!A2862,\"Volume Ok\",\"Volume não pertence a carga\")),\"Volume não pertence a carga\")","v":""}]
[null,{"$f":"IFERROR(IF(A2863=\"\",\"\",IF(VLOOKUP(A2863,'Romaneio da Carga'!E:E,1,0)=BD!A2863,\"Volume Ok\",\"Volume não pertence a carga\")),\"Volume não pertence a carga\")","v":""}]
[null,{"$f":"IFERROR(IF(A2864=\"\",\"\",IF(VLOOKUP(A2864,'Romaneio da Carga'!E:E,1,0)=BD!A2864,\"Volume Ok\",\"Volume não pertence a carga\")),\"Volume não pertence a carga\")","v":""}]
[null,{"$f":"IFERROR(IF(A2865=\"\",\"\",IF(VLOOKUP(A2865,'Romaneio da Carga'!E:E,1,0)=BD!A2865,\"Volume Ok\",\"Volume não pertence a carga\")),\"Volume não pertence a carga\")","v":""}]
[null,{"$f":"IFERROR(IF(A2866=\"\",\"\",IF(VLOOKUP(A2866,'Romaneio da Carga'!E:E,1,0)=BD!A2866,\"Volume Ok\",\"Volume não pertence a carga\")),\"Volume não pertence a carga\")","v":""}]
[null,{"$f":"IFERROR(IF(A2867=\"\",\"\",IF(VLOOKUP(A2867,'Romaneio da Carga'!E:E,1,0)=BD!A2867,\"Volume Ok\",\"Volume não pertence a carga\")),\"Volume não pertence a carga\")","v":""}]
[null,{"$f":"IFERROR(IF(A2868=\"\",\"\",IF(VLOOKUP(A2868,'Romaneio da Carga'!E:E,1,0)=BD!A2868,\"Volume Ok\",\"Volume não pertence a carga\")),\"Volume não pertence a carga\")","v":""}]
[null,{"$f":"IFERROR(IF(A2869=\"\",\"\",IF(VLOOKUP(A2869,'Romaneio da Carga'!E:E,1,0)=BD!A2869,\"Volume Ok\",\"Volume não pertence a carga\")),\"Volume não pertence a carga\")","v":""}]
[null,{"$f":"IFERROR(IF(A2870=\"\",\"\",IF(VLOOKUP(A2870,'Romaneio da Carga'!E:E,1,0)=BD!A2870,\"Volume Ok\",\"Volume não pertence a carga\")),\"Volume não pertence a carga\")","v":""}]
[null,{"$f":"IFERROR(IF(A2871=\"\",\"\",IF(VLOOKUP(A2871,'Romaneio da Carga'!E:E,1,0)=BD!A2871,\"Volume Ok\",\"Volume não pertence a carga\")),\"Volume não pertence a carga\")","v":""}]
[null,{"$f":"IFERROR(IF(A2872=\"\",\"\",IF(VLOOKUP(A2872,'Romaneio da Carga'!E:E,1,0)=BD!A2872,\"Volume Ok\",\"Volume não pertence a carga\")),\"Volume não pertence a carga\")","v":""}]
[null,{"$f":"IFERROR(IF(A2873=\"\",\"\",IF(VLOOKUP(A2873,'Romaneio da Carga'!E:E,1,0)=BD!A2873,\"Volume Ok\",\"Volume não pertence a carga\")),\"Volume não pertence a carga\")","v":""}]
[null,{"$f":"IFERROR(IF(A2874=\"\",\"\",IF(VLOOKUP(A2874,'Romaneio da Carga'!E:E,1,0)=BD!A2874,\"Volume Ok\",\"Volume não pertence a carga\")),\"Volume não pertence a carga\")","v":""}]
[null,{"$f":"IFERROR(IF(A2875=\"\",\"\",IF(VLOOKUP(A2875,'Romaneio da Carga'!E:E,1,0)=BD!A2875,\"Volume Ok\",\"Volume não pertence a carga\")),\"Volume não pertence a carga\")","v":""}]
[null,{"$f":"IFERROR(IF(A2876=\"\",\"\",IF(VLOOKUP(A2876,'Romaneio da Carga'!E:E,1,0)=BD!A2876,\"Volume Ok\",\"Volume não pertence a carga\")),\"Volume não pertence a carga\")","v":""}]
[null,{"$f":"IFERROR(IF(A2877=\"\",\"\",IF(VLOOKUP(A2877,'Romaneio da Carga'!E:E,1,0)=BD!A2877,\"Volume Ok\",\"Volume não pertence a carga\")),\"Volume não pertence a carga\")","v":""}]
[null,{"$f":"IFERROR(IF(A2878=\"\",\"\",IF(VLOOKUP(A2878,'Romaneio da Carga'!E:E,1,0)=BD!A2878,\"Volume Ok\",\"Volume não pertence a carga\")),\"Volume não pertence a carga\")","v":""}]
[null,{"$f":"IFERROR(IF(A2879=\"\",\"\",IF(VLOOKUP(A2879,'Romaneio da Carga'!E:E,1,0)=BD!A2879,\"Volume Ok\",\"Volume não pertence a carga\")),\"Volume não pertence a carga\")","v":""}]
[null,{"$f":"IFERROR(IF(A2880=\"\",\"\",IF(VLOOKUP(A2880,'Romaneio da Carga'!E:E,1,0)=BD!A2880,\"Volume Ok\",\"Volume não pertence a carga\")),\"Volume não pertence a carga\")","v":""}]
[null,{"$f":"IFERROR(IF(A2881=\"\",\"\",IF(VLOOKUP(A2881,'Romaneio da Carga'!E:E,1,0)=BD!A2881,\"Volume Ok\",\"Volume não pertence a carga\")),\"Volume não pertence a carga\")","v":""}]
[null,{"$f":"IFERROR(IF(A2882=\"\",\"\",IF(VLOOKUP(A2882,'Romaneio da Carga'!E:E,1,0)=BD!A2882,\"Volume Ok\",\"Volume não pertence a carga\")),\"Volume não pertence a carga\")","v":""}]
[null,{"$f":"IFERROR(IF(A2883=\"\",\"\",IF(VLOOKUP(A2883,'Romaneio da Carga'!E:E,1,0)=BD!A2883,\"Volume Ok\",\"Volume não pertence a carga\")),\"Volume não pertence a carga\")","v":""}]
[null,{"$f":"IFERROR(IF(A2884=\"\",\"\",IF(VLOOKUP(A2884,'Romaneio da Carga'!E:E,1,0)=BD!A2884,\"Volume Ok\",\"Volume não pertence a carga\")),\"Volume não pertence a carga\")","v":""}]
[null,{"$f":"IFERROR(IF(A2885=\"\",\"\",IF(VLOOKUP(A2885,'Romaneio da Carga'!E:E,1,0)=BD!A2885,\"Volume Ok\",\"Volume não pertence a carga\")),\"Volume não pertence a carga\")","v":""}]
[null,{"$f":"IFERROR(IF(A2886=\"\",\"\",IF(VLOOKUP(A2886,'Romaneio da Carga'!E:E,1,0)=BD!A2886,\"Volume Ok\",\"Volume não pertence a carga\")),\"Volume não pertence a carga\")","v":""}]
[null,{"$f":"IFERROR(IF(A2887=\"\",\"\",IF(VLOOKUP(A2887,'Romaneio da Carga'!E:E,1,0)=BD!A2887,\"Volume Ok\",\"Volume não pertence a carga\")),\"Volume não pertence a carga\")","v":""}]
[null,{"$f":"IFERROR(IF(A2888=\"\",\"\",IF(VLOOKUP(A2888,'Romaneio da Carga'!E:E,1,0)=BD!A2888,\"Volume Ok\",\"Volume não pertence a carga\")),\"Volume não pertence a carga\")","v":""}]
[null,{"$f":"IFERROR(IF(A2889=\"\",\"\",IF(VLOOKUP(A2889,'Romaneio da Carga'!E:E,1,0)=BD!A2889,\"Volume Ok\",\"Volume não pertence a carga\")),\"Volume não pertence a carga\")","v":""}]
[null,{"$f":"IFERROR(IF(A2890=\"\",\"\",IF(VLOOKUP(A2890,'Romaneio da Carga'!E:E,1,0)=BD!A2890,\"Volume Ok\",\"Volume não pertence a carga\")),\"Volume não pertence a carga\")","v":""}]
[null,{"$f":"IFERROR(IF(A2891=\"\",\"\",IF(VLOOKUP(A2891,'Romaneio da Carga'!E:E,1,0)=BD!A2891,\"Volume Ok\",\"Volume não pertence a carga\")),\"Volume não pertence a carga\")","v":""}]
[null,{"$f":"IFERROR(IF(A2892=\"\",\"\",IF(VLOOKUP(A2892,'Romaneio da Carga'!E:E,1,0)=BD!A2892,\"Volume Ok\",\"Volume não pertence a carga\")),\"Volume não pertence a carga\")","v":""}]
[null,{"$f":"IFERROR(IF(A2893=\"\",\"\",IF(VLOOKUP(A2893,'Romaneio da Carga'!E:E,1,0)=BD!A2893,\"Volume Ok\",\"Volume não pertence a carga\")),\"Volume não pertence a carga\")","v":""}]
[null,{"$f":"IFERROR(IF(A2894=\"\",\"\",IF(VLOOKUP(A2894,'Romaneio da Carga'!E:E,1,0)=BD!A2894,\"Volume Ok\",\"Volume não pertence a carga\")),\"Volume não pertence a carga\")","v":""}]
[null,{"$f":"IFERROR(IF(A2895=\"\",\"\",IF(VLOOKUP(A2895,'Romaneio da Carga'!E:E,1,0)=BD!A2895,\"Volume Ok\",\"Volume não pertence a carga\")),\"Volume não pertence a carga\")","v":""}]
[null,{"$f":"IFERROR(IF(A2896=\"\",\"\",IF(VLOOKUP(A2896,'Romaneio da Carga'!E:E,1,0)=BD!A2896,\"Volume Ok\",\"Volume não pertence a carga\")),\"Volume não pertence a carga\")","v":""}]
[null,{"$f":"IFERROR(IF(A2897=\"\",\"\",IF(VLOOKUP(A2897,'Romaneio da Carga'!E:E,1,0)=BD!A2897,\"Volume Ok\",\"Volume não pertence a carga\")),\"Volume não pertence a carga\")","v":""}]
[null,{"$f":"IFERROR(IF(A2898=\"\",\"\",IF(VLOOKUP(A2898,'Romaneio da Carga'!E:E,1,0)=BD!A2898,\"Volume Ok\",\"Volume não pertence a carga\")),\"Volume não pertence a carga\")","v":""}]
[null,{"$f":"IFERROR(IF(A2899=\"\",\"\",IF(VLOOKUP(A2899,'Romaneio da Carga'!E:E,1,0)=BD!A2899,\"Volume Ok\",\"Volume não pertence a carga\")),\"Volume não pertence a carga\")","v":""}]
[null,{"$f":"IFERROR(IF(A2900=\"\",\"\",IF(VLOOKUP(A2900,'Romaneio da Carga'!E:E,1,0)=BD!A2900,\"Volume Ok\",\"Volume não pertence a carga\")),\"Volume não pertence a carga\")","v":""}]
[null,{"$f":"IFERROR(IF(A2901=\"\",\"\",IF(VLOOKUP(A2901,'Romaneio da Carga'!E:E,1,0)=BD!A2901,\"Volume Ok\",\"Volume não pertence a carga\")),\"Volume não pertence a carga\")","v":""}]
[null,{"$f":"IFERROR(IF(A2902=\"\",\"\",IF(VLOOKUP(A2902,'Romaneio da Carga'!E:E,1,0)=BD!A2902,\"Volume Ok\",\"Volume não pertence a carga\")),\"Volume não pertence a carga\")","v":""}]
[null,{"$f":"IFERROR(IF(A2903=\"\",\"\",IF(VLOOKUP(A2903,'Romaneio da Carga'!E:E,1,0)=BD!A2903,\"Volume Ok\",\"Volume não pertence a carga\")),\"Volume não pertence a carga\")","v":""}]
[null,{"$f":"IFERROR(IF(A2904=\"\",\"\",IF(VLOOKUP(A2904,'Romaneio da Carga'!E:E,1,0)=BD!A2904,\"Volume Ok\",\"Volume não pertence a carga\")),\"Volume não pertence a carga\")","v":""}]
[null,{"$f":"IFERROR(IF(A2905=\"\",\"\",IF(VLOOKUP(A2905,'Romaneio da Carga'!E:E,1,0)=BD!A2905,\"Volume Ok\",\"Volume não pertence a carga\")),\"Volume não pertence a carga\")","v":""}]
[null,{"$f":"IFERROR(IF(A2906=\"\",\"\",IF(VLOOKUP(A2906,'Romaneio da Carga'!E:E,1,0)=BD!A2906,\"Volume Ok\",\"Volume não pertence a carga\")),\"Volume não pertence a carga\")","v":""}]
[null,{"$f":"IFERROR(IF(A2907=\"\",\"\",IF(VLOOKUP(A2907,'Romaneio da Carga'!E:E,1,0)=BD!A2907,\"Volume Ok\",\"Volume não pertence a carga\")),\"Volume não pertence a carga\")","v":""}]
[null,{"$f":"IFERROR(IF(A2908=\"\",\"\",IF(VLOOKUP(A2908,'Romaneio da Carga'!E:E,1,0)=BD!A2908,\"Volume Ok\",\"Volume não pertence a carga\")),\"Volume não pertence a carga\")","v":""}]
[null,{"$f":"IFERROR(IF(A2909=\"\",\"\",IF(VLOOKUP(A2909,'Romaneio da Carga'!E:E,1,0)=BD!A2909,\"Volume Ok\",\"Volume não pertence a carga\")),\"Volume não pertence a carga\")","v":""}]
[null,{"$f":"IFERROR(IF(A2910=\"\",\"\",IF(VLOOKUP(A2910,'Romaneio da Carga'!E:E,1,0)=BD!A2910,\"Volume Ok\",\"Volume não pertence a carga\")),\"Volume não pertence a carga\")","v":""}]
[null,{"$f":"IFERROR(IF(A2911=\"\",\"\",IF(VLOOKUP(A2911,'Romaneio da Carga'!E:E,1,0)=BD!A2911,\"Volume Ok\",\"Volume não pertence a carga\")),\"Volume não pertence a carga\")","v":""}]
[null,{"$f":"IFERROR(IF(A2912=\"\",\"\",IF(VLOOKUP(A2912,'Romaneio da Carga'!E:E,1,0)=BD!A2912,\"Volume Ok\",\"Volume não pertence a carga\")),\"Volume não pertence a carga\")","v":""}]
[null,{"$f":"IFERROR(IF(A2913=\"\",\"\",IF(VLOOKUP(A2913,'Romaneio da Carga'!E:E,1,0)=BD!A2913,\"Volume Ok\",\"Volume não pertence a carga\")),\"Volume não pertence a carga\")","v":""}]
[null,{"$f":"IFERROR(IF(A2914=\"\",\"\",IF(VLOOKUP(A2914,'Romaneio da Carga'!E:E,1,0)=BD!A2914,\"Volume Ok\",\"Volume não pertence a carga\")),\"Volume não pertence a carga\")","v":""}]
[null,{"$f":"IFERROR(IF(A2915=\"\",\"\",IF(VLOOKUP(A2915,'Romaneio da Carga'!E:E,1,0)=BD!A2915,\"Volume Ok\",\"Volume não pertence a carga\")),\"Volume não pertence a carga\")","v":""}]
[null,{"$f":"IFERROR(IF(A2916=\"\",\"\",IF(VLOOKUP(A2916,'Romaneio da Carga'!E:E,1,0)=BD!A2916,\"Volume Ok\",\"Volume não pertence a carga\")),\"Volume não pertence a carga\")","v":""}]
[null,{"$f":"IFERROR(IF(A2917=\"\",\"\",IF(VLOOKUP(A2917,'Romaneio da Carga'!E:E,1,0)=BD!A2917,\"Volume Ok\",\"Volume não pertence a carga\")),\"Volume não pertence a carga\")","v":""}]
[null,{"$f":"IFERROR(IF(A2918=\"\",\"\",IF(VLOOKUP(A2918,'Romaneio da Carga'!E:E,1,0)=BD!A2918,\"Volume Ok\",\"Volume não pertence a carga\")),\"Volume não pertence a carga\")","v":""}]
[null,{"$f":"IFERROR(IF(A2919=\"\",\"\",IF(VLOOKUP(A2919,'Romaneio da Carga'!E:E,1,0)=BD!A2919,\"Volume Ok\",\"Volume não pertence a carga\")),\"Volume não pertence a carga\")","v":""}]
[null,{"$f":"IFERROR(IF(A2920=\"\",\"\",IF(VLOOKUP(A2920,'Romaneio da Carga'!E:E,1,0)=BD!A2920,\"Volume Ok\",\"Volume não pertence a carga\")),\"Volume não pertence a carga\")","v":""}]
[null,{"$f":"IFERROR(IF(A2921=\"\",\"\",IF(VLOOKUP(A2921,'Romaneio da Carga'!E:E,1,0)=BD!A2921,\"Volume Ok\",\"Volume não pertence a carga\")),\"Volume não pertence a carga\")","v":""}]
[null,{"$f":"IFERROR(IF(A2922=\"\",\"\",IF(VLOOKUP(A2922,'Romaneio da Carga'!E:E,1,0)=BD!A2922,\"Volume Ok\",\"Volume não pertence a carga\")),\"Volume não pertence a carga\")","v":""}]
[null,{"$f":"IFERROR(IF(A2923=\"\",\"\",IF(VLOOKUP(A2923,'Romaneio da Carga'!E:E,1,0)=BD!A2923,\"Volume Ok\",\"Volume não pertence a carga\")),\"Volume não pertence a carga\")","v":""}]
[null,{"$f":"IFERROR(IF(A2924=\"\",\"\",IF(VLOOKUP(A2924,'Romaneio da Carga'!E:E,1,0)=BD!A2924,\"Volume Ok\",\"Volume não pertence a carga\")),\"Volume não pertence a carga\")","v":""}]
[null,{"$f":"IFERROR(IF(A2925=\"\",\"\",IF(VLOOKUP(A2925,'Romaneio da Carga'!E:E,1,0)=BD!A2925,\"Volume Ok\",\"Volume não pertence a carga\")),\"Volume não pertence a carga\")","v":""}]
[null,{"$f":"IFERROR(IF(A2926=\"\",\"\",IF(VLOOKUP(A2926,'Romaneio da Carga'!E:E,1,0)=BD!A2926,\"Volume Ok\",\"Volume não pertence a carga\")),\"Volume não pertence a carga\")","v":""}]
[null,{"$f":"IFERROR(IF(A2927=\"\",\"\",IF(VLOOKUP(A2927,'Romaneio da Carga'!E:E,1,0)=BD!A2927,\"Volume Ok\",\"Volume não pertence a carga\")),\"Volume não pertence a carga\")","v":""}]
[null,{"$f":"IFERROR(IF(A2928=\"\",\"\",IF(VLOOKUP(A2928,'Romaneio da Carga'!E:E,1,0)=BD!A2928,\"Volume Ok\",\"Volume não pertence a carga\")),\"Volume não pertence a carga\")","v":""}]
[null,{"$f":"IFERROR(IF(A2929=\"\",\"\",IF(VLOOKUP(A2929,'Romaneio da Carga'!E:E,1,0)=BD!A2929,\"Volume Ok\",\"Volume não pertence a carga\")),\"Volume não pertence a carga\")","v":""}]
[null,{"$f":"IFERROR(IF(A2930=\"\",\"\",IF(VLOOKUP(A2930,'Romaneio da Carga'!E:E,1,0)=BD!A2930,\"Volume Ok\",\"Volume não pertence a carga\")),\"Volume não pertence a carga\")","v":""}]
[null,{"$f":"IFERROR(IF(A2931=\"\",\"\",IF(VLOOKUP(A2931,'Romaneio da Carga'!E:E,1,0)=BD!A2931,\"Volume Ok\",\"Volume não pertence a carga\")),\"Volume não pertence a carga\")","v":""}]
[null,{"$f":"IFERROR(IF(A2932=\"\",\"\",IF(VLOOKUP(A2932,'Romaneio da Carga'!E:E,1,0)=BD!A2932,\"Volume Ok\",\"Volume não pertence a carga\")),\"Volume não pertence a carga\")","v":""}]
[null,{"$f":"IFERROR(IF(A2933=\"\",\"\",IF(VLOOKUP(A2933,'Romaneio da Carga'!E:E,1,0)=BD!A2933,\"Volume Ok\",\"Volume não pertence a carga\")),\"Volume não pertence a carga\")","v":""}]
[null,{"$f":"IFERROR(IF(A2934=\"\",\"\",IF(VLOOKUP(A2934,'Romaneio da Carga'!E:E,1,0)=BD!A2934,\"Volume Ok\",\"Volume não pertence a carga\")),\"Volume não pertence a carga\")","v":""}]
[null,{"$f":"IFERROR(IF(A2935=\"\",\"\",IF(VLOOKUP(A2935,'Romaneio da Carga'!E:E,1,0)=BD!A2935,\"Volume Ok\",\"Volume não pertence a carga\")),\"Volume não pertence a carga\")","v":""}]
[null,{"$f":"IFERROR(IF(A2936=\"\",\"\",IF(VLOOKUP(A2936,'Romaneio da Carga'!E:E,1,0)=BD!A2936,\"Volume Ok\",\"Volume não pertence a carga\")),\"Volume não pertence a carga\")","v":""}]
[null,{"$f":"IFERROR(IF(A2937=\"\",\"\",IF(VLOOKUP(A2937,'Romaneio da Carga'!E:E,1,0)=BD!A2937,\"Volume Ok\",\"Volume não pertence a carga\")),\"Volume não pertence a carga\")","v":""}]
[null,{"$f":"IFERROR(IF(A2938=\"\",\"\",IF(VLOOKUP(A2938,'Romaneio da Carga'!E:E,1,0)=BD!A2938,\"Volume Ok\",\"Volume não pertence a carga\")),\"Volume não pertence a carga\")","v":""}]
[null,{"$f":"IFERROR(IF(A2939=\"\",\"\",IF(VLOOKUP(A2939,'Romaneio da Carga'!E:E,1,0)=BD!A2939,\"Volume Ok\",\"Volume não pertence a carga\")),\"Volume não pertence a carga\")","v":""}]
[null,{"$f":"IFERROR(IF(A2940=\"\",\"\",IF(VLOOKUP(A2940,'Romaneio da Carga'!E:E,1,0)=BD!A2940,\"Volume Ok\",\"Volume não pertence a carga\")),\"Volume não pertence a carga\")","v":""}]
[null,{"$f":"IFERROR(IF(A2941=\"\",\"\",IF(VLOOKUP(A2941,'Romaneio da Carga'!E:E,1,0)=BD!A2941,\"Volume Ok\",\"Volume não pertence a carga\")),\"Volume não pertence a carga\")","v":""}]
[null,{"$f":"IFERROR(IF(A2942=\"\",\"\",IF(VLOOKUP(A2942,'Romaneio da Carga'!E:E,1,0)=BD!A2942,\"Volume Ok\",\"Volume não pertence a carga\")),\"Volume não pertence a carga\")","v":""}]
[null,{"$f":"IFERROR(IF(A2943=\"\",\"\",IF(VLOOKUP(A2943,'Romaneio da Carga'!E:E,1,0)=BD!A2943,\"Volume Ok\",\"Volume não pertence a carga\")),\"Volume não pertence a carga\")","v":""}]
[null,{"$f":"IFERROR(IF(A2944=\"\",\"\",IF(VLOOKUP(A2944,'Romaneio da Carga'!E:E,1,0)=BD!A2944,\"Volume Ok\",\"Volume não pertence a carga\")),\"Volume não pertence a carga\")","v":""}]
[null,{"$f":"IFERROR(IF(A2945=\"\",\"\",IF(VLOOKUP(A2945,'Romaneio da Carga'!E:E,1,0)=BD!A2945,\"Volume Ok\",\"Volume não pertence a carga\")),\"Volume não pertence a carga\")","v":""}]
[null,{"$f":"IFERROR(IF(A2946=\"\",\"\",IF(VLOOKUP(A2946,'Romaneio da Carga'!E:E,1,0)=BD!A2946,\"Volume Ok\",\"Volume não pertence a carga\")),\"Volume não pertence a carga\")","v":""}]
[null,{"$f":"IFERROR(IF(A2947=\"\",\"\",IF(VLOOKUP(A2947,'Romaneio da Carga'!E:E,1,0)=BD!A2947,\"Volume Ok\",\"Volume não pertence a carga\")),\"Volume não pertence a carga\")","v":""}]
[null,{"$f":"IFERROR(IF(A2948=\"\",\"\",IF(VLOOKUP(A2948,'Romaneio da Carga'!E:E,1,0)=BD!A2948,\"Volume Ok\",\"Volume não pertence a carga\")),\"Volume não pertence a carga\")","v":""}]
[null,{"$f":"IFERROR(IF(A2949=\"\",\"\",IF(VLOOKUP(A2949,'Romaneio da Carga'!E:E,1,0)=BD!A2949,\"Volume Ok\",\"Volume não pertence a carga\")),\"Volume não pertence a carga\")","v":""}]
[null,{"$f":"IFERROR(IF(A2950=\"\",\"\",IF(VLOOKUP(A2950,'Romaneio da Carga'!E:E,1,0)=BD!A2950,\"Volume Ok\",\"Volume não pertence a carga\")),\"Volume não pertence a carga\")","v":""}]
[null,{"$f":"IFERROR(IF(A2951=\"\",\"\",IF(VLOOKUP(A2951,'Romaneio da Carga'!E:E,1,0)=BD!A2951,\"Volume Ok\",\"Volume não pertence a carga\")),\"Volume não pertence a carga\")","v":""}]
[null,{"$f":"IFERROR(IF(A2952=\"\",\"\",IF(VLOOKUP(A2952,'Romaneio da Carga'!E:E,1,0)=BD!A2952,\"Volume Ok\",\"Volume não pertence a carga\")),\"Volume não pertence a carga\")","v":""}]
[null,{"$f":"IFERROR(IF(A2953=\"\",\"\",IF(VLOOKUP(A2953,'Romaneio da Carga'!E:E,1,0)=BD!A2953,\"Volume Ok\",\"Volume não pertence a carga\")),\"Volume não pertence a carga\")","v":""}]
[null,{"$f":"IFERROR(IF(A2954=\"\",\"\",IF(VLOOKUP(A2954,'Romaneio da Carga'!E:E,1,0)=BD!A2954,\"Volume Ok\",\"Volume não pertence a carga\")),\"Volume não pertence a carga\")","v":""}]
[null,{"$f":"IFERROR(IF(A2955=\"\",\"\",IF(VLOOKUP(A2955,'Romaneio da Carga'!E:E,1,0)=BD!A2955,\"Volume Ok\",\"Volume não pertence a carga\")),\"Volume não pertence a carga\")","v":""}]
[null,{"$f":"IFERROR(IF(A2956=\"\",\"\",IF(VLOOKUP(A2956,'Romaneio da Carga'!E:E,1,0)=BD!A2956,\"Volume Ok\",\"Volume não pertence a carga\")),\"Volume não pertence a carga\")","v":""}]
[null,{"$f":"IFERROR(IF(A2957=\"\",\"\",IF(VLOOKUP(A2957,'Romaneio da Carga'!E:E,1,0)=BD!A2957,\"Volume Ok\",\"Volume não pertence a carga\")),\"Volume não pertence a carga\")","v":""}]
[null,{"$f":"IFERROR(IF(A2958=\"\",\"\",IF(VLOOKUP(A2958,'Romaneio da Carga'!E:E,1,0)=BD!A2958,\"Volume Ok\",\"Volume não pertence a carga\")),\"Volume não pertence a carga\")","v":""}]
[null,{"$f":"IFERROR(IF(A2959=\"\",\"\",IF(VLOOKUP(A2959,'Romaneio da Carga'!E:E,1,0)=BD!A2959,\"Volume Ok\",\"Volume não pertence a carga\")),\"Volume não pertence a carga\")","v":""}]
[null,{"$f":"IFERROR(IF(A2960=\"\",\"\",IF(VLOOKUP(A2960,'Romaneio da Carga'!E:E,1,0)=BD!A2960,\"Volume Ok\",\"Volume não pertence a carga\")),\"Volume não pertence a carga\")","v":""}]
[null,{"$f":"IFERROR(IF(A2961=\"\",\"\",IF(VLOOKUP(A2961,'Romaneio da Carga'!E:E,1,0)=BD!A2961,\"Volume Ok\",\"Volume não pertence a carga\")),\"Volume não pertence a carga\")","v":""}]
[null,{"$f":"IFERROR(IF(A2962=\"\",\"\",IF(VLOOKUP(A2962,'Romaneio da Carga'!E:E,1,0)=BD!A2962,\"Volume Ok\",\"Volume não pertence a carga\")),\"Volume não pertence a carga\")","v":""}]
[null,{"$f":"IFERROR(IF(A2963=\"\",\"\",IF(VLOOKUP(A2963,'Romaneio da Carga'!E:E,1,0)=BD!A2963,\"Volume Ok\",\"Volume não pertence a carga\")),\"Volume não pertence a carga\")","v":""}]
[null,{"$f":"IFERROR(IF(A2964=\"\",\"\",IF(VLOOKUP(A2964,'Romaneio da Carga'!E:E,1,0)=BD!A2964,\"Volume Ok\",\"Volume não pertence a carga\")),\"Volume não pertence a carga\")","v":""}]
[null,{"$f":"IFERROR(IF(A2965=\"\",\"\",IF(VLOOKUP(A2965,'Romaneio da Carga'!E:E,1,0)=BD!A2965,\"Volume Ok\",\"Volume não pertence a carga\")),\"Volume não pertence a carga\")","v":""}]
[null,{"$f":"IFERROR(IF(A2966=\"\",\"\",IF(VLOOKUP(A2966,'Romaneio da Carga'!E:E,1,0)=BD!A2966,\"Volume Ok\",\"Volume não pertence a carga\")),\"Volume não pertence a carga\")","v":""}]
[null,{"$f":"IFERROR(IF(A2967=\"\",\"\",IF(VLOOKUP(A2967,'Romaneio da Carga'!E:E,1,0)=BD!A2967,\"Volume Ok\",\"Volume não pertence a carga\")),\"Volume não pertence a carga\")","v":""}]
[null,{"$f":"IFERROR(IF(A2968=\"\",\"\",IF(VLOOKUP(A2968,'Romaneio da Carga'!E:E,1,0)=BD!A2968,\"Volume Ok\",\"Volume não pertence a carga\")),\"Volume não pertence a carga\")","v":""}]
[null,{"$f":"IFERROR(IF(A2969=\"\",\"\",IF(VLOOKUP(A2969,'Romaneio da Carga'!E:E,1,0)=BD!A2969,\"Volume Ok\",\"Volume não pertence a carga\")),\"Volume não pertence a carga\")","v":""}]
[null,{"$f":"IFERROR(IF(A2970=\"\",\"\",IF(VLOOKUP(A2970,'Romaneio da Carga'!E:E,1,0)=BD!A2970,\"Volume Ok\",\"Volume não pertence a carga\")),\"Volume não pertence a carga\")","v":""}]
[null,{"$f":"IFERROR(IF(A2971=\"\",\"\",IF(VLOOKUP(A2971,'Romaneio da Carga'!E:E,1,0)=BD!A2971,\"Volume Ok\",\"Volume não pertence a carga\")),\"Volume não pertence a carga\")","v":""}]
[null,{"$f":"IFERROR(IF(A2972=\"\",\"\",IF(VLOOKUP(A2972,'Romaneio da Carga'!E:E,1,0)=BD!A2972,\"Volume Ok\",\"Volume não pertence a carga\")),\"Volume não pertence a carga\")","v":""}]
[null,{"$f":"IFERROR(IF(A2973=\"\",\"\",IF(VLOOKUP(A2973,'Romaneio da Carga'!E:E,1,0)=BD!A2973,\"Volume Ok\",\"Volume não pertence a carga\")),\"Volume não pertence a carga\")","v":""}]
[null,{"$f":"IFERROR(IF(A2974=\"\",\"\",IF(VLOOKUP(A2974,'Romaneio da Carga'!E:E,1,0)=BD!A2974,\"Volume Ok\",\"Volume não pertence a carga\")),\"Volume não pertence a carga\")","v":""}]
[null,{"$f":"IFERROR(IF(A2975=\"\",\"\",IF(VLOOKUP(A2975,'Romaneio da Carga'!E:E,1,0)=BD!A2975,\"Volume Ok\",\"Volume não pertence a carga\")),\"Volume não pertence a carga\")","v":""}]
[null,{"$f":"IFERROR(IF(A2976=\"\",\"\",IF(VLOOKUP(A2976,'Romaneio da Carga'!E:E,1,0)=BD!A2976,\"Volume Ok\",\"Volume não pertence a carga\")),\"Volume não pertence a carga\")","v":""}]
[null,{"$f":"IFERROR(IF(A2977=\"\",\"\",IF(VLOOKUP(A2977,'Romaneio da Carga'!E:E,1,0)=BD!A2977,\"Volume Ok\",\"Volume não pertence a carga\")),\"Volume não pertence a carga\")","v":""}]
[null,{"$f":"IFERROR(IF(A2978=\"\",\"\",IF(VLOOKUP(A2978,'Romaneio da Carga'!E:E,1,0)=BD!A2978,\"Volume Ok\",\"Volume não pertence a carga\")),\"Volume não pertence a carga\")","v":""}]
[null,{"$f":"IFERROR(IF(A2979=\"\",\"\",IF(VLOOKUP(A2979,'Romaneio da Carga'!E:E,1,0)=BD!A2979,\"Volume Ok\",\"Volume não pertence a carga\")),\"Volume não pertence a carga\")","v":""}]
[null,{"$f":"IFERROR(IF(A2980=\"\",\"\",IF(VLOOKUP(A2980,'Romaneio da Carga'!E:E,1,0)=BD!A2980,\"Volume Ok\",\"Volume não pertence a carga\")),\"Volume não pertence a carga\")","v":""}]
[null,{"$f":"IFERROR(IF(A2981=\"\",\"\",IF(VLOOKUP(A2981,'Romaneio da Carga'!E:E,1,0)=BD!A2981,\"Volume Ok\",\"Volume não pertence a carga\")),\"Volume não pertence a carga\")","v":""}]
[null,{"$f":"IFERROR(IF(A2982=\"\",\"\",IF(VLOOKUP(A2982,'Romaneio da Carga'!E:E,1,0)=BD!A2982,\"Volume Ok\",\"Volume não pertence a carga\")),\"Volume não pertence a carga\")","v":""}]
[null,{"$f":"IFERROR(IF(A2983=\"\",\"\",IF(VLOOKUP(A2983,'Romaneio da Carga'!E:E,1,0)=BD!A2983,\"Volume Ok\",\"Volume não pertence a carga\")),\"Volume não pertence a carga\")","v":""}]
[null,{"$f":"IFERROR(IF(A2984=\"\",\"\",IF(VLOOKUP(A2984,'Romaneio da Carga'!E:E,1,0)=BD!A2984,\"Volume Ok\",\"Volume não pertence a carga\")),\"Volume não pertence a carga\")","v":""}]
[null,{"$f":"IFERROR(IF(A2985=\"\",\"\",IF(VLOOKUP(A2985,'Romaneio da Carga'!E:E,1,0)=BD!A2985,\"Volume Ok\",\"Volume não pertence a carga\")),\"Volume não pertence a carga\")","v":""}]
[null,{"$f":"IFERROR(IF(A2986=\"\",\"\",IF(VLOOKUP(A2986,'Romaneio da Carga'!E:E,1,0)=BD!A2986,\"Volume Ok\",\"Volume não pertence a carga\")),\"Volume não pertence a carga\")","v":""}]
[null,{"$f":"IFERROR(IF(A2987=\"\",\"\",IF(VLOOKUP(A2987,'Romaneio da Carga'!E:E,1,0)=BD!A2987,\"Volume Ok\",\"Volume não pertence a carga\")),\"Volume não pertence a carga\")","v":""}]
[null,{"$f":"IFERROR(IF(A2988=\"\",\"\",IF(VLOOKUP(A2988,'Romaneio da Carga'!E:E,1,0)=BD!A2988,\"Volume Ok\",\"Volume não pertence a carga\")),\"Volume não pertence a carga\")","v":""}]
[null,{"$f":"IFERROR(IF(A2989=\"\",\"\",IF(VLOOKUP(A2989,'Romaneio da Carga'!E:E,1,0)=BD!A2989,\"Volume Ok\",\"Volume não pertence a carga\")),\"Volume não pertence a carga\")","v":""}]
[null,{"$f":"IFERROR(IF(A2990=\"\",\"\",IF(VLOOKUP(A2990,'Romaneio da Carga'!E:E,1,0)=BD!A2990,\"Volume Ok\",\"Volume não pertence a carga\")),\"Volume não pertence a carga\")","v":""}]
[null,{"$f":"IFERROR(IF(A2991=\"\",\"\",IF(VLOOKUP(A2991,'Romaneio da Carga'!E:E,1,0)=BD!A2991,\"Volume Ok\",\"Volume não pertence a carga\")),\"Volume não pertence a carga\")","v":""}]
[null,{"$f":"IFERROR(IF(A2992=\"\",\"\",IF(VLOOKUP(A2992,'Romaneio da Carga'!E:E,1,0)=BD!A2992,\"Volume Ok\",\"Volume não pertence a carga\")),\"Volume não pertence a carga\")","v":""}]
[null,{"$f":"IFERROR(IF(A2993=\"\",\"\",IF(VLOOKUP(A2993,'Romaneio da Carga'!E:E,1,0)=BD!A2993,\"Volume Ok\",\"Volume não pertence a carga\")),\"Volume não pertence a carga\")","v":""}]
[null,{"$f":"IFERROR(IF(A2994=\"\",\"\",IF(VLOOKUP(A2994,'Romaneio da Carga'!E:E,1,0)=BD!A2994,\"Volume Ok\",\"Volume não pertence a carga\")),\"Volume não pertence a carga\")","v":""}]
[null,{"$f":"IFERROR(IF(A2995=\"\",\"\",IF(VLOOKUP(A2995,'Romaneio da Carga'!E:E,1,0)=BD!A2995,\"Volume Ok\",\"Volume não pertence a carga\")),\"Volume não pertence a carga\")","v":""}]
[null,{"$f":"IFERROR(IF(A2996=\"\",\"\",IF(VLOOKUP(A2996,'Romaneio da Carga'!E:E,1,0)=BD!A2996,\"Volume Ok\",\"Volume não pertence a carga\")),\"Volume não pertence a carga\")","v":""}]
[null,{"$f":"IFERROR(IF(A2997=\"\",\"\",IF(VLOOKUP(A2997,'Romaneio da Carga'!E:E,1,0)=BD!A2997,\"Volume Ok\",\"Volume não pertence a carga\")),\"Volume não pertence a carga\")","v":""}]
[null,{"$f":"IFERROR(IF(A2998=\"\",\"\",IF(VLOOKUP(A2998,'Romaneio da Carga'!E:E,1,0)=BD!A2998,\"Volume Ok\",\"Volume não pertence a carga\")),\"Volume não pertence a carga\")","v":""}]
[null,{"$f":"IFERROR(IF(A2999=\"\",\"\",IF(VLOOKUP(A2999,'Romaneio da Carga'!E:E,1,0)=BD!A2999,\"Volume Ok\",\"Volume não pertence a carga\")),\"Volume não pertence a carga\")","v":""}]
[null,{"$f":"IFERROR(IF(A3000=\"\",\"\",IF(VLOOKUP(A3000,'Romaneio da Carga'!E:E,1,0)=BD!A3000,\"Volume Ok\",\"Volume não pertence a carga\")),\"Volume não pertence a carga\")","v":""}]
[null,{"$f":"IFERROR(IF(A3001=\"\",\"\",IF(VLOOKUP(A3001,'Romaneio da Carga'!E:E,1,0)=BD!A3001,\"Volume Ok\",\"Volume não pertence a carga\")),\"Volume não pertence a carga\")","v":""}]
[null,{"$f":"IFERROR(IF(A3002=\"\",\"\",IF(VLOOKUP(A3002,'Romaneio da Carga'!E:E,1,0)=BD!A3002,\"Volume Ok\",\"Volume não pertence a carga\")),\"Volume não pertence a carga\")","v":""}]
[null,{"$f":"IFERROR(IF(A3003=\"\",\"\",IF(VLOOKUP(A3003,'Romaneio da Carga'!E:E,1,0)=BD!A3003,\"Volume Ok\",\"Volume não pertence a carga\")),\"Volume não pertence a carga\")","v":""}]
[null,{"$f":"IFERROR(IF(A3004=\"\",\"\",IF(VLOOKUP(A3004,'Romaneio da Carga'!E:E,1,0)=BD!A3004,\"Volume Ok\",\"Volume não pertence a carga\")),\"Volume não pertence a carga\")","v":""}]
[null,{"$f":"IFERROR(IF(A3005=\"\",\"\",IF(VLOOKUP(A3005,'Romaneio da Carga'!E:E,1,0)=BD!A3005,\"Volume Ok\",\"Volume não pertence a carga\")),\"Volume não pertence a carga\")","v":""}]
[null,{"$f":"IFERROR(IF(A3006=\"\",\"\",IF(VLOOKUP(A3006,'Romaneio da Carga'!E:E,1,0)=BD!A3006,\"Volume Ok\",\"Volume não pertence a carga\")),\"Volume não pertence a carga\")","v":""}]
[null,{"$f":"IFERROR(IF(A3007=\"\",\"\",IF(VLOOKUP(A3007,'Romaneio da Carga'!E:E,1,0)=BD!A3007,\"Volume Ok\",\"Volume não pertence a carga\")),\"Volume não pertence a carga\")","v":""}]
[null,{"$f":"IFERROR(IF(A3008=\"\",\"\",IF(VLOOKUP(A3008,'Romaneio da Carga'!E:E,1,0)=BD!A3008,\"Volume Ok\",\"Volume não pertence a carga\")),\"Volume não pertence a carga\")","v":""}]
[null,{"$f":"IFERROR(IF(A3009=\"\",\"\",IF(VLOOKUP(A3009,'Romaneio da Carga'!E:E,1,0)=BD!A3009,\"Volume Ok\",\"Volume não pertence a carga\")),\"Volume não pertence a carga\")","v":""}]
[null,{"$f":"IFERROR(IF(A3010=\"\",\"\",IF(VLOOKUP(A3010,'Romaneio da Carga'!E:E,1,0)=BD!A3010,\"Volume Ok\",\"Volume não pertence a carga\")),\"Volume não pertence a carga\")","v":""}]
[null,{"$f":"IFERROR(IF(A3011=\"\",\"\",IF(VLOOKUP(A3011,'Romaneio da Carga'!E:E,1,0)=BD!A3011,\"Volume Ok\",\"Volume não pertence a carga\")),\"Volume não pertence a carga\")","v":""}]
[null,{"$f":"IFERROR(IF(A3012=\"\",\"\",IF(VLOOKUP(A3012,'Romaneio da Carga'!E:E,1,0)=BD!A3012,\"Volume Ok\",\"Volume não pertence a carga\")),\"Volume não pertence a carga\")","v":""}]
[null,{"$f":"IFERROR(IF(A3013=\"\",\"\",IF(VLOOKUP(A3013,'Romaneio da Carga'!E:E,1,0)=BD!A3013,\"Volume Ok\",\"Volume não pertence a carga\")),\"Volume não pertence a carga\")","v":""}]
[null,{"$f":"IFERROR(IF(A3014=\"\",\"\",IF(VLOOKUP(A3014,'Romaneio da Carga'!E:E,1,0)=BD!A3014,\"Volume Ok\",\"Volume não pertence a carga\")),\"Volume não pertence a carga\")","v":""}]
[null,{"$f":"IFERROR(IF(A3015=\"\",\"\",IF(VLOOKUP(A3015,'Romaneio da Carga'!E:E,1,0)=BD!A3015,\"Volume Ok\",\"Volume não pertence a carga\")),\"Volume não pertence a carga\")","v":""}]
[null,{"$f":"IFERROR(IF(A3016=\"\",\"\",IF(VLOOKUP(A3016,'Romaneio da Carga'!E:E,1,0)=BD!A3016,\"Volume Ok\",\"Volume não pertence a carga\")),\"Volume não pertence a carga\")","v":""}]
[null,{"$f":"IFERROR(IF(A3017=\"\",\"\",IF(VLOOKUP(A3017,'Romaneio da Carga'!E:E,1,0)=BD!A3017,\"Volume Ok\",\"Volume não pertence a carga\")),\"Volume não pertence a carga\")","v":""}]
[null,{"$f":"IFERROR(IF(A3018=\"\",\"\",IF(VLOOKUP(A3018,'Romaneio da Carga'!E:E,1,0)=BD!A3018,\"Volume Ok\",\"Volume não pertence a carga\")),\"Volume não pertence a carga\")","v":""}]
[null,{"$f":"IFERROR(IF(A3019=\"\",\"\",IF(VLOOKUP(A3019,'Romaneio da Carga'!E:E,1,0)=BD!A3019,\"Volume Ok\",\"Volume não pertence a carga\")),\"Volume não pertence a carga\")","v":""}]
[null,{"$f":"IFERROR(IF(A3020=\"\",\"\",IF(VLOOKUP(A3020,'Romaneio da Carga'!E:E,1,0)=BD!A3020,\"Volume Ok\",\"Volume não pertence a carga\")),\"Volume não pertence a carga\")","v":""}]
[null,{"$f":"IFERROR(IF(A3021=\"\",\"\",IF(VLOOKUP(A3021,'Romaneio da Carga'!E:E,1,0)=BD!A3021,\"Volume Ok\",\"Volume não pertence a carga\")),\"Volume não pertence a carga\")","v":""}]
[null,{"$f":"IFERROR(IF(A3022=\"\",\"\",IF(VLOOKUP(A3022,'Romaneio da Carga'!E:E,1,0)=BD!A3022,\"Volume Ok\",\"Volume não pertence a carga\")),\"Volume não pertence a carga\")","v":""}]
[null,{"$f":"IFERROR(IF(A3023=\"\",\"\",IF(VLOOKUP(A3023,'Romaneio da Carga'!E:E,1,0)=BD!A3023,\"Volume Ok\",\"Volume não pertence a carga\")),\"Volume não pertence a carga\")","v":""}]
[null,{"$f":"IFERROR(IF(A3024=\"\",\"\",IF(VLOOKUP(A3024,'Romaneio da Carga'!E:E,1,0)=BD!A3024,\"Volume Ok\",\"Volume não pertence a carga\")),\"Volume não pertence a carga\")","v":""}]
[null,{"$f":"IFERROR(IF(A3025=\"\",\"\",IF(VLOOKUP(A3025,'Romaneio da Carga'!E:E,1,0)=BD!A3025,\"Volume Ok\",\"Volume não pertence a carga\")),\"Volume não pertence a carga\")","v":""}]
[null,{"$f":"IFERROR(IF(A3026=\"\",\"\",IF(VLOOKUP(A3026,'Romaneio da Carga'!E:E,1,0)=BD!A3026,\"Volume Ok\",\"Volume não pertence a carga\")),\"Volume não pertence a carga\")","v":""}]
[null,{"$f":"IFERROR(IF(A3027=\"\",\"\",IF(VLOOKUP(A3027,'Romaneio da Carga'!E:E,1,0)=BD!A3027,\"Volume Ok\",\"Volume não pertence a carga\")),\"Volume não pertence a carga\")","v":""}]
[null,{"$f":"IFERROR(IF(A3028=\"\",\"\",IF(VLOOKUP(A3028,'Romaneio da Carga'!E:E,1,0)=BD!A3028,\"Volume Ok\",\"Volume não pertence a carga\")),\"Volume não pertence a carga\")","v":""}]
[null,{"$f":"IFERROR(IF(A3029=\"\",\"\",IF(VLOOKUP(A3029,'Romaneio da Carga'!E:E,1,0)=BD!A3029,\"Volume Ok\",\"Volume não pertence a carga\")),\"Volume não pertence a carga\")","v":""}]
[null,{"$f":"IFERROR(IF(A3030=\"\",\"\",IF(VLOOKUP(A3030,'Romaneio da Carga'!E:E,1,0)=BD!A3030,\"Volume Ok\",\"Volume não pertence a carga\")),\"Volume não pertence a carga\")","v":""}]
[null,{"$f":"IFERROR(IF(A3031=\"\",\"\",IF(VLOOKUP(A3031,'Romaneio da Carga'!E:E,1,0)=BD!A3031,\"Volume Ok\",\"Volume não pertence a carga\")),\"Volume não pertence a carga\")","v":""}]
[null,{"$f":"IFERROR(IF(A3032=\"\",\"\",IF(VLOOKUP(A3032,'Romaneio da Carga'!E:E,1,0)=BD!A3032,\"Volume Ok\",\"Volume não pertence a carga\")),\"Volume não pertence a carga\")","v":""}]
[null,{"$f":"IFERROR(IF(A3033=\"\",\"\",IF(VLOOKUP(A3033,'Romaneio da Carga'!E:E,1,0)=BD!A3033,\"Volume Ok\",\"Volume não pertence a carga\")),\"Volume não pertence a carga\")","v":""}]
[null,{"$f":"IFERROR(IF(A3034=\"\",\"\",IF(VLOOKUP(A3034,'Romaneio da Carga'!E:E,1,0)=BD!A3034,\"Volume Ok\",\"Volume não pertence a carga\")),\"Volume não pertence a carga\")","v":""}]
[null,{"$f":"IFERROR(IF(A3035=\"\",\"\",IF(VLOOKUP(A3035,'Romaneio da Carga'!E:E,1,0)=BD!A3035,\"Volume Ok\",\"Volume não pertence a carga\")),\"Volume não pertence a carga\")","v":""}]
[null,{"$f":"IFERROR(IF(A3036=\"\",\"\",IF(VLOOKUP(A3036,'Romaneio da Carga'!E:E,1,0)=BD!A3036,\"Volume Ok\",\"Volume não pertence a carga\")),\"Volume não pertence a carga\")","v":""}]
[null,{"$f":"IFERROR(IF(A3037=\"\",\"\",IF(VLOOKUP(A3037,'Romaneio da Carga'!E:E,1,0)=BD!A3037,\"Volume Ok\",\"Volume não pertence a carga\")),\"Volume não pertence a carga\")","v":""}]
[null,{"$f":"IFERROR(IF(A3038=\"\",\"\",IF(VLOOKUP(A3038,'Romaneio da Carga'!E:E,1,0)=BD!A3038,\"Volume Ok\",\"Volume não pertence a carga\")),\"Volume não pertence a carga\")","v":""}]
[null,{"$f":"IFERROR(IF(A3039=\"\",\"\",IF(VLOOKUP(A3039,'Romaneio da Carga'!E:E,1,0)=BD!A3039,\"Volume Ok\",\"Volume não pertence a carga\")),\"Volume não pertence a carga\")","v":""}]
[null,{"$f":"IFERROR(IF(A3040=\"\",\"\",IF(VLOOKUP(A3040,'Romaneio da Carga'!E:E,1,0)=BD!A3040,\"Volume Ok\",\"Volume não pertence a carga\")),\"Volume não pertence a carga\")","v":""}]
[null,{"$f":"IFERROR(IF(A3041=\"\",\"\",IF(VLOOKUP(A3041,'Romaneio da Carga'!E:E,1,0)=BD!A3041,\"Volume Ok\",\"Volume não pertence a carga\")),\"Volume não pertence a carga\")","v":""}]
[null,{"$f":"IFERROR(IF(A3042=\"\",\"\",IF(VLOOKUP(A3042,'Romaneio da Carga'!E:E,1,0)=BD!A3042,\"Volume Ok\",\"Volume não pertence a carga\")),\"Volume não pertence a carga\")","v":""}]
[null,{"$f":"IFERROR(IF(A3043=\"\",\"\",IF(VLOOKUP(A3043,'Romaneio da Carga'!E:E,1,0)=BD!A3043,\"Volume Ok\",\"Volume não pertence a carga\")),\"Volume não pertence a carga\")","v":""}]
[null,{"$f":"IFERROR(IF(A3044=\"\",\"\",IF(VLOOKUP(A3044,'Romaneio da Carga'!E:E,1,0)=BD!A3044,\"Volume Ok\",\"Volume não pertence a carga\")),\"Volume não pertence a carga\")","v":""}]
[null,{"$f":"IFERROR(IF(A3045=\"\",\"\",IF(VLOOKUP(A3045,'Romaneio da Carga'!E:E,1,0)=BD!A3045,\"Volume Ok\",\"Volume não pertence a carga\")),\"Volume não pertence a carga\")","v":""}]
[null,{"$f":"IFERROR(IF(A3046=\"\",\"\",IF(VLOOKUP(A3046,'Romaneio da Carga'!E:E,1,0)=BD!A3046,\"Volume Ok\",\"Volume não pertence a carga\")),\"Volume não pertence a carga\")","v":""}]
[null,{"$f":"IFERROR(IF(A3047=\"\",\"\",IF(VLOOKUP(A3047,'Romaneio da Carga'!E:E,1,0)=BD!A3047,\"Volume Ok\",\"Volume não pertence a carga\")),\"Volume não pertence a carga\")","v":""}]
[null,{"$f":"IFERROR(IF(A3048=\"\",\"\",IF(VLOOKUP(A3048,'Romaneio da Carga'!E:E,1,0)=BD!A3048,\"Volume Ok\",\"Volume não pertence a carga\")),\"Volume não pertence a carga\")","v":""}]
[null,{"$f":"IFERROR(IF(A3049=\"\",\"\",IF(VLOOKUP(A3049,'Romaneio da Carga'!E:E,1,0)=BD!A3049,\"Volume Ok\",\"Volume não pertence a carga\")),\"Volume não pertence a carga\")","v":""}]
[null,{"$f":"IFERROR(IF(A3050=\"\",\"\",IF(VLOOKUP(A3050,'Romaneio da Carga'!E:E,1,0)=BD!A3050,\"Volume Ok\",\"Volume não pertence a carga\")),\"Volume não pertence a carga\")","v":""}]
[null,{"$f":"IFERROR(IF(A3051=\"\",\"\",IF(VLOOKUP(A3051,'Romaneio da Carga'!E:E,1,0)=BD!A3051,\"Volume Ok\",\"Volume não pertence a carga\")),\"Volume não pertence a carga\")","v":""}]
[null,{"$f":"IFERROR(IF(A3052=\"\",\"\",IF(VLOOKUP(A3052,'Romaneio da Carga'!E:E,1,0)=BD!A3052,\"Volume Ok\",\"Volume não pertence a carga\")),\"Volume não pertence a carga\")","v":""}]
[null,{"$f":"IFERROR(IF(A3053=\"\",\"\",IF(VLOOKUP(A3053,'Romaneio da Carga'!E:E,1,0)=BD!A3053,\"Volume Ok\",\"Volume não pertence a carga\")),\"Volume não pertence a carga\")","v":""}]
[null,{"$f":"IFERROR(IF(A3054=\"\",\"\",IF(VLOOKUP(A3054,'Romaneio da Carga'!E:E,1,0)=BD!A3054,\"Volume Ok\",\"Volume não pertence a carga\")),\"Volume não pertence a carga\")","v":""}]
[null,{"$f":"IFERROR(IF(A3055=\"\",\"\",IF(VLOOKUP(A3055,'Romaneio da Carga'!E:E,1,0)=BD!A3055,\"Volume Ok\",\"Volume não pertence a carga\")),\"Volume não pertence a carga\")","v":""}]
[null,{"$f":"IFERROR(IF(A3056=\"\",\"\",IF(VLOOKUP(A3056,'Romaneio da Carga'!E:E,1,0)=BD!A3056,\"Volume Ok\",\"Volume não pertence a carga\")),\"Volume não pertence a carga\")","v":""}]
[null,{"$f":"IFERROR(IF(A3057=\"\",\"\",IF(VLOOKUP(A3057,'Romaneio da Carga'!E:E,1,0)=BD!A3057,\"Volume Ok\",\"Volume não pertence a carga\")),\"Volume não pertence a carga\")","v":""}]
[null,{"$f":"IFERROR(IF(A3058=\"\",\"\",IF(VLOOKUP(A3058,'Romaneio da Carga'!E:E,1,0)=BD!A3058,\"Volume Ok\",\"Volume não pertence a carga\")),\"Volume não pertence a carga\")","v":""}]
[null,{"$f":"IFERROR(IF(A3059=\"\",\"\",IF(VLOOKUP(A3059,'Romaneio da Carga'!E:E,1,0)=BD!A3059,\"Volume Ok\",\"Volume não pertence a carga\")),\"Volume não pertence a carga\")","v":""}]
[null,{"$f":"IFERROR(IF(A3060=\"\",\"\",IF(VLOOKUP(A3060,'Romaneio da Carga'!E:E,1,0)=BD!A3060,\"Volume Ok\",\"Volume não pertence a carga\")),\"Volume não pertence a carga\")","v":""}]
[null,{"$f":"IFERROR(IF(A3061=\"\",\"\",IF(VLOOKUP(A3061,'Romaneio da Carga'!E:E,1,0)=BD!A3061,\"Volume Ok\",\"Volume não pertence a carga\")),\"Volume não pertence a carga\")","v":""}]
[null,{"$f":"IFERROR(IF(A3062=\"\",\"\",IF(VLOOKUP(A3062,'Romaneio da Carga'!E:E,1,0)=BD!A3062,\"Volume Ok\",\"Volume não pertence a carga\")),\"Volume não pertence a carga\")","v":""}]
[null,{"$f":"IFERROR(IF(A3063=\"\",\"\",IF(VLOOKUP(A3063,'Romaneio da Carga'!E:E,1,0)=BD!A3063,\"Volume Ok\",\"Volume não pertence a carga\")),\"Volume não pertence a carga\")","v":""}]
[null,{"$f":"IFERROR(IF(A3064=\"\",\"\",IF(VLOOKUP(A3064,'Romaneio da Carga'!E:E,1,0)=BD!A3064,\"Volume Ok\",\"Volume não pertence a carga\")),\"Volume não pertence a carga\")","v":""}]
[null,{"$f":"IFERROR(IF(A3065=\"\",\"\",IF(VLOOKUP(A3065,'Romaneio da Carga'!E:E,1,0)=BD!A3065,\"Volume Ok\",\"Volume não pertence a carga\")),\"Volume não pertence a carga\")","v":""}]
[null,{"$f":"IFERROR(IF(A3066=\"\",\"\",IF(VLOOKUP(A3066,'Romaneio da Carga'!E:E,1,0)=BD!A3066,\"Volume Ok\",\"Volume não pertence a carga\")),\"Volume não pertence a carga\")","v":""}]
[null,{"$f":"IFERROR(IF(A3067=\"\",\"\",IF(VLOOKUP(A3067,'Romaneio da Carga'!E:E,1,0)=BD!A3067,\"Volume Ok\",\"Volume não pertence a carga\")),\"Volume não pertence a carga\")","v":""}]
[null,{"$f":"IFERROR(IF(A3068=\"\",\"\",IF(VLOOKUP(A3068,'Romaneio da Carga'!E:E,1,0)=BD!A3068,\"Volume Ok\",\"Volume não pertence a carga\")),\"Volume não pertence a carga\")","v":""}]
[null,{"$f":"IFERROR(IF(A3069=\"\",\"\",IF(VLOOKUP(A3069,'Romaneio da Carga'!E:E,1,0)=BD!A3069,\"Volume Ok\",\"Volume não pertence a carga\")),\"Volume não pertence a carga\")","v":""}]
[null,{"$f":"IFERROR(IF(A3070=\"\",\"\",IF(VLOOKUP(A3070,'Romaneio da Carga'!E:E,1,0)=BD!A3070,\"Volume Ok\",\"Volume não pertence a carga\")),\"Volume não pertence a carga\")","v":""}]
[null,{"$f":"IFERROR(IF(A3071=\"\",\"\",IF(VLOOKUP(A3071,'Romaneio da Carga'!E:E,1,0)=BD!A3071,\"Volume Ok\",\"Volume não pertence a carga\")),\"Volume não pertence a carga\")","v":""}]
[null,{"$f":"IFERROR(IF(A3072=\"\",\"\",IF(VLOOKUP(A3072,'Romaneio da Carga'!E:E,1,0)=BD!A3072,\"Volume Ok\",\"Volume não pertence a carga\")),\"Volume não pertence a carga\")","v":""}]
[null,{"$f":"IFERROR(IF(A3073=\"\",\"\",IF(VLOOKUP(A3073,'Romaneio da Carga'!E:E,1,0)=BD!A3073,\"Volume Ok\",\"Volume não pertence a carga\")),\"Volume não pertence a carga\")","v":""}]
[null,{"$f":"IFERROR(IF(A3074=\"\",\"\",IF(VLOOKUP(A3074,'Romaneio da Carga'!E:E,1,0)=BD!A3074,\"Volume Ok\",\"Volume não pertence a carga\")),\"Volume não pertence a carga\")","v":""}]
[null,{"$f":"IFERROR(IF(A3075=\"\",\"\",IF(VLOOKUP(A3075,'Romaneio da Carga'!E:E,1,0)=BD!A3075,\"Volume Ok\",\"Volume não pertence a carga\")),\"Volume não pertence a carga\")","v":""}]
[null,{"$f":"IFERROR(IF(A3076=\"\",\"\",IF(VLOOKUP(A3076,'Romaneio da Carga'!E:E,1,0)=BD!A3076,\"Volume Ok\",\"Volume não pertence a carga\")),\"Volume não pertence a carga\")","v":""}]
[null,{"$f":"IFERROR(IF(A3077=\"\",\"\",IF(VLOOKUP(A3077,'Romaneio da Carga'!E:E,1,0)=BD!A3077,\"Volume Ok\",\"Volume não pertence a carga\")),\"Volume não pertence a carga\")","v":""}]
[null,{"$f":"IFERROR(IF(A3078=\"\",\"\",IF(VLOOKUP(A3078,'Romaneio da Carga'!E:E,1,0)=BD!A3078,\"Volume Ok\",\"Volume não pertence a carga\")),\"Volume não pertence a carga\")","v":""}]
[null,{"$f":"IFERROR(IF(A3079=\"\",\"\",IF(VLOOKUP(A3079,'Romaneio da Carga'!E:E,1,0)=BD!A3079,\"Volume Ok\",\"Volume não pertence a carga\")),\"Volume não pertence a carga\")","v":""}]
[null,{"$f":"IFERROR(IF(A3080=\"\",\"\",IF(VLOOKUP(A3080,'Romaneio da Carga'!E:E,1,0)=BD!A3080,\"Volume Ok\",\"Volume não pertence a carga\")),\"Volume não pertence a carga\")","v":""}]
[null,{"$f":"IFERROR(IF(A3081=\"\",\"\",IF(VLOOKUP(A3081,'Romaneio da Carga'!E:E,1,0)=BD!A3081,\"Volume Ok\",\"Volume não pertence a carga\")),\"Volume não pertence a carga\")","v":""}]
[null,{"$f":"IFERROR(IF(A3082=\"\",\"\",IF(VLOOKUP(A3082,'Romaneio da Carga'!E:E,1,0)=BD!A3082,\"Volume Ok\",\"Volume não pertence a carga\")),\"Volume não pertence a carga\")","v":""}]
[null,{"$f":"IFERROR(IF(A3083=\"\",\"\",IF(VLOOKUP(A3083,'Romaneio da Carga'!E:E,1,0)=BD!A3083,\"Volume Ok\",\"Volume não pertence a carga\")),\"Volume não pertence a carga\")","v":""}]
[null,{"$f":"IFERROR(IF(A3084=\"\",\"\",IF(VLOOKUP(A3084,'Romaneio da Carga'!E:E,1,0)=BD!A3084,\"Volume Ok\",\"Volume não pertence a carga\")),\"Volume não pertence a carga\")","v":""}]
[null,{"$f":"IFERROR(IF(A3085=\"\",\"\",IF(VLOOKUP(A3085,'Romaneio da Carga'!E:E,1,0)=BD!A3085,\"Volume Ok\",\"Volume não pertence a carga\")),\"Volume não pertence a carga\")","v":""}]
[null,{"$f":"IFERROR(IF(A3086=\"\",\"\",IF(VLOOKUP(A3086,'Romaneio da Carga'!E:E,1,0)=BD!A3086,\"Volume Ok\",\"Volume não pertence a carga\")),\"Volume não pertence a carga\")","v":""}]
[null,{"$f":"IFERROR(IF(A3087=\"\",\"\",IF(VLOOKUP(A3087,'Romaneio da Carga'!E:E,1,0)=BD!A3087,\"Volume Ok\",\"Volume não pertence a carga\")),\"Volume não pertence a carga\")","v":""}]
[null,{"$f":"IFERROR(IF(A3088=\"\",\"\",IF(VLOOKUP(A3088,'Romaneio da Carga'!E:E,1,0)=BD!A3088,\"Volume Ok\",\"Volume não pertence a carga\")),\"Volume não pertence a carga\")","v":""}]
[null,{"$f":"IFERROR(IF(A3089=\"\",\"\",IF(VLOOKUP(A3089,'Romaneio da Carga'!E:E,1,0)=BD!A3089,\"Volume Ok\",\"Volume não pertence a carga\")),\"Volume não pertence a carga\")","v":""}]
[null,{"$f":"IFERROR(IF(A3090=\"\",\"\",IF(VLOOKUP(A3090,'Romaneio da Carga'!E:E,1,0)=BD!A3090,\"Volume Ok\",\"Volume não pertence a carga\")),\"Volume não pertence a carga\")","v":""}]
[null,{"$f":"IFERROR(IF(A3091=\"\",\"\",IF(VLOOKUP(A3091,'Romaneio da Carga'!E:E,1,0)=BD!A3091,\"Volume Ok\",\"Volume não pertence a carga\")),\"Volume não pertence a carga\")","v":""}]
[null,{"$f":"IFERROR(IF(A3092=\"\",\"\",IF(VLOOKUP(A3092,'Romaneio da Carga'!E:E,1,0)=BD!A3092,\"Volume Ok\",\"Volume não pertence a carga\")),\"Volume não pertence a carga\")","v":""}]
[null,{"$f":"IFERROR(IF(A3093=\"\",\"\",IF(VLOOKUP(A3093,'Romaneio da Carga'!E:E,1,0)=BD!A3093,\"Volume Ok\",\"Volume não pertence a carga\")),\"Volume não pertence a carga\")","v":""}]
[null,{"$f":"IFERROR(IF(A3094=\"\",\"\",IF(VLOOKUP(A3094,'Romaneio da Carga'!E:E,1,0)=BD!A3094,\"Volume Ok\",\"Volume não pertence a carga\")),\"Volume não pertence a carga\")","v":""}]
[null,{"$f":"IFERROR(IF(A3095=\"\",\"\",IF(VLOOKUP(A3095,'Romaneio da Carga'!E:E,1,0)=BD!A3095,\"Volume Ok\",\"Volume não pertence a carga\")),\"Volume não pertence a carga\")","v":""}]
[null,{"$f":"IFERROR(IF(A3096=\"\",\"\",IF(VLOOKUP(A3096,'Romaneio da Carga'!E:E,1,0)=BD!A3096,\"Volume Ok\",\"Volume não pertence a carga\")),\"Volume não pertence a carga\")","v":""}]
[null,{"$f":"IFERROR(IF(A3097=\"\",\"\",IF(VLOOKUP(A3097,'Romaneio da Carga'!E:E,1,0)=BD!A3097,\"Volume Ok\",\"Volume não pertence a carga\")),\"Volume não pertence a carga\")","v":""}]
[null,{"$f":"IFERROR(IF(A3098=\"\",\"\",IF(VLOOKUP(A3098,'Romaneio da Carga'!E:E,1,0)=BD!A3098,\"Volume Ok\",\"Volume não pertence a carga\")),\"Volume não pertence a carga\")","v":""}]
[null,{"$f":"IFERROR(IF(A3099=\"\",\"\",IF(VLOOKUP(A3099,'Romaneio da Carga'!E:E,1,0)=BD!A3099,\"Volume Ok\",\"Volume não pertence a carga\")),\"Volume não pertence a carga\")","v":""}]
[null,{"$f":"IFERROR(IF(A3100=\"\",\"\",IF(VLOOKUP(A3100,'Romaneio da Carga'!E:E,1,0)=BD!A3100,\"Volume Ok\",\"Volume não pertence a carga\")),\"Volume não pertence a carga\")","v":""}]
[null,{"$f":"IFERROR(IF(A3101=\"\",\"\",IF(VLOOKUP(A3101,'Romaneio da Carga'!E:E,1,0)=BD!A3101,\"Volume Ok\",\"Volume não pertence a carga\")),\"Volume não pertence a carga\")","v":""}]
[null,{"$f":"IFERROR(IF(A3102=\"\",\"\",IF(VLOOKUP(A3102,'Romaneio da Carga'!E:E,1,0)=BD!A3102,\"Volume Ok\",\"Volume não pertence a carga\")),\"Volume não pertence a carga\")","v":""}]
[null,{"$f":"IFERROR(IF(A3103=\"\",\"\",IF(VLOOKUP(A3103,'Romaneio da Carga'!E:E,1,0)=BD!A3103,\"Volume Ok\",\"Volume não pertence a carga\")),\"Volume não pertence a carga\")","v":""}]
[null,{"$f":"IFERROR(IF(A3104=\"\",\"\",IF(VLOOKUP(A3104,'Romaneio da Carga'!E:E,1,0)=BD!A3104,\"Volume Ok\",\"Volume não pertence a carga\")),\"Volume não pertence a carga\")","v":""}]
[null,{"$f":"IFERROR(IF(A3105=\"\",\"\",IF(VLOOKUP(A3105,'Romaneio da Carga'!E:E,1,0)=BD!A3105,\"Volume Ok\",\"Volume não pertence a carga\")),\"Volume não pertence a carga\")","v":""}]
[null,{"$f":"IFERROR(IF(A3106=\"\",\"\",IF(VLOOKUP(A3106,'Romaneio da Carga'!E:E,1,0)=BD!A3106,\"Volume Ok\",\"Volume não pertence a carga\")),\"Volume não pertence a carga\")","v":""}]
[null,{"$f":"IFERROR(IF(A3107=\"\",\"\",IF(VLOOKUP(A3107,'Romaneio da Carga'!E:E,1,0)=BD!A3107,\"Volume Ok\",\"Volume não pertence a carga\")),\"Volume não pertence a carga\")","v":""}]
[null,{"$f":"IFERROR(IF(A3108=\"\",\"\",IF(VLOOKUP(A3108,'Romaneio da Carga'!E:E,1,0)=BD!A3108,\"Volume Ok\",\"Volume não pertence a carga\")),\"Volume não pertence a carga\")","v":""}]
[null,{"$f":"IFERROR(IF(A3109=\"\",\"\",IF(VLOOKUP(A3109,'Romaneio da Carga'!E:E,1,0)=BD!A3109,\"Volume Ok\",\"Volume não pertence a carga\")),\"Volume não pertence a carga\")","v":""}]
[null,{"$f":"IFERROR(IF(A3110=\"\",\"\",IF(VLOOKUP(A3110,'Romaneio da Carga'!E:E,1,0)=BD!A3110,\"Volume Ok\",\"Volume não pertence a carga\")),\"Volume não pertence a carga\")","v":""}]
[null,{"$f":"IFERROR(IF(A3111=\"\",\"\",IF(VLOOKUP(A3111,'Romaneio da Carga'!E:E,1,0)=BD!A3111,\"Volume Ok\",\"Volume não pertence a carga\")),\"Volume não pertence a carga\")","v":""}]
[null,{"$f":"IFERROR(IF(A3112=\"\",\"\",IF(VLOOKUP(A3112,'Romaneio da Carga'!E:E,1,0)=BD!A3112,\"Volume Ok\",\"Volume não pertence a carga\")),\"Volume não pertence a carga\")","v":""}]
[null,{"$f":"IFERROR(IF(A3113=\"\",\"\",IF(VLOOKUP(A3113,'Romaneio da Carga'!E:E,1,0)=BD!A3113,\"Volume Ok\",\"Volume não pertence a carga\")),\"Volume não pertence a carga\")","v":""}]
[null,{"$f":"IFERROR(IF(A3114=\"\",\"\",IF(VLOOKUP(A3114,'Romaneio da Carga'!E:E,1,0)=BD!A3114,\"Volume Ok\",\"Volume não pertence a carga\")),\"Volume não pertence a carga\")","v":""}]
[null,{"$f":"IFERROR(IF(A3115=\"\",\"\",IF(VLOOKUP(A3115,'Romaneio da Carga'!E:E,1,0)=BD!A3115,\"Volume Ok\",\"Volume não pertence a carga\")),\"Volume não pertence a carga\")","v":""}]
[null,{"$f":"IFERROR(IF(A3116=\"\",\"\",IF(VLOOKUP(A3116,'Romaneio da Carga'!E:E,1,0)=BD!A3116,\"Volume Ok\",\"Volume não pertence a carga\")),\"Volume não pertence a carga\")","v":""}]
[null,{"$f":"IFERROR(IF(A3117=\"\",\"\",IF(VLOOKUP(A3117,'Romaneio da Carga'!E:E,1,0)=BD!A3117,\"Volume Ok\",\"Volume não pertence a carga\")),\"Volume não pertence a carga\")","v":""}]
[null,{"$f":"IFERROR(IF(A3118=\"\",\"\",IF(VLOOKUP(A3118,'Romaneio da Carga'!E:E,1,0)=BD!A3118,\"Volume Ok\",\"Volume não pertence a carga\")),\"Volume não pertence a carga\")","v":""}]
[null,{"$f":"IFERROR(IF(A3119=\"\",\"\",IF(VLOOKUP(A3119,'Romaneio da Carga'!E:E,1,0)=BD!A3119,\"Volume Ok\",\"Volume não pertence a carga\")),\"Volume não pertence a carga\")","v":""}]
[null,{"$f":"IFERROR(IF(A3120=\"\",\"\",IF(VLOOKUP(A3120,'Romaneio da Carga'!E:E,1,0)=BD!A3120,\"Volume Ok\",\"Volume não pertence a carga\")),\"Volume não pertence a carga\")","v":""}]
[null,{"$f":"IFERROR(IF(A3121=\"\",\"\",IF(VLOOKUP(A3121,'Romaneio da Carga'!E:E,1,0)=BD!A3121,\"Volume Ok\",\"Volume não pertence a carga\")),\"Volume não pertence a carga\")","v":""}]
[null,{"$f":"IFERROR(IF(A3122=\"\",\"\",IF(VLOOKUP(A3122,'Romaneio da Carga'!E:E,1,0)=BD!A3122,\"Volume Ok\",\"Volume não pertence a carga\")),\"Volume não pertence a carga\")","v":""}]
[null,{"$f":"IFERROR(IF(A3123=\"\",\"\",IF(VLOOKUP(A3123,'Romaneio da Carga'!E:E,1,0)=BD!A3123,\"Volume Ok\",\"Volume não pertence a carga\")),\"Volume não pertence a carga\")","v":""}]
[null,{"$f":"IFERROR(IF(A3124=\"\",\"\",IF(VLOOKUP(A3124,'Romaneio da Carga'!E:E,1,0)=BD!A3124,\"Volume Ok\",\"Volume não pertence a carga\")),\"Volume não pertence a carga\")","v":""}]
[null,{"$f":"IFERROR(IF(A3125=\"\",\"\",IF(VLOOKUP(A3125,'Romaneio da Carga'!E:E,1,0)=BD!A3125,\"Volume Ok\",\"Volume não pertence a carga\")),\"Volume não pertence a carga\")","v":""}]
[null,{"$f":"IFERROR(IF(A3126=\"\",\"\",IF(VLOOKUP(A3126,'Romaneio da Carga'!E:E,1,0)=BD!A3126,\"Volume Ok\",\"Volume não pertence a carga\")),\"Volume não pertence a carga\")","v":""}]
[null,{"$f":"IFERROR(IF(A3127=\"\",\"\",IF(VLOOKUP(A3127,'Romaneio da Carga'!E:E,1,0)=BD!A3127,\"Volume Ok\",\"Volume não pertence a carga\")),\"Volume não pertence a carga\")","v":""}]
[null,{"$f":"IFERROR(IF(A3128=\"\",\"\",IF(VLOOKUP(A3128,'Romaneio da Carga'!E:E,1,0)=BD!A3128,\"Volume Ok\",\"Volume não pertence a carga\")),\"Volume não pertence a carga\")","v":""}]
[null,{"$f":"IFERROR(IF(A3129=\"\",\"\",IF(VLOOKUP(A3129,'Romaneio da Carga'!E:E,1,0)=BD!A3129,\"Volume Ok\",\"Volume não pertence a carga\")),\"Volume não pertence a carga\")","v":""}]
[null,{"$f":"IFERROR(IF(A3130=\"\",\"\",IF(VLOOKUP(A3130,'Romaneio da Carga'!E:E,1,0)=BD!A3130,\"Volume Ok\",\"Volume não pertence a carga\")),\"Volume não pertence a carga\")","v":""}]
[null,{"$f":"IFERROR(IF(A3131=\"\",\"\",IF(VLOOKUP(A3131,'Romaneio da Carga'!E:E,1,0)=BD!A3131,\"Volume Ok\",\"Volume não pertence a carga\")),\"Volume não pertence a carga\")","v":""}]
[null,{"$f":"IFERROR(IF(A3132=\"\",\"\",IF(VLOOKUP(A3132,'Romaneio da Carga'!E:E,1,0)=BD!A3132,\"Volume Ok\",\"Volume não pertence a carga\")),\"Volume não pertence a carga\")","v":""}]
[null,{"$f":"IFERROR(IF(A3133=\"\",\"\",IF(VLOOKUP(A3133,'Romaneio da Carga'!E:E,1,0)=BD!A3133,\"Volume Ok\",\"Volume não pertence a carga\")),\"Volume não pertence a carga\")","v":""}]
[null,{"$f":"IFERROR(IF(A3134=\"\",\"\",IF(VLOOKUP(A3134,'Romaneio da Carga'!E:E,1,0)=BD!A3134,\"Volume Ok\",\"Volume não pertence a carga\")),\"Volume não pertence a carga\")","v":""}]
[null,{"$f":"IFERROR(IF(A3135=\"\",\"\",IF(VLOOKUP(A3135,'Romaneio da Carga'!E:E,1,0)=BD!A3135,\"Volume Ok\",\"Volume não pertence a carga\")),\"Volume não pertence a carga\")","v":""}]
[null,{"$f":"IFERROR(IF(A3136=\"\",\"\",IF(VLOOKUP(A3136,'Romaneio da Carga'!E:E,1,0)=BD!A3136,\"Volume Ok\",\"Volume não pertence a carga\")),\"Volume não pertence a carga\")","v":""}]
[null,{"$f":"IFERROR(IF(A3137=\"\",\"\",IF(VLOOKUP(A3137,'Romaneio da Carga'!E:E,1,0)=BD!A3137,\"Volume Ok\",\"Volume não pertence a carga\")),\"Volume não pertence a carga\")","v":""}]
[null,{"$f":"IFERROR(IF(A3138=\"\",\"\",IF(VLOOKUP(A3138,'Romaneio da Carga'!E:E,1,0)=BD!A3138,\"Volume Ok\",\"Volume não pertence a carga\")),\"Volume não pertence a carga\")","v":""}]
[null,{"$f":"IFERROR(IF(A3139=\"\",\"\",IF(VLOOKUP(A3139,'Romaneio da Carga'!E:E,1,0)=BD!A3139,\"Volume Ok\",\"Volume não pertence a carga\")),\"Volume não pertence a carga\")","v":""}]
[null,{"$f":"IFERROR(IF(A3140=\"\",\"\",IF(VLOOKUP(A3140,'Romaneio da Carga'!E:E,1,0)=BD!A3140,\"Volume Ok\",\"Volume não pertence a carga\")),\"Volume não pertence a carga\")","v":""}]
[null,{"$f":"IFERROR(IF(A3141=\"\",\"\",IF(VLOOKUP(A3141,'Romaneio da Carga'!E:E,1,0)=BD!A3141,\"Volume Ok\",\"Volume não pertence a carga\")),\"Volume não pertence a carga\")","v":""}]
[null,{"$f":"IFERROR(IF(A3142=\"\",\"\",IF(VLOOKUP(A3142,'Romaneio da Carga'!E:E,1,0)=BD!A3142,\"Volume Ok\",\"Volume não pertence a carga\")),\"Volume não pertence a carga\")","v":""}]
[null,{"$f":"IFERROR(IF(A3143=\"\",\"\",IF(VLOOKUP(A3143,'Romaneio da Carga'!E:E,1,0)=BD!A3143,\"Volume Ok\",\"Volume não pertence a carga\")),\"Volume não pertence a carga\")","v":""}]
[null,{"$f":"IFERROR(IF(A3144=\"\",\"\",IF(VLOOKUP(A3144,'Romaneio da Carga'!E:E,1,0)=BD!A3144,\"Volume Ok\",\"Volume não pertence a carga\")),\"Volume não pertence a carga\")","v":""}]
[null,{"$f":"IFERROR(IF(A3145=\"\",\"\",IF(VLOOKUP(A3145,'Romaneio da Carga'!E:E,1,0)=BD!A3145,\"Volume Ok\",\"Volume não pertence a carga\")),\"Volume não pertence a carga\")","v":""}]
[null,{"$f":"IFERROR(IF(A3146=\"\",\"\",IF(VLOOKUP(A3146,'Romaneio da Carga'!E:E,1,0)=BD!A3146,\"Volume Ok\",\"Volume não pertence a carga\")),\"Volume não pertence a carga\")","v":""}]
[null,{"$f":"IFERROR(IF(A3147=\"\",\"\",IF(VLOOKUP(A3147,'Romaneio da Carga'!E:E,1,0)=BD!A3147,\"Volume Ok\",\"Volume não pertence a carga\")),\"Volume não pertence a carga\")","v":""}]
[null,{"$f":"IFERROR(IF(A3148=\"\",\"\",IF(VLOOKUP(A3148,'Romaneio da Carga'!E:E,1,0)=BD!A3148,\"Volume Ok\",\"Volume não pertence a carga\")),\"Volume não pertence a carga\")","v":""}]
[null,{"$f":"IFERROR(IF(A3149=\"\",\"\",IF(VLOOKUP(A3149,'Romaneio da Carga'!E:E,1,0)=BD!A3149,\"Volume Ok\",\"Volume não pertence a carga\")),\"Volume não pertence a carga\")","v":""}]
[null,{"$f":"IFERROR(IF(A3150=\"\",\"\",IF(VLOOKUP(A3150,'Romaneio da Carga'!E:E,1,0)=BD!A3150,\"Volume Ok\",\"Volume não pertence a carga\")),\"Volume não pertence a carga\")","v":""}]
[null,{"$f":"IFERROR(IF(A3151=\"\",\"\",IF(VLOOKUP(A3151,'Romaneio da Carga'!E:E,1,0)=BD!A3151,\"Volume Ok\",\"Volume não pertence a carga\")),\"Volume não pertence a carga\")","v":""}]
[null,{"$f":"IFERROR(IF(A3152=\"\",\"\",IF(VLOOKUP(A3152,'Romaneio da Carga'!E:E,1,0)=BD!A3152,\"Volume Ok\",\"Volume não pertence a carga\")),\"Volume não pertence a carga\")","v":""}]
[null,{"$f":"IFERROR(IF(A3153=\"\",\"\",IF(VLOOKUP(A3153,'Romaneio da Carga'!E:E,1,0)=BD!A3153,\"Volume Ok\",\"Volume não pertence a carga\")),\"Volume não pertence a carga\")","v":""}]
[null,{"$f":"IFERROR(IF(A3154=\"\",\"\",IF(VLOOKUP(A3154,'Romaneio da Carga'!E:E,1,0)=BD!A3154,\"Volume Ok\",\"Volume não pertence a carga\")),\"Volume não pertence a carga\")","v":""}]
[null,{"$f":"IFERROR(IF(A3155=\"\",\"\",IF(VLOOKUP(A3155,'Romaneio da Carga'!E:E,1,0)=BD!A3155,\"Volume Ok\",\"Volume não pertence a carga\")),\"Volume não pertence a carga\")","v":""}]
[null,{"$f":"IFERROR(IF(A3156=\"\",\"\",IF(VLOOKUP(A3156,'Romaneio da Carga'!E:E,1,0)=BD!A3156,\"Volume Ok\",\"Volume não pertence a carga\")),\"Volume não pertence a carga\")","v":""}]
[null,{"$f":"IFERROR(IF(A3157=\"\",\"\",IF(VLOOKUP(A3157,'Romaneio da Carga'!E:E,1,0)=BD!A3157,\"Volume Ok\",\"Volume não pertence a carga\")),\"Volume não pertence a carga\")","v":""}]
[null,{"$f":"IFERROR(IF(A3158=\"\",\"\",IF(VLOOKUP(A3158,'Romaneio da Carga'!E:E,1,0)=BD!A3158,\"Volume Ok\",\"Volume não pertence a carga\")),\"Volume não pertence a carga\")","v":""}]
[null,{"$f":"IFERROR(IF(A3159=\"\",\"\",IF(VLOOKUP(A3159,'Romaneio da Carga'!E:E,1,0)=BD!A3159,\"Volume Ok\",\"Volume não pertence a carga\")),\"Volume não pertence a carga\")","v":""}]
[null,{"$f":"IFERROR(IF(A3160=\"\",\"\",IF(VLOOKUP(A3160,'Romaneio da Carga'!E:E,1,0)=BD!A3160,\"Volume Ok\",\"Volume não pertence a carga\")),\"Volume não pertence a carga\")","v":""}]
[null,{"$f":"IFERROR(IF(A3161=\"\",\"\",IF(VLOOKUP(A3161,'Romaneio da Carga'!E:E,1,0)=BD!A3161,\"Volume Ok\",\"Volume não pertence a carga\")),\"Volume não pertence a carga\")","v":""}]
[null,{"$f":"IFERROR(IF(A3162=\"\",\"\",IF(VLOOKUP(A3162,'Romaneio da Carga'!E:E,1,0)=BD!A3162,\"Volume Ok\",\"Volume não pertence a carga\")),\"Volume não pertence a carga\")","v":""}]
[null,{"$f":"IFERROR(IF(A3163=\"\",\"\",IF(VLOOKUP(A3163,'Romaneio da Carga'!E:E,1,0)=BD!A3163,\"Volume Ok\",\"Volume não pertence a carga\")),\"Volume não pertence a carga\")","v":""}]
[null,{"$f":"IFERROR(IF(A3164=\"\",\"\",IF(VLOOKUP(A3164,'Romaneio da Carga'!E:E,1,0)=BD!A3164,\"Volume Ok\",\"Volume não pertence a carga\")),\"Volume não pertence a carga\")","v":""}]
[null,{"$f":"IFERROR(IF(A3165=\"\",\"\",IF(VLOOKUP(A3165,'Romaneio da Carga'!E:E,1,0)=BD!A3165,\"Volume Ok\",\"Volume não pertence a carga\")),\"Volume não pertence a carga\")","v":""}]
[null,{"$f":"IFERROR(IF(A3166=\"\",\"\",IF(VLOOKUP(A3166,'Romaneio da Carga'!E:E,1,0)=BD!A3166,\"Volume Ok\",\"Volume não pertence a carga\")),\"Volume não pertence a carga\")","v":""}]
[null,{"$f":"IFERROR(IF(A3167=\"\",\"\",IF(VLOOKUP(A3167,'Romaneio da Carga'!E:E,1,0)=BD!A3167,\"Volume Ok\",\"Volume não pertence a carga\")),\"Volume não pertence a carga\")","v":""}]
[null,{"$f":"IFERROR(IF(A3168=\"\",\"\",IF(VLOOKUP(A3168,'Romaneio da Carga'!E:E,1,0)=BD!A3168,\"Volume Ok\",\"Volume não pertence a carga\")),\"Volume não pertence a carga\")","v":""}]
[null,{"$f":"IFERROR(IF(A3169=\"\",\"\",IF(VLOOKUP(A3169,'Romaneio da Carga'!E:E,1,0)=BD!A3169,\"Volume Ok\",\"Volume não pertence a carga\")),\"Volume não pertence a carga\")","v":""}]
[null,{"$f":"IFERROR(IF(A3170=\"\",\"\",IF(VLOOKUP(A3170,'Romaneio da Carga'!E:E,1,0)=BD!A3170,\"Volume Ok\",\"Volume não pertence a carga\")),\"Volume não pertence a carga\")","v":""}]
[null,{"$f":"IFERROR(IF(A3171=\"\",\"\",IF(VLOOKUP(A3171,'Romaneio da Carga'!E:E,1,0)=BD!A3171,\"Volume Ok\",\"Volume não pertence a carga\")),\"Volume não pertence a carga\")","v":""}]
[null,{"$f":"IFERROR(IF(A3172=\"\",\"\",IF(VLOOKUP(A3172,'Romaneio da Carga'!E:E,1,0)=BD!A3172,\"Volume Ok\",\"Volume não pertence a carga\")),\"Volume não pertence a carga\")","v":""}]
[null,{"$f":"IFERROR(IF(A3173=\"\",\"\",IF(VLOOKUP(A3173,'Romaneio da Carga'!E:E,1,0)=BD!A3173,\"Volume Ok\",\"Volume não pertence a carga\")),\"Volume não pertence a carga\")","v":""}]
[null,{"$f":"IFERROR(IF(A3174=\"\",\"\",IF(VLOOKUP(A3174,'Romaneio da Carga'!E:E,1,0)=BD!A3174,\"Volume Ok\",\"Volume não pertence a carga\")),\"Volume não pertence a carga\")","v":""}]
[null,{"$f":"IFERROR(IF(A3175=\"\",\"\",IF(VLOOKUP(A3175,'Romaneio da Carga'!E:E,1,0)=BD!A3175,\"Volume Ok\",\"Volume não pertence a carga\")),\"Volume não pertence a carga\")","v":""}]
[null,{"$f":"IFERROR(IF(A3176=\"\",\"\",IF(VLOOKUP(A3176,'Romaneio da Carga'!E:E,1,0)=BD!A3176,\"Volume Ok\",\"Volume não pertence a carga\")),\"Volume não pertence a carga\")","v":""}]
[null,{"$f":"IFERROR(IF(A3177=\"\",\"\",IF(VLOOKUP(A3177,'Romaneio da Carga'!E:E,1,0)=BD!A3177,\"Volume Ok\",\"Volume não pertence a carga\")),\"Volume não pertence a carga\")","v":""}]
[null,{"$f":"IFERROR(IF(A3178=\"\",\"\",IF(VLOOKUP(A3178,'Romaneio da Carga'!E:E,1,0)=BD!A3178,\"Volume Ok\",\"Volume não pertence a carga\")),\"Volume não pertence a carga\")","v":""}]
[null,{"$f":"IFERROR(IF(A3179=\"\",\"\",IF(VLOOKUP(A3179,'Romaneio da Carga'!E:E,1,0)=BD!A3179,\"Volume Ok\",\"Volume não pertence a carga\")),\"Volume não pertence a carga\")","v":""}]
[null,{"$f":"IFERROR(IF(A3180=\"\",\"\",IF(VLOOKUP(A3180,'Romaneio da Carga'!E:E,1,0)=BD!A3180,\"Volume Ok\",\"Volume não pertence a carga\")),\"Volume não pertence a carga\")","v":""}]
[null,{"$f":"IFERROR(IF(A3181=\"\",\"\",IF(VLOOKUP(A3181,'Romaneio da Carga'!E:E,1,0)=BD!A3181,\"Volume Ok\",\"Volume não pertence a carga\")),\"Volume não pertence a carga\")","v":""}]
[null,{"$f":"IFERROR(IF(A3182=\"\",\"\",IF(VLOOKUP(A3182,'Romaneio da Carga'!E:E,1,0)=BD!A3182,\"Volume Ok\",\"Volume não pertence a carga\")),\"Volume não pertence a carga\")","v":""}]
[null,{"$f":"IFERROR(IF(A3183=\"\",\"\",IF(VLOOKUP(A3183,'Romaneio da Carga'!E:E,1,0)=BD!A3183,\"Volume Ok\",\"Volume não pertence a carga\")),\"Volume não pertence a carga\")","v":""}]
[null,{"$f":"IFERROR(IF(A3184=\"\",\"\",IF(VLOOKUP(A3184,'Romaneio da Carga'!E:E,1,0)=BD!A3184,\"Volume Ok\",\"Volume não pertence a carga\")),\"Volume não pertence a carga\")","v":""}]
[null,{"$f":"IFERROR(IF(A3185=\"\",\"\",IF(VLOOKUP(A3185,'Romaneio da Carga'!E:E,1,0)=BD!A3185,\"Volume Ok\",\"Volume não pertence a carga\")),\"Volume não pertence a carga\")","v":""}]
[null,{"$f":"IFERROR(IF(A3186=\"\",\"\",IF(VLOOKUP(A3186,'Romaneio da Carga'!E:E,1,0)=BD!A3186,\"Volume Ok\",\"Volume não pertence a carga\")),\"Volume não pertence a carga\")","v":""}]
[null,{"$f":"IFERROR(IF(A3187=\"\",\"\",IF(VLOOKUP(A3187,'Romaneio da Carga'!E:E,1,0)=BD!A3187,\"Volume Ok\",\"Volume não pertence a carga\")),\"Volume não pertence a carga\")","v":""}]
[null,{"$f":"IFERROR(IF(A3188=\"\",\"\",IF(VLOOKUP(A3188,'Romaneio da Carga'!E:E,1,0)=BD!A3188,\"Volume Ok\",\"Volume não pertence a carga\")),\"Volume não pertence a carga\")","v":""}]
[null,{"$f":"IFERROR(IF(A3189=\"\",\"\",IF(VLOOKUP(A3189,'Romaneio da Carga'!E:E,1,0)=BD!A3189,\"Volume Ok\",\"Volume não pertence a carga\")),\"Volume não pertence a carga\")","v":""}]
[null,{"$f":"IFERROR(IF(A3190=\"\",\"\",IF(VLOOKUP(A3190,'Romaneio da Carga'!E:E,1,0)=BD!A3190,\"Volume Ok\",\"Volume não pertence a carga\")),\"Volume não pertence a carga\")","v":""}]
[null,{"$f":"IFERROR(IF(A3191=\"\",\"\",IF(VLOOKUP(A3191,'Romaneio da Carga'!E:E,1,0)=BD!A3191,\"Volume Ok\",\"Volume não pertence a carga\")),\"Volume não pertence a carga\")","v":""}]
[null,{"$f":"IFERROR(IF(A3192=\"\",\"\",IF(VLOOKUP(A3192,'Romaneio da Carga'!E:E,1,0)=BD!A3192,\"Volume Ok\",\"Volume não pertence a carga\")),\"Volume não pertence a carga\")","v":""}]
[null,{"$f":"IFERROR(IF(A3193=\"\",\"\",IF(VLOOKUP(A3193,'Romaneio da Carga'!E:E,1,0)=BD!A3193,\"Volume Ok\",\"Volume não pertence a carga\")),\"Volume não pertence a carga\")","v":""}]
[null,{"$f":"IFERROR(IF(A3194=\"\",\"\",IF(VLOOKUP(A3194,'Romaneio da Carga'!E:E,1,0)=BD!A3194,\"Volume Ok\",\"Volume não pertence a carga\")),\"Volume não pertence a carga\")","v":""}]
[null,{"$f":"IFERROR(IF(A3195=\"\",\"\",IF(VLOOKUP(A3195,'Romaneio da Carga'!E:E,1,0)=BD!A3195,\"Volume Ok\",\"Volume não pertence a carga\")),\"Volume não pertence a carga\")","v":""}]
[null,{"$f":"IFERROR(IF(A3196=\"\",\"\",IF(VLOOKUP(A3196,'Romaneio da Carga'!E:E,1,0)=BD!A3196,\"Volume Ok\",\"Volume não pertence a carga\")),\"Volume não pertence a carga\")","v":""}]
[null,{"$f":"IFERROR(IF(A3197=\"\",\"\",IF(VLOOKUP(A3197,'Romaneio da Carga'!E:E,1,0)=BD!A3197,\"Volume Ok\",\"Volume não pertence a carga\")),\"Volume não pertence a carga\")","v":""}]
[null,{"$f":"IFERROR(IF(A3198=\"\",\"\",IF(VLOOKUP(A3198,'Romaneio da Carga'!E:E,1,0)=BD!A3198,\"Volume Ok\",\"Volume não pertence a carga\")),\"Volume não pertence a carga\")","v":""}]
[null,{"$f":"IFERROR(IF(A3199=\"\",\"\",IF(VLOOKUP(A3199,'Romaneio da Carga'!E:E,1,0)=BD!A3199,\"Volume Ok\",\"Volume não pertence a carga\")),\"Volume não pertence a carga\")","v":""}]
[null,{"$f":"IFERROR(IF(A3200=\"\",\"\",IF(VLOOKUP(A3200,'Romaneio da Carga'!E:E,1,0)=BD!A3200,\"Volume Ok\",\"Volume não pertence a carga\")),\"Volume não pertence a carga\")","v":""}]
[null,{"$f":"IFERROR(IF(A3201=\"\",\"\",IF(VLOOKUP(A3201,'Romaneio da Carga'!E:E,1,0)=BD!A3201,\"Volume Ok\",\"Volume não pertence a carga\")),\"Volume não pertence a carga\")","v":""}]
[null,{"$f":"IFERROR(IF(A3202=\"\",\"\",IF(VLOOKUP(A3202,'Romaneio da Carga'!E:E,1,0)=BD!A3202,\"Volume Ok\",\"Volume não pertence a carga\")),\"Volume não pertence a carga\")","v":""}]
[null,{"$f":"IFERROR(IF(A3203=\"\",\"\",IF(VLOOKUP(A3203,'Romaneio da Carga'!E:E,1,0)=BD!A3203,\"Volume Ok\",\"Volume não pertence a carga\")),\"Volume não pertence a carga\")","v":""}]
[null,{"$f":"IFERROR(IF(A3204=\"\",\"\",IF(VLOOKUP(A3204,'Romaneio da Carga'!E:E,1,0)=BD!A3204,\"Volume Ok\",\"Volume não pertence a carga\")),\"Volume não pertence a carga\")","v":""}]
[null,{"$f":"IFERROR(IF(A3205=\"\",\"\",IF(VLOOKUP(A3205,'Romaneio da Carga'!E:E,1,0)=BD!A3205,\"Volume Ok\",\"Volume não pertence a carga\")),\"Volume não pertence a carga\")","v":""}]
[null,{"$f":"IFERROR(IF(A3206=\"\",\"\",IF(VLOOKUP(A3206,'Romaneio da Carga'!E:E,1,0)=BD!A3206,\"Volume Ok\",\"Volume não pertence a carga\")),\"Volume não pertence a carga\")","v":""}]
[null,{"$f":"IFERROR(IF(A3207=\"\",\"\",IF(VLOOKUP(A3207,'Romaneio da Carga'!E:E,1,0)=BD!A3207,\"Volume Ok\",\"Volume não pertence a carga\")),\"Volume não pertence a carga\")","v":""}]
[null,{"$f":"IFERROR(IF(A3208=\"\",\"\",IF(VLOOKUP(A3208,'Romaneio da Carga'!E:E,1,0)=BD!A3208,\"Volume Ok\",\"Volume não pertence a carga\")),\"Volume não pertence a carga\")","v":""}]
[null,{"$f":"IFERROR(IF(A3209=\"\",\"\",IF(VLOOKUP(A3209,'Romaneio da Carga'!E:E,1,0)=BD!A3209,\"Volume Ok\",\"Volume não pertence a carga\")),\"Volume não pertence a carga\")","v":""}]
[null,{"$f":"IFERROR(IF(A3210=\"\",\"\",IF(VLOOKUP(A3210,'Romaneio da Carga'!E:E,1,0)=BD!A3210,\"Volume Ok\",\"Volume não pertence a carga\")),\"Volume não pertence a carga\")","v":""}]
[null,{"$f":"IFERROR(IF(A3211=\"\",\"\",IF(VLOOKUP(A3211,'Romaneio da Carga'!E:E,1,0)=BD!A3211,\"Volume Ok\",\"Volume não pertence a carga\")),\"Volume não pertence a carga\")","v":""}]
[null,{"$f":"IFERROR(IF(A3212=\"\",\"\",IF(VLOOKUP(A3212,'Romaneio da Carga'!E:E,1,0)=BD!A3212,\"Volume Ok\",\"Volume não pertence a carga\")),\"Volume não pertence a carga\")","v":""}]
[null,{"$f":"IFERROR(IF(A3213=\"\",\"\",IF(VLOOKUP(A3213,'Romaneio da Carga'!E:E,1,0)=BD!A3213,\"Volume Ok\",\"Volume não pertence a carga\")),\"Volume não pertence a carga\")","v":""}]
[null,{"$f":"IFERROR(IF(A3214=\"\",\"\",IF(VLOOKUP(A3214,'Romaneio da Carga'!E:E,1,0)=BD!A3214,\"Volume Ok\",\"Volume não pertence a carga\")),\"Volume não pertence a carga\")","v":""}]
[null,{"$f":"IFERROR(IF(A3215=\"\",\"\",IF(VLOOKUP(A3215,'Romaneio da Carga'!E:E,1,0)=BD!A3215,\"Volume Ok\",\"Volume não pertence a carga\")),\"Volume não pertence a carga\")","v":""}]
[null,{"$f":"IFERROR(IF(A3216=\"\",\"\",IF(VLOOKUP(A3216,'Romaneio da Carga'!E:E,1,0)=BD!A3216,\"Volume Ok\",\"Volume não pertence a carga\")),\"Volume não pertence a carga\")","v":""}]
[null,{"$f":"IFERROR(IF(A3217=\"\",\"\",IF(VLOOKUP(A3217,'Romaneio da Carga'!E:E,1,0)=BD!A3217,\"Volume Ok\",\"Volume não pertence a carga\")),\"Volume não pertence a carga\")","v":""}]
[null,{"$f":"IFERROR(IF(A3218=\"\",\"\",IF(VLOOKUP(A3218,'Romaneio da Carga'!E:E,1,0)=BD!A3218,\"Volume Ok\",\"Volume não pertence a carga\")),\"Volume não pertence a carga\")","v":""}]
[null,{"$f":"IFERROR(IF(A3219=\"\",\"\",IF(VLOOKUP(A3219,'Romaneio da Carga'!E:E,1,0)=BD!A3219,\"Volume Ok\",\"Volume não pertence a carga\")),\"Volume não pertence a carga\")","v":""}]
[null,{"$f":"IFERROR(IF(A3220=\"\",\"\",IF(VLOOKUP(A3220,'Romaneio da Carga'!E:E,1,0)=BD!A3220,\"Volume Ok\",\"Volume não pertence a carga\")),\"Volume não pertence a carga\")","v":""}]
[null,{"$f":"IFERROR(IF(A3221=\"\",\"\",IF(VLOOKUP(A3221,'Romaneio da Carga'!E:E,1,0)=BD!A3221,\"Volume Ok\",\"Volume não pertence a carga\")),\"Volume não pertence a carga\")","v":""}]
[null,{"$f":"IFERROR(IF(A3222=\"\",\"\",IF(VLOOKUP(A3222,'Romaneio da Carga'!E:E,1,0)=BD!A3222,\"Volume Ok\",\"Volume não pertence a carga\")),\"Volume não pertence a carga\")","v":""}]
[null,{"$f":"IFERROR(IF(A3223=\"\",\"\",IF(VLOOKUP(A3223,'Romaneio da Carga'!E:E,1,0)=BD!A3223,\"Volume Ok\",\"Volume não pertence a carga\")),\"Volume não pertence a carga\")","v":""}]
[null,{"$f":"IFERROR(IF(A3224=\"\",\"\",IF(VLOOKUP(A3224,'Romaneio da Carga'!E:E,1,0)=BD!A3224,\"Volume Ok\",\"Volume não pertence a carga\")),\"Volume não pertence a carga\")","v":""}]
[null,{"$f":"IFERROR(IF(A3225=\"\",\"\",IF(VLOOKUP(A3225,'Romaneio da Carga'!E:E,1,0)=BD!A3225,\"Volume Ok\",\"Volume não pertence a carga\")),\"Volume não pertence a carga\")","v":""}]
[null,{"$f":"IFERROR(IF(A3226=\"\",\"\",IF(VLOOKUP(A3226,'Romaneio da Carga'!E:E,1,0)=BD!A3226,\"Volume Ok\",\"Volume não pertence a carga\")),\"Volume não pertence a carga\")","v":""}]
[null,{"$f":"IFERROR(IF(A3227=\"\",\"\",IF(VLOOKUP(A3227,'Romaneio da Carga'!E:E,1,0)=BD!A3227,\"Volume Ok\",\"Volume não pertence a carga\")),\"Volume não pertence a carga\")","v":""}]
[null,{"$f":"IFERROR(IF(A3228=\"\",\"\",IF(VLOOKUP(A3228,'Romaneio da Carga'!E:E,1,0)=BD!A3228,\"Volume Ok\",\"Volume não pertence a carga\")),\"Volume não pertence a carga\")","v":""}]
[null,{"$f":"IFERROR(IF(A3229=\"\",\"\",IF(VLOOKUP(A3229,'Romaneio da Carga'!E:E,1,0)=BD!A3229,\"Volume Ok\",\"Volume não pertence a carga\")),\"Volume não pertence a carga\")","v":""}]
[null,{"$f":"IFERROR(IF(A3230=\"\",\"\",IF(VLOOKUP(A3230,'Romaneio da Carga'!E:E,1,0)=BD!A3230,\"Volume Ok\",\"Volume não pertence a carga\")),\"Volume não pertence a carga\")","v":""}]
[null,{"$f":"IFERROR(IF(A3231=\"\",\"\",IF(VLOOKUP(A3231,'Romaneio da Carga'!E:E,1,0)=BD!A3231,\"Volume Ok\",\"Volume não pertence a carga\")),\"Volume não pertence a carga\")","v":""}]
[null,{"$f":"IFERROR(IF(A3232=\"\",\"\",IF(VLOOKUP(A3232,'Romaneio da Carga'!E:E,1,0)=BD!A3232,\"Volume Ok\",\"Volume não pertence a carga\")),\"Volume não pertence a carga\")","v":""}]
[null,{"$f":"IFERROR(IF(A3233=\"\",\"\",IF(VLOOKUP(A3233,'Romaneio da Carga'!E:E,1,0)=BD!A3233,\"Volume Ok\",\"Volume não pertence a carga\")),\"Volume não pertence a carga\")","v":""}]
[null,{"$f":"IFERROR(IF(A3234=\"\",\"\",IF(VLOOKUP(A3234,'Romaneio da Carga'!E:E,1,0)=BD!A3234,\"Volume Ok\",\"Volume não pertence a carga\")),\"Volume não pertence a carga\")","v":""}]
[null,{"$f":"IFERROR(IF(A3235=\"\",\"\",IF(VLOOKUP(A3235,'Romaneio da Carga'!E:E,1,0)=BD!A3235,\"Volume Ok\",\"Volume não pertence a carga\")),\"Volume não pertence a carga\")","v":""}]
[null,{"$f":"IFERROR(IF(A3236=\"\",\"\",IF(VLOOKUP(A3236,'Romaneio da Carga'!E:E,1,0)=BD!A3236,\"Volume Ok\",\"Volume não pertence a carga\")),\"Volume não pertence a carga\")","v":""}]
[null,{"$f":"IFERROR(IF(A3237=\"\",\"\",IF(VLOOKUP(A3237,'Romaneio da Carga'!E:E,1,0)=BD!A3237,\"Volume Ok\",\"Volume não pertence a carga\")),\"Volume não pertence a carga\")","v":""}]
[null,{"$f":"IFERROR(IF(A3238=\"\",\"\",IF(VLOOKUP(A3238,'Romaneio da Carga'!E:E,1,0)=BD!A3238,\"Volume Ok\",\"Volume não pertence a carga\")),\"Volume não pertence a carga\")","v":""}]
[null,{"$f":"IFERROR(IF(A3239=\"\",\"\",IF(VLOOKUP(A3239,'Romaneio da Carga'!E:E,1,0)=BD!A3239,\"Volume Ok\",\"Volume não pertence a carga\")),\"Volume não pertence a carga\")","v":""}]
[null,{"$f":"IFERROR(IF(A3240=\"\",\"\",IF(VLOOKUP(A3240,'Romaneio da Carga'!E:E,1,0)=BD!A3240,\"Volume Ok\",\"Volume não pertence a carga\")),\"Volume não pertence a carga\")","v":""}]
[null,{"$f":"IFERROR(IF(A3241=\"\",\"\",IF(VLOOKUP(A3241,'Romaneio da Carga'!E:E,1,0)=BD!A3241,\"Volume Ok\",\"Volume não pertence a carga\")),\"Volume não pertence a carga\")","v":""}]
[null,{"$f":"IFERROR(IF(A3242=\"\",\"\",IF(VLOOKUP(A3242,'Romaneio da Carga'!E:E,1,0)=BD!A3242,\"Volume Ok\",\"Volume não pertence a carga\")),\"Volume não pertence a carga\")","v":""}]
[null,{"$f":"IFERROR(IF(A3243=\"\",\"\",IF(VLOOKUP(A3243,'Romaneio da Carga'!E:E,1,0)=BD!A3243,\"Volume Ok\",\"Volume não pertence a carga\")),\"Volume não pertence a carga\")","v":""}]
[null,{"$f":"IFERROR(IF(A3244=\"\",\"\",IF(VLOOKUP(A3244,'Romaneio da Carga'!E:E,1,0)=BD!A3244,\"Volume Ok\",\"Volume não pertence a carga\")),\"Volume não pertence a carga\")","v":""}]
[null,{"$f":"IFERROR(IF(A3245=\"\",\"\",IF(VLOOKUP(A3245,'Romaneio da Carga'!E:E,1,0)=BD!A3245,\"Volume Ok\",\"Volume não pertence a carga\")),\"Volume não pertence a carga\")","v":""}]
[null,{"$f":"IFERROR(IF(A3246=\"\",\"\",IF(VLOOKUP(A3246,'Romaneio da Carga'!E:E,1,0)=BD!A3246,\"Volume Ok\",\"Volume não pertence a carga\")),\"Volume não pertence a carga\")","v":""}]
[null,{"$f":"IFERROR(IF(A3247=\"\",\"\",IF(VLOOKUP(A3247,'Romaneio da Carga'!E:E,1,0)=BD!A3247,\"Volume Ok\",\"Volume não pertence a carga\")),\"Volume não pertence a carga\")","v":""}]
[null,{"$f":"IFERROR(IF(A3248=\"\",\"\",IF(VLOOKUP(A3248,'Romaneio da Carga'!E:E,1,0)=BD!A3248,\"Volume Ok\",\"Volume não pertence a carga\")),\"Volume não pertence a carga\")","v":""}]
[null,{"$f":"IFERROR(IF(A3249=\"\",\"\",IF(VLOOKUP(A3249,'Romaneio da Carga'!E:E,1,0)=BD!A3249,\"Volume Ok\",\"Volume não pertence a carga\")),\"Volume não pertence a carga\")","v":""}]
[null,{"$f":"IFERROR(IF(A3250=\"\",\"\",IF(VLOOKUP(A3250,'Romaneio da Carga'!E:E,1,0)=BD!A3250,\"Volume Ok\",\"Volume não pertence a carga\")),\"Volume não pertence a carga\")","v":""}]
[null,{"$f":"IFERROR(IF(A3251=\"\",\"\",IF(VLOOKUP(A3251,'Romaneio da Carga'!E:E,1,0)=BD!A3251,\"Volume Ok\",\"Volume não pertence a carga\")),\"Volume não pertence a carga\")","v":""}]
[null,{"$f":"IFERROR(IF(A3252=\"\",\"\",IF(VLOOKUP(A3252,'Romaneio da Carga'!E:E,1,0)=BD!A3252,\"Volume Ok\",\"Volume não pertence a carga\")),\"Volume não pertence a carga\")","v":""}]
[null,{"$f":"IFERROR(IF(A3253=\"\",\"\",IF(VLOOKUP(A3253,'Romaneio da Carga'!E:E,1,0)=BD!A3253,\"Volume Ok\",\"Volume não pertence a carga\")),\"Volume não pertence a carga\")","v":""}]
[null,{"$f":"IFERROR(IF(A3254=\"\",\"\",IF(VLOOKUP(A3254,'Romaneio da Carga'!E:E,1,0)=BD!A3254,\"Volume Ok\",\"Volume não pertence a carga\")),\"Volume não pertence a carga\")","v":""}]
[null,{"$f":"IFERROR(IF(A3255=\"\",\"\",IF(VLOOKUP(A3255,'Romaneio da Carga'!E:E,1,0)=BD!A3255,\"Volume Ok\",\"Volume não pertence a carga\")),\"Volume não pertence a carga\")","v":""}]
[null,{"$f":"IFERROR(IF(A3256=\"\",\"\",IF(VLOOKUP(A3256,'Romaneio da Carga'!E:E,1,0)=BD!A3256,\"Volume Ok\",\"Volume não pertence a carga\")),\"Volume não pertence a carga\")","v":""}]
[null,{"$f":"IFERROR(IF(A3257=\"\",\"\",IF(VLOOKUP(A3257,'Romaneio da Carga'!E:E,1,0)=BD!A3257,\"Volume Ok\",\"Volume não pertence a carga\")),\"Volume não pertence a carga\")","v":""}]
[null,{"$f":"IFERROR(IF(A3258=\"\",\"\",IF(VLOOKUP(A3258,'Romaneio da Carga'!E:E,1,0)=BD!A3258,\"Volume Ok\",\"Volume não pertence a carga\")),\"Volume não pertence a carga\")","v":""}]
[null,{"$f":"IFERROR(IF(A3259=\"\",\"\",IF(VLOOKUP(A3259,'Romaneio da Carga'!E:E,1,0)=BD!A3259,\"Volume Ok\",\"Volume não pertence a carga\")),\"Volume não pertence a carga\")","v":""}]
[null,{"$f":"IFERROR(IF(A3260=\"\",\"\",IF(VLOOKUP(A3260,'Romaneio da Carga'!E:E,1,0)=BD!A3260,\"Volume Ok\",\"Volume não pertence a carga\")),\"Volume não pertence a carga\")","v":""}]
[null,{"$f":"IFERROR(IF(A3261=\"\",\"\",IF(VLOOKUP(A3261,'Romaneio da Carga'!E:E,1,0)=BD!A3261,\"Volume Ok\",\"Volume não pertence a carga\")),\"Volume não pertence a carga\")","v":""}]
[null,{"$f":"IFERROR(IF(A3262=\"\",\"\",IF(VLOOKUP(A3262,'Romaneio da Carga'!E:E,1,0)=BD!A3262,\"Volume Ok\",\"Volume não pertence a carga\")),\"Volume não pertence a carga\")","v":""}]
[null,{"$f":"IFERROR(IF(A3263=\"\",\"\",IF(VLOOKUP(A3263,'Romaneio da Carga'!E:E,1,0)=BD!A3263,\"Volume Ok\",\"Volume não pertence a carga\")),\"Volume não pertence a carga\")","v":""}]
[null,{"$f":"IFERROR(IF(A3264=\"\",\"\",IF(VLOOKUP(A3264,'Romaneio da Carga'!E:E,1,0)=BD!A3264,\"Volume Ok\",\"Volume não pertence a carga\")),\"Volume não pertence a carga\")","v":""}]
[null,{"$f":"IFERROR(IF(A3265=\"\",\"\",IF(VLOOKUP(A3265,'Romaneio da Carga'!E:E,1,0)=BD!A3265,\"Volume Ok\",\"Volume não pertence a carga\")),\"Volume não pertence a carga\")","v":""}]
[null,{"$f":"IFERROR(IF(A3266=\"\",\"\",IF(VLOOKUP(A3266,'Romaneio da Carga'!E:E,1,0)=BD!A3266,\"Volume Ok\",\"Volume não pertence a carga\")),\"Volume não pertence a carga\")","v":""}]
[null,{"$f":"IFERROR(IF(A3267=\"\",\"\",IF(VLOOKUP(A3267,'Romaneio da Carga'!E:E,1,0)=BD!A3267,\"Volume Ok\",\"Volume não pertence a carga\")),\"Volume não pertence a carga\")","v":""}]
[null,{"$f":"IFERROR(IF(A3268=\"\",\"\",IF(VLOOKUP(A3268,'Romaneio da Carga'!E:E,1,0)=BD!A3268,\"Volume Ok\",\"Volume não pertence a carga\")),\"Volume não pertence a carga\")","v":""}]
[null,{"$f":"IFERROR(IF(A3269=\"\",\"\",IF(VLOOKUP(A3269,'Romaneio da Carga'!E:E,1,0)=BD!A3269,\"Volume Ok\",\"Volume não pertence a carga\")),\"Volume não pertence a carga\")","v":""}]
[null,{"$f":"IFERROR(IF(A3270=\"\",\"\",IF(VLOOKUP(A3270,'Romaneio da Carga'!E:E,1,0)=BD!A3270,\"Volume Ok\",\"Volume não pertence a carga\")),\"Volume não pertence a carga\")","v":""}]
[null,{"$f":"IFERROR(IF(A3271=\"\",\"\",IF(VLOOKUP(A3271,'Romaneio da Carga'!E:E,1,0)=BD!A3271,\"Volume Ok\",\"Volume não pertence a carga\")),\"Volume não pertence a carga\")","v":""}]
[null,{"$f":"IFERROR(IF(A3272=\"\",\"\",IF(VLOOKUP(A3272,'Romaneio da Carga'!E:E,1,0)=BD!A3272,\"Volume Ok\",\"Volume não pertence a carga\")),\"Volume não pertence a carga\")","v":""}]
[null,{"$f":"IFERROR(IF(A3273=\"\",\"\",IF(VLOOKUP(A3273,'Romaneio da Carga'!E:E,1,0)=BD!A3273,\"Volume Ok\",\"Volume não pertence a carga\")),\"Volume não pertence a carga\")","v":""}]
[null,{"$f":"IFERROR(IF(A3274=\"\",\"\",IF(VLOOKUP(A3274,'Romaneio da Carga'!E:E,1,0)=BD!A3274,\"Volume Ok\",\"Volume não pertence a carga\")),\"Volume não pertence a carga\")","v":""}]
[null,{"$f":"IFERROR(IF(A3275=\"\",\"\",IF(VLOOKUP(A3275,'Romaneio da Carga'!E:E,1,0)=BD!A3275,\"Volume Ok\",\"Volume não pertence a carga\")),\"Volume não pertence a carga\")","v":""}]
[null,{"$f":"IFERROR(IF(A3276=\"\",\"\",IF(VLOOKUP(A3276,'Romaneio da Carga'!E:E,1,0)=BD!A3276,\"Volume Ok\",\"Volume não pertence a carga\")),\"Volume não pertence a carga\")","v":""}]
[null,{"$f":"IFERROR(IF(A3277=\"\",\"\",IF(VLOOKUP(A3277,'Romaneio da Carga'!E:E,1,0)=BD!A3277,\"Volume Ok\",\"Volume não pertence a carga\")),\"Volume não pertence a carga\")","v":""}]
[null,{"$f":"IFERROR(IF(A3278=\"\",\"\",IF(VLOOKUP(A3278,'Romaneio da Carga'!E:E,1,0)=BD!A3278,\"Volume Ok\",\"Volume não pertence a carga\")),\"Volume não pertence a carga\")","v":""}]
[null,{"$f":"IFERROR(IF(A3279=\"\",\"\",IF(VLOOKUP(A3279,'Romaneio da Carga'!E:E,1,0)=BD!A3279,\"Volume Ok\",\"Volume não pertence a carga\")),\"Volume não pertence a carga\")","v":""}]
[null,{"$f":"IFERROR(IF(A3280=\"\",\"\",IF(VLOOKUP(A3280,'Romaneio da Carga'!E:E,1,0)=BD!A3280,\"Volume Ok\",\"Volume não pertence a carga\")),\"Volume não pertence a carga\")","v":""}]
[null,{"$f":"IFERROR(IF(A3281=\"\",\"\",IF(VLOOKUP(A3281,'Romaneio da Carga'!E:E,1,0)=BD!A3281,\"Volume Ok\",\"Volume não pertence a carga\")),\"Volume não pertence a carga\")","v":""}]
[null,{"$f":"IFERROR(IF(A3282=\"\",\"\",IF(VLOOKUP(A3282,'Romaneio da Carga'!E:E,1,0)=BD!A3282,\"Volume Ok\",\"Volume não pertence a carga\")),\"Volume não pertence a carga\")","v":""}]
[null,{"$f":"IFERROR(IF(A3283=\"\",\"\",IF(VLOOKUP(A3283,'Romaneio da Carga'!E:E,1,0)=BD!A3283,\"Volume Ok\",\"Volume não pertence a carga\")),\"Volume não pertence a carga\")","v":""}]
[null,{"$f":"IFERROR(IF(A3284=\"\",\"\",IF(VLOOKUP(A3284,'Romaneio da Carga'!E:E,1,0)=BD!A3284,\"Volume Ok\",\"Volume não pertence a carga\")),\"Volume não pertence a carga\")","v":""}]
[null,{"$f":"IFERROR(IF(A3285=\"\",\"\",IF(VLOOKUP(A3285,'Romaneio da Carga'!E:E,1,0)=BD!A3285,\"Volume Ok\",\"Volume não pertence a carga\")),\"Volume não pertence a carga\")","v":""}]
[null,{"$f":"IFERROR(IF(A3286=\"\",\"\",IF(VLOOKUP(A3286,'Romaneio da Carga'!E:E,1,0)=BD!A3286,\"Volume Ok\",\"Volume não pertence a carga\")),\"Volume não pertence a carga\")","v":""}]
[null,{"$f":"IFERROR(IF(A3287=\"\",\"\",IF(VLOOKUP(A3287,'Romaneio da Carga'!E:E,1,0)=BD!A3287,\"Volume Ok\",\"Volume não pertence a carga\")),\"Volume não pertence a carga\")","v":""}]
[null,{"$f":"IFERROR(IF(A3288=\"\",\"\",IF(VLOOKUP(A3288,'Romaneio da Carga'!E:E,1,0)=BD!A3288,\"Volume Ok\",\"Volume não pertence a carga\")),\"Volume não pertence a carga\")","v":""}]
[null,{"$f":"IFERROR(IF(A3289=\"\",\"\",IF(VLOOKUP(A3289,'Romaneio da Carga'!E:E,1,0)=BD!A3289,\"Volume Ok\",\"Volume não pertence a carga\")),\"Volume não pertence a carga\")","v":""}]
[null,{"$f":"IFERROR(IF(A3290=\"\",\"\",IF(VLOOKUP(A3290,'Romaneio da Carga'!E:E,1,0)=BD!A3290,\"Volume Ok\",\"Volume não pertence a carga\")),\"Volume não pertence a carga\")","v":""}]
[null,{"$f":"IFERROR(IF(A3291=\"\",\"\",IF(VLOOKUP(A3291,'Romaneio da Carga'!E:E,1,0)=BD!A3291,\"Volume Ok\",\"Volume não pertence a carga\")),\"Volume não pertence a carga\")","v":""}]
[null,{"$f":"IFERROR(IF(A3292=\"\",\"\",IF(VLOOKUP(A3292,'Romaneio da Carga'!E:E,1,0)=BD!A3292,\"Volume Ok\",\"Volume não pertence a carga\")),\"Volume não pertence a carga\")","v":""}]
[null,{"$f":"IFERROR(IF(A3293=\"\",\"\",IF(VLOOKUP(A3293,'Romaneio da Carga'!E:E,1,0)=BD!A3293,\"Volume Ok\",\"Volume não pertence a carga\")),\"Volume não pertence a carga\")","v":""}]
[null,{"$f":"IFERROR(IF(A3294=\"\",\"\",IF(VLOOKUP(A3294,'Romaneio da Carga'!E:E,1,0)=BD!A3294,\"Volume Ok\",\"Volume não pertence a carga\")),\"Volume não pertence a carga\")","v":""}]
[null,{"$f":"IFERROR(IF(A3295=\"\",\"\",IF(VLOOKUP(A3295,'Romaneio da Carga'!E:E,1,0)=BD!A3295,\"Volume Ok\",\"Volume não pertence a carga\")),\"Volume não pertence a carga\")","v":""}]
[null,{"$f":"IFERROR(IF(A3296=\"\",\"\",IF(VLOOKUP(A3296,'Romaneio da Carga'!E:E,1,0)=BD!A3296,\"Volume Ok\",\"Volume não pertence a carga\")),\"Volume não pertence a carga\")","v":""}]
[null,{"$f":"IFERROR(IF(A3297=\"\",\"\",IF(VLOOKUP(A3297,'Romaneio da Carga'!E:E,1,0)=BD!A3297,\"Volume Ok\",\"Volume não pertence a carga\")),\"Volume não pertence a carga\")","v":""}]
[null,{"$f":"IFERROR(IF(A3298=\"\",\"\",IF(VLOOKUP(A3298,'Romaneio da Carga'!E:E,1,0)=BD!A3298,\"Volume Ok\",\"Volume não pertence a carga\")),\"Volume não pertence a carga\")","v":""}]
[null,{"$f":"IFERROR(IF(A3299=\"\",\"\",IF(VLOOKUP(A3299,'Romaneio da Carga'!E:E,1,0)=BD!A3299,\"Volume Ok\",\"Volume não pertence a carga\")),\"Volume não pertence a carga\")","v":""}]
[null,{"$f":"IFERROR(IF(A3300=\"\",\"\",IF(VLOOKUP(A3300,'Romaneio da Carga'!E:E,1,0)=BD!A3300,\"Volume Ok\",\"Volume não pertence a carga\")),\"Volume não pertence a carga\")","v":""}]
[null,{"$f":"IFERROR(IF(A3301=\"\",\"\",IF(VLOOKUP(A3301,'Romaneio da Carga'!E:E,1,0)=BD!A3301,\"Volume Ok\",\"Volume não pertence a carga\")),\"Volume não pertence a carga\")","v":""}]
[null,{"$f":"IFERROR(IF(A3302=\"\",\"\",IF(VLOOKUP(A3302,'Romaneio da Carga'!E:E,1,0)=BD!A3302,\"Volume Ok\",\"Volume não pertence a carga\")),\"Volume não pertence a carga\")","v":""}]
[null,{"$f":"IFERROR(IF(A3303=\"\",\"\",IF(VLOOKUP(A3303,'Romaneio da Carga'!E:E,1,0)=BD!A3303,\"Volume Ok\",\"Volume não pertence a carga\")),\"Volume não pertence a carga\")","v":""}]
[null,{"$f":"IFERROR(IF(A3304=\"\",\"\",IF(VLOOKUP(A3304,'Romaneio da Carga'!E:E,1,0)=BD!A3304,\"Volume Ok\",\"Volume não pertence a carga\")),\"Volume não pertence a carga\")","v":""}]
[null,{"$f":"IFERROR(IF(A3305=\"\",\"\",IF(VLOOKUP(A3305,'Romaneio da Carga'!E:E,1,0)=BD!A3305,\"Volume Ok\",\"Volume não pertence a carga\")),\"Volume não pertence a carga\")","v":""}]
[null,{"$f":"IFERROR(IF(A3306=\"\",\"\",IF(VLOOKUP(A3306,'Romaneio da Carga'!E:E,1,0)=BD!A3306,\"Volume Ok\",\"Volume não pertence a carga\")),\"Volume não pertence a carga\")","v":""}]
[null,{"$f":"IFERROR(IF(A3307=\"\",\"\",IF(VLOOKUP(A3307,'Romaneio da Carga'!E:E,1,0)=BD!A3307,\"Volume Ok\",\"Volume não pertence a carga\")),\"Volume não pertence a carga\")","v":""}]
[null,{"$f":"IFERROR(IF(A3308=\"\",\"\",IF(VLOOKUP(A3308,'Romaneio da Carga'!E:E,1,0)=BD!A3308,\"Volume Ok\",\"Volume não pertence a carga\")),\"Volume não pertence a carga\")","v":""}]
[null,{"$f":"IFERROR(IF(A3309=\"\",\"\",IF(VLOOKUP(A3309,'Romaneio da Carga'!E:E,1,0)=BD!A3309,\"Volume Ok\",\"Volume não pertence a carga\")),\"Volume não pertence a carga\")","v":""}]
[null,{"$f":"IFERROR(IF(A3310=\"\",\"\",IF(VLOOKUP(A3310,'Romaneio da Carga'!E:E,1,0)=BD!A3310,\"Volume Ok\",\"Volume não pertence a carga\")),\"Volume não pertence a carga\")","v":""}]
[null,{"$f":"IFERROR(IF(A3311=\"\",\"\",IF(VLOOKUP(A3311,'Romaneio da Carga'!E:E,1,0)=BD!A3311,\"Volume Ok\",\"Volume não pertence a carga\")),\"Volume não pertence a carga\")","v":""}]
[null,{"$f":"IFERROR(IF(A3312=\"\",\"\",IF(VLOOKUP(A3312,'Romaneio da Carga'!E:E,1,0)=BD!A3312,\"Volume Ok\",\"Volume não pertence a carga\")),\"Volume não pertence a carga\")","v":""}]
[null,{"$f":"IFERROR(IF(A3313=\"\",\"\",IF(VLOOKUP(A3313,'Romaneio da Carga'!E:E,1,0)=BD!A3313,\"Volume Ok\",\"Volume não pertence a carga\")),\"Volume não pertence a carga\")","v":""}]
[null,{"$f":"IFERROR(IF(A3314=\"\",\"\",IF(VLOOKUP(A3314,'Romaneio da Carga'!E:E,1,0)=BD!A3314,\"Volume Ok\",\"Volume não pertence a carga\")),\"Volume não pertence a carga\")","v":""}]
[null,{"$f":"IFERROR(IF(A3315=\"\",\"\",IF(VLOOKUP(A3315,'Romaneio da Carga'!E:E,1,0)=BD!A3315,\"Volume Ok\",\"Volume não pertence a carga\")),\"Volume não pertence a carga\")","v":""}]
[null,{"$f":"IFERROR(IF(A3316=\"\",\"\",IF(VLOOKUP(A3316,'Romaneio da Carga'!E:E,1,0)=BD!A3316,\"Volume Ok\",\"Volume não pertence a carga\")),\"Volume não pertence a carga\")","v":""}]
[null,{"$f":"IFERROR(IF(A3317=\"\",\"\",IF(VLOOKUP(A3317,'Romaneio da Carga'!E:E,1,0)=BD!A3317,\"Volume Ok\",\"Volume não pertence a carga\")),\"Volume não pertence a carga\")","v":""}]
[null,{"$f":"IFERROR(IF(A3318=\"\",\"\",IF(VLOOKUP(A3318,'Romaneio da Carga'!E:E,1,0)=BD!A3318,\"Volume Ok\",\"Volume não pertence a carga\")),\"Volume não pertence a carga\")","v":""}]
[null,{"$f":"IFERROR(IF(A3319=\"\",\"\",IF(VLOOKUP(A3319,'Romaneio da Carga'!E:E,1,0)=BD!A3319,\"Volume Ok\",\"Volume não pertence a carga\")),\"Volume não pertence a carga\")","v":""}]
[null,{"$f":"IFERROR(IF(A3320=\"\",\"\",IF(VLOOKUP(A3320,'Romaneio da Carga'!E:E,1,0)=BD!A3320,\"Volume Ok\",\"Volume não pertence a carga\")),\"Volume não pertence a carga\")","v":""}]
[null,{"$f":"IFERROR(IF(A3321=\"\",\"\",IF(VLOOKUP(A3321,'Romaneio da Carga'!E:E,1,0)=BD!A3321,\"Volume Ok\",\"Volume não pertence a carga\")),\"Volume não pertence a carga\")","v":""}]
[null,{"$f":"IFERROR(IF(A3322=\"\",\"\",IF(VLOOKUP(A3322,'Romaneio da Carga'!E:E,1,0)=BD!A3322,\"Volume Ok\",\"Volume não pertence a carga\")),\"Volume não pertence a carga\")","v":""}]
[null,{"$f":"IFERROR(IF(A3323=\"\",\"\",IF(VLOOKUP(A3323,'Romaneio da Carga'!E:E,1,0)=BD!A3323,\"Volume Ok\",\"Volume não pertence a carga\")),\"Volume não pertence a carga\")","v":""}]
[null,{"$f":"IFERROR(IF(A3324=\"\",\"\",IF(VLOOKUP(A3324,'Romaneio da Carga'!E:E,1,0)=BD!A3324,\"Volume Ok\",\"Volume não pertence a carga\")),\"Volume não pertence a carga\")","v":""}]
[null,{"$f":"IFERROR(IF(A3325=\"\",\"\",IF(VLOOKUP(A3325,'Romaneio da Carga'!E:E,1,0)=BD!A3325,\"Volume Ok\",\"Volume não pertence a carga\")),\"Volume não pertence a carga\")","v":""}]
[null,{"$f":"IFERROR(IF(A3326=\"\",\"\",IF(VLOOKUP(A3326,'Romaneio da Carga'!E:E,1,0)=BD!A3326,\"Volume Ok\",\"Volume não pertence a carga\")),\"Volume não pertence a carga\")","v":""}]
[null,{"$f":"IFERROR(IF(A3327=\"\",\"\",IF(VLOOKUP(A3327,'Romaneio da Carga'!E:E,1,0)=BD!A3327,\"Volume Ok\",\"Volume não pertence a carga\")),\"Volume não pertence a carga\")","v":""}]
[null,{"$f":"IFERROR(IF(A3328=\"\",\"\",IF(VLOOKUP(A3328,'Romaneio da Carga'!E:E,1,0)=BD!A3328,\"Volume Ok\",\"Volume não pertence a carga\")),\"Volume não pertence a carga\")","v":""}]
[null,{"$f":"IFERROR(IF(A3329=\"\",\"\",IF(VLOOKUP(A3329,'Romaneio da Carga'!E:E,1,0)=BD!A3329,\"Volume Ok\",\"Volume não pertence a carga\")),\"Volume não pertence a carga\")","v":""}]
[null,{"$f":"IFERROR(IF(A3330=\"\",\"\",IF(VLOOKUP(A3330,'Romaneio da Carga'!E:E,1,0)=BD!A3330,\"Volume Ok\",\"Volume não pertence a carga\")),\"Volume não pertence a carga\")","v":""}]
[null,{"$f":"IFERROR(IF(A3331=\"\",\"\",IF(VLOOKUP(A3331,'Romaneio da Carga'!E:E,1,0)=BD!A3331,\"Volume Ok\",\"Volume não pertence a carga\")),\"Volume não pertence a carga\")","v":""}]
[null,{"$f":"IFERROR(IF(A3332=\"\",\"\",IF(VLOOKUP(A3332,'Romaneio da Carga'!E:E,1,0)=BD!A3332,\"Volume Ok\",\"Volume não pertence a carga\")),\"Volume não pertence a carga\")","v":""}]
[null,{"$f":"IFERROR(IF(A3333=\"\",\"\",IF(VLOOKUP(A3333,'Romaneio da Carga'!E:E,1,0)=BD!A3333,\"Volume Ok\",\"Volume não pertence a carga\")),\"Volume não pertence a carga\")","v":""}]
[null,{"$f":"IFERROR(IF(A3334=\"\",\"\",IF(VLOOKUP(A3334,'Romaneio da Carga'!E:E,1,0)=BD!A3334,\"Volume Ok\",\"Volume não pertence a carga\")),\"Volume não pertence a carga\")","v":""}]
[null,{"$f":"IFERROR(IF(A3335=\"\",\"\",IF(VLOOKUP(A3335,'Romaneio da Carga'!E:E,1,0)=BD!A3335,\"Volume Ok\",\"Volume não pertence a carga\")),\"Volume não pertence a carga\")","v":""}]
[null,{"$f":"IFERROR(IF(A3336=\"\",\"\",IF(VLOOKUP(A3336,'Romaneio da Carga'!E:E,1,0)=BD!A3336,\"Volume Ok\",\"Volume não pertence a carga\")),\"Volume não pertence a carga\")","v":""}]
[null,{"$f":"IFERROR(IF(A3337=\"\",\"\",IF(VLOOKUP(A3337,'Romaneio da Carga'!E:E,1,0)=BD!A3337,\"Volume Ok\",\"Volume não pertence a carga\")),\"Volume não pertence a carga\")","v":""}]
[null,{"$f":"IFERROR(IF(A3338=\"\",\"\",IF(VLOOKUP(A3338,'Romaneio da Carga'!E:E,1,0)=BD!A3338,\"Volume Ok\",\"Volume não pertence a carga\")),\"Volume não pertence a carga\")","v":""}]
[null,{"$f":"IFERROR(IF(A3339=\"\",\"\",IF(VLOOKUP(A3339,'Romaneio da Carga'!E:E,1,0)=BD!A3339,\"Volume Ok\",\"Volume não pertence a carga\")),\"Volume não pertence a carga\")","v":""}]
[null,{"$f":"IFERROR(IF(A3340=\"\",\"\",IF(VLOOKUP(A3340,'Romaneio da Carga'!E:E,1,0)=BD!A3340,\"Volume Ok\",\"Volume não pertence a carga\")),\"Volume não pertence a carga\")","v":""}]
[null,{"$f":"IFERROR(IF(A3341=\"\",\"\",IF(VLOOKUP(A3341,'Romaneio da Carga'!E:E,1,0)=BD!A3341,\"Volume Ok\",\"Volume não pertence a carga\")),\"Volume não pertence a carga\")","v":""}]
[null,{"$f":"IFERROR(IF(A3342=\"\",\"\",IF(VLOOKUP(A3342,'Romaneio da Carga'!E:E,1,0)=BD!A3342,\"Volume Ok\",\"Volume não pertence a carga\")),\"Volume não pertence a carga\")","v":""}]
[null,{"$f":"IFERROR(IF(A3343=\"\",\"\",IF(VLOOKUP(A3343,'Romaneio da Carga'!E:E,1,0)=BD!A3343,\"Volume Ok\",\"Volume não pertence a carga\")),\"Volume não pertence a carga\")","v":""}]
[null,{"$f":"IFERROR(IF(A3344=\"\",\"\",IF(VLOOKUP(A3344,'Romaneio da Carga'!E:E,1,0)=BD!A3344,\"Volume Ok\",\"Volume não pertence a carga\")),\"Volume não pertence a carga\")","v":""}]
[null,{"$f":"IFERROR(IF(A3345=\"\",\"\",IF(VLOOKUP(A3345,'Romaneio da Carga'!E:E,1,0)=BD!A3345,\"Volume Ok\",\"Volume não pertence a carga\")),\"Volume não pertence a carga\")","v":""}]
[null,{"$f":"IFERROR(IF(A3346=\"\",\"\",IF(VLOOKUP(A3346,'Romaneio da Carga'!E:E,1,0)=BD!A3346,\"Volume Ok\",\"Volume não pertence a carga\")),\"Volume não pertence a carga\")","v":""}]
[null,{"$f":"IFERROR(IF(A3347=\"\",\"\",IF(VLOOKUP(A3347,'Romaneio da Carga'!E:E,1,0)=BD!A3347,\"Volume Ok\",\"Volume não pertence a carga\")),\"Volume não pertence a carga\")","v":""}]
[null,{"$f":"IFERROR(IF(A3348=\"\",\"\",IF(VLOOKUP(A3348,'Romaneio da Carga'!E:E,1,0)=BD!A3348,\"Volume Ok\",\"Volume não pertence a carga\")),\"Volume não pertence a carga\")","v":""}]
[null,{"$f":"IFERROR(IF(A3349=\"\",\"\",IF(VLOOKUP(A3349,'Romaneio da Carga'!E:E,1,0)=BD!A3349,\"Volume Ok\",\"Volume não pertence a carga\")),\"Volume não pertence a carga\")","v":""}]
[null,{"$f":"IFERROR(IF(A3350=\"\",\"\",IF(VLOOKUP(A3350,'Romaneio da Carga'!E:E,1,0)=BD!A3350,\"Volume Ok\",\"Volume não pertence a carga\")),\"Volume não pertence a carga\")","v":""}]
[null,{"$f":"IFERROR(IF(A3351=\"\",\"\",IF(VLOOKUP(A3351,'Romaneio da Carga'!E:E,1,0)=BD!A3351,\"Volume Ok\",\"Volume não pertence a carga\")),\"Volume não pertence a carga\")","v":""}]
[null,{"$f":"IFERROR(IF(A3352=\"\",\"\",IF(VLOOKUP(A3352,'Romaneio da Carga'!E:E,1,0)=BD!A3352,\"Volume Ok\",\"Volume não pertence a carga\")),\"Volume não pertence a carga\")","v":""}]
[null,{"$f":"IFERROR(IF(A3353=\"\",\"\",IF(VLOOKUP(A3353,'Romaneio da Carga'!E:E,1,0)=BD!A3353,\"Volume Ok\",\"Volume não pertence a carga\")),\"Volume não pertence a carga\")","v":""}]
[null,{"$f":"IFERROR(IF(A3354=\"\",\"\",IF(VLOOKUP(A3354,'Romaneio da Carga'!E:E,1,0)=BD!A3354,\"Volume Ok\",\"Volume não pertence a carga\")),\"Volume não pertence a carga\")","v":""}]
[null,{"$f":"IFERROR(IF(A3355=\"\",\"\",IF(VLOOKUP(A3355,'Romaneio da Carga'!E:E,1,0)=BD!A3355,\"Volume Ok\",\"Volume não pertence a carga\")),\"Volume não pertence a carga\")","v":""}]
[null,{"$f":"IFERROR(IF(A3356=\"\",\"\",IF(VLOOKUP(A3356,'Romaneio da Carga'!E:E,1,0)=BD!A3356,\"Volume Ok\",\"Volume não pertence a carga\")),\"Volume não pertence a carga\")","v":""}]
[null,{"$f":"IFERROR(IF(A3357=\"\",\"\",IF(VLOOKUP(A3357,'Romaneio da Carga'!E:E,1,0)=BD!A3357,\"Volume Ok\",\"Volume não pertence a carga\")),\"Volume não pertence a carga\")","v":""}]
[null,{"$f":"IFERROR(IF(A3358=\"\",\"\",IF(VLOOKUP(A3358,'Romaneio da Carga'!E:E,1,0)=BD!A3358,\"Volume Ok\",\"Volume não pertence a carga\")),\"Volume não pertence a carga\")","v":""}]
[null,{"$f":"IFERROR(IF(A3359=\"\",\"\",IF(VLOOKUP(A3359,'Romaneio da Carga'!E:E,1,0)=BD!A3359,\"Volume Ok\",\"Volume não pertence a carga\")),\"Volume não pertence a carga\")","v":""}]
[null,{"$f":"IFERROR(IF(A3360=\"\",\"\",IF(VLOOKUP(A3360,'Romaneio da Carga'!E:E,1,0)=BD!A3360,\"Volume Ok\",\"Volume não pertence a carga\")),\"Volume não pertence a carga\")","v":""}]
[null,{"$f":"IFERROR(IF(A3361=\"\",\"\",IF(VLOOKUP(A3361,'Romaneio da Carga'!E:E,1,0)=BD!A3361,\"Volume Ok\",\"Volume não pertence a carga\")),\"Volume não pertence a carga\")","v":""}]
[null,{"$f":"IFERROR(IF(A3362=\"\",\"\",IF(VLOOKUP(A3362,'Romaneio da Carga'!E:E,1,0)=BD!A3362,\"Volume Ok\",\"Volume não pertence a carga\")),\"Volume não pertence a carga\")","v":""}]
[null,{"$f":"IFERROR(IF(A3363=\"\",\"\",IF(VLOOKUP(A3363,'Romaneio da Carga'!E:E,1,0)=BD!A3363,\"Volume Ok\",\"Volume não pertence a carga\")),\"Volume não pertence a carga\")","v":""}]
[null,{"$f":"IFERROR(IF(A3364=\"\",\"\",IF(VLOOKUP(A3364,'Romaneio da Carga'!E:E,1,0)=BD!A3364,\"Volume Ok\",\"Volume não pertence a carga\")),\"Volume não pertence a carga\")","v":""}]
[null,{"$f":"IFERROR(IF(A3365=\"\",\"\",IF(VLOOKUP(A3365,'Romaneio da Carga'!E:E,1,0)=BD!A3365,\"Volume Ok\",\"Volume não pertence a carga\")),\"Volume não pertence a carga\")","v":""}]
[null,{"$f":"IFERROR(IF(A3366=\"\",\"\",IF(VLOOKUP(A3366,'Romaneio da Carga'!E:E,1,0)=BD!A3366,\"Volume Ok\",\"Volume não pertence a carga\")),\"Volume não pertence a carga\")","v":""}]
[null,{"$f":"IFERROR(IF(A3367=\"\",\"\",IF(VLOOKUP(A3367,'Romaneio da Carga'!E:E,1,0)=BD!A3367,\"Volume Ok\",\"Volume não pertence a carga\")),\"Volume não pertence a carga\")","v":""}]
[null,{"$f":"IFERROR(IF(A3368=\"\",\"\",IF(VLOOKUP(A3368,'Romaneio da Carga'!E:E,1,0)=BD!A3368,\"Volume Ok\",\"Volume não pertence a carga\")),\"Volume não pertence a carga\")","v":""}]
[null,{"$f":"IFERROR(IF(A3369=\"\",\"\",IF(VLOOKUP(A3369,'Romaneio da Carga'!E:E,1,0)=BD!A3369,\"Volume Ok\",\"Volume não pertence a carga\")),\"Volume não pertence a carga\")","v":""}]
[null,{"$f":"IFERROR(IF(A3370=\"\",\"\",IF(VLOOKUP(A3370,'Romaneio da Carga'!E:E,1,0)=BD!A3370,\"Volume Ok\",\"Volume não pertence a carga\")),\"Volume não pertence a carga\")","v":""}]
[null,{"$f":"IFERROR(IF(A3371=\"\",\"\",IF(VLOOKUP(A3371,'Romaneio da Carga'!E:E,1,0)=BD!A3371,\"Volume Ok\",\"Volume não pertence a carga\")),\"Volume não pertence a carga\")","v":""}]
[null,{"$f":"IFERROR(IF(A3372=\"\",\"\",IF(VLOOKUP(A3372,'Romaneio da Carga'!E:E,1,0)=BD!A3372,\"Volume Ok\",\"Volume não pertence a carga\")),\"Volume não pertence a carga\")","v":""}]
[null,{"$f":"IFERROR(IF(A3373=\"\",\"\",IF(VLOOKUP(A3373,'Romaneio da Carga'!E:E,1,0)=BD!A3373,\"Volume Ok\",\"Volume não pertence a carga\")),\"Volume não pertence a carga\")","v":""}]
[null,{"$f":"IFERROR(IF(A3374=\"\",\"\",IF(VLOOKUP(A3374,'Romaneio da Carga'!E:E,1,0)=BD!A3374,\"Volume Ok\",\"Volume não pertence a carga\")),\"Volume não pertence a carga\")","v":""}]
[null,{"$f":"IFERROR(IF(A3375=\"\",\"\",IF(VLOOKUP(A3375,'Romaneio da Carga'!E:E,1,0)=BD!A3375,\"Volume Ok\",\"Volume não pertence a carga\")),\"Volume não pertence a carga\")","v":""}]
[null,{"$f":"IFERROR(IF(A3376=\"\",\"\",IF(VLOOKUP(A3376,'Romaneio da Carga'!E:E,1,0)=BD!A3376,\"Volume Ok\",\"Volume não pertence a carga\")),\"Volume não pertence a carga\")","v":""}]
[null,{"$f":"IFERROR(IF(A3377=\"\",\"\",IF(VLOOKUP(A3377,'Romaneio da Carga'!E:E,1,0)=BD!A3377,\"Volume Ok\",\"Volume não pertence a carga\")),\"Volume não pertence a carga\")","v":""}]
[null,{"$f":"IFERROR(IF(A3378=\"\",\"\",IF(VLOOKUP(A3378,'Romaneio da Carga'!E:E,1,0)=BD!A3378,\"Volume Ok\",\"Volume não pertence a carga\")),\"Volume não pertence a carga\")","v":""}]
[null,{"$f":"IFERROR(IF(A3379=\"\",\"\",IF(VLOOKUP(A3379,'Romaneio da Carga'!E:E,1,0)=BD!A3379,\"Volume Ok\",\"Volume não pertence a carga\")),\"Volume não pertence a carga\")","v":""}]
[null,{"$f":"IFERROR(IF(A3380=\"\",\"\",IF(VLOOKUP(A3380,'Romaneio da Carga'!E:E,1,0)=BD!A3380,\"Volume Ok\",\"Volume não pertence a carga\")),\"Volume não pertence a carga\")","v":""}]
[null,{"$f":"IFERROR(IF(A3381=\"\",\"\",IF(VLOOKUP(A3381,'Romaneio da Carga'!E:E,1,0)=BD!A3381,\"Volume Ok\",\"Volume não pertence a carga\")),\"Volume não pertence a carga\")","v":""}]
[null,{"$f":"IFERROR(IF(A3382=\"\",\"\",IF(VLOOKUP(A3382,'Romaneio da Carga'!E:E,1,0)=BD!A3382,\"Volume Ok\",\"Volume não pertence a carga\")),\"Volume não pertence a carga\")","v":""}]
[null,{"$f":"IFERROR(IF(A3383=\"\",\"\",IF(VLOOKUP(A3383,'Romaneio da Carga'!E:E,1,0)=BD!A3383,\"Volume Ok\",\"Volume não pertence a carga\")),\"Volume não pertence a carga\")","v":""}]
[null,{"$f":"IFERROR(IF(A3384=\"\",\"\",IF(VLOOKUP(A3384,'Romaneio da Carga'!E:E,1,0)=BD!A3384,\"Volume Ok\",\"Volume não pertence a carga\")),\"Volume não pertence a carga\")","v":""}]
[null,{"$f":"IFERROR(IF(A3385=\"\",\"\",IF(VLOOKUP(A3385,'Romaneio da Carga'!E:E,1,0)=BD!A3385,\"Volume Ok\",\"Volume não pertence a carga\")),\"Volume não pertence a carga\")","v":""}]
[null,{"$f":"IFERROR(IF(A3386=\"\",\"\",IF(VLOOKUP(A3386,'Romaneio da Carga'!E:E,1,0)=BD!A3386,\"Volume Ok\",\"Volume não pertence a carga\")),\"Volume não pertence a carga\")","v":""}]
[null,{"$f":"IFERROR(IF(A3387=\"\",\"\",IF(VLOOKUP(A3387,'Romaneio da Carga'!E:E,1,0)=BD!A3387,\"Volume Ok\",\"Volume não pertence a carga\")),\"Volume não pertence a carga\")","v":""}]
[null,{"$f":"IFERROR(IF(A3388=\"\",\"\",IF(VLOOKUP(A3388,'Romaneio da Carga'!E:E,1,0)=BD!A3388,\"Volume Ok\",\"Volume não pertence a carga\")),\"Volume não pertence a carga\")","v":""}]
[null,{"$f":"IFERROR(IF(A3389=\"\",\"\",IF(VLOOKUP(A3389,'Romaneio da Carga'!E:E,1,0)=BD!A3389,\"Volume Ok\",\"Volume não pertence a carga\")),\"Volume não pertence a carga\")","v":""}]
[null,{"$f":"IFERROR(IF(A3390=\"\",\"\",IF(VLOOKUP(A3390,'Romaneio da Carga'!E:E,1,0)=BD!A3390,\"Volume Ok\",\"Volume não pertence a carga\")),\"Volume não pertence a carga\")","v":""}]
[null,{"$f":"IFERROR(IF(A3391=\"\",\"\",IF(VLOOKUP(A3391,'Romaneio da Carga'!E:E,1,0)=BD!A3391,\"Volume Ok\",\"Volume não pertence a carga\")),\"Volume não pertence a carga\")","v":""}]
[null,{"$f":"IFERROR(IF(A3392=\"\",\"\",IF(VLOOKUP(A3392,'Romaneio da Carga'!E:E,1,0)=BD!A3392,\"Volume Ok\",\"Volume não pertence a carga\")),\"Volume não pertence a carga\")","v":""}]
[null,{"$f":"IFERROR(IF(A3393=\"\",\"\",IF(VLOOKUP(A3393,'Romaneio da Carga'!E:E,1,0)=BD!A3393,\"Volume Ok\",\"Volume não pertence a carga\")),\"Volume não pertence a carga\")","v":""}]
[null,{"$f":"IFERROR(IF(A3394=\"\",\"\",IF(VLOOKUP(A3394,'Romaneio da Carga'!E:E,1,0)=BD!A3394,\"Volume Ok\",\"Volume não pertence a carga\")),\"Volume não pertence a carga\")","v":""}]
[null,{"$f":"IFERROR(IF(A3395=\"\",\"\",IF(VLOOKUP(A3395,'Romaneio da Carga'!E:E,1,0)=BD!A3395,\"Volume Ok\",\"Volume não pertence a carga\")),\"Volume não pertence a carga\")","v":""}]
[null,{"$f":"IFERROR(IF(A3396=\"\",\"\",IF(VLOOKUP(A3396,'Romaneio da Carga'!E:E,1,0)=BD!A3396,\"Volume Ok\",\"Volume não pertence a carga\")),\"Volume não pertence a carga\")","v":""}]
[null,{"$f":"IFERROR(IF(A3397=\"\",\"\",IF(VLOOKUP(A3397,'Romaneio da Carga'!E:E,1,0)=BD!A3397,\"Volume Ok\",\"Volume não pertence a carga\")),\"Volume não pertence a carga\")","v":""}]
[null,{"$f":"IFERROR(IF(A3398=\"\",\"\",IF(VLOOKUP(A3398,'Romaneio da Carga'!E:E,1,0)=BD!A3398,\"Volume Ok\",\"Volume não pertence a carga\")),\"Volume não pertence a carga\")","v":""}]
[null,{"$f":"IFERROR(IF(A3399=\"\",\"\",IF(VLOOKUP(A3399,'Romaneio da Carga'!E:E,1,0)=BD!A3399,\"Volume Ok\",\"Volume não pertence a carga\")),\"Volume não pertence a carga\")","v":""}]
[null,{"$f":"IFERROR(IF(A3400=\"\",\"\",IF(VLOOKUP(A3400,'Romaneio da Carga'!E:E,1,0)=BD!A3400,\"Volume Ok\",\"Volume não pertence a carga\")),\"Volume não pertence a carga\")","v":""}]
[null,{"$f":"IFERROR(IF(A3401=\"\",\"\",IF(VLOOKUP(A3401,'Romaneio da Carga'!E:E,1,0)=BD!A3401,\"Volume Ok\",\"Volume não pertence a carga\")),\"Volume não pertence a carga\")","v":""}]
[null,{"$f":"IFERROR(IF(A3402=\"\",\"\",IF(VLOOKUP(A3402,'Romaneio da Carga'!E:E,1,0)=BD!A3402,\"Volume Ok\",\"Volume não pertence a carga\")),\"Volume não pertence a carga\")","v":""}]
[null,{"$f":"IFERROR(IF(A3403=\"\",\"\",IF(VLOOKUP(A3403,'Romaneio da Carga'!E:E,1,0)=BD!A3403,\"Volume Ok\",\"Volume não pertence a carga\")),\"Volume não pertence a carga\")","v":""}]
[null,{"$f":"IFERROR(IF(A3404=\"\",\"\",IF(VLOOKUP(A3404,'Romaneio da Carga'!E:E,1,0)=BD!A3404,\"Volume Ok\",\"Volume não pertence a carga\")),\"Volume não pertence a carga\")","v":""}]
[null,{"$f":"IFERROR(IF(A3405=\"\",\"\",IF(VLOOKUP(A3405,'Romaneio da Carga'!E:E,1,0)=BD!A3405,\"Volume Ok\",\"Volume não pertence a carga\")),\"Volume não pertence a carga\")","v":""}]
[null,{"$f":"IFERROR(IF(A3406=\"\",\"\",IF(VLOOKUP(A3406,'Romaneio da Carga'!E:E,1,0)=BD!A3406,\"Volume Ok\",\"Volume não pertence a carga\")),\"Volume não pertence a carga\")","v":""}]
[null,{"$f":"IFERROR(IF(A3407=\"\",\"\",IF(VLOOKUP(A3407,'Romaneio da Carga'!E:E,1,0)=BD!A3407,\"Volume Ok\",\"Volume não pertence a carga\")),\"Volume não pertence a carga\")","v":""}]
[null,{"$f":"IFERROR(IF(A3408=\"\",\"\",IF(VLOOKUP(A3408,'Romaneio da Carga'!E:E,1,0)=BD!A3408,\"Volume Ok\",\"Volume não pertence a carga\")),\"Volume não pertence a carga\")","v":""}]
[null,{"$f":"IFERROR(IF(A3409=\"\",\"\",IF(VLOOKUP(A3409,'Romaneio da Carga'!E:E,1,0)=BD!A3409,\"Volume Ok\",\"Volume não pertence a carga\")),\"Volume não pertence a carga\")","v":""}]
[null,{"$f":"IFERROR(IF(A3410=\"\",\"\",IF(VLOOKUP(A3410,'Romaneio da Carga'!E:E,1,0)=BD!A3410,\"Volume Ok\",\"Volume não pertence a carga\")),\"Volume não pertence a carga\")","v":""}]
[null,{"$f":"IFERROR(IF(A3411=\"\",\"\",IF(VLOOKUP(A3411,'Romaneio da Carga'!E:E,1,0)=BD!A3411,\"Volume Ok\",\"Volume não pertence a carga\")),\"Volume não pertence a carga\")","v":""}]
[null,{"$f":"IFERROR(IF(A3412=\"\",\"\",IF(VLOOKUP(A3412,'Romaneio da Carga'!E:E,1,0)=BD!A3412,\"Volume Ok\",\"Volume não pertence a carga\")),\"Volume não pertence a carga\")","v":""}]
[null,{"$f":"IFERROR(IF(A3413=\"\",\"\",IF(VLOOKUP(A3413,'Romaneio da Carga'!E:E,1,0)=BD!A3413,\"Volume Ok\",\"Volume não pertence a carga\")),\"Volume não pertence a carga\")","v":""}]
[null,{"$f":"IFERROR(IF(A3414=\"\",\"\",IF(VLOOKUP(A3414,'Romaneio da Carga'!E:E,1,0)=BD!A3414,\"Volume Ok\",\"Volume não pertence a carga\")),\"Volume não pertence a carga\")","v":""}]
[null,{"$f":"IFERROR(IF(A3415=\"\",\"\",IF(VLOOKUP(A3415,'Romaneio da Carga'!E:E,1,0)=BD!A3415,\"Volume Ok\",\"Volume não pertence a carga\")),\"Volume não pertence a carga\")","v":""}]
[null,{"$f":"IFERROR(IF(A3416=\"\",\"\",IF(VLOOKUP(A3416,'Romaneio da Carga'!E:E,1,0)=BD!A3416,\"Volume Ok\",\"Volume não pertence a carga\")),\"Volume não pertence a carga\")","v":""}]
[null,{"$f":"IFERROR(IF(A3417=\"\",\"\",IF(VLOOKUP(A3417,'Romaneio da Carga'!E:E,1,0)=BD!A3417,\"Volume Ok\",\"Volume não pertence a carga\")),\"Volume não pertence a carga\")","v":""}]
[null,{"$f":"IFERROR(IF(A3418=\"\",\"\",IF(VLOOKUP(A3418,'Romaneio da Carga'!E:E,1,0)=BD!A3418,\"Volume Ok\",\"Volume não pertence a carga\")),\"Volume não pertence a carga\")","v":""}]
[null,{"$f":"IFERROR(IF(A3419=\"\",\"\",IF(VLOOKUP(A3419,'Romaneio da Carga'!E:E,1,0)=BD!A3419,\"Volume Ok\",\"Volume não pertence a carga\")),\"Volume não pertence a carga\")","v":""}]
[null,{"$f":"IFERROR(IF(A3420=\"\",\"\",IF(VLOOKUP(A3420,'Romaneio da Carga'!E:E,1,0)=BD!A3420,\"Volume Ok\",\"Volume não pertence a carga\")),\"Volume não pertence a carga\")","v":""}]
[null,{"$f":"IFERROR(IF(A3421=\"\",\"\",IF(VLOOKUP(A3421,'Romaneio da Carga'!E:E,1,0)=BD!A3421,\"Volume Ok\",\"Volume não pertence a carga\")),\"Volume não pertence a carga\")","v":""}]
[null,{"$f":"IFERROR(IF(A3422=\"\",\"\",IF(VLOOKUP(A3422,'Romaneio da Carga'!E:E,1,0)=BD!A3422,\"Volume Ok\",\"Volume não pertence a carga\")),\"Volume não pertence a carga\")","v":""}]
[null,{"$f":"IFERROR(IF(A3423=\"\",\"\",IF(VLOOKUP(A3423,'Romaneio da Carga'!E:E,1,0)=BD!A3423,\"Volume Ok\",\"Volume não pertence a carga\")),\"Volume não pertence a carga\")","v":""}]
[null,{"$f":"IFERROR(IF(A3424=\"\",\"\",IF(VLOOKUP(A3424,'Romaneio da Carga'!E:E,1,0)=BD!A3424,\"Volume Ok\",\"Volume não pertence a carga\")),\"Volume não pertence a carga\")","v":""}]
[null,{"$f":"IFERROR(IF(A3425=\"\",\"\",IF(VLOOKUP(A3425,'Romaneio da Carga'!E:E,1,0)=BD!A3425,\"Volume Ok\",\"Volume não pertence a carga\")),\"Volume não pertence a carga\")","v":""}]
[null,{"$f":"IFERROR(IF(A3426=\"\",\"\",IF(VLOOKUP(A3426,'Romaneio da Carga'!E:E,1,0)=BD!A3426,\"Volume Ok\",\"Volume não pertence a carga\")),\"Volume não pertence a carga\")","v":""}]
[null,{"$f":"IFERROR(IF(A3427=\"\",\"\",IF(VLOOKUP(A3427,'Romaneio da Carga'!E:E,1,0)=BD!A3427,\"Volume Ok\",\"Volume não pertence a carga\")),\"Volume não pertence a carga\")","v":""}]
[null,{"$f":"IFERROR(IF(A3428=\"\",\"\",IF(VLOOKUP(A3428,'Romaneio da Carga'!E:E,1,0)=BD!A3428,\"Volume Ok\",\"Volume não pertence a carga\")),\"Volume não pertence a carga\")","v":""}]
[null,{"$f":"IFERROR(IF(A3429=\"\",\"\",IF(VLOOKUP(A3429,'Romaneio da Carga'!E:E,1,0)=BD!A3429,\"Volume Ok\",\"Volume não pertence a carga\")),\"Volume não pertence a carga\")","v":""}]
[null,{"$f":"IFERROR(IF(A3430=\"\",\"\",IF(VLOOKUP(A3430,'Romaneio da Carga'!E:E,1,0)=BD!A3430,\"Volume Ok\",\"Volume não pertence a carga\")),\"Volume não pertence a carga\")","v":""}]
[null,{"$f":"IFERROR(IF(A3431=\"\",\"\",IF(VLOOKUP(A3431,'Romaneio da Carga'!E:E,1,0)=BD!A3431,\"Volume Ok\",\"Volume não pertence a carga\")),\"Volume não pertence a carga\")","v":""}]
[null,{"$f":"IFERROR(IF(A3432=\"\",\"\",IF(VLOOKUP(A3432,'Romaneio da Carga'!E:E,1,0)=BD!A3432,\"Volume Ok\",\"Volume não pertence a carga\")),\"Volume não pertence a carga\")","v":""}]
[null,{"$f":"IFERROR(IF(A3433=\"\",\"\",IF(VLOOKUP(A3433,'Romaneio da Carga'!E:E,1,0)=BD!A3433,\"Volume Ok\",\"Volume não pertence a carga\")),\"Volume não pertence a carga\")","v":""}]
[null,{"$f":"IFERROR(IF(A3434=\"\",\"\",IF(VLOOKUP(A3434,'Romaneio da Carga'!E:E,1,0)=BD!A3434,\"Volume Ok\",\"Volume não pertence a carga\")),\"Volume não pertence a carga\")","v":""}]
[null,{"$f":"IFERROR(IF(A3435=\"\",\"\",IF(VLOOKUP(A3435,'Romaneio da Carga'!E:E,1,0)=BD!A3435,\"Volume Ok\",\"Volume não pertence a carga\")),\"Volume não pertence a carga\")","v":""}]
[null,{"$f":"IFERROR(IF(A3436=\"\",\"\",IF(VLOOKUP(A3436,'Romaneio da Carga'!E:E,1,0)=BD!A3436,\"Volume Ok\",\"Volume não pertence a carga\")),\"Volume não pertence a carga\")","v":""}]
[null,{"$f":"IFERROR(IF(A3437=\"\",\"\",IF(VLOOKUP(A3437,'Romaneio da Carga'!E:E,1,0)=BD!A3437,\"Volume Ok\",\"Volume não pertence a carga\")),\"Volume não pertence a carga\")","v":""}]
[null,{"$f":"IFERROR(IF(A3438=\"\",\"\",IF(VLOOKUP(A3438,'Romaneio da Carga'!E:E,1,0)=BD!A3438,\"Volume Ok\",\"Volume não pertence a carga\")),\"Volume não pertence a carga\")","v":""}]
[null,{"$f":"IFERROR(IF(A3439=\"\",\"\",IF(VLOOKUP(A3439,'Romaneio da Carga'!E:E,1,0)=BD!A3439,\"Volume Ok\",\"Volume não pertence a carga\")),\"Volume não pertence a carga\")","v":""}]
[null,{"$f":"IFERROR(IF(A3440=\"\",\"\",IF(VLOOKUP(A3440,'Romaneio da Carga'!E:E,1,0)=BD!A3440,\"Volume Ok\",\"Volume não pertence a carga\")),\"Volume não pertence a carga\")","v":""}]
[null,{"$f":"IFERROR(IF(A3441=\"\",\"\",IF(VLOOKUP(A3441,'Romaneio da Carga'!E:E,1,0)=BD!A3441,\"Volume Ok\",\"Volume não pertence a carga\")),\"Volume não pertence a carga\")","v":""}]
[null,{"$f":"IFERROR(IF(A3442=\"\",\"\",IF(VLOOKUP(A3442,'Romaneio da Carga'!E:E,1,0)=BD!A3442,\"Volume Ok\",\"Volume não pertence a carga\")),\"Volume não pertence a carga\")","v":""}]
[null,{"$f":"IFERROR(IF(A3443=\"\",\"\",IF(VLOOKUP(A3443,'Romaneio da Carga'!E:E,1,0)=BD!A3443,\"Volume Ok\",\"Volume não pertence a carga\")),\"Volume não pertence a carga\")","v":""}]
[null,{"$f":"IFERROR(IF(A3444=\"\",\"\",IF(VLOOKUP(A3444,'Romaneio da Carga'!E:E,1,0)=BD!A3444,\"Volume Ok\",\"Volume não pertence a carga\")),\"Volume não pertence a carga\")","v":""}]
[null,{"$f":"IFERROR(IF(A3445=\"\",\"\",IF(VLOOKUP(A3445,'Romaneio da Carga'!E:E,1,0)=BD!A3445,\"Volume Ok\",\"Volume não pertence a carga\")),\"Volume não pertence a carga\")","v":""}]
[null,{"$f":"IFERROR(IF(A3446=\"\",\"\",IF(VLOOKUP(A3446,'Romaneio da Carga'!E:E,1,0)=BD!A3446,\"Volume Ok\",\"Volume não pertence a carga\")),\"Volume não pertence a carga\")","v":""}]
[null,{"$f":"IFERROR(IF(A3447=\"\",\"\",IF(VLOOKUP(A3447,'Romaneio da Carga'!E:E,1,0)=BD!A3447,\"Volume Ok\",\"Volume não pertence a carga\")),\"Volume não pertence a carga\")","v":""}]
[null,{"$f":"IFERROR(IF(A3448=\"\",\"\",IF(VLOOKUP(A3448,'Romaneio da Carga'!E:E,1,0)=BD!A3448,\"Volume Ok\",\"Volume não pertence a carga\")),\"Volume não pertence a carga\")","v":""}]
[null,{"$f":"IFERROR(IF(A3449=\"\",\"\",IF(VLOOKUP(A3449,'Romaneio da Carga'!E:E,1,0)=BD!A3449,\"Volume Ok\",\"Volume não pertence a carga\")),\"Volume não pertence a carga\")","v":""}]
[null,{"$f":"IFERROR(IF(A3450=\"\",\"\",IF(VLOOKUP(A3450,'Romaneio da Carga'!E:E,1,0)=BD!A3450,\"Volume Ok\",\"Volume não pertence a carga\")),\"Volume não pertence a carga\")","v":""}]
[null,{"$f":"IFERROR(IF(A3451=\"\",\"\",IF(VLOOKUP(A3451,'Romaneio da Carga'!E:E,1,0)=BD!A3451,\"Volume Ok\",\"Volume não pertence a carga\")),\"Volume não pertence a carga\")","v":""}]
[null,{"$f":"IFERROR(IF(A3452=\"\",\"\",IF(VLOOKUP(A3452,'Romaneio da Carga'!E:E,1,0)=BD!A3452,\"Volume Ok\",\"Volume não pertence a carga\")),\"Volume não pertence a carga\")","v":""}]
[null,{"$f":"IFERROR(IF(A3453=\"\",\"\",IF(VLOOKUP(A3453,'Romaneio da Carga'!E:E,1,0)=BD!A3453,\"Volume Ok\",\"Volume não pertence a carga\")),\"Volume não pertence a carga\")","v":""}]
[null,{"$f":"IFERROR(IF(A3454=\"\",\"\",IF(VLOOKUP(A3454,'Romaneio da Carga'!E:E,1,0)=BD!A3454,\"Volume Ok\",\"Volume não pertence a carga\")),\"Volume não pertence a carga\")","v":""}]
[null,{"$f":"IFERROR(IF(A3455=\"\",\"\",IF(VLOOKUP(A3455,'Romaneio da Carga'!E:E,1,0)=BD!A3455,\"Volume Ok\",\"Volume não pertence a carga\")),\"Volume não pertence a carga\")","v":""}]
[null,{"$f":"IFERROR(IF(A3456=\"\",\"\",IF(VLOOKUP(A3456,'Romaneio da Carga'!E:E,1,0)=BD!A3456,\"Volume Ok\",\"Volume não pertence a carga\")),\"Volume não pertence a carga\")","v":""}]
[null,{"$f":"IFERROR(IF(A3457=\"\",\"\",IF(VLOOKUP(A3457,'Romaneio da Carga'!E:E,1,0)=BD!A3457,\"Volume Ok\",\"Volume não pertence a carga\")),\"Volume não pertence a carga\")","v":""}]
[null,{"$f":"IFERROR(IF(A3458=\"\",\"\",IF(VLOOKUP(A3458,'Romaneio da Carga'!E:E,1,0)=BD!A3458,\"Volume Ok\",\"Volume não pertence a carga\")),\"Volume não pertence a carga\")","v":""}]
[null,{"$f":"IFERROR(IF(A3459=\"\",\"\",IF(VLOOKUP(A3459,'Romaneio da Carga'!E:E,1,0)=BD!A3459,\"Volume Ok\",\"Volume não pertence a carga\")),\"Volume não pertence a carga\")","v":""}]
[null,{"$f":"IFERROR(IF(A3460=\"\",\"\",IF(VLOOKUP(A3460,'Romaneio da Carga'!E:E,1,0)=BD!A3460,\"Volume Ok\",\"Volume não pertence a carga\")),\"Volume não pertence a carga\")","v":""}]
[null,{"$f":"IFERROR(IF(A3461=\"\",\"\",IF(VLOOKUP(A3461,'Romaneio da Carga'!E:E,1,0)=BD!A3461,\"Volume Ok\",\"Volume não pertence a carga\")),\"Volume não pertence a carga\")","v":""}]
[null,{"$f":"IFERROR(IF(A3462=\"\",\"\",IF(VLOOKUP(A3462,'Romaneio da Carga'!E:E,1,0)=BD!A3462,\"Volume Ok\",\"Volume não pertence a carga\")),\"Volume não pertence a carga\")","v":""}]
[null,{"$f":"IFERROR(IF(A3463=\"\",\"\",IF(VLOOKUP(A3463,'Romaneio da Carga'!E:E,1,0)=BD!A3463,\"Volume Ok\",\"Volume não pertence a carga\")),\"Volume não pertence a carga\")","v":""}]
[null,{"$f":"IFERROR(IF(A3464=\"\",\"\",IF(VLOOKUP(A3464,'Romaneio da Carga'!E:E,1,0)=BD!A3464,\"Volume Ok\",\"Volume não pertence a carga\")),\"Volume não pertence a carga\")","v":""}]
[null,{"$f":"IFERROR(IF(A3465=\"\",\"\",IF(VLOOKUP(A3465,'Romaneio da Carga'!E:E,1,0)=BD!A3465,\"Volume Ok\",\"Volume não pertence a carga\")),\"Volume não pertence a carga\")","v":""}]
[null,{"$f":"IFERROR(IF(A3466=\"\",\"\",IF(VLOOKUP(A3466,'Romaneio da Carga'!E:E,1,0)=BD!A3466,\"Volume Ok\",\"Volume não pertence a carga\")),\"Volume não pertence a carga\")","v":""}]
[null,{"$f":"IFERROR(IF(A3467=\"\",\"\",IF(VLOOKUP(A3467,'Romaneio da Carga'!E:E,1,0)=BD!A3467,\"Volume Ok\",\"Volume não pertence a carga\")),\"Volume não pertence a carga\")","v":""}]
[null,{"$f":"IFERROR(IF(A3468=\"\",\"\",IF(VLOOKUP(A3468,'Romaneio da Carga'!E:E,1,0)=BD!A3468,\"Volume Ok\",\"Volume não pertence a carga\")),\"Volume não pertence a carga\")","v":""}]
[null,{"$f":"IFERROR(IF(A3469=\"\",\"\",IF(VLOOKUP(A3469,'Romaneio da Carga'!E:E,1,0)=BD!A3469,\"Volume Ok\",\"Volume não pertence a carga\")),\"Volume não pertence a carga\")","v":""}]
[null,{"$f":"IFERROR(IF(A3470=\"\",\"\",IF(VLOOKUP(A3470,'Romaneio da Carga'!E:E,1,0)=BD!A3470,\"Volume Ok\",\"Volume não pertence a carga\")),\"Volume não pertence a carga\")","v":""}]
[null,{"$f":"IFERROR(IF(A3471=\"\",\"\",IF(VLOOKUP(A3471,'Romaneio da Carga'!E:E,1,0)=BD!A3471,\"Volume Ok\",\"Volume não pertence a carga\")),\"Volume não pertence a carga\")","v":""}]
[null,{"$f":"IFERROR(IF(A3472=\"\",\"\",IF(VLOOKUP(A3472,'Romaneio da Carga'!E:E,1,0)=BD!A3472,\"Volume Ok\",\"Volume não pertence a carga\")),\"Volume não pertence a carga\")","v":""}]
[null,{"$f":"IFERROR(IF(A3473=\"\",\"\",IF(VLOOKUP(A3473,'Romaneio da Carga'!E:E,1,0)=BD!A3473,\"Volume Ok\",\"Volume não pertence a carga\")),\"Volume não pertence a carga\")","v":""}]
[null,{"$f":"IFERROR(IF(A3474=\"\",\"\",IF(VLOOKUP(A3474,'Romaneio da Carga'!E:E,1,0)=BD!A3474,\"Volume Ok\",\"Volume não pertence a carga\")),\"Volume não pertence a carga\")","v":""}]
[null,{"$f":"IFERROR(IF(A3475=\"\",\"\",IF(VLOOKUP(A3475,'Romaneio da Carga'!E:E,1,0)=BD!A3475,\"Volume Ok\",\"Volume não pertence a carga\")),\"Volume não pertence a carga\")","v":""}]
[null,{"$f":"IFERROR(IF(A3476=\"\",\"\",IF(VLOOKUP(A3476,'Romaneio da Carga'!E:E,1,0)=BD!A3476,\"Volume Ok\",\"Volume não pertence a carga\")),\"Volume não pertence a carga\")","v":""}]
[null,{"$f":"IFERROR(IF(A3477=\"\",\"\",IF(VLOOKUP(A3477,'Romaneio da Carga'!E:E,1,0)=BD!A3477,\"Volume Ok\",\"Volume não pertence a carga\")),\"Volume não pertence a carga\")","v":""}]
[null,{"$f":"IFERROR(IF(A3478=\"\",\"\",IF(VLOOKUP(A3478,'Romaneio da Carga'!E:E,1,0)=BD!A3478,\"Volume Ok\",\"Volume não pertence a carga\")),\"Volume não pertence a carga\")","v":""}]
[null,{"$f":"IFERROR(IF(A3479=\"\",\"\",IF(VLOOKUP(A3479,'Romaneio da Carga'!E:E,1,0)=BD!A3479,\"Volume Ok\",\"Volume não pertence a carga\")),\"Volume não pertence a carga\")","v":""}]
[null,{"$f":"IFERROR(IF(A3480=\"\",\"\",IF(VLOOKUP(A3480,'Romaneio da Carga'!E:E,1,0)=BD!A3480,\"Volume Ok\",\"Volume não pertence a carga\")),\"Volume não pertence a carga\")","v":""}]
[null,{"$f":"IFERROR(IF(A3481=\"\",\"\",IF(VLOOKUP(A3481,'Romaneio da Carga'!E:E,1,0)=BD!A3481,\"Volume Ok\",\"Volume não pertence a carga\")),\"Volume não pertence a carga\")","v":""}]
[null,{"$f":"IFERROR(IF(A3482=\"\",\"\",IF(VLOOKUP(A3482,'Romaneio da Carga'!E:E,1,0)=BD!A3482,\"Volume Ok\",\"Volume não pertence a carga\")),\"Volume não pertence a carga\")","v":""}]
[null,{"$f":"IFERROR(IF(A3483=\"\",\"\",IF(VLOOKUP(A3483,'Romaneio da Carga'!E:E,1,0)=BD!A3483,\"Volume Ok\",\"Volume não pertence a carga\")),\"Volume não pertence a carga\")","v":""}]
[null,{"$f":"IFERROR(IF(A3484=\"\",\"\",IF(VLOOKUP(A3484,'Romaneio da Carga'!E:E,1,0)=BD!A3484,\"Volume Ok\",\"Volume não pertence a carga\")),\"Volume não pertence a carga\")","v":""}]
[null,{"$f":"IFERROR(IF(A3485=\"\",\"\",IF(VLOOKUP(A3485,'Romaneio da Carga'!E:E,1,0)=BD!A3485,\"Volume Ok\",\"Volume não pertence a carga\")),\"Volume não pertence a carga\")","v":""}]
[null,{"$f":"IFERROR(IF(A3486=\"\",\"\",IF(VLOOKUP(A3486,'Romaneio da Carga'!E:E,1,0)=BD!A3486,\"Volume Ok\",\"Volume não pertence a carga\")),\"Volume não pertence a carga\")","v":""}]
[null,{"$f":"IFERROR(IF(A3487=\"\",\"\",IF(VLOOKUP(A3487,'Romaneio da Carga'!E:E,1,0)=BD!A3487,\"Volume Ok\",\"Volume não pertence a carga\")),\"Volume não pertence a carga\")","v":""}]
[null,{"$f":"IFERROR(IF(A3488=\"\",\"\",IF(VLOOKUP(A3488,'Romaneio da Carga'!E:E,1,0)=BD!A3488,\"Volume Ok\",\"Volume não pertence a carga\")),\"Volume não pertence a carga\")","v":""}]
[null,{"$f":"IFERROR(IF(A3489=\"\",\"\",IF(VLOOKUP(A3489,'Romaneio da Carga'!E:E,1,0)=BD!A3489,\"Volume Ok\",\"Volume não pertence a carga\")),\"Volume não pertence a carga\")","v":""}]
[null,{"$f":"IFERROR(IF(A3490=\"\",\"\",IF(VLOOKUP(A3490,'Romaneio da Carga'!E:E,1,0)=BD!A3490,\"Volume Ok\",\"Volume não pertence a carga\")),\"Volume não pertence a carga\")","v":""}]
[null,{"$f":"IFERROR(IF(A3491=\"\",\"\",IF(VLOOKUP(A3491,'Romaneio da Carga'!E:E,1,0)=BD!A3491,\"Volume Ok\",\"Volume não pertence a carga\")),\"Volume não pertence a carga\")","v":""}]
[null,{"$f":"IFERROR(IF(A3492=\"\",\"\",IF(VLOOKUP(A3492,'Romaneio da Carga'!E:E,1,0)=BD!A3492,\"Volume Ok\",\"Volume não pertence a carga\")),\"Volume não pertence a carga\")","v":""}]
[null,{"$f":"IFERROR(IF(A3493=\"\",\"\",IF(VLOOKUP(A3493,'Romaneio da Carga'!E:E,1,0)=BD!A3493,\"Volume Ok\",\"Volume não pertence a carga\")),\"Volume não pertence a carga\")","v":""}]
[null,{"$f":"IFERROR(IF(A3494=\"\",\"\",IF(VLOOKUP(A3494,'Romaneio da Carga'!E:E,1,0)=BD!A3494,\"Volume Ok\",\"Volume não pertence a carga\")),\"Volume não pertence a carga\")","v":""}]
[null,{"$f":"IFERROR(IF(A3495=\"\",\"\",IF(VLOOKUP(A3495,'Romaneio da Carga'!E:E,1,0)=BD!A3495,\"Volume Ok\",\"Volume não pertence a carga\")),\"Volume não pertence a carga\")","v":""}]
[null,{"$f":"IFERROR(IF(A3496=\"\",\"\",IF(VLOOKUP(A3496,'Romaneio da Carga'!E:E,1,0)=BD!A3496,\"Volume Ok\",\"Volume não pertence a carga\")),\"Volume não pertence a carga\")","v":""}]
[null,{"$f":"IFERROR(IF(A3497=\"\",\"\",IF(VLOOKUP(A3497,'Romaneio da Carga'!E:E,1,0)=BD!A3497,\"Volume Ok\",\"Volume não pertence a carga\")),\"Volume não pertence a carga\")","v":""}]
[null,{"$f":"IFERROR(IF(A3498=\"\",\"\",IF(VLOOKUP(A3498,'Romaneio da Carga'!E:E,1,0)=BD!A3498,\"Volume Ok\",\"Volume não pertence a carga\")),\"Volume não pertence a carga\")","v":""}]
[null,{"$f":"IFERROR(IF(A3499=\"\",\"\",IF(VLOOKUP(A3499,'Romaneio da Carga'!E:E,1,0)=BD!A3499,\"Volume Ok\",\"Volume não pertence a carga\")),\"Volume não pertence a carga\")","v":""}]
[null,{"$f":"IFERROR(IF(A3500=\"\",\"\",IF(VLOOKUP(A3500,'Romaneio da Carga'!E:E,1,0)=BD!A3500,\"Volume Ok\",\"Volume não pertence a carga\")),\"Volume não pertence a carga\")","v":""}]
[null,{"$f":"IFERROR(IF(A3501=\"\",\"\",IF(VLOOKUP(A3501,'Romaneio da Carga'!E:E,1,0)=BD!A3501,\"Volume Ok\",\"Volume não pertence a carga\")),\"Volume não pertence a carga\")","v":""}]
[null,{"$f":"IFERROR(IF(A3502=\"\",\"\",IF(VLOOKUP(A3502,'Romaneio da Carga'!E:E,1,0)=BD!A3502,\"Volume Ok\",\"Volume não pertence a carga\")),\"Volume não pertence a carga\")","v":""}]
[null,{"$f":"IFERROR(IF(A3503=\"\",\"\",IF(VLOOKUP(A3503,'Romaneio da Carga'!E:E,1,0)=BD!A3503,\"Volume Ok\",\"Volume não pertence a carga\")),\"Volume não pertence a carga\")","v":""}]
[null,{"$f":"IFERROR(IF(A3504=\"\",\"\",IF(VLOOKUP(A3504,'Romaneio da Carga'!E:E,1,0)=BD!A3504,\"Volume Ok\",\"Volume não pertence a carga\")),\"Volume não pertence a carga\")","v":""}]
[null,{"$f":"IFERROR(IF(A3505=\"\",\"\",IF(VLOOKUP(A3505,'Romaneio da Carga'!E:E,1,0)=BD!A3505,\"Volume Ok\",\"Volume não pertence a carga\")),\"Volume não pertence a carga\")","v":""}]
[null,{"$f":"IFERROR(IF(A3506=\"\",\"\",IF(VLOOKUP(A3506,'Romaneio da Carga'!E:E,1,0)=BD!A3506,\"Volume Ok\",\"Volume não pertence a carga\")),\"Volume não pertence a carga\")","v":""}]
[null,{"$f":"IFERROR(IF(A3507=\"\",\"\",IF(VLOOKUP(A3507,'Romaneio da Carga'!E:E,1,0)=BD!A3507,\"Volume Ok\",\"Volume não pertence a carga\")),\"Volume não pertence a carga\")","v":""}]
[null,{"$f":"IFERROR(IF(A3508=\"\",\"\",IF(VLOOKUP(A3508,'Romaneio da Carga'!E:E,1,0)=BD!A3508,\"Volume Ok\",\"Volume não pertence a carga\")),\"Volume não pertence a carga\")","v":""}]
[null,{"$f":"IFERROR(IF(A3509=\"\",\"\",IF(VLOOKUP(A3509,'Romaneio da Carga'!E:E,1,0)=BD!A3509,\"Volume Ok\",\"Volume não pertence a carga\")),\"Volume não pertence a carga\")","v":""}]
[null,{"$f":"IFERROR(IF(A3510=\"\",\"\",IF(VLOOKUP(A3510,'Romaneio da Carga'!E:E,1,0)=BD!A3510,\"Volume Ok\",\"Volume não pertence a carga\")),\"Volume não pertence a carga\")","v":""}]
[null,{"$f":"IFERROR(IF(A3511=\"\",\"\",IF(VLOOKUP(A3511,'Romaneio da Carga'!E:E,1,0)=BD!A3511,\"Volume Ok\",\"Volume não pertence a carga\")),\"Volume não pertence a carga\")","v":""}]
[null,{"$f":"IFERROR(IF(A3512=\"\",\"\",IF(VLOOKUP(A3512,'Romaneio da Carga'!E:E,1,0)=BD!A3512,\"Volume Ok\",\"Volume não pertence a carga\")),\"Volume não pertence a carga\")","v":""}]
[null,{"$f":"IFERROR(IF(A3513=\"\",\"\",IF(VLOOKUP(A3513,'Romaneio da Carga'!E:E,1,0)=BD!A3513,\"Volume Ok\",\"Volume não pertence a carga\")),\"Volume não pertence a carga\")","v":""}]
[null,{"$f":"IFERROR(IF(A3514=\"\",\"\",IF(VLOOKUP(A3514,'Romaneio da Carga'!E:E,1,0)=BD!A3514,\"Volume Ok\",\"Volume não pertence a carga\")),\"Volume não pertence a carga\")","v":""}]
[null,{"$f":"IFERROR(IF(A3515=\"\",\"\",IF(VLOOKUP(A3515,'Romaneio da Carga'!E:E,1,0)=BD!A3515,\"Volume Ok\",\"Volume não pertence a carga\")),\"Volume não pertence a carga\")","v":""}]
[null,{"$f":"IFERROR(IF(A3516=\"\",\"\",IF(VLOOKUP(A3516,'Romaneio da Carga'!E:E,1,0)=BD!A3516,\"Volume Ok\",\"Volume não pertence a carga\")),\"Volume não pertence a carga\")","v":""}]
[null,{"$f":"IFERROR(IF(A3517=\"\",\"\",IF(VLOOKUP(A3517,'Romaneio da Carga'!E:E,1,0)=BD!A3517,\"Volume Ok\",\"Volume não pertence a carga\")),\"Volume não pertence a carga\")","v":""}]
[null,{"$f":"IFERROR(IF(A3518=\"\",\"\",IF(VLOOKUP(A3518,'Romaneio da Carga'!E:E,1,0)=BD!A3518,\"Volume Ok\",\"Volume não pertence a carga\")),\"Volume não pertence a carga\")","v":""}]
[null,{"$f":"IFERROR(IF(A3519=\"\",\"\",IF(VLOOKUP(A3519,'Romaneio da Carga'!E:E,1,0)=BD!A3519,\"Volume Ok\",\"Volume não pertence a carga\")),\"Volume não pertence a carga\")","v":""}]
[null,{"$f":"IFERROR(IF(A3520=\"\",\"\",IF(VLOOKUP(A3520,'Romaneio da Carga'!E:E,1,0)=BD!A3520,\"Volume Ok\",\"Volume não pertence a carga\")),\"Volume não pertence a carga\")","v":""}]
[null,{"$f":"IFERROR(IF(A3521=\"\",\"\",IF(VLOOKUP(A3521,'Romaneio da Carga'!E:E,1,0)=BD!A3521,\"Volume Ok\",\"Volume não pertence a carga\")),\"Volume não pertence a carga\")","v":""}]
[null,{"$f":"IFERROR(IF(A3522=\"\",\"\",IF(VLOOKUP(A3522,'Romaneio da Carga'!E:E,1,0)=BD!A3522,\"Volume Ok\",\"Volume não pertence a carga\")),\"Volume não pertence a carga\")","v":""}]
[null,{"$f":"IFERROR(IF(A3523=\"\",\"\",IF(VLOOKUP(A3523,'Romaneio da Carga'!E:E,1,0)=BD!A3523,\"Volume Ok\",\"Volume não pertence a carga\")),\"Volume não pertence a carga\")","v":""}]
[null,{"$f":"IFERROR(IF(A3524=\"\",\"\",IF(VLOOKUP(A3524,'Romaneio da Carga'!E:E,1,0)=BD!A3524,\"Volume Ok\",\"Volume não pertence a carga\")),\"Volume não pertence a carga\")","v":""}]
[null,{"$f":"IFERROR(IF(A3525=\"\",\"\",IF(VLOOKUP(A3525,'Romaneio da Carga'!E:E,1,0)=BD!A3525,\"Volume Ok\",\"Volume não pertence a carga\")),\"Volume não pertence a carga\")","v":""}]
[null,{"$f":"IFERROR(IF(A3526=\"\",\"\",IF(VLOOKUP(A3526,'Romaneio da Carga'!E:E,1,0)=BD!A3526,\"Volume Ok\",\"Volume não pertence a carga\")),\"Volume não pertence a carga\")","v":""}]
[null,{"$f":"IFERROR(IF(A3527=\"\",\"\",IF(VLOOKUP(A3527,'Romaneio da Carga'!E:E,1,0)=BD!A3527,\"Volume Ok\",\"Volume não pertence a carga\")),\"Volume não pertence a carga\")","v":""}]
[null,{"$f":"IFERROR(IF(A3528=\"\",\"\",IF(VLOOKUP(A3528,'Romaneio da Carga'!E:E,1,0)=BD!A3528,\"Volume Ok\",\"Volume não pertence a carga\")),\"Volume não pertence a carga\")","v":""}]
[null,{"$f":"IFERROR(IF(A3529=\"\",\"\",IF(VLOOKUP(A3529,'Romaneio da Carga'!E:E,1,0)=BD!A3529,\"Volume Ok\",\"Volume não pertence a carga\")),\"Volume não pertence a carga\")","v":""}]
[null,{"$f":"IFERROR(IF(A3530=\"\",\"\",IF(VLOOKUP(A3530,'Romaneio da Carga'!E:E,1,0)=BD!A3530,\"Volume Ok\",\"Volume não pertence a carga\")),\"Volume não pertence a carga\")","v":""}]
[null,{"$f":"IFERROR(IF(A3531=\"\",\"\",IF(VLOOKUP(A3531,'Romaneio da Carga'!E:E,1,0)=BD!A3531,\"Volume Ok\",\"Volume não pertence a carga\")),\"Volume não pertence a carga\")","v":""}]
[null,{"$f":"IFERROR(IF(A3532=\"\",\"\",IF(VLOOKUP(A3532,'Romaneio da Carga'!E:E,1,0)=BD!A3532,\"Volume Ok\",\"Volume não pertence a carga\")),\"Volume não pertence a carga\")","v":""}]
[null,{"$f":"IFERROR(IF(A3533=\"\",\"\",IF(VLOOKUP(A3533,'Romaneio da Carga'!E:E,1,0)=BD!A3533,\"Volume Ok\",\"Volume não pertence a carga\")),\"Volume não pertence a carga\")","v":""}]
[null,{"$f":"IFERROR(IF(A3534=\"\",\"\",IF(VLOOKUP(A3534,'Romaneio da Carga'!E:E,1,0)=BD!A3534,\"Volume Ok\",\"Volume não pertence a carga\")),\"Volume não pertence a carga\")","v":""}]
[null,{"$f":"IFERROR(IF(A3535=\"\",\"\",IF(VLOOKUP(A3535,'Romaneio da Carga'!E:E,1,0)=BD!A3535,\"Volume Ok\",\"Volume não pertence a carga\")),\"Volume não pertence a carga\")","v":""}]
[null,{"$f":"IFERROR(IF(A3536=\"\",\"\",IF(VLOOKUP(A3536,'Romaneio da Carga'!E:E,1,0)=BD!A3536,\"Volume Ok\",\"Volume não pertence a carga\")),\"Volume não pertence a carga\")","v":""}]
[null,{"$f":"IFERROR(IF(A3537=\"\",\"\",IF(VLOOKUP(A3537,'Romaneio da Carga'!E:E,1,0)=BD!A3537,\"Volume Ok\",\"Volume não pertence a carga\")),\"Volume não pertence a carga\")","v":""}]
[null,{"$f":"IFERROR(IF(A3538=\"\",\"\",IF(VLOOKUP(A3538,'Romaneio da Carga'!E:E,1,0)=BD!A3538,\"Volume Ok\",\"Volume não pertence a carga\")),\"Volume não pertence a carga\")","v":""}]
[null,{"$f":"IFERROR(IF(A3539=\"\",\"\",IF(VLOOKUP(A3539,'Romaneio da Carga'!E:E,1,0)=BD!A3539,\"Volume Ok\",\"Volume não pertence a carga\")),\"Volume não pertence a carga\")","v":""}]
[null,{"$f":"IFERROR(IF(A3540=\"\",\"\",IF(VLOOKUP(A3540,'Romaneio da Carga'!E:E,1,0)=BD!A3540,\"Volume Ok\",\"Volume não pertence a carga\")),\"Volume não pertence a carga\")","v":""}]
[null,{"$f":"IFERROR(IF(A3541=\"\",\"\",IF(VLOOKUP(A3541,'Romaneio da Carga'!E:E,1,0)=BD!A3541,\"Volume Ok\",\"Volume não pertence a carga\")),\"Volume não pertence a carga\")","v":""}]
[null,{"$f":"IFERROR(IF(A3542=\"\",\"\",IF(VLOOKUP(A3542,'Romaneio da Carga'!E:E,1,0)=BD!A3542,\"Volume Ok\",\"Volume não pertence a carga\")),\"Volume não pertence a carga\")","v":""}]
[null,{"$f":"IFERROR(IF(A3543=\"\",\"\",IF(VLOOKUP(A3543,'Romaneio da Carga'!E:E,1,0)=BD!A3543,\"Volume Ok\",\"Volume não pertence a carga\")),\"Volume não pertence a carga\")","v":""}]
[null,{"$f":"IFERROR(IF(A3544=\"\",\"\",IF(VLOOKUP(A3544,'Romaneio da Carga'!E:E,1,0)=BD!A3544,\"Volume Ok\",\"Volume não pertence a carga\")),\"Volume não pertence a carga\")","v":""}]
[null,{"$f":"IFERROR(IF(A3545=\"\",\"\",IF(VLOOKUP(A3545,'Romaneio da Carga'!E:E,1,0)=BD!A3545,\"Volume Ok\",\"Volume não pertence a carga\")),\"Volume não pertence a carga\")","v":""}]
[null,{"$f":"IFERROR(IF(A3546=\"\",\"\",IF(VLOOKUP(A3546,'Romaneio da Carga'!E:E,1,0)=BD!A3546,\"Volume Ok\",\"Volume não pertence a carga\")),\"Volume não pertence a carga\")","v":""}]
[null,{"$f":"IFERROR(IF(A3547=\"\",\"\",IF(VLOOKUP(A3547,'Romaneio da Carga'!E:E,1,0)=BD!A3547,\"Volume Ok\",\"Volume não pertence a carga\")),\"Volume não pertence a carga\")","v":""}]
[null,{"$f":"IFERROR(IF(A3548=\"\",\"\",IF(VLOOKUP(A3548,'Romaneio da Carga'!E:E,1,0)=BD!A3548,\"Volume Ok\",\"Volume não pertence a carga\")),\"Volume não pertence a carga\")","v":""}]
[null,{"$f":"IFERROR(IF(A3549=\"\",\"\",IF(VLOOKUP(A3549,'Romaneio da Carga'!E:E,1,0)=BD!A3549,\"Volume Ok\",\"Volume não pertence a carga\")),\"Volume não pertence a carga\")","v":""}]
[null,{"$f":"IFERROR(IF(A3550=\"\",\"\",IF(VLOOKUP(A3550,'Romaneio da Carga'!E:E,1,0)=BD!A3550,\"Volume Ok\",\"Volume não pertence a carga\")),\"Volume não pertence a carga\")","v":""}]
[null,{"$f":"IFERROR(IF(A3551=\"\",\"\",IF(VLOOKUP(A3551,'Romaneio da Carga'!E:E,1,0)=BD!A3551,\"Volume Ok\",\"Volume não pertence a carga\")),\"Volume não pertence a carga\")","v":""}]
[null,{"$f":"IFERROR(IF(A3552=\"\",\"\",IF(VLOOKUP(A3552,'Romaneio da Carga'!E:E,1,0)=BD!A3552,\"Volume Ok\",\"Volume não pertence a carga\")),\"Volume não pertence a carga\")","v":""}]
[null,{"$f":"IFERROR(IF(A3553=\"\",\"\",IF(VLOOKUP(A3553,'Romaneio da Carga'!E:E,1,0)=BD!A3553,\"Volume Ok\",\"Volume não pertence a carga\")),\"Volume não pertence a carga\")","v":""}]
[null,{"$f":"IFERROR(IF(A3554=\"\",\"\",IF(VLOOKUP(A3554,'Romaneio da Carga'!E:E,1,0)=BD!A3554,\"Volume Ok\",\"Volume não pertence a carga\")),\"Volume não pertence a carga\")","v":""}]
[null,{"$f":"IFERROR(IF(A3555=\"\",\"\",IF(VLOOKUP(A3555,'Romaneio da Carga'!E:E,1,0)=BD!A3555,\"Volume Ok\",\"Volume não pertence a carga\")),\"Volume não pertence a carga\")","v":""}]
[null,{"$f":"IFERROR(IF(A3556=\"\",\"\",IF(VLOOKUP(A3556,'Romaneio da Carga'!E:E,1,0)=BD!A3556,\"Volume Ok\",\"Volume não pertence a carga\")),\"Volume não pertence a carga\")","v":""}]
[null,{"$f":"IFERROR(IF(A3557=\"\",\"\",IF(VLOOKUP(A3557,'Romaneio da Carga'!E:E,1,0)=BD!A3557,\"Volume Ok\",\"Volume não pertence a carga\")),\"Volume não pertence a carga\")","v":""}]
[null,{"$f":"IFERROR(IF(A3558=\"\",\"\",IF(VLOOKUP(A3558,'Romaneio da Carga'!E:E,1,0)=BD!A3558,\"Volume Ok\",\"Volume não pertence a carga\")),\"Volume não pertence a carga\")","v":""}]
[null,{"$f":"IFERROR(IF(A3559=\"\",\"\",IF(VLOOKUP(A3559,'Romaneio da Carga'!E:E,1,0)=BD!A3559,\"Volume Ok\",\"Volume não pertence a carga\")),\"Volume não pertence a carga\")","v":""}]
[null,{"$f":"IFERROR(IF(A3560=\"\",\"\",IF(VLOOKUP(A3560,'Romaneio da Carga'!E:E,1,0)=BD!A3560,\"Volume Ok\",\"Volume não pertence a carga\")),\"Volume não pertence a carga\")","v":""}]
[null,{"$f":"IFERROR(IF(A3561=\"\",\"\",IF(VLOOKUP(A3561,'Romaneio da Carga'!E:E,1,0)=BD!A3561,\"Volume Ok\",\"Volume não pertence a carga\")),\"Volume não pertence a carga\")","v":""}]
[null,{"$f":"IFERROR(IF(A3562=\"\",\"\",IF(VLOOKUP(A3562,'Romaneio da Carga'!E:E,1,0)=BD!A3562,\"Volume Ok\",\"Volume não pertence a carga\")),\"Volume não pertence a carga\")","v":""}]
[null,{"$f":"IFERROR(IF(A3563=\"\",\"\",IF(VLOOKUP(A3563,'Romaneio da Carga'!E:E,1,0)=BD!A3563,\"Volume Ok\",\"Volume não pertence a carga\")),\"Volume não pertence a carga\")","v":""}]
[null,{"$f":"IFERROR(IF(A3564=\"\",\"\",IF(VLOOKUP(A3564,'Romaneio da Carga'!E:E,1,0)=BD!A3564,\"Volume Ok\",\"Volume não pertence a carga\")),\"Volume não pertence a carga\")","v":""}]
[null,{"$f":"IFERROR(IF(A3565=\"\",\"\",IF(VLOOKUP(A3565,'Romaneio da Carga'!E:E,1,0)=BD!A3565,\"Volume Ok\",\"Volume não pertence a carga\")),\"Volume não pertence a carga\")","v":""}]
[null,{"$f":"IFERROR(IF(A3566=\"\",\"\",IF(VLOOKUP(A3566,'Romaneio da Carga'!E:E,1,0)=BD!A3566,\"Volume Ok\",\"Volume não pertence a carga\")),\"Volume não pertence a carga\")","v":""}]
[null,{"$f":"IFERROR(IF(A3567=\"\",\"\",IF(VLOOKUP(A3567,'Romaneio da Carga'!E:E,1,0)=BD!A3567,\"Volume Ok\",\"Volume não pertence a carga\")),\"Volume não pertence a carga\")","v":""}]
[null,{"$f":"IFERROR(IF(A3568=\"\",\"\",IF(VLOOKUP(A3568,'Romaneio da Carga'!E:E,1,0)=BD!A3568,\"Volume Ok\",\"Volume não pertence a carga\")),\"Volume não pertence a carga\")","v":""}]
[null,{"$f":"IFERROR(IF(A3569=\"\",\"\",IF(VLOOKUP(A3569,'Romaneio da Carga'!E:E,1,0)=BD!A3569,\"Volume Ok\",\"Volume não pertence a carga\")),\"Volume não pertence a carga\")","v":""}]
[null,{"$f":"IFERROR(IF(A3570=\"\",\"\",IF(VLOOKUP(A3570,'Romaneio da Carga'!E:E,1,0)=BD!A3570,\"Volume Ok\",\"Volume não pertence a carga\")),\"Volume não pertence a carga\")","v":""}]
[null,{"$f":"IFERROR(IF(A3571=\"\",\"\",IF(VLOOKUP(A3571,'Romaneio da Carga'!E:E,1,0)=BD!A3571,\"Volume Ok\",\"Volume não pertence a carga\")),\"Volume não pertence a carga\")","v":""}]
[null,{"$f":"IFERROR(IF(A3572=\"\",\"\",IF(VLOOKUP(A3572,'Romaneio da Carga'!E:E,1,0)=BD!A3572,\"Volume Ok\",\"Volume não pertence a carga\")),\"Volume não pertence a carga\")","v":""}]
[null,{"$f":"IFERROR(IF(A3573=\"\",\"\",IF(VLOOKUP(A3573,'Romaneio da Carga'!E:E,1,0)=BD!A3573,\"Volume Ok\",\"Volume não pertence a carga\")),\"Volume não pertence a carga\")","v":""}]
[null,{"$f":"IFERROR(IF(A3574=\"\",\"\",IF(VLOOKUP(A3574,'Romaneio da Carga'!E:E,1,0)=BD!A3574,\"Volume Ok\",\"Volume não pertence a carga\")),\"Volume não pertence a carga\")","v":""}]
[null,{"$f":"IFERROR(IF(A3575=\"\",\"\",IF(VLOOKUP(A3575,'Romaneio da Carga'!E:E,1,0)=BD!A3575,\"Volume Ok\",\"Volume não pertence a carga\")),\"Volume não pertence a carga\")","v":""}]
[null,{"$f":"IFERROR(IF(A3576=\"\",\"\",IF(VLOOKUP(A3576,'Romaneio da Carga'!E:E,1,0)=BD!A3576,\"Volume Ok\",\"Volume não pertence a carga\")),\"Volume não pertence a carga\")","v":""}]
[null,{"$f":"IFERROR(IF(A3577=\"\",\"\",IF(VLOOKUP(A3577,'Romaneio da Carga'!E:E,1,0)=BD!A3577,\"Volume Ok\",\"Volume não pertence a carga\")),\"Volume não pertence a carga\")","v":""}]
[null,{"$f":"IFERROR(IF(A3578=\"\",\"\",IF(VLOOKUP(A3578,'Romaneio da Carga'!E:E,1,0)=BD!A3578,\"Volume Ok\",\"Volume não pertence a carga\")),\"Volume não pertence a carga\")","v":""}]
[null,{"$f":"IFERROR(IF(A3579=\"\",\"\",IF(VLOOKUP(A3579,'Romaneio da Carga'!E:E,1,0)=BD!A3579,\"Volume Ok\",\"Volume não pertence a carga\")),\"Volume não pertence a carga\")","v":""}]
[null,{"$f":"IFERROR(IF(A3580=\"\",\"\",IF(VLOOKUP(A3580,'Romaneio da Carga'!E:E,1,0)=BD!A3580,\"Volume Ok\",\"Volume não pertence a carga\")),\"Volume não pertence a carga\")","v":""}]
[null,{"$f":"IFERROR(IF(A3581=\"\",\"\",IF(VLOOKUP(A3581,'Romaneio da Carga'!E:E,1,0)=BD!A3581,\"Volume Ok\",\"Volume não pertence a carga\")),\"Volume não pertence a carga\")","v":""}]
[null,{"$f":"IFERROR(IF(A3582=\"\",\"\",IF(VLOOKUP(A3582,'Romaneio da Carga'!E:E,1,0)=BD!A3582,\"Volume Ok\",\"Volume não pertence a carga\")),\"Volume não pertence a carga\")","v":""}]
[null,{"$f":"IFERROR(IF(A3583=\"\",\"\",IF(VLOOKUP(A3583,'Romaneio da Carga'!E:E,1,0)=BD!A3583,\"Volume Ok\",\"Volume não pertence a carga\")),\"Volume não pertence a carga\")","v":""}]
[null,{"$f":"IFERROR(IF(A3584=\"\",\"\",IF(VLOOKUP(A3584,'Romaneio da Carga'!E:E,1,0)=BD!A3584,\"Volume Ok\",\"Volume não pertence a carga\")),\"Volume não pertence a carga\")","v":""}]
[null,{"$f":"IFERROR(IF(A3585=\"\",\"\",IF(VLOOKUP(A3585,'Romaneio da Carga'!E:E,1,0)=BD!A3585,\"Volume Ok\",\"Volume não pertence a carga\")),\"Volume não pertence a carga\")","v":""}]
[null,{"$f":"IFERROR(IF(A3586=\"\",\"\",IF(VLOOKUP(A3586,'Romaneio da Carga'!E:E,1,0)=BD!A3586,\"Volume Ok\",\"Volume não pertence a carga\")),\"Volume não pertence a carga\")","v":""}]
[null,{"$f":"IFERROR(IF(A3587=\"\",\"\",IF(VLOOKUP(A3587,'Romaneio da Carga'!E:E,1,0)=BD!A3587,\"Volume Ok\",\"Volume não pertence a carga\")),\"Volume não pertence a carga\")","v":""}]
[null,{"$f":"IFERROR(IF(A3588=\"\",\"\",IF(VLOOKUP(A3588,'Romaneio da Carga'!E:E,1,0)=BD!A3588,\"Volume Ok\",\"Volume não pertence a carga\")),\"Volume não pertence a carga\")","v":""}]
[null,{"$f":"IFERROR(IF(A3589=\"\",\"\",IF(VLOOKUP(A3589,'Romaneio da Carga'!E:E,1,0)=BD!A3589,\"Volume Ok\",\"Volume não pertence a carga\")),\"Volume não pertence a carga\")","v":""}]
[null,{"$f":"IFERROR(IF(A3590=\"\",\"\",IF(VLOOKUP(A3590,'Romaneio da Carga'!E:E,1,0)=BD!A3590,\"Volume Ok\",\"Volume não pertence a carga\")),\"Volume não pertence a carga\")","v":""}]
[null,{"$f":"IFERROR(IF(A3591=\"\",\"\",IF(VLOOKUP(A3591,'Romaneio da Carga'!E:E,1,0)=BD!A3591,\"Volume Ok\",\"Volume não pertence a carga\")),\"Volume não pertence a carga\")","v":""}]
[null,{"$f":"IFERROR(IF(A3592=\"\",\"\",IF(VLOOKUP(A3592,'Romaneio da Carga'!E:E,1,0)=BD!A3592,\"Volume Ok\",\"Volume não pertence a carga\")),\"Volume não pertence a carga\")","v":""}]
[null,{"$f":"IFERROR(IF(A3593=\"\",\"\",IF(VLOOKUP(A3593,'Romaneio da Carga'!E:E,1,0)=BD!A3593,\"Volume Ok\",\"Volume não pertence a carga\")),\"Volume não pertence a carga\")","v":""}]
[null,{"$f":"IFERROR(IF(A3594=\"\",\"\",IF(VLOOKUP(A3594,'Romaneio da Carga'!E:E,1,0)=BD!A3594,\"Volume Ok\",\"Volume não pertence a carga\")),\"Volume não pertence a carga\")","v":""}]
[null,{"$f":"IFERROR(IF(A3595=\"\",\"\",IF(VLOOKUP(A3595,'Romaneio da Carga'!E:E,1,0)=BD!A3595,\"Volume Ok\",\"Volume não pertence a carga\")),\"Volume não pertence a carga\")","v":""}]
[null,{"$f":"IFERROR(IF(A3596=\"\",\"\",IF(VLOOKUP(A3596,'Romaneio da Carga'!E:E,1,0)=BD!A3596,\"Volume Ok\",\"Volume não pertence a carga\")),\"Volume não pertence a carga\")","v":""}]
[null,{"$f":"IFERROR(IF(A3597=\"\",\"\",IF(VLOOKUP(A3597,'Romaneio da Carga'!E:E,1,0)=BD!A3597,\"Volume Ok\",\"Volume não pertence a carga\")),\"Volume não pertence a carga\")","v":""}]
[null,{"$f":"IFERROR(IF(A3598=\"\",\"\",IF(VLOOKUP(A3598,'Romaneio da Carga'!E:E,1,0)=BD!A3598,\"Volume Ok\",\"Volume não pertence a carga\")),\"Volume não pertence a carga\")","v":""}]
[null,{"$f":"IFERROR(IF(A3599=\"\",\"\",IF(VLOOKUP(A3599,'Romaneio da Carga'!E:E,1,0)=BD!A3599,\"Volume Ok\",\"Volume não pertence a carga\")),\"Volume não pertence a carga\")","v":""}]
[null,{"$f":"IFERROR(IF(A3600=\"\",\"\",IF(VLOOKUP(A3600,'Romaneio da Carga'!E:E,1,0)=BD!A3600,\"Volume Ok\",\"Volume não pertence a carga\")),\"Volume não pertence a carga\")","v":""}]
[null,{"$f":"IFERROR(IF(A3601=\"\",\"\",IF(VLOOKUP(A3601,'Romaneio da Carga'!E:E,1,0)=BD!A3601,\"Volume Ok\",\"Volume não pertence a carga\")),\"Volume não pertence a carga\")","v":""}]
[null,{"$f":"IFERROR(IF(A3602=\"\",\"\",IF(VLOOKUP(A3602,'Romaneio da Carga'!E:E,1,0)=BD!A3602,\"Volume Ok\",\"Volume não pertence a carga\")),\"Volume não pertence a carga\")","v":""}]
[null,{"$f":"IFERROR(IF(A3603=\"\",\"\",IF(VLOOKUP(A3603,'Romaneio da Carga'!E:E,1,0)=BD!A3603,\"Volume Ok\",\"Volume não pertence a carga\")),\"Volume não pertence a carga\")","v":""}]
[null,{"$f":"IFERROR(IF(A3604=\"\",\"\",IF(VLOOKUP(A3604,'Romaneio da Carga'!E:E,1,0)=BD!A3604,\"Volume Ok\",\"Volume não pertence a carga\")),\"Volume não pertence a carga\")","v":""}]
[null,{"$f":"IFERROR(IF(A3605=\"\",\"\",IF(VLOOKUP(A3605,'Romaneio da Carga'!E:E,1,0)=BD!A3605,\"Volume Ok\",\"Volume não pertence a carga\")),\"Volume não pertence a carga\")","v":""}]
[null,{"$f":"IFERROR(IF(A3606=\"\",\"\",IF(VLOOKUP(A3606,'Romaneio da Carga'!E:E,1,0)=BD!A3606,\"Volume Ok\",\"Volume não pertence a carga\")),\"Volume não pertence a carga\")","v":""}]
[null,{"$f":"IFERROR(IF(A3607=\"\",\"\",IF(VLOOKUP(A3607,'Romaneio da Carga'!E:E,1,0)=BD!A3607,\"Volume Ok\",\"Volume não pertence a carga\")),\"Volume não pertence a carga\")","v":""}]
[null,{"$f":"IFERROR(IF(A3608=\"\",\"\",IF(VLOOKUP(A3608,'Romaneio da Carga'!E:E,1,0)=BD!A3608,\"Volume Ok\",\"Volume não pertence a carga\")),\"Volume não pertence a carga\")","v":""}]
[null,{"$f":"IFERROR(IF(A3609=\"\",\"\",IF(VLOOKUP(A3609,'Romaneio da Carga'!E:E,1,0)=BD!A3609,\"Volume Ok\",\"Volume não pertence a carga\")),\"Volume não pertence a carga\")","v":""}]
[null,{"$f":"IFERROR(IF(A3610=\"\",\"\",IF(VLOOKUP(A3610,'Romaneio da Carga'!E:E,1,0)=BD!A3610,\"Volume Ok\",\"Volume não pertence a carga\")),\"Volume não pertence a carga\")","v":""}]
[null,{"$f":"IFERROR(IF(A3611=\"\",\"\",IF(VLOOKUP(A3611,'Romaneio da Carga'!E:E,1,0)=BD!A3611,\"Volume Ok\",\"Volume não pertence a carga\")),\"Volume não pertence a carga\")","v":""}]
[null,{"$f":"IFERROR(IF(A3612=\"\",\"\",IF(VLOOKUP(A3612,'Romaneio da Carga'!E:E,1,0)=BD!A3612,\"Volume Ok\",\"Volume não pertence a carga\")),\"Volume não pertence a carga\")","v":""}]
[null,{"$f":"IFERROR(IF(A3613=\"\",\"\",IF(VLOOKUP(A3613,'Romaneio da Carga'!E:E,1,0)=BD!A3613,\"Volume Ok\",\"Volume não pertence a carga\")),\"Volume não pertence a carga\")","v":""}]
[null,{"$f":"IFERROR(IF(A3614=\"\",\"\",IF(VLOOKUP(A3614,'Romaneio da Carga'!E:E,1,0)=BD!A3614,\"Volume Ok\",\"Volume não pertence a carga\")),\"Volume não pertence a carga\")","v":""}]
[null,{"$f":"IFERROR(IF(A3615=\"\",\"\",IF(VLOOKUP(A3615,'Romaneio da Carga'!E:E,1,0)=BD!A3615,\"Volume Ok\",\"Volume não pertence a carga\")),\"Volume não pertence a carga\")","v":""}]
[null,{"$f":"IFERROR(IF(A3616=\"\",\"\",IF(VLOOKUP(A3616,'Romaneio da Carga'!E:E,1,0)=BD!A3616,\"Volume Ok\",\"Volume não pertence a carga\")),\"Volume não pertence a carga\")","v":""}]
[null,{"$f":"IFERROR(IF(A3617=\"\",\"\",IF(VLOOKUP(A3617,'Romaneio da Carga'!E:E,1,0)=BD!A3617,\"Volume Ok\",\"Volume não pertence a carga\")),\"Volume não pertence a carga\")","v":""}]
[null,{"$f":"IFERROR(IF(A3618=\"\",\"\",IF(VLOOKUP(A3618,'Romaneio da Carga'!E:E,1,0)=BD!A3618,\"Volume Ok\",\"Volume não pertence a carga\")),\"Volume não pertence a carga\")","v":""}]
[null,{"$f":"IFERROR(IF(A3619=\"\",\"\",IF(VLOOKUP(A3619,'Romaneio da Carga'!E:E,1,0)=BD!A3619,\"Volume Ok\",\"Volume não pertence a carga\")),\"Volume não pertence a carga\")","v":""}]
[null,{"$f":"IFERROR(IF(A3620=\"\",\"\",IF(VLOOKUP(A3620,'Romaneio da Carga'!E:E,1,0)=BD!A3620,\"Volume Ok\",\"Volume não pertence a carga\")),\"Volume não pertence a carga\")","v":""}]
[null,{"$f":"IFERROR(IF(A3621=\"\",\"\",IF(VLOOKUP(A3621,'Romaneio da Carga'!E:E,1,0)=BD!A3621,\"Volume Ok\",\"Volume não pertence a carga\")),\"Volume não pertence a carga\")","v":""}]
[null,{"$f":"IFERROR(IF(A3622=\"\",\"\",IF(VLOOKUP(A3622,'Romaneio da Carga'!E:E,1,0)=BD!A3622,\"Volume Ok\",\"Volume não pertence a carga\")),\"Volume não pertence a carga\")","v":""}]
[null,{"$f":"IFERROR(IF(A3623=\"\",\"\",IF(VLOOKUP(A3623,'Romaneio da Carga'!E:E,1,0)=BD!A3623,\"Volume Ok\",\"Volume não pertence a carga\")),\"Volume não pertence a carga\")","v":""}]
[null,{"$f":"IFERROR(IF(A3624=\"\",\"\",IF(VLOOKUP(A3624,'Romaneio da Carga'!E:E,1,0)=BD!A3624,\"Volume Ok\",\"Volume não pertence a carga\")),\"Volume não pertence a carga\")","v":""}]
[null,{"$f":"IFERROR(IF(A3625=\"\",\"\",IF(VLOOKUP(A3625,'Romaneio da Carga'!E:E,1,0)=BD!A3625,\"Volume Ok\",\"Volume não pertence a carga\")),\"Volume não pertence a carga\")","v":""}]
[null,{"$f":"IFERROR(IF(A3626=\"\",\"\",IF(VLOOKUP(A3626,'Romaneio da Carga'!E:E,1,0)=BD!A3626,\"Volume Ok\",\"Volume não pertence a carga\")),\"Volume não pertence a carga\")","v":""}]
[null,{"$f":"IFERROR(IF(A3627=\"\",\"\",IF(VLOOKUP(A3627,'Romaneio da Carga'!E:E,1,0)=BD!A3627,\"Volume Ok\",\"Volume não pertence a carga\")),\"Volume não pertence a carga\")","v":""}]
[null,{"$f":"IFERROR(IF(A3628=\"\",\"\",IF(VLOOKUP(A3628,'Romaneio da Carga'!E:E,1,0)=BD!A3628,\"Volume Ok\",\"Volume não pertence a carga\")),\"Volume não pertence a carga\")","v":""}]
[null,{"$f":"IFERROR(IF(A3629=\"\",\"\",IF(VLOOKUP(A3629,'Romaneio da Carga'!E:E,1,0)=BD!A3629,\"Volume Ok\",\"Volume não pertence a carga\")),\"Volume não pertence a carga\")","v":""}]
[null,{"$f":"IFERROR(IF(A3630=\"\",\"\",IF(VLOOKUP(A3630,'Romaneio da Carga'!E:E,1,0)=BD!A3630,\"Volume Ok\",\"Volume não pertence a carga\")),\"Volume não pertence a carga\")","v":""}]
[null,{"$f":"IFERROR(IF(A3631=\"\",\"\",IF(VLOOKUP(A3631,'Romaneio da Carga'!E:E,1,0)=BD!A3631,\"Volume Ok\",\"Volume não pertence a carga\")),\"Volume não pertence a carga\")","v":""}]
[null,{"$f":"IFERROR(IF(A3632=\"\",\"\",IF(VLOOKUP(A3632,'Romaneio da Carga'!E:E,1,0)=BD!A3632,\"Volume Ok\",\"Volume não pertence a carga\")),\"Volume não pertence a carga\")","v":""}]
[null,{"$f":"IFERROR(IF(A3633=\"\",\"\",IF(VLOOKUP(A3633,'Romaneio da Carga'!E:E,1,0)=BD!A3633,\"Volume Ok\",\"Volume não pertence a carga\")),\"Volume não pertence a carga\")","v":""}]
[null,{"$f":"IFERROR(IF(A3634=\"\",\"\",IF(VLOOKUP(A3634,'Romaneio da Carga'!E:E,1,0)=BD!A3634,\"Volume Ok\",\"Volume não pertence a carga\")),\"Volume não pertence a carga\")","v":""}]
[null,{"$f":"IFERROR(IF(A3635=\"\",\"\",IF(VLOOKUP(A3635,'Romaneio da Carga'!E:E,1,0)=BD!A3635,\"Volume Ok\",\"Volume não pertence a carga\")),\"Volume não pertence a carga\")","v":""}]
[null,{"$f":"IFERROR(IF(A3636=\"\",\"\",IF(VLOOKUP(A3636,'Romaneio da Carga'!E:E,1,0)=BD!A3636,\"Volume Ok\",\"Volume não pertence a carga\")),\"Volume não pertence a carga\")","v":""}]
[null,{"$f":"IFERROR(IF(A3637=\"\",\"\",IF(VLOOKUP(A3637,'Romaneio da Carga'!E:E,1,0)=BD!A3637,\"Volume Ok\",\"Volume não pertence a carga\")),\"Volume não pertence a carga\")","v":""}]
[null,{"$f":"IFERROR(IF(A3638=\"\",\"\",IF(VLOOKUP(A3638,'Romaneio da Carga'!E:E,1,0)=BD!A3638,\"Volume Ok\",\"Volume não pertence a carga\")),\"Volume não pertence a carga\")","v":""}]
[null,{"$f":"IFERROR(IF(A3639=\"\",\"\",IF(VLOOKUP(A3639,'Romaneio da Carga'!E:E,1,0)=BD!A3639,\"Volume Ok\",\"Volume não pertence a carga\")),\"Volume não pertence a carga\")","v":""}]
[null,{"$f":"IFERROR(IF(A3640=\"\",\"\",IF(VLOOKUP(A3640,'Romaneio da Carga'!E:E,1,0)=BD!A3640,\"Volume Ok\",\"Volume não pertence a carga\")),\"Volume não pertence a carga\")","v":""}]
[null,{"$f":"IFERROR(IF(A3641=\"\",\"\",IF(VLOOKUP(A3641,'Romaneio da Carga'!E:E,1,0)=BD!A3641,\"Volume Ok\",\"Volume não pertence a carga\")),\"Volume não pertence a carga\")","v":""}]
[null,{"$f":"IFERROR(IF(A3642=\"\",\"\",IF(VLOOKUP(A3642,'Romaneio da Carga'!E:E,1,0)=BD!A3642,\"Volume Ok\",\"Volume não pertence a carga\")),\"Volume não pertence a carga\")","v":""}]
[null,{"$f":"IFERROR(IF(A3643=\"\",\"\",IF(VLOOKUP(A3643,'Romaneio da Carga'!E:E,1,0)=BD!A3643,\"Volume Ok\",\"Volume não pertence a carga\")),\"Volume não pertence a carga\")","v":""}]
[null,{"$f":"IFERROR(IF(A3644=\"\",\"\",IF(VLOOKUP(A3644,'Romaneio da Carga'!E:E,1,0)=BD!A3644,\"Volume Ok\",\"Volume não pertence a carga\")),\"Volume não pertence a carga\")","v":""}]
[null,{"$f":"IFERROR(IF(A3645=\"\",\"\",IF(VLOOKUP(A3645,'Romaneio da Carga'!E:E,1,0)=BD!A3645,\"Volume Ok\",\"Volume não pertence a carga\")),\"Volume não pertence a carga\")","v":""}]
[null,{"$f":"IFERROR(IF(A3646=\"\",\"\",IF(VLOOKUP(A3646,'Romaneio da Carga'!E:E,1,0)=BD!A3646,\"Volume Ok\",\"Volume não pertence a carga\")),\"Volume não pertence a carga\")","v":""}]
[null,{"$f":"IFERROR(IF(A3647=\"\",\"\",IF(VLOOKUP(A3647,'Romaneio da Carga'!E:E,1,0)=BD!A3647,\"Volume Ok\",\"Volume não pertence a carga\")),\"Volume não pertence a carga\")","v":""}]
[null,{"$f":"IFERROR(IF(A3648=\"\",\"\",IF(VLOOKUP(A3648,'Romaneio da Carga'!E:E,1,0)=BD!A3648,\"Volume Ok\",\"Volume não pertence a carga\")),\"Volume não pertence a carga\")","v":""}]
[null,{"$f":"IFERROR(IF(A3649=\"\",\"\",IF(VLOOKUP(A3649,'Romaneio da Carga'!E:E,1,0)=BD!A3649,\"Volume Ok\",\"Volume não pertence a carga\")),\"Volume não pertence a carga\")","v":""}]
[null,{"$f":"IFERROR(IF(A3650=\"\",\"\",IF(VLOOKUP(A3650,'Romaneio da Carga'!E:E,1,0)=BD!A3650,\"Volume Ok\",\"Volume não pertence a carga\")),\"Volume não pertence a carga\")","v":""}]
[null,{"$f":"IFERROR(IF(A3651=\"\",\"\",IF(VLOOKUP(A3651,'Romaneio da Carga'!E:E,1,0)=BD!A3651,\"Volume Ok\",\"Volume não pertence a carga\")),\"Volume não pertence a carga\")","v":""}]
[null,{"$f":"IFERROR(IF(A3652=\"\",\"\",IF(VLOOKUP(A3652,'Romaneio da Carga'!E:E,1,0)=BD!A3652,\"Volume Ok\",\"Volume não pertence a carga\")),\"Volume não pertence a carga\")","v":""}]
[null,{"$f":"IFERROR(IF(A3653=\"\",\"\",IF(VLOOKUP(A3653,'Romaneio da Carga'!E:E,1,0)=BD!A3653,\"Volume Ok\",\"Volume não pertence a carga\")),\"Volume não pertence a carga\")","v":""}]
[null,{"$f":"IFERROR(IF(A3654=\"\",\"\",IF(VLOOKUP(A3654,'Romaneio da Carga'!E:E,1,0)=BD!A3654,\"Volume Ok\",\"Volume não pertence a carga\")),\"Volume não pertence a carga\")","v":""}]
[null,{"$f":"IFERROR(IF(A3655=\"\",\"\",IF(VLOOKUP(A3655,'Romaneio da Carga'!E:E,1,0)=BD!A3655,\"Volume Ok\",\"Volume não pertence a carga\")),\"Volume não pertence a carga\")","v":""}]
[null,{"$f":"IFERROR(IF(A3656=\"\",\"\",IF(VLOOKUP(A3656,'Romaneio da Carga'!E:E,1,0)=BD!A3656,\"Volume Ok\",\"Volume não pertence a carga\")),\"Volume não pertence a carga\")","v":""}]
[null,{"$f":"IFERROR(IF(A3657=\"\",\"\",IF(VLOOKUP(A3657,'Romaneio da Carga'!E:E,1,0)=BD!A3657,\"Volume Ok\",\"Volume não pertence a carga\")),\"Volume não pertence a carga\")","v":""}]
[null,{"$f":"IFERROR(IF(A3658=\"\",\"\",IF(VLOOKUP(A3658,'Romaneio da Carga'!E:E,1,0)=BD!A3658,\"Volume Ok\",\"Volume não pertence a carga\")),\"Volume não pertence a carga\")","v":""}]
[null,{"$f":"IFERROR(IF(A3659=\"\",\"\",IF(VLOOKUP(A3659,'Romaneio da Carga'!E:E,1,0)=BD!A3659,\"Volume Ok\",\"Volume não pertence a carga\")),\"Volume não pertence a carga\")","v":""}]
[null,{"$f":"IFERROR(IF(A3660=\"\",\"\",IF(VLOOKUP(A3660,'Romaneio da Carga'!E:E,1,0)=BD!A3660,\"Volume Ok\",\"Volume não pertence a carga\")),\"Volume não pertence a carga\")","v":""}]
[null,{"$f":"IFERROR(IF(A3661=\"\",\"\",IF(VLOOKUP(A3661,'Romaneio da Carga'!E:E,1,0)=BD!A3661,\"Volume Ok\",\"Volume não pertence a carga\")),\"Volume não pertence a carga\")","v":""}]
[null,{"$f":"IFERROR(IF(A3662=\"\",\"\",IF(VLOOKUP(A3662,'Romaneio da Carga'!E:E,1,0)=BD!A3662,\"Volume Ok\",\"Volume não pertence a carga\")),\"Volume não pertence a carga\")","v":""}]
[null,{"$f":"IFERROR(IF(A3663=\"\",\"\",IF(VLOOKUP(A3663,'Romaneio da Carga'!E:E,1,0)=BD!A3663,\"Volume Ok\",\"Volume não pertence a carga\")),\"Volume não pertence a carga\")","v":""}]
[null,{"$f":"IFERROR(IF(A3664=\"\",\"\",IF(VLOOKUP(A3664,'Romaneio da Carga'!E:E,1,0)=BD!A3664,\"Volume Ok\",\"Volume não pertence a carga\")),\"Volume não pertence a carga\")","v":""}]
[null,{"$f":"IFERROR(IF(A3665=\"\",\"\",IF(VLOOKUP(A3665,'Romaneio da Carga'!E:E,1,0)=BD!A3665,\"Volume Ok\",\"Volume não pertence a carga\")),\"Volume não pertence a carga\")","v":""}]
[null,{"$f":"IFERROR(IF(A3666=\"\",\"\",IF(VLOOKUP(A3666,'Romaneio da Carga'!E:E,1,0)=BD!A3666,\"Volume Ok\",\"Volume não pertence a carga\")),\"Volume não pertence a carga\")","v":""}]
[null,{"$f":"IFERROR(IF(A3667=\"\",\"\",IF(VLOOKUP(A3667,'Romaneio da Carga'!E:E,1,0)=BD!A3667,\"Volume Ok\",\"Volume não pertence a carga\")),\"Volume não pertence a carga\")","v":""}]
[null,{"$f":"IFERROR(IF(A3668=\"\",\"\",IF(VLOOKUP(A3668,'Romaneio da Carga'!E:E,1,0)=BD!A3668,\"Volume Ok\",\"Volume não pertence a carga\")),\"Volume não pertence a carga\")","v":""}]
[null,{"$f":"IFERROR(IF(A3669=\"\",\"\",IF(VLOOKUP(A3669,'Romaneio da Carga'!E:E,1,0)=BD!A3669,\"Volume Ok\",\"Volume não pertence a carga\")),\"Volume não pertence a carga\")","v":""}]
[null,{"$f":"IFERROR(IF(A3670=\"\",\"\",IF(VLOOKUP(A3670,'Romaneio da Carga'!E:E,1,0)=BD!A3670,\"Volume Ok\",\"Volume não pertence a carga\")),\"Volume não pertence a carga\")","v":""}]
[null,{"$f":"IFERROR(IF(A3671=\"\",\"\",IF(VLOOKUP(A3671,'Romaneio da Carga'!E:E,1,0)=BD!A3671,\"Volume Ok\",\"Volume não pertence a carga\")),\"Volume não pertence a carga\")","v":""}]
[null,{"$f":"IFERROR(IF(A3672=\"\",\"\",IF(VLOOKUP(A3672,'Romaneio da Carga'!E:E,1,0)=BD!A3672,\"Volume Ok\",\"Volume não pertence a carga\")),\"Volume não pertence a carga\")","v":""}]
[null,{"$f":"IFERROR(IF(A3673=\"\",\"\",IF(VLOOKUP(A3673,'Romaneio da Carga'!E:E,1,0)=BD!A3673,\"Volume Ok\",\"Volume não pertence a carga\")),\"Volume não pertence a carga\")","v":""}]
[null,{"$f":"IFERROR(IF(A3674=\"\",\"\",IF(VLOOKUP(A3674,'Romaneio da Carga'!E:E,1,0)=BD!A3674,\"Volume Ok\",\"Volume não pertence a carga\")),\"Volume não pertence a carga\")","v":""}]
[null,{"$f":"IFERROR(IF(A3675=\"\",\"\",IF(VLOOKUP(A3675,'Romaneio da Carga'!E:E,1,0)=BD!A3675,\"Volume Ok\",\"Volume não pertence a carga\")),\"Volume não pertence a carga\")","v":""}]
[null,{"$f":"IFERROR(IF(A3676=\"\",\"\",IF(VLOOKUP(A3676,'Romaneio da Carga'!E:E,1,0)=BD!A3676,\"Volume Ok\",\"Volume não pertence a carga\")),\"Volume não pertence a carga\")","v":""}]
[null,{"$f":"IFERROR(IF(A3677=\"\",\"\",IF(VLOOKUP(A3677,'Romaneio da Carga'!E:E,1,0)=BD!A3677,\"Volume Ok\",\"Volume não pertence a carga\")),\"Volume não pertence a carga\")","v":""}]
[null,{"$f":"IFERROR(IF(A3678=\"\",\"\",IF(VLOOKUP(A3678,'Romaneio da Carga'!E:E,1,0)=BD!A3678,\"Volume Ok\",\"Volume não pertence a carga\")),\"Volume não pertence a carga\")","v":""}]
[null,{"$f":"IFERROR(IF(A3679=\"\",\"\",IF(VLOOKUP(A3679,'Romaneio da Carga'!E:E,1,0)=BD!A3679,\"Volume Ok\",\"Volume não pertence a carga\")),\"Volume não pertence a carga\")","v":""}]
[null,{"$f":"IFERROR(IF(A3680=\"\",\"\",IF(VLOOKUP(A3680,'Romaneio da Carga'!E:E,1,0)=BD!A3680,\"Volume Ok\",\"Volume não pertence a carga\")),\"Volume não pertence a carga\")","v":""}]
[null,{"$f":"IFERROR(IF(A3681=\"\",\"\",IF(VLOOKUP(A3681,'Romaneio da Carga'!E:E,1,0)=BD!A3681,\"Volume Ok\",\"Volume não pertence a carga\")),\"Volume não pertence a carga\")","v":""}]
[null,{"$f":"IFERROR(IF(A3682=\"\",\"\",IF(VLOOKUP(A3682,'Romaneio da Carga'!E:E,1,0)=BD!A3682,\"Volume Ok\",\"Volume não pertence a carga\")),\"Volume não pertence a carga\")","v":""}]
[null,{"$f":"IFERROR(IF(A3683=\"\",\"\",IF(VLOOKUP(A3683,'Romaneio da Carga'!E:E,1,0)=BD!A3683,\"Volume Ok\",\"Volume não pertence a carga\")),\"Volume não pertence a carga\")","v":""}]
[null,{"$f":"IFERROR(IF(A3684=\"\",\"\",IF(VLOOKUP(A3684,'Romaneio da Carga'!E:E,1,0)=BD!A3684,\"Volume Ok\",\"Volume não pertence a carga\")),\"Volume não pertence a carga\")","v":""}]
[null,{"$f":"IFERROR(IF(A3685=\"\",\"\",IF(VLOOKUP(A3685,'Romaneio da Carga'!E:E,1,0)=BD!A3685,\"Volume Ok\",\"Volume não pertence a carga\")),\"Volume não pertence a carga\")","v":""}]
[null,{"$f":"IFERROR(IF(A3686=\"\",\"\",IF(VLOOKUP(A3686,'Romaneio da Carga'!E:E,1,0)=BD!A3686,\"Volume Ok\",\"Volume não pertence a carga\")),\"Volume não pertence a carga\")","v":""}]
[null,{"$f":"IFERROR(IF(A3687=\"\",\"\",IF(VLOOKUP(A3687,'Romaneio da Carga'!E:E,1,0)=BD!A3687,\"Volume Ok\",\"Volume não pertence a carga\")),\"Volume não pertence a carga\")","v":""}]
[null,{"$f":"IFERROR(IF(A3688=\"\",\"\",IF(VLOOKUP(A3688,'Romaneio da Carga'!E:E,1,0)=BD!A3688,\"Volume Ok\",\"Volume não pertence a carga\")),\"Volume não pertence a carga\")","v":""}]
[null,{"$f":"IFERROR(IF(A3689=\"\",\"\",IF(VLOOKUP(A3689,'Romaneio da Carga'!E:E,1,0)=BD!A3689,\"Volume Ok\",\"Volume não pertence a carga\")),\"Volume não pertence a carga\")","v":""}]
[null,{"$f":"IFERROR(IF(A3690=\"\",\"\",IF(VLOOKUP(A3690,'Romaneio da Carga'!E:E,1,0)=BD!A3690,\"Volume Ok\",\"Volume não pertence a carga\")),\"Volume não pertence a carga\")","v":""}]
[null,{"$f":"IFERROR(IF(A3691=\"\",\"\",IF(VLOOKUP(A3691,'Romaneio da Carga'!E:E,1,0)=BD!A3691,\"Volume Ok\",\"Volume não pertence a carga\")),\"Volume não pertence a carga\")","v":""}]
[null,{"$f":"IFERROR(IF(A3692=\"\",\"\",IF(VLOOKUP(A3692,'Romaneio da Carga'!E:E,1,0)=BD!A3692,\"Volume Ok\",\"Volume não pertence a carga\")),\"Volume não pertence a carga\")","v":""}]
[null,{"$f":"IFERROR(IF(A3693=\"\",\"\",IF(VLOOKUP(A3693,'Romaneio da Carga'!E:E,1,0)=BD!A3693,\"Volume Ok\",\"Volume não pertence a carga\")),\"Volume não pertence a carga\")","v":""}]
[null,{"$f":"IFERROR(IF(A3694=\"\",\"\",IF(VLOOKUP(A3694,'Romaneio da Carga'!E:E,1,0)=BD!A3694,\"Volume Ok\",\"Volume não pertence a carga\")),\"Volume não pertence a carga\")","v":""}]
[null,{"$f":"IFERROR(IF(A3695=\"\",\"\",IF(VLOOKUP(A3695,'Romaneio da Carga'!E:E,1,0)=BD!A3695,\"Volume Ok\",\"Volume não pertence a carga\")),\"Volume não pertence a carga\")","v":""}]
[null,{"$f":"IFERROR(IF(A3696=\"\",\"\",IF(VLOOKUP(A3696,'Romaneio da Carga'!E:E,1,0)=BD!A3696,\"Volume Ok\",\"Volume não pertence a carga\")),\"Volume não pertence a carga\")","v":""}]
[null,{"$f":"IFERROR(IF(A3697=\"\",\"\",IF(VLOOKUP(A3697,'Romaneio da Carga'!E:E,1,0)=BD!A3697,\"Volume Ok\",\"Volume não pertence a carga\")),\"Volume não pertence a carga\")","v":""}]
[null,{"$f":"IFERROR(IF(A3698=\"\",\"\",IF(VLOOKUP(A3698,'Romaneio da Carga'!E:E,1,0)=BD!A3698,\"Volume Ok\",\"Volume não pertence a carga\")),\"Volume não pertence a carga\")","v":""}]
[null,{"$f":"IFERROR(IF(A3699=\"\",\"\",IF(VLOOKUP(A3699,'Romaneio da Carga'!E:E,1,0)=BD!A3699,\"Volume Ok\",\"Volume não pertence a carga\")),\"Volume não pertence a carga\")","v":""}]
[null,{"$f":"IFERROR(IF(A3700=\"\",\"\",IF(VLOOKUP(A3700,'Romaneio da Carga'!E:E,1,0)=BD!A3700,\"Volume Ok\",\"Volume não pertence a carga\")),\"Volume não pertence a carga\")","v":""}]
[null,{"$f":"IFERROR(IF(A3701=\"\",\"\",IF(VLOOKUP(A3701,'Romaneio da Carga'!E:E,1,0)=BD!A3701,\"Volume Ok\",\"Volume não pertence a carga\")),\"Volume não pertence a carga\")","v":""}]
[null,{"$f":"IFERROR(IF(A3702=\"\",\"\",IF(VLOOKUP(A3702,'Romaneio da Carga'!E:E,1,0)=BD!A3702,\"Volume Ok\",\"Volume não pertence a carga\")),\"Volume não pertence a carga\")","v":""}]
[null,{"$f":"IFERROR(IF(A3703=\"\",\"\",IF(VLOOKUP(A3703,'Romaneio da Carga'!E:E,1,0)=BD!A3703,\"Volume Ok\",\"Volume não pertence a carga\")),\"Volume não pertence a carga\")","v":""}]
[null,{"$f":"IFERROR(IF(A3704=\"\",\"\",IF(VLOOKUP(A3704,'Romaneio da Carga'!E:E,1,0)=BD!A3704,\"Volume Ok\",\"Volume não pertence a carga\")),\"Volume não pertence a carga\")","v":""}]
[null,{"$f":"IFERROR(IF(A3705=\"\",\"\",IF(VLOOKUP(A3705,'Romaneio da Carga'!E:E,1,0)=BD!A3705,\"Volume Ok\",\"Volume não pertence a carga\")),\"Volume não pertence a carga\")","v":""}]
[null,{"$f":"IFERROR(IF(A3706=\"\",\"\",IF(VLOOKUP(A3706,'Romaneio da Carga'!E:E,1,0)=BD!A3706,\"Volume Ok\",\"Volume não pertence a carga\")),\"Volume não pertence a carga\")","v":""}]
[null,{"$f":"IFERROR(IF(A3707=\"\",\"\",IF(VLOOKUP(A3707,'Romaneio da Carga'!E:E,1,0)=BD!A3707,\"Volume Ok\",\"Volume não pertence a carga\")),\"Volume não pertence a carga\")","v":""}]
[null,{"$f":"IFERROR(IF(A3708=\"\",\"\",IF(VLOOKUP(A3708,'Romaneio da Carga'!E:E,1,0)=BD!A3708,\"Volume Ok\",\"Volume não pertence a carga\")),\"Volume não pertence a carga\")","v":""}]
[null,{"$f":"IFERROR(IF(A3709=\"\",\"\",IF(VLOOKUP(A3709,'Romaneio da Carga'!E:E,1,0)=BD!A3709,\"Volume Ok\",\"Volume não pertence a carga\")),\"Volume não pertence a carga\")","v":""}]
[null,{"$f":"IFERROR(IF(A3710=\"\",\"\",IF(VLOOKUP(A3710,'Romaneio da Carga'!E:E,1,0)=BD!A3710,\"Volume Ok\",\"Volume não pertence a carga\")),\"Volume não pertence a carga\")","v":""}]
[null,{"$f":"IFERROR(IF(A3711=\"\",\"\",IF(VLOOKUP(A3711,'Romaneio da Carga'!E:E,1,0)=BD!A3711,\"Volume Ok\",\"Volume não pertence a carga\")),\"Volume não pertence a carga\")","v":""}]
[null,{"$f":"IFERROR(IF(A3712=\"\",\"\",IF(VLOOKUP(A3712,'Romaneio da Carga'!E:E,1,0)=BD!A3712,\"Volume Ok\",\"Volume não pertence a carga\")),\"Volume não pertence a carga\")","v":""}]
[null,{"$f":"IFERROR(IF(A3713=\"\",\"\",IF(VLOOKUP(A3713,'Romaneio da Carga'!E:E,1,0)=BD!A3713,\"Volume Ok\",\"Volume não pertence a carga\")),\"Volume não pertence a carga\")","v":""}]
[null,{"$f":"IFERROR(IF(A3714=\"\",\"\",IF(VLOOKUP(A3714,'Romaneio da Carga'!E:E,1,0)=BD!A3714,\"Volume Ok\",\"Volume não pertence a carga\")),\"Volume não pertence a carga\")","v":""}]
[null,{"$f":"IFERROR(IF(A3715=\"\",\"\",IF(VLOOKUP(A3715,'Romaneio da Carga'!E:E,1,0)=BD!A3715,\"Volume Ok\",\"Volume não pertence a carga\")),\"Volume não pertence a carga\")","v":""}]
[null,{"$f":"IFERROR(IF(A3716=\"\",\"\",IF(VLOOKUP(A3716,'Romaneio da Carga'!E:E,1,0)=BD!A3716,\"Volume Ok\",\"Volume não pertence a carga\")),\"Volume não pertence a carga\")","v":""}]
[null,{"$f":"IFERROR(IF(A3717=\"\",\"\",IF(VLOOKUP(A3717,'Romaneio da Carga'!E:E,1,0)=BD!A3717,\"Volume Ok\",\"Volume não pertence a carga\")),\"Volume não pertence a carga\")","v":""}]
[null,{"$f":"IFERROR(IF(A3718=\"\",\"\",IF(VLOOKUP(A3718,'Romaneio da Carga'!E:E,1,0)=BD!A3718,\"Volume Ok\",\"Volume não pertence a carga\")),\"Volume não pertence a carga\")","v":""}]
[null,{"$f":"IFERROR(IF(A3719=\"\",\"\",IF(VLOOKUP(A3719,'Romaneio da Carga'!E:E,1,0)=BD!A3719,\"Volume Ok\",\"Volume não pertence a carga\")),\"Volume não pertence a carga\")","v":""}]
[null,{"$f":"IFERROR(IF(A3720=\"\",\"\",IF(VLOOKUP(A3720,'Romaneio da Carga'!E:E,1,0)=BD!A3720,\"Volume Ok\",\"Volume não pertence a carga\")),\"Volume não pertence a carga\")","v":""}]
[null,{"$f":"IFERROR(IF(A3721=\"\",\"\",IF(VLOOKUP(A3721,'Romaneio da Carga'!E:E,1,0)=BD!A3721,\"Volume Ok\",\"Volume não pertence a carga\")),\"Volume não pertence a carga\")","v":""}]
[null,{"$f":"IFERROR(IF(A3722=\"\",\"\",IF(VLOOKUP(A3722,'Romaneio da Carga'!E:E,1,0)=BD!A3722,\"Volume Ok\",\"Volume não pertence a carga\")),\"Volume não pertence a carga\")","v":""}]
[null,{"$f":"IFERROR(IF(A3723=\"\",\"\",IF(VLOOKUP(A3723,'Romaneio da Carga'!E:E,1,0)=BD!A3723,\"Volume Ok\",\"Volume não pertence a carga\")),\"Volume não pertence a carga\")","v":""}]
[null,{"$f":"IFERROR(IF(A3724=\"\",\"\",IF(VLOOKUP(A3724,'Romaneio da Carga'!E:E,1,0)=BD!A3724,\"Volume Ok\",\"Volume não pertence a carga\")),\"Volume não pertence a carga\")","v":""}]
[null,{"$f":"IFERROR(IF(A3725=\"\",\"\",IF(VLOOKUP(A3725,'Romaneio da Carga'!E:E,1,0)=BD!A3725,\"Volume Ok\",\"Volume não pertence a carga\")),\"Volume não pertence a carga\")","v":""}]
[null,{"$f":"IFERROR(IF(A3726=\"\",\"\",IF(VLOOKUP(A3726,'Romaneio da Carga'!E:E,1,0)=BD!A3726,\"Volume Ok\",\"Volume não pertence a carga\")),\"Volume não pertence a carga\")","v":""}]
[null,{"$f":"IFERROR(IF(A3727=\"\",\"\",IF(VLOOKUP(A3727,'Romaneio da Carga'!E:E,1,0)=BD!A3727,\"Volume Ok\",\"Volume não pertence a carga\")),\"Volume não pertence a carga\")","v":""}]
[null,{"$f":"IFERROR(IF(A3728=\"\",\"\",IF(VLOOKUP(A3728,'Romaneio da Carga'!E:E,1,0)=BD!A3728,\"Volume Ok\",\"Volume não pertence a carga\")),\"Volume não pertence a carga\")","v":""}]
[null,{"$f":"IFERROR(IF(A3729=\"\",\"\",IF(VLOOKUP(A3729,'Romaneio da Carga'!E:E,1,0)=BD!A3729,\"Volume Ok\",\"Volume não pertence a carga\")),\"Volume não pertence a carga\")","v":""}]
[null,{"$f":"IFERROR(IF(A3730=\"\",\"\",IF(VLOOKUP(A3730,'Romaneio da Carga'!E:E,1,0)=BD!A3730,\"Volume Ok\",\"Volume não pertence a carga\")),\"Volume não pertence a carga\")","v":""}]
[null,{"$f":"IFERROR(IF(A3731=\"\",\"\",IF(VLOOKUP(A3731,'Romaneio da Carga'!E:E,1,0)=BD!A3731,\"Volume Ok\",\"Volume não pertence a carga\")),\"Volume não pertence a carga\")","v":""}]
[null,{"$f":"IFERROR(IF(A3732=\"\",\"\",IF(VLOOKUP(A3732,'Romaneio da Carga'!E:E,1,0)=BD!A3732,\"Volume Ok\",\"Volume não pertence a carga\")),\"Volume não pertence a carga\")","v":""}]
[null,{"$f":"IFERROR(IF(A3733=\"\",\"\",IF(VLOOKUP(A3733,'Romaneio da Carga'!E:E,1,0)=BD!A3733,\"Volume Ok\",\"Volume não pertence a carga\")),\"Volume não pertence a carga\")","v":""}]
[null,{"$f":"IFERROR(IF(A3734=\"\",\"\",IF(VLOOKUP(A3734,'Romaneio da Carga'!E:E,1,0)=BD!A3734,\"Volume Ok\",\"Volume não pertence a carga\")),\"Volume não pertence a carga\")","v":""}]
[null,{"$f":"IFERROR(IF(A3735=\"\",\"\",IF(VLOOKUP(A3735,'Romaneio da Carga'!E:E,1,0)=BD!A3735,\"Volume Ok\",\"Volume não pertence a carga\")),\"Volume não pertence a carga\")","v":""}]
[null,{"$f":"IFERROR(IF(A3736=\"\",\"\",IF(VLOOKUP(A3736,'Romaneio da Carga'!E:E,1,0)=BD!A3736,\"Volume Ok\",\"Volume não pertence a carga\")),\"Volume não pertence a carga\")","v":""}]
[null,{"$f":"IFERROR(IF(A3737=\"\",\"\",IF(VLOOKUP(A3737,'Romaneio da Carga'!E:E,1,0)=BD!A3737,\"Volume Ok\",\"Volume não pertence a carga\")),\"Volume não pertence a carga\")","v":""}]
[null,{"$f":"IFERROR(IF(A3738=\"\",\"\",IF(VLOOKUP(A3738,'Romaneio da Carga'!E:E,1,0)=BD!A3738,\"Volume Ok\",\"Volume não pertence a carga\")),\"Volume não pertence a carga\")","v":""}]
[null,{"$f":"IFERROR(IF(A3739=\"\",\"\",IF(VLOOKUP(A3739,'Romaneio da Carga'!E:E,1,0)=BD!A3739,\"Volume Ok\",\"Volume não pertence a carga\")),\"Volume não pertence a carga\")","v":""}]
[null,{"$f":"IFERROR(IF(A3740=\"\",\"\",IF(VLOOKUP(A3740,'Romaneio da Carga'!E:E,1,0)=BD!A3740,\"Volume Ok\",\"Volume não pertence a carga\")),\"Volume não pertence a carga\")","v":""}]
[null,{"$f":"IFERROR(IF(A3741=\"\",\"\",IF(VLOOKUP(A3741,'Romaneio da Carga'!E:E,1,0)=BD!A3741,\"Volume Ok\",\"Volume não pertence a carga\")),\"Volume não pertence a carga\")","v":""}]
[null,{"$f":"IFERROR(IF(A3742=\"\",\"\",IF(VLOOKUP(A3742,'Romaneio da Carga'!E:E,1,0)=BD!A3742,\"Volume Ok\",\"Volume não pertence a carga\")),\"Volume não pertence a carga\")","v":""}]
[null,{"$f":"IFERROR(IF(A3743=\"\",\"\",IF(VLOOKUP(A3743,'Romaneio da Carga'!E:E,1,0)=BD!A3743,\"Volume Ok\",\"Volume não pertence a carga\")),\"Volume não pertence a carga\")","v":""}]
[null,{"$f":"IFERROR(IF(A3744=\"\",\"\",IF(VLOOKUP(A3744,'Romaneio da Carga'!E:E,1,0)=BD!A3744,\"Volume Ok\",\"Volume não pertence a carga\")),\"Volume não pertence a carga\")","v":""}]
[null,{"$f":"IFERROR(IF(A3745=\"\",\"\",IF(VLOOKUP(A3745,'Romaneio da Carga'!E:E,1,0)=BD!A3745,\"Volume Ok\",\"Volume não pertence a carga\")),\"Volume não pertence a carga\")","v":""}]
[null,{"$f":"IFERROR(IF(A3746=\"\",\"\",IF(VLOOKUP(A3746,'Romaneio da Carga'!E:E,1,0)=BD!A3746,\"Volume Ok\",\"Volume não pertence a carga\")),\"Volume não pertence a carga\")","v":""}]
[null,{"$f":"IFERROR(IF(A3747=\"\",\"\",IF(VLOOKUP(A3747,'Romaneio da Carga'!E:E,1,0)=BD!A3747,\"Volume Ok\",\"Volume não pertence a carga\")),\"Volume não pertence a carga\")","v":""}]
[null,{"$f":"IFERROR(IF(A3748=\"\",\"\",IF(VLOOKUP(A3748,'Romaneio da Carga'!E:E,1,0)=BD!A3748,\"Volume Ok\",\"Volume não pertence a carga\")),\"Volume não pertence a carga\")","v":""}]
[null,{"$f":"IFERROR(IF(A3749=\"\",\"\",IF(VLOOKUP(A3749,'Romaneio da Carga'!E:E,1,0)=BD!A3749,\"Volume Ok\",\"Volume não pertence a carga\")),\"Volume não pertence a carga\")","v":""}]
[null,{"$f":"IFERROR(IF(A3750=\"\",\"\",IF(VLOOKUP(A3750,'Romaneio da Carga'!E:E,1,0)=BD!A3750,\"Volume Ok\",\"Volume não pertence a carga\")),\"Volume não pertence a carga\")","v":""}]
[null,{"$f":"IFERROR(IF(A3751=\"\",\"\",IF(VLOOKUP(A3751,'Romaneio da Carga'!E:E,1,0)=BD!A3751,\"Volume Ok\",\"Volume não pertence a carga\")),\"Volume não pertence a carga\")","v":""}]
[null,{"$f":"IFERROR(IF(A3752=\"\",\"\",IF(VLOOKUP(A3752,'Romaneio da Carga'!E:E,1,0)=BD!A3752,\"Volume Ok\",\"Volume não pertence a carga\")),\"Volume não pertence a carga\")","v":""}]
[null,{"$f":"IFERROR(IF(A3753=\"\",\"\",IF(VLOOKUP(A3753,'Romaneio da Carga'!E:E,1,0)=BD!A3753,\"Volume Ok\",\"Volume não pertence a carga\")),\"Volume não pertence a carga\")","v":""}]
[null,{"$f":"IFERROR(IF(A3754=\"\",\"\",IF(VLOOKUP(A3754,'Romaneio da Carga'!E:E,1,0)=BD!A3754,\"Volume Ok\",\"Volume não pertence a carga\")),\"Volume não pertence a carga\")","v":""}]
[null,{"$f":"IFERROR(IF(A3755=\"\",\"\",IF(VLOOKUP(A3755,'Romaneio da Carga'!E:E,1,0)=BD!A3755,\"Volume Ok\",\"Volume não pertence a carga\")),\"Volume não pertence a carga\")","v":""}]
[null,{"$f":"IFERROR(IF(A3756=\"\",\"\",IF(VLOOKUP(A3756,'Romaneio da Carga'!E:E,1,0)=BD!A3756,\"Volume Ok\",\"Volume não pertence a carga\")),\"Volume não pertence a carga\")","v":""}]
[null,{"$f":"IFERROR(IF(A3757=\"\",\"\",IF(VLOOKUP(A3757,'Romaneio da Carga'!E:E,1,0)=BD!A3757,\"Volume Ok\",\"Volume não pertence a carga\")),\"Volume não pertence a carga\")","v":""}]
[null,{"$f":"IFERROR(IF(A3758=\"\",\"\",IF(VLOOKUP(A3758,'Romaneio da Carga'!E:E,1,0)=BD!A3758,\"Volume Ok\",\"Volume não pertence a carga\")),\"Volume não pertence a carga\")","v":""}]
[null,{"$f":"IFERROR(IF(A3759=\"\",\"\",IF(VLOOKUP(A3759,'Romaneio da Carga'!E:E,1,0)=BD!A3759,\"Volume Ok\",\"Volume não pertence a carga\")),\"Volume não pertence a carga\")","v":""}]
[null,{"$f":"IFERROR(IF(A3760=\"\",\"\",IF(VLOOKUP(A3760,'Romaneio da Carga'!E:E,1,0)=BD!A3760,\"Volume Ok\",\"Volume não pertence a carga\")),\"Volume não pertence a carga\")","v":""}]
[null,{"$f":"IFERROR(IF(A3761=\"\",\"\",IF(VLOOKUP(A3761,'Romaneio da Carga'!E:E,1,0)=BD!A3761,\"Volume Ok\",\"Volume não pertence a carga\")),\"Volume não pertence a carga\")","v":""}]
[null,{"$f":"IFERROR(IF(A3762=\"\",\"\",IF(VLOOKUP(A3762,'Romaneio da Carga'!E:E,1,0)=BD!A3762,\"Volume Ok\",\"Volume não pertence a carga\")),\"Volume não pertence a carga\")","v":""}]
[null,{"$f":"IFERROR(IF(A3763=\"\",\"\",IF(VLOOKUP(A3763,'Romaneio da Carga'!E:E,1,0)=BD!A3763,\"Volume Ok\",\"Volume não pertence a carga\")),\"Volume não pertence a carga\")","v":""}]
[null,{"$f":"IFERROR(IF(A3764=\"\",\"\",IF(VLOOKUP(A3764,'Romaneio da Carga'!E:E,1,0)=BD!A3764,\"Volume Ok\",\"Volume não pertence a carga\")),\"Volume não pertence a carga\")","v":""}]
[null,{"$f":"IFERROR(IF(A3765=\"\",\"\",IF(VLOOKUP(A3765,'Romaneio da Carga'!E:E,1,0)=BD!A3765,\"Volume Ok\",\"Volume não pertence a carga\")),\"Volume não pertence a carga\")","v":""}]
[null,{"$f":"IFERROR(IF(A3766=\"\",\"\",IF(VLOOKUP(A3766,'Romaneio da Carga'!E:E,1,0)=BD!A3766,\"Volume Ok\",\"Volume não pertence a carga\")),\"Volume não pertence a carga\")","v":""}]
[null,{"$f":"IFERROR(IF(A3767=\"\",\"\",IF(VLOOKUP(A3767,'Romaneio da Carga'!E:E,1,0)=BD!A3767,\"Volume Ok\",\"Volume não pertence a carga\")),\"Volume não pertence a carga\")","v":""}]
[null,{"$f":"IFERROR(IF(A3768=\"\",\"\",IF(VLOOKUP(A3768,'Romaneio da Carga'!E:E,1,0)=BD!A3768,\"Volume Ok\",\"Volume não pertence a carga\")),\"Volume não pertence a carga\")","v":""}]
[null,{"$f":"IFERROR(IF(A3769=\"\",\"\",IF(VLOOKUP(A3769,'Romaneio da Carga'!E:E,1,0)=BD!A3769,\"Volume Ok\",\"Volume não pertence a carga\")),\"Volume não pertence a carga\")","v":""}]
[null,{"$f":"IFERROR(IF(A3770=\"\",\"\",IF(VLOOKUP(A3770,'Romaneio da Carga'!E:E,1,0)=BD!A3770,\"Volume Ok\",\"Volume não pertence a carga\")),\"Volume não pertence a carga\")","v":""}]
[null,{"$f":"IFERROR(IF(A3771=\"\",\"\",IF(VLOOKUP(A3771,'Romaneio da Carga'!E:E,1,0)=BD!A3771,\"Volume Ok\",\"Volume não pertence a carga\")),\"Volume não pertence a carga\")","v":""}]
[null,{"$f":"IFERROR(IF(A3772=\"\",\"\",IF(VLOOKUP(A3772,'Romaneio da Carga'!E:E,1,0)=BD!A3772,\"Volume Ok\",\"Volume não pertence a carga\")),\"Volume não pertence a carga\")","v":""}]
[null,{"$f":"IFERROR(IF(A3773=\"\",\"\",IF(VLOOKUP(A3773,'Romaneio da Carga'!E:E,1,0)=BD!A3773,\"Volume Ok\",\"Volume não pertence a carga\")),\"Volume não pertence a carga\")","v":""}]
[null,{"$f":"IFERROR(IF(A3774=\"\",\"\",IF(VLOOKUP(A3774,'Romaneio da Carga'!E:E,1,0)=BD!A3774,\"Volume Ok\",\"Volume não pertence a carga\")),\"Volume não pertence a carga\")","v":""}]
[null,{"$f":"IFERROR(IF(A3775=\"\",\"\",IF(VLOOKUP(A3775,'Romaneio da Carga'!E:E,1,0)=BD!A3775,\"Volume Ok\",\"Volume não pertence a carga\")),\"Volume não pertence a carga\")","v":""}]
[null,{"$f":"IFERROR(IF(A3776=\"\",\"\",IF(VLOOKUP(A3776,'Romaneio da Carga'!E:E,1,0)=BD!A3776,\"Volume Ok\",\"Volume não pertence a carga\")),\"Volume não pertence a carga\")","v":""}]
[null,{"$f":"IFERROR(IF(A3777=\"\",\"\",IF(VLOOKUP(A3777,'Romaneio da Carga'!E:E,1,0)=BD!A3777,\"Volume Ok\",\"Volume não pertence a carga\")),\"Volume não pertence a carga\")","v":""}]
[null,{"$f":"IFERROR(IF(A3778=\"\",\"\",IF(VLOOKUP(A3778,'Romaneio da Carga'!E:E,1,0)=BD!A3778,\"Volume Ok\",\"Volume não pertence a carga\")),\"Volume não pertence a carga\")","v":""}]
[null,{"$f":"IFERROR(IF(A3779=\"\",\"\",IF(VLOOKUP(A3779,'Romaneio da Carga'!E:E,1,0)=BD!A3779,\"Volume Ok\",\"Volume não pertence a carga\")),\"Volume não pertence a carga\")","v":""}]
[null,{"$f":"IFERROR(IF(A3780=\"\",\"\",IF(VLOOKUP(A3780,'Romaneio da Carga'!E:E,1,0)=BD!A3780,\"Volume Ok\",\"Volume não pertence a carga\")),\"Volume não pertence a carga\")","v":""}]
[null,{"$f":"IFERROR(IF(A3781=\"\",\"\",IF(VLOOKUP(A3781,'Romaneio da Carga'!E:E,1,0)=BD!A3781,\"Volume Ok\",\"Volume não pertence a carga\")),\"Volume não pertence a carga\")","v":""}]
[null,{"$f":"IFERROR(IF(A3782=\"\",\"\",IF(VLOOKUP(A3782,'Romaneio da Carga'!E:E,1,0)=BD!A3782,\"Volume Ok\",\"Volume não pertence a carga\")),\"Volume não pertence a carga\")","v":""}]
[null,{"$f":"IFERROR(IF(A3783=\"\",\"\",IF(VLOOKUP(A3783,'Romaneio da Carga'!E:E,1,0)=BD!A3783,\"Volume Ok\",\"Volume não pertence a carga\")),\"Volume não pertence a carga\")","v":""}]
[null,{"$f":"IFERROR(IF(A3784=\"\",\"\",IF(VLOOKUP(A3784,'Romaneio da Carga'!E:E,1,0)=BD!A3784,\"Volume Ok\",\"Volume não pertence a carga\")),\"Volume não pertence a carga\")","v":""}]
[null,{"$f":"IFERROR(IF(A3785=\"\",\"\",IF(VLOOKUP(A3785,'Romaneio da Carga'!E:E,1,0)=BD!A3785,\"Volume Ok\",\"Volume não pertence a carga\")),\"Volume não pertence a carga\")","v":""}]
[null,{"$f":"IFERROR(IF(A3786=\"\",\"\",IF(VLOOKUP(A3786,'Romaneio da Carga'!E:E,1,0)=BD!A3786,\"Volume Ok\",\"Volume não pertence a carga\")),\"Volume não pertence a carga\")","v":""}]
[null,{"$f":"IFERROR(IF(A3787=\"\",\"\",IF(VLOOKUP(A3787,'Romaneio da Carga'!E:E,1,0)=BD!A3787,\"Volume Ok\",\"Volume não pertence a carga\")),\"Volume não pertence a carga\")","v":""}]
[null,{"$f":"IFERROR(IF(A3788=\"\",\"\",IF(VLOOKUP(A3788,'Romaneio da Carga'!E:E,1,0)=BD!A3788,\"Volume Ok\",\"Volume não pertence a carga\")),\"Volume não pertence a carga\")","v":""}]
[null,{"$f":"IFERROR(IF(A3789=\"\",\"\",IF(VLOOKUP(A3789,'Romaneio da Carga'!E:E,1,0)=BD!A3789,\"Volume Ok\",\"Volume não pertence a carga\")),\"Volume não pertence a carga\")","v":""}]
[null,{"$f":"IFERROR(IF(A3790=\"\",\"\",IF(VLOOKUP(A3790,'Romaneio da Carga'!E:E,1,0)=BD!A3790,\"Volume Ok\",\"Volume não pertence a carga\")),\"Volume não pertence a carga\")","v":""}]
[null,{"$f":"IFERROR(IF(A3791=\"\",\"\",IF(VLOOKUP(A3791,'Romaneio da Carga'!E:E,1,0)=BD!A3791,\"Volume Ok\",\"Volume não pertence a carga\")),\"Volume não pertence a carga\")","v":""}]
[null,{"$f":"IFERROR(IF(A3792=\"\",\"\",IF(VLOOKUP(A3792,'Romaneio da Carga'!E:E,1,0)=BD!A3792,\"Volume Ok\",\"Volume não pertence a carga\")),\"Volume não pertence a carga\")","v":""}]
[null,{"$f":"IFERROR(IF(A3793=\"\",\"\",IF(VLOOKUP(A3793,'Romaneio da Carga'!E:E,1,0)=BD!A3793,\"Volume Ok\",\"Volume não pertence a carga\")),\"Volume não pertence a carga\")","v":""}]
[null,{"$f":"IFERROR(IF(A3794=\"\",\"\",IF(VLOOKUP(A3794,'Romaneio da Carga'!E:E,1,0)=BD!A3794,\"Volume Ok\",\"Volume não pertence a carga\")),\"Volume não pertence a carga\")","v":""}]
[null,{"$f":"IFERROR(IF(A3795=\"\",\"\",IF(VLOOKUP(A3795,'Romaneio da Carga'!E:E,1,0)=BD!A3795,\"Volume Ok\",\"Volume não pertence a carga\")),\"Volume não pertence a carga\")","v":""}]
[null,{"$f":"IFERROR(IF(A3796=\"\",\"\",IF(VLOOKUP(A3796,'Romaneio da Carga'!E:E,1,0)=BD!A3796,\"Volume Ok\",\"Volume não pertence a carga\")),\"Volume não pertence a carga\")","v":""}]
[null,{"$f":"IFERROR(IF(A3797=\"\",\"\",IF(VLOOKUP(A3797,'Romaneio da Carga'!E:E,1,0)=BD!A3797,\"Volume Ok\",\"Volume não pertence a carga\")),\"Volume não pertence a carga\")","v":""}]
[null,{"$f":"IFERROR(IF(A3798=\"\",\"\",IF(VLOOKUP(A3798,'Romaneio da Carga'!E:E,1,0)=BD!A3798,\"Volume Ok\",\"Volume não pertence a carga\")),\"Volume não pertence a carga\")","v":""}]
[null,{"$f":"IFERROR(IF(A3799=\"\",\"\",IF(VLOOKUP(A3799,'Romaneio da Carga'!E:E,1,0)=BD!A3799,\"Volume Ok\",\"Volume não pertence a carga\")),\"Volume não pertence a carga\")","v":""}]
[null,{"$f":"IFERROR(IF(A3800=\"\",\"\",IF(VLOOKUP(A3800,'Romaneio da Carga'!E:E,1,0)=BD!A3800,\"Volume Ok\",\"Volume não pertence a carga\")),\"Volume não pertence a carga\")","v":""}]
[null,{"$f":"IFERROR(IF(A3801=\"\",\"\",IF(VLOOKUP(A3801,'Romaneio da Carga'!E:E,1,0)=BD!A3801,\"Volume Ok\",\"Volume não pertence a carga\")),\"Volume não pertence a carga\")","v":""}]
[null,{"$f":"IFERROR(IF(A3802=\"\",\"\",IF(VLOOKUP(A3802,'Romaneio da Carga'!E:E,1,0)=BD!A3802,\"Volume Ok\",\"Volume não pertence a carga\")),\"Volume não pertence a carga\")","v":""}]
[null,{"$f":"IFERROR(IF(A3803=\"\",\"\",IF(VLOOKUP(A3803,'Romaneio da Carga'!E:E,1,0)=BD!A3803,\"Volume Ok\",\"Volume não pertence a carga\")),\"Volume não pertence a carga\")","v":""}]
[null,{"$f":"IFERROR(IF(A3804=\"\",\"\",IF(VLOOKUP(A3804,'Romaneio da Carga'!E:E,1,0)=BD!A3804,\"Volume Ok\",\"Volume não pertence a carga\")),\"Volume não pertence a carga\")","v":""}]
[null,{"$f":"IFERROR(IF(A3805=\"\",\"\",IF(VLOOKUP(A3805,'Romaneio da Carga'!E:E,1,0)=BD!A3805,\"Volume Ok\",\"Volume não pertence a carga\")),\"Volume não pertence a carga\")","v":""}]
[null,{"$f":"IFERROR(IF(A3806=\"\",\"\",IF(VLOOKUP(A3806,'Romaneio da Carga'!E:E,1,0)=BD!A3806,\"Volume Ok\",\"Volume não pertence a carga\")),\"Volume não pertence a carga\")","v":""}]
[null,{"$f":"IFERROR(IF(A3807=\"\",\"\",IF(VLOOKUP(A3807,'Romaneio da Carga'!E:E,1,0)=BD!A3807,\"Volume Ok\",\"Volume não pertence a carga\")),\"Volume não pertence a carga\")","v":""}]
[null,{"$f":"IFERROR(IF(A3808=\"\",\"\",IF(VLOOKUP(A3808,'Romaneio da Carga'!E:E,1,0)=BD!A3808,\"Volume Ok\",\"Volume não pertence a carga\")),\"Volume não pertence a carga\")","v":""}]
[null,{"$f":"IFERROR(IF(A3809=\"\",\"\",IF(VLOOKUP(A3809,'Romaneio da Carga'!E:E,1,0)=BD!A3809,\"Volume Ok\",\"Volume não pertence a carga\")),\"Volume não pertence a carga\")","v":""}]
[null,{"$f":"IFERROR(IF(A3810=\"\",\"\",IF(VLOOKUP(A3810,'Romaneio da Carga'!E:E,1,0)=BD!A3810,\"Volume Ok\",\"Volume não pertence a carga\")),\"Volume não pertence a carga\")","v":""}]
[null,{"$f":"IFERROR(IF(A3811=\"\",\"\",IF(VLOOKUP(A3811,'Romaneio da Carga'!E:E,1,0)=BD!A3811,\"Volume Ok\",\"Volume não pertence a carga\")),\"Volume não pertence a carga\")","v":""}]
[null,{"$f":"IFERROR(IF(A3812=\"\",\"\",IF(VLOOKUP(A3812,'Romaneio da Carga'!E:E,1,0)=BD!A3812,\"Volume Ok\",\"Volume não pertence a carga\")),\"Volume não pertence a carga\")","v":""}]
[null,{"$f":"IFERROR(IF(A3813=\"\",\"\",IF(VLOOKUP(A3813,'Romaneio da Carga'!E:E,1,0)=BD!A3813,\"Volume Ok\",\"Volume não pertence a carga\")),\"Volume não pertence a carga\")","v":""}]
[null,{"$f":"IFERROR(IF(A3814=\"\",\"\",IF(VLOOKUP(A3814,'Romaneio da Carga'!E:E,1,0)=BD!A3814,\"Volume Ok\",\"Volume não pertence a carga\")),\"Volume não pertence a carga\")","v":""}]
[null,{"$f":"IFERROR(IF(A3815=\"\",\"\",IF(VLOOKUP(A3815,'Romaneio da Carga'!E:E,1,0)=BD!A3815,\"Volume Ok\",\"Volume não pertence a carga\")),\"Volume não pertence a carga\")","v":""}]
[null,{"$f":"IFERROR(IF(A3816=\"\",\"\",IF(VLOOKUP(A3816,'Romaneio da Carga'!E:E,1,0)=BD!A3816,\"Volume Ok\",\"Volume não pertence a carga\")),\"Volume não pertence a carga\")","v":""}]
[null,{"$f":"IFERROR(IF(A3817=\"\",\"\",IF(VLOOKUP(A3817,'Romaneio da Carga'!E:E,1,0)=BD!A3817,\"Volume Ok\",\"Volume não pertence a carga\")),\"Volume não pertence a carga\")","v":""}]
[null,{"$f":"IFERROR(IF(A3818=\"\",\"\",IF(VLOOKUP(A3818,'Romaneio da Carga'!E:E,1,0)=BD!A3818,\"Volume Ok\",\"Volume não pertence a carga\")),\"Volume não pertence a carga\")","v":""}]
[null,{"$f":"IFERROR(IF(A3819=\"\",\"\",IF(VLOOKUP(A3819,'Romaneio da Carga'!E:E,1,0)=BD!A3819,\"Volume Ok\",\"Volume não pertence a carga\")),\"Volume não pertence a carga\")","v":""}]
[null,{"$f":"IFERROR(IF(A3820=\"\",\"\",IF(VLOOKUP(A3820,'Romaneio da Carga'!E:E,1,0)=BD!A3820,\"Volume Ok\",\"Volume não pertence a carga\")),\"Volume não pertence a carga\")","v":""}]
[null,{"$f":"IFERROR(IF(A3821=\"\",\"\",IF(VLOOKUP(A3821,'Romaneio da Carga'!E:E,1,0)=BD!A3821,\"Volume Ok\",\"Volume não pertence a carga\")),\"Volume não pertence a carga\")","v":""}]
[null,{"$f":"IFERROR(IF(A3822=\"\",\"\",IF(VLOOKUP(A3822,'Romaneio da Carga'!E:E,1,0)=BD!A3822,\"Volume Ok\",\"Volume não pertence a carga\")),\"Volume não pertence a carga\")","v":""}]
[null,{"$f":"IFERROR(IF(A3823=\"\",\"\",IF(VLOOKUP(A3823,'Romaneio da Carga'!E:E,1,0)=BD!A3823,\"Volume Ok\",\"Volume não pertence a carga\")),\"Volume não pertence a carga\")","v":""}]
[null,{"$f":"IFERROR(IF(A3824=\"\",\"\",IF(VLOOKUP(A3824,'Romaneio da Carga'!E:E,1,0)=BD!A3824,\"Volume Ok\",\"Volume não pertence a carga\")),\"Volume não pertence a carga\")","v":""}]
[null,{"$f":"IFERROR(IF(A3825=\"\",\"\",IF(VLOOKUP(A3825,'Romaneio da Carga'!E:E,1,0)=BD!A3825,\"Volume Ok\",\"Volume não pertence a carga\")),\"Volume não pertence a carga\")","v":""}]
[null,{"$f":"IFERROR(IF(A3826=\"\",\"\",IF(VLOOKUP(A3826,'Romaneio da Carga'!E:E,1,0)=BD!A3826,\"Volume Ok\",\"Volume não pertence a carga\")),\"Volume não pertence a carga\")","v":""}]
[null,{"$f":"IFERROR(IF(A3827=\"\",\"\",IF(VLOOKUP(A3827,'Romaneio da Carga'!E:E,1,0)=BD!A3827,\"Volume Ok\",\"Volume não pertence a carga\")),\"Volume não pertence a carga\")","v":""}]
[null,{"$f":"IFERROR(IF(A3828=\"\",\"\",IF(VLOOKUP(A3828,'Romaneio da Carga'!E:E,1,0)=BD!A3828,\"Volume Ok\",\"Volume não pertence a carga\")),\"Volume não pertence a carga\")","v":""}]
[null,{"$f":"IFERROR(IF(A3829=\"\",\"\",IF(VLOOKUP(A3829,'Romaneio da Carga'!E:E,1,0)=BD!A3829,\"Volume Ok\",\"Volume não pertence a carga\")),\"Volume não pertence a carga\")","v":""}]
[null,{"$f":"IFERROR(IF(A3830=\"\",\"\",IF(VLOOKUP(A3830,'Romaneio da Carga'!E:E,1,0)=BD!A3830,\"Volume Ok\",\"Volume não pertence a carga\")),\"Volume não pertence a carga\")","v":""}]
[null,{"$f":"IFERROR(IF(A3831=\"\",\"\",IF(VLOOKUP(A3831,'Romaneio da Carga'!E:E,1,0)=BD!A3831,\"Volume Ok\",\"Volume não pertence a carga\")),\"Volume não pertence a carga\")","v":""}]
[null,{"$f":"IFERROR(IF(A3832=\"\",\"\",IF(VLOOKUP(A3832,'Romaneio da Carga'!E:E,1,0)=BD!A3832,\"Volume Ok\",\"Volume não pertence a carga\")),\"Volume não pertence a carga\")","v":""}]
[null,{"$f":"IFERROR(IF(A3833=\"\",\"\",IF(VLOOKUP(A3833,'Romaneio da Carga'!E:E,1,0)=BD!A3833,\"Volume Ok\",\"Volume não pertence a carga\")),\"Volume não pertence a carga\")","v":""}]
[null,{"$f":"IFERROR(IF(A3834=\"\",\"\",IF(VLOOKUP(A3834,'Romaneio da Carga'!E:E,1,0)=BD!A3834,\"Volume Ok\",\"Volume não pertence a carga\")),\"Volume não pertence a carga\")","v":""}]
[null,{"$f":"IFERROR(IF(A3835=\"\",\"\",IF(VLOOKUP(A3835,'Romaneio da Carga'!E:E,1,0)=BD!A3835,\"Volume Ok\",\"Volume não pertence a carga\")),\"Volume não pertence a carga\")","v":""}]
[null,{"$f":"IFERROR(IF(A3836=\"\",\"\",IF(VLOOKUP(A3836,'Romaneio da Carga'!E:E,1,0)=BD!A3836,\"Volume Ok\",\"Volume não pertence a carga\")),\"Volume não pertence a carga\")","v":""}]
[null,{"$f":"IFERROR(IF(A3837=\"\",\"\",IF(VLOOKUP(A3837,'Romaneio da Carga'!E:E,1,0)=BD!A3837,\"Volume Ok\",\"Volume não pertence a carga\")),\"Volume não pertence a carga\")","v":""}]
[null,{"$f":"IFERROR(IF(A3838=\"\",\"\",IF(VLOOKUP(A3838,'Romaneio da Carga'!E:E,1,0)=BD!A3838,\"Volume Ok\",\"Volume não pertence a carga\")),\"Volume não pertence a carga\")","v":""}]
[null,{"$f":"IFERROR(IF(A3839=\"\",\"\",IF(VLOOKUP(A3839,'Romaneio da Carga'!E:E,1,0)=BD!A3839,\"Volume Ok\",\"Volume não pertence a carga\")),\"Volume não pertence a carga\")","v":""}]
[null,{"$f":"IFERROR(IF(A3840=\"\",\"\",IF(VLOOKUP(A3840,'Romaneio da Carga'!E:E,1,0)=BD!A3840,\"Volume Ok\",\"Volume não pertence a carga\")),\"Volume não pertence a carga\")","v":""}]
[null,{"$f":"IFERROR(IF(A3841=\"\",\"\",IF(VLOOKUP(A3841,'Romaneio da Carga'!E:E,1,0)=BD!A3841,\"Volume Ok\",\"Volume não pertence a carga\")),\"Volume não pertence a carga\")","v":""}]
[null,{"$f":"IFERROR(IF(A3842=\"\",\"\",IF(VLOOKUP(A3842,'Romaneio da Carga'!E:E,1,0)=BD!A3842,\"Volume Ok\",\"Volume não pertence a carga\")),\"Volume não pertence a carga\")","v":""}]
[null,{"$f":"IFERROR(IF(A3843=\"\",\"\",IF(VLOOKUP(A3843,'Romaneio da Carga'!E:E,1,0)=BD!A3843,\"Volume Ok\",\"Volume não pertence a carga\")),\"Volume não pertence a carga\")","v":""}]
[null,{"$f":"IFERROR(IF(A3844=\"\",\"\",IF(VLOOKUP(A3844,'Romaneio da Carga'!E:E,1,0)=BD!A3844,\"Volume Ok\",\"Volume não pertence a carga\")),\"Volume não pertence a carga\")","v":""}]
[null,{"$f":"IFERROR(IF(A3845=\"\",\"\",IF(VLOOKUP(A3845,'Romaneio da Carga'!E:E,1,0)=BD!A3845,\"Volume Ok\",\"Volume não pertence a carga\")),\"Volume não pertence a carga\")","v":""}]
[null,{"$f":"IFERROR(IF(A3846=\"\",\"\",IF(VLOOKUP(A3846,'Romaneio da Carga'!E:E,1,0)=BD!A3846,\"Volume Ok\",\"Volume não pertence a carga\")),\"Volume não pertence a carga\")","v":""}]
[null,{"$f":"IFERROR(IF(A3847=\"\",\"\",IF(VLOOKUP(A3847,'Romaneio da Carga'!E:E,1,0)=BD!A3847,\"Volume Ok\",\"Volume não pertence a carga\")),\"Volume não pertence a carga\")","v":""}]
[null,{"$f":"IFERROR(IF(A3848=\"\",\"\",IF(VLOOKUP(A3848,'Romaneio da Carga'!E:E,1,0)=BD!A3848,\"Volume Ok\",\"Volume não pertence a carga\")),\"Volume não pertence a carga\")","v":""}]
[null,{"$f":"IFERROR(IF(A3849=\"\",\"\",IF(VLOOKUP(A3849,'Romaneio da Carga'!E:E,1,0)=BD!A3849,\"Volume Ok\",\"Volume não pertence a carga\")),\"Volume não pertence a carga\")","v":""}]
[null,{"$f":"IFERROR(IF(A3850=\"\",\"\",IF(VLOOKUP(A3850,'Romaneio da Carga'!E:E,1,0)=BD!A3850,\"Volume Ok\",\"Volume não pertence a carga\")),\"Volume não pertence a carga\")","v":""}]
[null,{"$f":"IFERROR(IF(A3851=\"\",\"\",IF(VLOOKUP(A3851,'Romaneio da Carga'!E:E,1,0)=BD!A3851,\"Volume Ok\",\"Volume não pertence a carga\")),\"Volume não pertence a carga\")","v":""}]
[null,{"$f":"IFERROR(IF(A3852=\"\",\"\",IF(VLOOKUP(A3852,'Romaneio da Carga'!E:E,1,0)=BD!A3852,\"Volume Ok\",\"Volume não pertence a carga\")),\"Volume não pertence a carga\")","v":""}]
[null,{"$f":"IFERROR(IF(A3853=\"\",\"\",IF(VLOOKUP(A3853,'Romaneio da Carga'!E:E,1,0)=BD!A3853,\"Volume Ok\",\"Volume não pertence a carga\")),\"Volume não pertence a carga\")","v":""}]
[null,{"$f":"IFERROR(IF(A3854=\"\",\"\",IF(VLOOKUP(A3854,'Romaneio da Carga'!E:E,1,0)=BD!A3854,\"Volume Ok\",\"Volume não pertence a carga\")),\"Volume não pertence a carga\")","v":""}]
[null,{"$f":"IFERROR(IF(A3855=\"\",\"\",IF(VLOOKUP(A3855,'Romaneio da Carga'!E:E,1,0)=BD!A3855,\"Volume Ok\",\"Volume não pertence a carga\")),\"Volume não pertence a carga\")","v":""}]
[null,{"$f":"IFERROR(IF(A3856=\"\",\"\",IF(VLOOKUP(A3856,'Romaneio da Carga'!E:E,1,0)=BD!A3856,\"Volume Ok\",\"Volume não pertence a carga\")),\"Volume não pertence a carga\")","v":""}]
[null,{"$f":"IFERROR(IF(A3857=\"\",\"\",IF(VLOOKUP(A3857,'Romaneio da Carga'!E:E,1,0)=BD!A3857,\"Volume Ok\",\"Volume não pertence a carga\")),\"Volume não pertence a carga\")","v":""}]
[null,{"$f":"IFERROR(IF(A3858=\"\",\"\",IF(VLOOKUP(A3858,'Romaneio da Carga'!E:E,1,0)=BD!A3858,\"Volume Ok\",\"Volume não pertence a carga\")),\"Volume não pertence a carga\")","v":""}]
[null,{"$f":"IFERROR(IF(A3859=\"\",\"\",IF(VLOOKUP(A3859,'Romaneio da Carga'!E:E,1,0)=BD!A3859,\"Volume Ok\",\"Volume não pertence a carga\")),\"Volume não pertence a carga\")","v":""}]
[null,{"$f":"IFERROR(IF(A3860=\"\",\"\",IF(VLOOKUP(A3860,'Romaneio da Carga'!E:E,1,0)=BD!A3860,\"Volume Ok\",\"Volume não pertence a carga\")),\"Volume não pertence a carga\")","v":""}]
[null,{"$f":"IFERROR(IF(A3861=\"\",\"\",IF(VLOOKUP(A3861,'Romaneio da Carga'!E:E,1,0)=BD!A3861,\"Volume Ok\",\"Volume não pertence a carga\")),\"Volume não pertence a carga\")","v":""}]
[null,{"$f":"IFERROR(IF(A3862=\"\",\"\",IF(VLOOKUP(A3862,'Romaneio da Carga'!E:E,1,0)=BD!A3862,\"Volume Ok\",\"Volume não pertence a carga\")),\"Volume não pertence a carga\")","v":""}]
[null,{"$f":"IFERROR(IF(A3863=\"\",\"\",IF(VLOOKUP(A3863,'Romaneio da Carga'!E:E,1,0)=BD!A3863,\"Volume Ok\",\"Volume não pertence a carga\")),\"Volume não pertence a carga\")","v":""}]
[null,{"$f":"IFERROR(IF(A3864=\"\",\"\",IF(VLOOKUP(A3864,'Romaneio da Carga'!E:E,1,0)=BD!A3864,\"Volume Ok\",\"Volume não pertence a carga\")),\"Volume não pertence a carga\")","v":""}]
[null,{"$f":"IFERROR(IF(A3865=\"\",\"\",IF(VLOOKUP(A3865,'Romaneio da Carga'!E:E,1,0)=BD!A3865,\"Volume Ok\",\"Volume não pertence a carga\")),\"Volume não pertence a carga\")","v":""}]
[null,{"$f":"IFERROR(IF(A3866=\"\",\"\",IF(VLOOKUP(A3866,'Romaneio da Carga'!E:E,1,0)=BD!A3866,\"Volume Ok\",\"Volume não pertence a carga\")),\"Volume não pertence a carga\")","v":""}]
[null,{"$f":"IFERROR(IF(A3867=\"\",\"\",IF(VLOOKUP(A3867,'Romaneio da Carga'!E:E,1,0)=BD!A3867,\"Volume Ok\",\"Volume não pertence a carga\")),\"Volume não pertence a carga\")","v":""}]
[null,{"$f":"IFERROR(IF(A3868=\"\",\"\",IF(VLOOKUP(A3868,'Romaneio da Carga'!E:E,1,0)=BD!A3868,\"Volume Ok\",\"Volume não pertence a carga\")),\"Volume não pertence a carga\")","v":""}]
[null,{"$f":"IFERROR(IF(A3869=\"\",\"\",IF(VLOOKUP(A3869,'Romaneio da Carga'!E:E,1,0)=BD!A3869,\"Volume Ok\",\"Volume não pertence a carga\")),\"Volume não pertence a carga\")","v":""}]
[null,{"$f":"IFERROR(IF(A3870=\"\",\"\",IF(VLOOKUP(A3870,'Romaneio da Carga'!E:E,1,0)=BD!A3870,\"Volume Ok\",\"Volume não pertence a carga\")),\"Volume não pertence a carga\")","v":""}]
[null,{"$f":"IFERROR(IF(A3871=\"\",\"\",IF(VLOOKUP(A3871,'Romaneio da Carga'!E:E,1,0)=BD!A3871,\"Volume Ok\",\"Volume não pertence a carga\")),\"Volume não pertence a carga\")","v":""}]
[null,{"$f":"IFERROR(IF(A3872=\"\",\"\",IF(VLOOKUP(A3872,'Romaneio da Carga'!E:E,1,0)=BD!A3872,\"Volume Ok\",\"Volume não pertence a carga\")),\"Volume não pertence a carga\")","v":""}]
[null,{"$f":"IFERROR(IF(A3873=\"\",\"\",IF(VLOOKUP(A3873,'Romaneio da Carga'!E:E,1,0)=BD!A3873,\"Volume Ok\",\"Volume não pertence a carga\")),\"Volume não pertence a carga\")","v":""}]
[null,{"$f":"IFERROR(IF(A3874=\"\",\"\",IF(VLOOKUP(A3874,'Romaneio da Carga'!E:E,1,0)=BD!A3874,\"Volume Ok\",\"Volume não pertence a carga\")),\"Volume não pertence a carga\")","v":""}]
[null,{"$f":"IFERROR(IF(A3875=\"\",\"\",IF(VLOOKUP(A3875,'Romaneio da Carga'!E:E,1,0)=BD!A3875,\"Volume Ok\",\"Volume não pertence a carga\")),\"Volume não pertence a carga\")","v":""}]
[null,{"$f":"IFERROR(IF(A3876=\"\",\"\",IF(VLOOKUP(A3876,'Romaneio da Carga'!E:E,1,0)=BD!A3876,\"Volume Ok\",\"Volume não pertence a carga\")),\"Volume não pertence a carga\")","v":""}]
[null,{"$f":"IFERROR(IF(A3877=\"\",\"\",IF(VLOOKUP(A3877,'Romaneio da Carga'!E:E,1,0)=BD!A3877,\"Volume Ok\",\"Volume não pertence a carga\")),\"Volume não pertence a carga\")","v":""}]
[null,{"$f":"IFERROR(IF(A3878=\"\",\"\",IF(VLOOKUP(A3878,'Romaneio da Carga'!E:E,1,0)=BD!A3878,\"Volume Ok\",\"Volume não pertence a carga\")),\"Volume não pertence a carga\")","v":""}]
[null,{"$f":"IFERROR(IF(A3879=\"\",\"\",IF(VLOOKUP(A3879,'Romaneio da Carga'!E:E,1,0)=BD!A3879,\"Volume Ok\",\"Volume não pertence a carga\")),\"Volume não pertence a carga\")","v":""}]
[null,{"$f":"IFERROR(IF(A3880=\"\",\"\",IF(VLOOKUP(A3880,'Romaneio da Carga'!E:E,1,0)=BD!A3880,\"Volume Ok\",\"Volume não pertence a carga\")),\"Volume não pertence a carga\")","v":""}]
[null,{"$f":"IFERROR(IF(A3881=\"\",\"\",IF(VLOOKUP(A3881,'Romaneio da Carga'!E:E,1,0)=BD!A3881,\"Volume Ok\",\"Volume não pertence a carga\")),\"Volume não pertence a carga\")","v":""}]
[null,{"$f":"IFERROR(IF(A3882=\"\",\"\",IF(VLOOKUP(A3882,'Romaneio da Carga'!E:E,1,0)=BD!A3882,\"Volume Ok\",\"Volume não pertence a carga\")),\"Volume não pertence a carga\")","v":""}]
[null,{"$f":"IFERROR(IF(A3883=\"\",\"\",IF(VLOOKUP(A3883,'Romaneio da Carga'!E:E,1,0)=BD!A3883,\"Volume Ok\",\"Volume não pertence a carga\")),\"Volume não pertence a carga\")","v":""}]
[null,{"$f":"IFERROR(IF(A3884=\"\",\"\",IF(VLOOKUP(A3884,'Romaneio da Carga'!E:E,1,0)=BD!A3884,\"Volume Ok\",\"Volume não pertence a carga\")),\"Volume não pertence a carga\")","v":""}]
[null,{"$f":"IFERROR(IF(A3885=\"\",\"\",IF(VLOOKUP(A3885,'Romaneio da Carga'!E:E,1,0)=BD!A3885,\"Volume Ok\",\"Volume não pertence a carga\")),\"Volume não pertence a carga\")","v":""}]
[null,{"$f":"IFERROR(IF(A3886=\"\",\"\",IF(VLOOKUP(A3886,'Romaneio da Carga'!E:E,1,0)=BD!A3886,\"Volume Ok\",\"Volume não pertence a carga\")),\"Volume não pertence a carga\")","v":""}]
[null,{"$f":"IFERROR(IF(A3887=\"\",\"\",IF(VLOOKUP(A3887,'Romaneio da Carga'!E:E,1,0)=BD!A3887,\"Volume Ok\",\"Volume não pertence a carga\")),\"Volume não pertence a carga\")","v":""}]
[null,{"$f":"IFERROR(IF(A3888=\"\",\"\",IF(VLOOKUP(A3888,'Romaneio da Carga'!E:E,1,0)=BD!A3888,\"Volume Ok\",\"Volume não pertence a carga\")),\"Volume não pertence a carga\")","v":""}]
[null,{"$f":"IFERROR(IF(A3889=\"\",\"\",IF(VLOOKUP(A3889,'Romaneio da Carga'!E:E,1,0)=BD!A3889,\"Volume Ok\",\"Volume não pertence a carga\")),\"Volume não pertence a carga\")","v":""}]
[null,{"$f":"IFERROR(IF(A3890=\"\",\"\",IF(VLOOKUP(A3890,'Romaneio da Carga'!E:E,1,0)=BD!A3890,\"Volume Ok\",\"Volume não pertence a carga\")),\"Volume não pertence a carga\")","v":""}]
[null,{"$f":"IFERROR(IF(A3891=\"\",\"\",IF(VLOOKUP(A3891,'Romaneio da Carga'!E:E,1,0)=BD!A3891,\"Volume Ok\",\"Volume não pertence a carga\")),\"Volume não pertence a carga\")","v":""}]
[null,{"$f":"IFERROR(IF(A3892=\"\",\"\",IF(VLOOKUP(A3892,'Romaneio da Carga'!E:E,1,0)=BD!A3892,\"Volume Ok\",\"Volume não pertence a carga\")),\"Volume não pertence a carga\")","v":""}]
[null,{"$f":"IFERROR(IF(A3893=\"\",\"\",IF(VLOOKUP(A3893,'Romaneio da Carga'!E:E,1,0)=BD!A3893,\"Volume Ok\",\"Volume não pertence a carga\")),\"Volume não pertence a carga\")","v":""}]
[null,{"$f":"IFERROR(IF(A3894=\"\",\"\",IF(VLOOKUP(A3894,'Romaneio da Carga'!E:E,1,0)=BD!A3894,\"Volume Ok\",\"Volume não pertence a carga\")),\"Volume não pertence a carga\")","v":""}]
[null,{"$f":"IFERROR(IF(A3895=\"\",\"\",IF(VLOOKUP(A3895,'Romaneio da Carga'!E:E,1,0)=BD!A3895,\"Volume Ok\",\"Volume não pertence a carga\")),\"Volume não pertence a carga\")","v":""}]
[null,{"$f":"IFERROR(IF(A3896=\"\",\"\",IF(VLOOKUP(A3896,'Romaneio da Carga'!E:E,1,0)=BD!A3896,\"Volume Ok\",\"Volume não pertence a carga\")),\"Volume não pertence a carga\")","v":""}]
[null,{"$f":"IFERROR(IF(A3897=\"\",\"\",IF(VLOOKUP(A3897,'Romaneio da Carga'!E:E,1,0)=BD!A3897,\"Volume Ok\",\"Volume não pertence a carga\")),\"Volume não pertence a carga\")","v":""}]
[null,{"$f":"IFERROR(IF(A3898=\"\",\"\",IF(VLOOKUP(A3898,'Romaneio da Carga'!E:E,1,0)=BD!A3898,\"Volume Ok\",\"Volume não pertence a carga\")),\"Volume não pertence a carga\")","v":""}]
[null,{"$f":"IFERROR(IF(A3899=\"\",\"\",IF(VLOOKUP(A3899,'Romaneio da Carga'!E:E,1,0)=BD!A3899,\"Volume Ok\",\"Volume não pertence a carga\")),\"Volume não pertence a carga\")","v":""}]
[null,{"$f":"IFERROR(IF(A3900=\"\",\"\",IF(VLOOKUP(A3900,'Romaneio da Carga'!E:E,1,0)=BD!A3900,\"Volume Ok\",\"Volume não pertence a carga\")),\"Volume não pertence a carga\")","v":""}]
[null,{"$f":"IFERROR(IF(A3901=\"\",\"\",IF(VLOOKUP(A3901,'Romaneio da Carga'!E:E,1,0)=BD!A3901,\"Volume Ok\",\"Volume não pertence a carga\")),\"Volume não pertence a carga\")","v":""}]
[null,{"$f":"IFERROR(IF(A3902=\"\",\"\",IF(VLOOKUP(A3902,'Romaneio da Carga'!E:E,1,0)=BD!A3902,\"Volume Ok\",\"Volume não pertence a carga\")),\"Volume não pertence a carga\")","v":""}]
[null,{"$f":"IFERROR(IF(A3903=\"\",\"\",IF(VLOOKUP(A3903,'Romaneio da Carga'!E:E,1,0)=BD!A3903,\"Volume Ok\",\"Volume não pertence a carga\")),\"Volume não pertence a carga\")","v":""}]
[null,{"$f":"IFERROR(IF(A3904=\"\",\"\",IF(VLOOKUP(A3904,'Romaneio da Carga'!E:E,1,0)=BD!A3904,\"Volume Ok\",\"Volume não pertence a carga\")),\"Volume não pertence a carga\")","v":""}]
[null,{"$f":"IFERROR(IF(A3905=\"\",\"\",IF(VLOOKUP(A3905,'Romaneio da Carga'!E:E,1,0)=BD!A3905,\"Volume Ok\",\"Volume não pertence a carga\")),\"Volume não pertence a carga\")","v":""}]
[null,{"$f":"IFERROR(IF(A3906=\"\",\"\",IF(VLOOKUP(A3906,'Romaneio da Carga'!E:E,1,0)=BD!A3906,\"Volume Ok\",\"Volume não pertence a carga\")),\"Volume não pertence a carga\")","v":""}]
[null,{"$f":"IFERROR(IF(A3907=\"\",\"\",IF(VLOOKUP(A3907,'Romaneio da Carga'!E:E,1,0)=BD!A3907,\"Volume Ok\",\"Volume não pertence a carga\")),\"Volume não pertence a carga\")","v":""}]
[null,{"$f":"IFERROR(IF(A3908=\"\",\"\",IF(VLOOKUP(A3908,'Romaneio da Carga'!E:E,1,0)=BD!A3908,\"Volume Ok\",\"Volume não pertence a carga\")),\"Volume não pertence a carga\")","v":""}]
[null,{"$f":"IFERROR(IF(A3909=\"\",\"\",IF(VLOOKUP(A3909,'Romaneio da Carga'!E:E,1,0)=BD!A3909,\"Volume Ok\",\"Volume não pertence a carga\")),\"Volume não pertence a carga\")","v":""}]
[null,{"$f":"IFERROR(IF(A3910=\"\",\"\",IF(VLOOKUP(A3910,'Romaneio da Carga'!E:E,1,0)=BD!A3910,\"Volume Ok\",\"Volume não pertence a carga\")),\"Volume não pertence a carga\")","v":""}]
[null,{"$f":"IFERROR(IF(A3911=\"\",\"\",IF(VLOOKUP(A3911,'Romaneio da Carga'!E:E,1,0)=BD!A3911,\"Volume Ok\",\"Volume não pertence a carga\")),\"Volume não pertence a carga\")","v":""}]
[null,{"$f":"IFERROR(IF(A3912=\"\",\"\",IF(VLOOKUP(A3912,'Romaneio da Carga'!E:E,1,0)=BD!A3912,\"Volume Ok\",\"Volume não pertence a carga\")),\"Volume não pertence a carga\")","v":""}]
[null,{"$f":"IFERROR(IF(A3913=\"\",\"\",IF(VLOOKUP(A3913,'Romaneio da Carga'!E:E,1,0)=BD!A3913,\"Volume Ok\",\"Volume não pertence a carga\")),\"Volume não pertence a carga\")","v":""}]
[null,{"$f":"IFERROR(IF(A3914=\"\",\"\",IF(VLOOKUP(A3914,'Romaneio da Carga'!E:E,1,0)=BD!A3914,\"Volume Ok\",\"Volume não pertence a carga\")),\"Volume não pertence a carga\")","v":""}]
[null,{"$f":"IFERROR(IF(A3915=\"\",\"\",IF(VLOOKUP(A3915,'Romaneio da Carga'!E:E,1,0)=BD!A3915,\"Volume Ok\",\"Volume não pertence a carga\")),\"Volume não pertence a carga\")","v":""}]
[null,{"$f":"IFERROR(IF(A3916=\"\",\"\",IF(VLOOKUP(A3916,'Romaneio da Carga'!E:E,1,0)=BD!A3916,\"Volume Ok\",\"Volume não pertence a carga\")),\"Volume não pertence a carga\")","v":""}]
[null,{"$f":"IFERROR(IF(A3917=\"\",\"\",IF(VLOOKUP(A3917,'Romaneio da Carga'!E:E,1,0)=BD!A3917,\"Volume Ok\",\"Volume não pertence a carga\")),\"Volume não pertence a carga\")","v":""}]
[null,{"$f":"IFERROR(IF(A3918=\"\",\"\",IF(VLOOKUP(A3918,'Romaneio da Carga'!E:E,1,0)=BD!A3918,\"Volume Ok\",\"Volume não pertence a carga\")),\"Volume não pertence a carga\")","v":""}]
[null,{"$f":"IFERROR(IF(A3919=\"\",\"\",IF(VLOOKUP(A3919,'Romaneio da Carga'!E:E,1,0)=BD!A3919,\"Volume Ok\",\"Volume não pertence a carga\")),\"Volume não pertence a carga\")","v":""}]
[null,{"$f":"IFERROR(IF(A3920=\"\",\"\",IF(VLOOKUP(A3920,'Romaneio da Carga'!E:E,1,0)=BD!A3920,\"Volume Ok\",\"Volume não pertence a carga\")),\"Volume não pertence a carga\")","v":""}]
[null,{"$f":"IFERROR(IF(A3921=\"\",\"\",IF(VLOOKUP(A3921,'Romaneio da Carga'!E:E,1,0)=BD!A3921,\"Volume Ok\",\"Volume não pertence a carga\")),\"Volume não pertence a carga\")","v":""}]
[null,{"$f":"IFERROR(IF(A3922=\"\",\"\",IF(VLOOKUP(A3922,'Romaneio da Carga'!E:E,1,0)=BD!A3922,\"Volume Ok\",\"Volume não pertence a carga\")),\"Volume não pertence a carga\")","v":""}]
[null,{"$f":"IFERROR(IF(A3923=\"\",\"\",IF(VLOOKUP(A3923,'Romaneio da Carga'!E:E,1,0)=BD!A3923,\"Volume Ok\",\"Volume não pertence a carga\")),\"Volume não pertence a carga\")","v":""}]
[null,{"$f":"IFERROR(IF(A3924=\"\",\"\",IF(VLOOKUP(A3924,'Romaneio da Carga'!E:E,1,0)=BD!A3924,\"Volume Ok\",\"Volume não pertence a carga\")),\"Volume não pertence a carga\")","v":""}]
[null,{"$f":"IFERROR(IF(A3925=\"\",\"\",IF(VLOOKUP(A3925,'Romaneio da Carga'!E:E,1,0)=BD!A3925,\"Volume Ok\",\"Volume não pertence a carga\")),\"Volume não pertence a carga\")","v":""}]
[null,{"$f":"IFERROR(IF(A3926=\"\",\"\",IF(VLOOKUP(A3926,'Romaneio da Carga'!E:E,1,0)=BD!A3926,\"Volume Ok\",\"Volume não pertence a carga\")),\"Volume não pertence a carga\")","v":""}]
[null,{"$f":"IFERROR(IF(A3927=\"\",\"\",IF(VLOOKUP(A3927,'Romaneio da Carga'!E:E,1,0)=BD!A3927,\"Volume Ok\",\"Volume não pertence a carga\")),\"Volume não pertence a carga\")","v":""}]
[null,{"$f":"IFERROR(IF(A3928=\"\",\"\",IF(VLOOKUP(A3928,'Romaneio da Carga'!E:E,1,0)=BD!A3928,\"Volume Ok\",\"Volume não pertence a carga\")),\"Volume não pertence a carga\")","v":""}]
[null,{"$f":"IFERROR(IF(A3929=\"\",\"\",IF(VLOOKUP(A3929,'Romaneio da Carga'!E:E,1,0)=BD!A3929,\"Volume Ok\",\"Volume não pertence a carga\")),\"Volume não pertence a carga\")","v":""}]
[null,{"$f":"IFERROR(IF(A3930=\"\",\"\",IF(VLOOKUP(A3930,'Romaneio da Carga'!E:E,1,0)=BD!A3930,\"Volume Ok\",\"Volume não pertence a carga\")),\"Volume não pertence a carga\")","v":""}]
[null,{"$f":"IFERROR(IF(A3931=\"\",\"\",IF(VLOOKUP(A3931,'Romaneio da Carga'!E:E,1,0)=BD!A3931,\"Volume Ok\",\"Volume não pertence a carga\")),\"Volume não pertence a carga\")","v":""}]
[null,{"$f":"IFERROR(IF(A3932=\"\",\"\",IF(VLOOKUP(A3932,'Romaneio da Carga'!E:E,1,0)=BD!A3932,\"Volume Ok\",\"Volume não pertence a carga\")),\"Volume não pertence a carga\")","v":""}]
[null,{"$f":"IFERROR(IF(A3933=\"\",\"\",IF(VLOOKUP(A3933,'Romaneio da Carga'!E:E,1,0)=BD!A3933,\"Volume Ok\",\"Volume não pertence a carga\")),\"Volume não pertence a carga\")","v":""}]
[null,{"$f":"IFERROR(IF(A3934=\"\",\"\",IF(VLOOKUP(A3934,'Romaneio da Carga'!E:E,1,0)=BD!A3934,\"Volume Ok\",\"Volume não pertence a carga\")),\"Volume não pertence a carga\")","v":""}]
[null,{"$f":"IFERROR(IF(A3935=\"\",\"\",IF(VLOOKUP(A3935,'Romaneio da Carga'!E:E,1,0)=BD!A3935,\"Volume Ok\",\"Volume não pertence a carga\")),\"Volume não pertence a carga\")","v":""}]
[null,{"$f":"IFERROR(IF(A3936=\"\",\"\",IF(VLOOKUP(A3936,'Romaneio da Carga'!E:E,1,0)=BD!A3936,\"Volume Ok\",\"Volume não pertence a carga\")),\"Volume não pertence a carga\")","v":""}]
[null,{"$f":"IFERROR(IF(A3937=\"\",\"\",IF(VLOOKUP(A3937,'Romaneio da Carga'!E:E,1,0)=BD!A3937,\"Volume Ok\",\"Volume não pertence a carga\")),\"Volume não pertence a carga\")","v":""}]
[null,{"$f":"IFERROR(IF(A3938=\"\",\"\",IF(VLOOKUP(A3938,'Romaneio da Carga'!E:E,1,0)=BD!A3938,\"Volume Ok\",\"Volume não pertence a carga\")),\"Volume não pertence a carga\")","v":""}]
[null,{"$f":"IFERROR(IF(A3939=\"\",\"\",IF(VLOOKUP(A3939,'Romaneio da Carga'!E:E,1,0)=BD!A3939,\"Volume Ok\",\"Volume não pertence a carga\")),\"Volume não pertence a carga\")","v":""}]
[null,{"$f":"IFERROR(IF(A3940=\"\",\"\",IF(VLOOKUP(A3940,'Romaneio da Carga'!E:E,1,0)=BD!A3940,\"Volume Ok\",\"Volume não pertence a carga\")),\"Volume não pertence a carga\")","v":""}]
[null,{"$f":"IFERROR(IF(A3941=\"\",\"\",IF(VLOOKUP(A3941,'Romaneio da Carga'!E:E,1,0)=BD!A3941,\"Volume Ok\",\"Volume não pertence a carga\")),\"Volume não pertence a carga\")","v":""}]
[null,{"$f":"IFERROR(IF(A3942=\"\",\"\",IF(VLOOKUP(A3942,'Romaneio da Carga'!E:E,1,0)=BD!A3942,\"Volume Ok\",\"Volume não pertence a carga\")),\"Volume não pertence a carga\")","v":""}]
[null,{"$f":"IFERROR(IF(A3943=\"\",\"\",IF(VLOOKUP(A3943,'Romaneio da Carga'!E:E,1,0)=BD!A3943,\"Volume Ok\",\"Volume não pertence a carga\")),\"Volume não pertence a carga\")","v":""}]
[null,{"$f":"IFERROR(IF(A3944=\"\",\"\",IF(VLOOKUP(A3944,'Romaneio da Carga'!E:E,1,0)=BD!A3944,\"Volume Ok\",\"Volume não pertence a carga\")),\"Volume não pertence a carga\")","v":""}]
[null,{"$f":"IFERROR(IF(A3945=\"\",\"\",IF(VLOOKUP(A3945,'Romaneio da Carga'!E:E,1,0)=BD!A3945,\"Volume Ok\",\"Volume não pertence a carga\")),\"Volume não pertence a carga\")","v":""}]
[null,{"$f":"IFERROR(IF(A3946=\"\",\"\",IF(VLOOKUP(A3946,'Romaneio da Carga'!E:E,1,0)=BD!A3946,\"Volume Ok\",\"Volume não pertence a carga\")),\"Volume não pertence a carga\")","v":""}]
[null,{"$f":"IFERROR(IF(A3947=\"\",\"\",IF(VLOOKUP(A3947,'Romaneio da Carga'!E:E,1,0)=BD!A3947,\"Volume Ok\",\"Volume não pertence a carga\")),\"Volume não pertence a carga\")","v":""}]
[null,{"$f":"IFERROR(IF(A3948=\"\",\"\",IF(VLOOKUP(A3948,'Romaneio da Carga'!E:E,1,0)=BD!A3948,\"Volume Ok\",\"Volume não pertence a carga\")),\"Volume não pertence a carga\")","v":""}]
[null,{"$f":"IFERROR(IF(A3949=\"\",\"\",IF(VLOOKUP(A3949,'Romaneio da Carga'!E:E,1,0)=BD!A3949,\"Volume Ok\",\"Volume não pertence a carga\")),\"Volume não pertence a carga\")","v":""}]
[null,{"$f":"IFERROR(IF(A3950=\"\",\"\",IF(VLOOKUP(A3950,'Romaneio da Carga'!E:E,1,0)=BD!A3950,\"Volume Ok\",\"Volume não pertence a carga\")),\"Volume não pertence a carga\")","v":""}]
[null,{"$f":"IFERROR(IF(A3951=\"\",\"\",IF(VLOOKUP(A3951,'Romaneio da Carga'!E:E,1,0)=BD!A3951,\"Volume Ok\",\"Volume não pertence a carga\")),\"Volume não pertence a carga\")","v":""}]
[null,{"$f":"IFERROR(IF(A3952=\"\",\"\",IF(VLOOKUP(A3952,'Romaneio da Carga'!E:E,1,0)=BD!A3952,\"Volume Ok\",\"Volume não pertence a carga\")),\"Volume não pertence a carga\")","v":""}]
[null,{"$f":"IFERROR(IF(A3953=\"\",\"\",IF(VLOOKUP(A3953,'Romaneio da Carga'!E:E,1,0)=BD!A3953,\"Volume Ok\",\"Volume não pertence a carga\")),\"Volume não pertence a carga\")","v":""}]
[null,{"$f":"IFERROR(IF(A3954=\"\",\"\",IF(VLOOKUP(A3954,'Romaneio da Carga'!E:E,1,0)=BD!A3954,\"Volume Ok\",\"Volume não pertence a carga\")),\"Volume não pertence a carga\")","v":""}]
[null,{"$f":"IFERROR(IF(A3955=\"\",\"\",IF(VLOOKUP(A3955,'Romaneio da Carga'!E:E,1,0)=BD!A3955,\"Volume Ok\",\"Volume não pertence a carga\")),\"Volume não pertence a carga\")","v":""}]
[null,{"$f":"IFERROR(IF(A3956=\"\",\"\",IF(VLOOKUP(A3956,'Romaneio da Carga'!E:E,1,0)=BD!A3956,\"Volume Ok\",\"Volume não pertence a carga\")),\"Volume não pertence a carga\")","v":""}]
[null,{"$f":"IFERROR(IF(A3957=\"\",\"\",IF(VLOOKUP(A3957,'Romaneio da Carga'!E:E,1,0)=BD!A3957,\"Volume Ok\",\"Volume não pertence a carga\")),\"Volume não pertence a carga\")","v":""}]
[null,{"$f":"IFERROR(IF(A3958=\"\",\"\",IF(VLOOKUP(A3958,'Romaneio da Carga'!E:E,1,0)=BD!A3958,\"Volume Ok\",\"Volume não pertence a carga\")),\"Volume não pertence a carga\")","v":""}]
[null,{"$f":"IFERROR(IF(A3959=\"\",\"\",IF(VLOOKUP(A3959,'Romaneio da Carga'!E:E,1,0)=BD!A3959,\"Volume Ok\",\"Volume não pertence a carga\")),\"Volume não pertence a carga\")","v":""}]
[null,{"$f":"IFERROR(IF(A3960=\"\",\"\",IF(VLOOKUP(A3960,'Romaneio da Carga'!E:E,1,0)=BD!A3960,\"Volume Ok\",\"Volume não pertence a carga\")),\"Volume não pertence a carga\")","v":""}]
[null,{"$f":"IFERROR(IF(A3961=\"\",\"\",IF(VLOOKUP(A3961,'Romaneio da Carga'!E:E,1,0)=BD!A3961,\"Volume Ok\",\"Volume não pertence a carga\")),\"Volume não pertence a carga\")","v":""}]
[null,{"$f":"IFERROR(IF(A3962=\"\",\"\",IF(VLOOKUP(A3962,'Romaneio da Carga'!E:E,1,0)=BD!A3962,\"Volume Ok\",\"Volume não pertence a carga\")),\"Volume não pertence a carga\")","v":""}]
[null,{"$f":"IFERROR(IF(A3963=\"\",\"\",IF(VLOOKUP(A3963,'Romaneio da Carga'!E:E,1,0)=BD!A3963,\"Volume Ok\",\"Volume não pertence a carga\")),\"Volume não pertence a carga\")","v":""}]
[null,{"$f":"IFERROR(IF(A3964=\"\",\"\",IF(VLOOKUP(A3964,'Romaneio da Carga'!E:E,1,0)=BD!A3964,\"Volume Ok\",\"Volume não pertence a carga\")),\"Volume não pertence a carga\")","v":""}]
[null,{"$f":"IFERROR(IF(A3965=\"\",\"\",IF(VLOOKUP(A3965,'Romaneio da Carga'!E:E,1,0)=BD!A3965,\"Volume Ok\",\"Volume não pertence a carga\")),\"Volume não pertence a carga\")","v":""}]
[null,{"$f":"IFERROR(IF(A3966=\"\",\"\",IF(VLOOKUP(A3966,'Romaneio da Carga'!E:E,1,0)=BD!A3966,\"Volume Ok\",\"Volume não pertence a carga\")),\"Volume não pertence a carga\")","v":""}]
[null,{"$f":"IFERROR(IF(A3967=\"\",\"\",IF(VLOOKUP(A3967,'Romaneio da Carga'!E:E,1,0)=BD!A3967,\"Volume Ok\",\"Volume não pertence a carga\")),\"Volume não pertence a carga\")","v":""}]
[null,{"$f":"IFERROR(IF(A3968=\"\",\"\",IF(VLOOKUP(A3968,'Romaneio da Carga'!E:E,1,0)=BD!A3968,\"Volume Ok\",\"Volume não pertence a carga\")),\"Volume não pertence a carga\")","v":""}]
[null,{"$f":"IFERROR(IF(A3969=\"\",\"\",IF(VLOOKUP(A3969,'Romaneio da Carga'!E:E,1,0)=BD!A3969,\"Volume Ok\",\"Volume não pertence a carga\")),\"Volume não pertence a carga\")","v":""}]
[null,{"$f":"IFERROR(IF(A3970=\"\",\"\",IF(VLOOKUP(A3970,'Romaneio da Carga'!E:E,1,0)=BD!A3970,\"Volume Ok\",\"Volume não pertence a carga\")),\"Volume não pertence a carga\")","v":""}]
[null,{"$f":"IFERROR(IF(A3971=\"\",\"\",IF(VLOOKUP(A3971,'Romaneio da Carga'!E:E,1,0)=BD!A3971,\"Volume Ok\",\"Volume não pertence a carga\")),\"Volume não pertence a carga\")","v":""}]
[null,{"$f":"IFERROR(IF(A3972=\"\",\"\",IF(VLOOKUP(A3972,'Romaneio da Carga'!E:E,1,0)=BD!A3972,\"Volume Ok\",\"Volume não pertence a carga\")),\"Volume não pertence a carga\")","v":""}]
[null,{"$f":"IFERROR(IF(A3973=\"\",\"\",IF(VLOOKUP(A3973,'Romaneio da Carga'!E:E,1,0)=BD!A3973,\"Volume Ok\",\"Volume não pertence a carga\")),\"Volume não pertence a carga\")","v":""}]
[null,{"$f":"IFERROR(IF(A3974=\"\",\"\",IF(VLOOKUP(A3974,'Romaneio da Carga'!E:E,1,0)=BD!A3974,\"Volume Ok\",\"Volume não pertence a carga\")),\"Volume não pertence a carga\")","v":""}]
[null,{"$f":"IFERROR(IF(A3975=\"\",\"\",IF(VLOOKUP(A3975,'Romaneio da Carga'!E:E,1,0)=BD!A3975,\"Volume Ok\",\"Volume não pertence a carga\")),\"Volume não pertence a carga\")","v":""}]
[null,{"$f":"IFERROR(IF(A3976=\"\",\"\",IF(VLOOKUP(A3976,'Romaneio da Carga'!E:E,1,0)=BD!A3976,\"Volume Ok\",\"Volume não pertence a carga\")),\"Volume não pertence a carga\")","v":""}]
[null,{"$f":"IFERROR(IF(A3977=\"\",\"\",IF(VLOOKUP(A3977,'Romaneio da Carga'!E:E,1,0)=BD!A3977,\"Volume Ok\",\"Volume não pertence a carga\")),\"Volume não pertence a carga\")","v":""}]
[null,{"$f":"IFERROR(IF(A3978=\"\",\"\",IF(VLOOKUP(A3978,'Romaneio da Carga'!E:E,1,0)=BD!A3978,\"Volume Ok\",\"Volume não pertence a carga\")),\"Volume não pertence a carga\")","v":""}]
[null,{"$f":"IFERROR(IF(A3979=\"\",\"\",IF(VLOOKUP(A3979,'Romaneio da Carga'!E:E,1,0)=BD!A3979,\"Volume Ok\",\"Volume não pertence a carga\")),\"Volume não pertence a carga\")","v":""}]
[null,{"$f":"IFERROR(IF(A3980=\"\",\"\",IF(VLOOKUP(A3980,'Romaneio da Carga'!E:E,1,0)=BD!A3980,\"Volume Ok\",\"Volume não pertence a carga\")),\"Volume não pertence a carga\")","v":""}]
[null,{"$f":"IFERROR(IF(A3981=\"\",\"\",IF(VLOOKUP(A3981,'Romaneio da Carga'!E:E,1,0)=BD!A3981,\"Volume Ok\",\"Volume não pertence a carga\")),\"Volume não pertence a carga\")","v":""}]
[null,{"$f":"IFERROR(IF(A3982=\"\",\"\",IF(VLOOKUP(A3982,'Romaneio da Carga'!E:E,1,0)=BD!A3982,\"Volume Ok\",\"Volume não pertence a carga\")),\"Volume não pertence a carga\")","v":""}]
[null,{"$f":"IFERROR(IF(A3983=\"\",\"\",IF(VLOOKUP(A3983,'Romaneio da Carga'!E:E,1,0)=BD!A3983,\"Volume Ok\",\"Volume não pertence a carga\")),\"Volume não pertence a carga\")","v":""}]
[null,{"$f":"IFERROR(IF(A3984=\"\",\"\",IF(VLOOKUP(A3984,'Romaneio da Carga'!E:E,1,0)=BD!A3984,\"Volume Ok\",\"Volume não pertence a carga\")),\"Volume não pertence a carga\")","v":""}]
[null,{"$f":"IFERROR(IF(A3985=\"\",\"\",IF(VLOOKUP(A3985,'Romaneio da Carga'!E:E,1,0)=BD!A3985,\"Volume Ok\",\"Volume não pertence a carga\")),\"Volume não pertence a carga\")","v":""}]
[null,{"$f":"IFERROR(IF(A3986=\"\",\"\",IF(VLOOKUP(A3986,'Romaneio da Carga'!E:E,1,0)=BD!A3986,\"Volume Ok\",\"Volume não pertence a carga\")),\"Volume não pertence a carga\")","v":""}]
[null,{"$f":"IFERROR(IF(A3987=\"\",\"\",IF(VLOOKUP(A3987,'Romaneio da Carga'!E:E,1,0)=BD!A3987,\"Volume Ok\",\"Volume não pertence a carga\")),\"Volume não pertence a carga\")","v":""}]
[null,{"$f":"IFERROR(IF(A3988=\"\",\"\",IF(VLOOKUP(A3988,'Romaneio da Carga'!E:E,1,0)=BD!A3988,\"Volume Ok\",\"Volume não pertence a carga\")),\"Volume não pertence a carga\")","v":""}]
[null,{"$f":"IFERROR(IF(A3989=\"\",\"\",IF(VLOOKUP(A3989,'Romaneio da Carga'!E:E,1,0)=BD!A3989,\"Volume Ok\",\"Volume não pertence a carga\")),\"Volume não pertence a carga\")","v":""}]
[null,{"$f":"IFERROR(IF(A3990=\"\",\"\",IF(VLOOKUP(A3990,'Romaneio da Carga'!E:E,1,0)=BD!A3990,\"Volume Ok\",\"Volume não pertence a carga\")),\"Volume não pertence a carga\")","v":""}]
[null,{"$f":"IFERROR(IF(A3991=\"\",\"\",IF(VLOOKUP(A3991,'Romaneio da Carga'!E:E,1,0)=BD!A3991,\"Volume Ok\",\"Volume não pertence a carga\")),\"Volume não pertence a carga\")","v":""}]
[null,{"$f":"IFERROR(IF(A3992=\"\",\"\",IF(VLOOKUP(A3992,'Romaneio da Carga'!E:E,1,0)=BD!A3992,\"Volume Ok\",\"Volume não pertence a carga\")),\"Volume não pertence a carga\")","v":""}]
[null,{"$f":"IFERROR(IF(A3993=\"\",\"\",IF(VLOOKUP(A3993,'Romaneio da Carga'!E:E,1,0)=BD!A3993,\"Volume Ok\",\"Volume não pertence a carga\")),\"Volume não pertence a carga\")","v":""}]
[null,{"$f":"IFERROR(IF(A3994=\"\",\"\",IF(VLOOKUP(A3994,'Romaneio da Carga'!E:E,1,0)=BD!A3994,\"Volume Ok\",\"Volume não pertence a carga\")),\"Volume não pertence a carga\")","v":""}]
[null,{"$f":"IFERROR(IF(A3995=\"\",\"\",IF(VLOOKUP(A3995,'Romaneio da Carga'!E:E,1,0)=BD!A3995,\"Volume Ok\",\"Volume não pertence a carga\")),\"Volume não pertence a carga\")","v":""}]
[null,{"$f":"IFERROR(IF(A3996=\"\",\"\",IF(VLOOKUP(A3996,'Romaneio da Carga'!E:E,1,0)=BD!A3996,\"Volume Ok\",\"Volume não pertence a carga\")),\"Volume não pertence a carga\")","v":""}]
[null,{"$f":"IFERROR(IF(A3997=\"\",\"\",IF(VLOOKUP(A3997,'Romaneio da Carga'!E:E,1,0)=BD!A3997,\"Volume Ok\",\"Volume não pertence a carga\")),\"Volume não pertence a carga\")","v":""}]
[null,{"$f":"IFERROR(IF(A3998=\"\",\"\",IF(VLOOKUP(A3998,'Romaneio da Carga'!E:E,1,0)=BD!A3998,\"Volume Ok\",\"Volume não pertence a carga\")),\"Volume não pertence a carga\")","v":""}]
[null,{"$f":"IFERROR(IF(A3999=\"\",\"\",IF(VLOOKUP(A3999,'Romaneio da Carga'!E:E,1,0)=BD!A3999,\"Volume Ok\",\"Volume não pertence a carga\")),\"Volume não pertence a carga\")","v":""}]
[null,{"$f":"IFERROR(IF(A4000=\"\",\"\",IF(VLOOKUP(A4000,'Romaneio da Carga'!E:E,1,0)=BD!A4000,\"Volume Ok\",\"Volume não pertence a carga\")),\"Volume não pertence a carga\")","v":""}]
[null,{"$f":"IFERROR(IF(A4001=\"\",\"\",IF(VLOOKUP(A4001,'Romaneio da Carga'!E:E,1,0)=BD!A4001,\"Volume Ok\",\"Volume não pertence a carga\")),\"Volume não pertence a carga\")","v":""}]
[null,{"$f":"IFERROR(IF(A4002=\"\",\"\",IF(VLOOKUP(A4002,'Romaneio da Carga'!E:E,1,0)=BD!A4002,\"Volume Ok\",\"Volume não pertence a carga\")),\"Volume não pertence a carga\")","v":""}]
[null,{"$f":"IFERROR(IF(A4003=\"\",\"\",IF(VLOOKUP(A4003,'Romaneio da Carga'!E:E,1,0)=BD!A4003,\"Volume Ok\",\"Volume não pertence a carga\")),\"Volume não pertence a carga\")","v":""}]
[null,{"$f":"IFERROR(IF(A4004=\"\",\"\",IF(VLOOKUP(A4004,'Romaneio da Carga'!E:E,1,0)=BD!A4004,\"Volume Ok\",\"Volume não pertence a carga\")),\"Volume não pertence a carga\")","v":""}]
[null,{"$f":"IFERROR(IF(A4005=\"\",\"\",IF(VLOOKUP(A4005,'Romaneio da Carga'!E:E,1,0)=BD!A4005,\"Volume Ok\",\"Volume não pertence a carga\")),\"Volume não pertence a carga\")","v":""}]
[null,{"$f":"IFERROR(IF(A4006=\"\",\"\",IF(VLOOKUP(A4006,'Romaneio da Carga'!E:E,1,0)=BD!A4006,\"Volume Ok\",\"Volume não pertence a carga\")),\"Volume não pertence a carga\")","v":""}]
[null,{"$f":"IFERROR(IF(A4007=\"\",\"\",IF(VLOOKUP(A4007,'Romaneio da Carga'!E:E,1,0)=BD!A4007,\"Volume Ok\",\"Volume não pertence a carga\")),\"Volume não pertence a carga\")","v":""}]
[null,{"$f":"IFERROR(IF(A4008=\"\",\"\",IF(VLOOKUP(A4008,'Romaneio da Carga'!E:E,1,0)=BD!A4008,\"Volume Ok\",\"Volume não pertence a carga\")),\"Volume não pertence a carga\")","v":""}]
[null,{"$f":"IFERROR(IF(A4009=\"\",\"\",IF(VLOOKUP(A4009,'Romaneio da Carga'!E:E,1,0)=BD!A4009,\"Volume Ok\",\"Volume não pertence a carga\")),\"Volume não pertence a carga\")","v":""}]
[null,{"$f":"IFERROR(IF(A4010=\"\",\"\",IF(VLOOKUP(A4010,'Romaneio da Carga'!E:E,1,0)=BD!A4010,\"Volume Ok\",\"Volume não pertence a carga\")),\"Volume não pertence a carga\")","v":""}]
[null,{"$f":"IFERROR(IF(A4011=\"\",\"\",IF(VLOOKUP(A4011,'Romaneio da Carga'!E:E,1,0)=BD!A4011,\"Volume Ok\",\"Volume não pertence a carga\")),\"Volume não pertence a carga\")","v":""}]
[null,{"$f":"IFERROR(IF(A4012=\"\",\"\",IF(VLOOKUP(A4012,'Romaneio da Carga'!E:E,1,0)=BD!A4012,\"Volume Ok\",\"Volume não pertence a carga\")),\"Volume não pertence a carga\")","v":""}]
[null,{"$f":"IFERROR(IF(A4013=\"\",\"\",IF(VLOOKUP(A4013,'Romaneio da Carga'!E:E,1,0)=BD!A4013,\"Volume Ok\",\"Volume não pertence a carga\")),\"Volume não pertence a carga\")","v":""}]
[null,{"$f":"IFERROR(IF(A4014=\"\",\"\",IF(VLOOKUP(A4014,'Romaneio da Carga'!E:E,1,0)=BD!A4014,\"Volume Ok\",\"Volume não pertence a carga\")),\"Volume não pertence a carga\")","v":""}]
[null,{"$f":"IFERROR(IF(A4015=\"\",\"\",IF(VLOOKUP(A4015,'Romaneio da Carga'!E:E,1,0)=BD!A4015,\"Volume Ok\",\"Volume não pertence a carga\")),\"Volume não pertence a carga\")","v":""}]
[null,{"$f":"IFERROR(IF(A4016=\"\",\"\",IF(VLOOKUP(A4016,'Romaneio da Carga'!E:E,1,0)=BD!A4016,\"Volume Ok\",\"Volume não pertence a carga\")),\"Volume não pertence a carga\")","v":""}]
[null,{"$f":"IFERROR(IF(A4017=\"\",\"\",IF(VLOOKUP(A4017,'Romaneio da Carga'!E:E,1,0)=BD!A4017,\"Volume Ok\",\"Volume não pertence a carga\")),\"Volume não pertence a carga\")","v":""}]
[null,{"$f":"IFERROR(IF(A4018=\"\",\"\",IF(VLOOKUP(A4018,'Romaneio da Carga'!E:E,1,0)=BD!A4018,\"Volume Ok\",\"Volume não pertence a carga\")),\"Volume não pertence a carga\")","v":""}]
[null,{"$f":"IFERROR(IF(A4019=\"\",\"\",IF(VLOOKUP(A4019,'Romaneio da Carga'!E:E,1,0)=BD!A4019,\"Volume Ok\",\"Volume não pertence a carga\")),\"Volume não pertence a carga\")","v":""}]
[null,{"$f":"IFERROR(IF(A4020=\"\",\"\",IF(VLOOKUP(A4020,'Romaneio da Carga'!E:E,1,0)=BD!A4020,\"Volume Ok\",\"Volume não pertence a carga\")),\"Volume não pertence a carga\")","v":""}]
[null,{"$f":"IFERROR(IF(A4021=\"\",\"\",IF(VLOOKUP(A4021,'Romaneio da Carga'!E:E,1,0)=BD!A4021,\"Volume Ok\",\"Volume não pertence a carga\")),\"Volume não pertence a carga\")","v":""}]
[null,{"$f":"IFERROR(IF(A4022=\"\",\"\",IF(VLOOKUP(A4022,'Romaneio da Carga'!E:E,1,0)=BD!A4022,\"Volume Ok\",\"Volume não pertence a carga\")),\"Volume não pertence a carga\")","v":""}]
[null,{"$f":"IFERROR(IF(A4023=\"\",\"\",IF(VLOOKUP(A4023,'Romaneio da Carga'!E:E,1,0)=BD!A4023,\"Volume Ok\",\"Volume não pertence a carga\")),\"Volume não pertence a carga\")","v":""}]
[null,{"$f":"IFERROR(IF(A4024=\"\",\"\",IF(VLOOKUP(A4024,'Romaneio da Carga'!E:E,1,0)=BD!A4024,\"Volume Ok\",\"Volume não pertence a carga\")),\"Volume não pertence a carga\")","v":""}]
[null,{"$f":"IFERROR(IF(A4025=\"\",\"\",IF(VLOOKUP(A4025,'Romaneio da Carga'!E:E,1,0)=BD!A4025,\"Volume Ok\",\"Volume não pertence a carga\")),\"Volume não pertence a carga\")","v":""}]
[null,{"$f":"IFERROR(IF(A4026=\"\",\"\",IF(VLOOKUP(A4026,'Romaneio da Carga'!E:E,1,0)=BD!A4026,\"Volume Ok\",\"Volume não pertence a carga\")),\"Volume não pertence a carga\")","v":""}]
[null,{"$f":"IFERROR(IF(A4027=\"\",\"\",IF(VLOOKUP(A4027,'Romaneio da Carga'!E:E,1,0)=BD!A4027,\"Volume Ok\",\"Volume não pertence a carga\")),\"Volume não pertence a carga\")","v":""}]
[null,{"$f":"IFERROR(IF(A4028=\"\",\"\",IF(VLOOKUP(A4028,'Romaneio da Carga'!E:E,1,0)=BD!A4028,\"Volume Ok\",\"Volume não pertence a carga\")),\"Volume não pertence a carga\")","v":""}]
[null,{"$f":"IFERROR(IF(A4029=\"\",\"\",IF(VLOOKUP(A4029,'Romaneio da Carga'!E:E,1,0)=BD!A4029,\"Volume Ok\",\"Volume não pertence a carga\")),\"Volume não pertence a carga\")","v":""}]
[null,{"$f":"IFERROR(IF(A4030=\"\",\"\",IF(VLOOKUP(A4030,'Romaneio da Carga'!E:E,1,0)=BD!A4030,\"Volume Ok\",\"Volume não pertence a carga\")),\"Volume não pertence a carga\")","v":""}]
[null,{"$f":"IFERROR(IF(A4031=\"\",\"\",IF(VLOOKUP(A4031,'Romaneio da Carga'!E:E,1,0)=BD!A4031,\"Volume Ok\",\"Volume não pertence a carga\")),\"Volume não pertence a carga\")","v":""}]
[null,{"$f":"IFERROR(IF(A4032=\"\",\"\",IF(VLOOKUP(A4032,'Romaneio da Carga'!E:E,1,0)=BD!A4032,\"Volume Ok\",\"Volume não pertence a carga\")),\"Volume não pertence a carga\")","v":""}]
[null,{"$f":"IFERROR(IF(A4033=\"\",\"\",IF(VLOOKUP(A4033,'Romaneio da Carga'!E:E,1,0)=BD!A4033,\"Volume Ok\",\"Volume não pertence a carga\")),\"Volume não pertence a carga\")","v":""}]
[null,{"$f":"IFERROR(IF(A4034=\"\",\"\",IF(VLOOKUP(A4034,'Romaneio da Carga'!E:E,1,0)=BD!A4034,\"Volume Ok\",\"Volume não pertence a carga\")),\"Volume não pertence a carga\")","v":""}]
[null,{"$f":"IFERROR(IF(A4035=\"\",\"\",IF(VLOOKUP(A4035,'Romaneio da Carga'!E:E,1,0)=BD!A4035,\"Volume Ok\",\"Volume não pertence a carga\")),\"Volume não pertence a carga\")","v":""}]
[null,{"$f":"IFERROR(IF(A4036=\"\",\"\",IF(VLOOKUP(A4036,'Romaneio da Carga'!E:E,1,0)=BD!A4036,\"Volume Ok\",\"Volume não pertence a carga\")),\"Volume não pertence a carga\")","v":""}]
[null,{"$f":"IFERROR(IF(A4037=\"\",\"\",IF(VLOOKUP(A4037,'Romaneio da Carga'!E:E,1,0)=BD!A4037,\"Volume Ok\",\"Volume não pertence a carga\")),\"Volume não pertence a carga\")","v":""}]
[null,{"$f":"IFERROR(IF(A4038=\"\",\"\",IF(VLOOKUP(A4038,'Romaneio da Carga'!E:E,1,0)=BD!A4038,\"Volume Ok\",\"Volume não pertence a carga\")),\"Volume não pertence a carga\")","v":""}]
[null,{"$f":"IFERROR(IF(A4039=\"\",\"\",IF(VLOOKUP(A4039,'Romaneio da Carga'!E:E,1,0)=BD!A4039,\"Volume Ok\",\"Volume não pertence a carga\")),\"Volume não pertence a carga\")","v":""}]
[null,{"$f":"IFERROR(IF(A4040=\"\",\"\",IF(VLOOKUP(A4040,'Romaneio da Carga'!E:E,1,0)=BD!A4040,\"Volume Ok\",\"Volume não pertence a carga\")),\"Volume não pertence a carga\")","v":""}]
[null,{"$f":"IFERROR(IF(A4041=\"\",\"\",IF(VLOOKUP(A4041,'Romaneio da Carga'!E:E,1,0)=BD!A4041,\"Volume Ok\",\"Volume não pertence a carga\")),\"Volume não pertence a carga\")","v":""}]
[null,{"$f":"IFERROR(IF(A4042=\"\",\"\",IF(VLOOKUP(A4042,'Romaneio da Carga'!E:E,1,0)=BD!A4042,\"Volume Ok\",\"Volume não pertence a carga\")),\"Volume não pertence a carga\")","v":""}]
[null,{"$f":"IFERROR(IF(A4043=\"\",\"\",IF(VLOOKUP(A4043,'Romaneio da Carga'!E:E,1,0)=BD!A4043,\"Volume Ok\",\"Volume não pertence a carga\")),\"Volume não pertence a carga\")","v":""}]
[null,{"$f":"IFERROR(IF(A4044=\"\",\"\",IF(VLOOKUP(A4044,'Romaneio da Carga'!E:E,1,0)=BD!A4044,\"Volume Ok\",\"Volume não pertence a carga\")),\"Volume não pertence a carga\")","v":""}]
[null,{"$f":"IFERROR(IF(A4045=\"\",\"\",IF(VLOOKUP(A4045,'Romaneio da Carga'!E:E,1,0)=BD!A4045,\"Volume Ok\",\"Volume não pertence a carga\")),\"Volume não pertence a carga\")","v":""}]
[null,{"$f":"IFERROR(IF(A4046=\"\",\"\",IF(VLOOKUP(A4046,'Romaneio da Carga'!E:E,1,0)=BD!A4046,\"Volume Ok\",\"Volume não pertence a carga\")),\"Volume não pertence a carga\")","v":""}]
[null,{"$f":"IFERROR(IF(A4047=\"\",\"\",IF(VLOOKUP(A4047,'Romaneio da Carga'!E:E,1,0)=BD!A4047,\"Volume Ok\",\"Volume não pertence a carga\")),\"Volume não pertence a carga\")","v":""}]
[null,{"$f":"IFERROR(IF(A4048=\"\",\"\",IF(VLOOKUP(A4048,'Romaneio da Carga'!E:E,1,0)=BD!A4048,\"Volume Ok\",\"Volume não pertence a carga\")),\"Volume não pertence a carga\")","v":""}]
[null,{"$f":"IFERROR(IF(A4049=\"\",\"\",IF(VLOOKUP(A4049,'Romaneio da Carga'!E:E,1,0)=BD!A4049,\"Volume Ok\",\"Volume não pertence a carga\")),\"Volume não pertence a carga\")","v":""}]
[null,{"$f":"IFERROR(IF(A4050=\"\",\"\",IF(VLOOKUP(A4050,'Romaneio da Carga'!E:E,1,0)=BD!A4050,\"Volume Ok\",\"Volume não pertence a carga\")),\"Volume não pertence a carga\")","v":""}]
[null,{"$f":"IFERROR(IF(A4051=\"\",\"\",IF(VLOOKUP(A4051,'Romaneio da Carga'!E:E,1,0)=BD!A4051,\"Volume Ok\",\"Volume não pertence a carga\")),\"Volume não pertence a carga\")","v":""}]
[null,{"$f":"IFERROR(IF(A4052=\"\",\"\",IF(VLOOKUP(A4052,'Romaneio da Carga'!E:E,1,0)=BD!A4052,\"Volume Ok\",\"Volume não pertence a carga\")),\"Volume não pertence a carga\")","v":""}]
[null,{"$f":"IFERROR(IF(A4053=\"\",\"\",IF(VLOOKUP(A4053,'Romaneio da Carga'!E:E,1,0)=BD!A4053,\"Volume Ok\",\"Volume não pertence a carga\")),\"Volume não pertence a carga\")","v":""}]
[null,{"$f":"IFERROR(IF(A4054=\"\",\"\",IF(VLOOKUP(A4054,'Romaneio da Carga'!E:E,1,0)=BD!A4054,\"Volume Ok\",\"Volume não pertence a carga\")),\"Volume não pertence a carga\")","v":""}]
[null,{"$f":"IFERROR(IF(A4055=\"\",\"\",IF(VLOOKUP(A4055,'Romaneio da Carga'!E:E,1,0)=BD!A4055,\"Volume Ok\",\"Volume não pertence a carga\")),\"Volume não pertence a carga\")","v":""}]
[null,{"$f":"IFERROR(IF(A4056=\"\",\"\",IF(VLOOKUP(A4056,'Romaneio da Carga'!E:E,1,0)=BD!A4056,\"Volume Ok\",\"Volume não pertence a carga\")),\"Volume não pertence a carga\")","v":""}]
[null,{"$f":"IFERROR(IF(A4057=\"\",\"\",IF(VLOOKUP(A4057,'Romaneio da Carga'!E:E,1,0)=BD!A4057,\"Volume Ok\",\"Volume não pertence a carga\")),\"Volume não pertence a carga\")","v":""}]
[null,{"$f":"IFERROR(IF(A4058=\"\",\"\",IF(VLOOKUP(A4058,'Romaneio da Carga'!E:E,1,0)=BD!A4058,\"Volume Ok\",\"Volume não pertence a carga\")),\"Volume não pertence a carga\")","v":""}]
[null,{"$f":"IFERROR(IF(A4059=\"\",\"\",IF(VLOOKUP(A4059,'Romaneio da Carga'!E:E,1,0)=BD!A4059,\"Volume Ok\",\"Volume não pertence a carga\")),\"Volume não pertence a carga\")","v":""}]
[null,{"$f":"IFERROR(IF(A4060=\"\",\"\",IF(VLOOKUP(A4060,'Romaneio da Carga'!E:E,1,0)=BD!A4060,\"Volume Ok\",\"Volume não pertence a carga\")),\"Volume não pertence a carga\")","v":""}]
[null,{"$f":"IFERROR(IF(A4061=\"\",\"\",IF(VLOOKUP(A4061,'Romaneio da Carga'!E:E,1,0)=BD!A4061,\"Volume Ok\",\"Volume não pertence a carga\")),\"Volume não pertence a carga\")","v":""}]
[null,{"$f":"IFERROR(IF(A4062=\"\",\"\",IF(VLOOKUP(A4062,'Romaneio da Carga'!E:E,1,0)=BD!A4062,\"Volume Ok\",\"Volume não pertence a carga\")),\"Volume não pertence a carga\")","v":""}]
[null,{"$f":"IFERROR(IF(A4063=\"\",\"\",IF(VLOOKUP(A4063,'Romaneio da Carga'!E:E,1,0)=BD!A4063,\"Volume Ok\",\"Volume não pertence a carga\")),\"Volume não pertence a carga\")","v":""}]
[null,{"$f":"IFERROR(IF(A4064=\"\",\"\",IF(VLOOKUP(A4064,'Romaneio da Carga'!E:E,1,0)=BD!A4064,\"Volume Ok\",\"Volume não pertence a carga\")),\"Volume não pertence a carga\")","v":""}]
[null,{"$f":"IFERROR(IF(A4065=\"\",\"\",IF(VLOOKUP(A4065,'Romaneio da Carga'!E:E,1,0)=BD!A4065,\"Volume Ok\",\"Volume não pertence a carga\")),\"Volume não pertence a carga\")","v":""}]
[null,{"$f":"IFERROR(IF(A4066=\"\",\"\",IF(VLOOKUP(A4066,'Romaneio da Carga'!E:E,1,0)=BD!A4066,\"Volume Ok\",\"Volume não pertence a carga\")),\"Volume não pertence a carga\")","v":""}]
[null,{"$f":"IFERROR(IF(A4067=\"\",\"\",IF(VLOOKUP(A4067,'Romaneio da Carga'!E:E,1,0)=BD!A4067,\"Volume Ok\",\"Volume não pertence a carga\")),\"Volume não pertence a carga\")","v":""}]
[null,{"$f":"IFERROR(IF(A4068=\"\",\"\",IF(VLOOKUP(A4068,'Romaneio da Carga'!E:E,1,0)=BD!A4068,\"Volume Ok\",\"Volume não pertence a carga\")),\"Volume não pertence a carga\")","v":""}]
[null,{"$f":"IFERROR(IF(A4069=\"\",\"\",IF(VLOOKUP(A4069,'Romaneio da Carga'!E:E,1,0)=BD!A4069,\"Volume Ok\",\"Volume não pertence a carga\")),\"Volume não pertence a carga\")","v":""}]
[null,{"$f":"IFERROR(IF(A4070=\"\",\"\",IF(VLOOKUP(A4070,'Romaneio da Carga'!E:E,1,0)=BD!A4070,\"Volume Ok\",\"Volume não pertence a carga\")),\"Volume não pertence a carga\")","v":""}]
[null,{"$f":"IFERROR(IF(A4071=\"\",\"\",IF(VLOOKUP(A4071,'Romaneio da Carga'!E:E,1,0)=BD!A4071,\"Volume Ok\",\"Volume não pertence a carga\")),\"Volume não pertence a carga\")","v":""}]
[null,{"$f":"IFERROR(IF(A4072=\"\",\"\",IF(VLOOKUP(A4072,'Romaneio da Carga'!E:E,1,0)=BD!A4072,\"Volume Ok\",\"Volume não pertence a carga\")),\"Volume não pertence a carga\")","v":""}]
[null,{"$f":"IFERROR(IF(A4073=\"\",\"\",IF(VLOOKUP(A4073,'Romaneio da Carga'!E:E,1,0)=BD!A4073,\"Volume Ok\",\"Volume não pertence a carga\")),\"Volume não pertence a carga\")","v":""}]
[null,{"$f":"IFERROR(IF(A4074=\"\",\"\",IF(VLOOKUP(A4074,'Romaneio da Carga'!E:E,1,0)=BD!A4074,\"Volume Ok\",\"Volume não pertence a carga\")),\"Volume não pertence a carga\")","v":""}]
[null,{"$f":"IFERROR(IF(A4075=\"\",\"\",IF(VLOOKUP(A4075,'Romaneio da Carga'!E:E,1,0)=BD!A4075,\"Volume Ok\",\"Volume não pertence a carga\")),\"Volume não pertence a carga\")","v":""}]
[null,{"$f":"IFERROR(IF(A4076=\"\",\"\",IF(VLOOKUP(A4076,'Romaneio da Carga'!E:E,1,0)=BD!A4076,\"Volume Ok\",\"Volume não pertence a carga\")),\"Volume não pertence a carga\")","v":""}]
[null,{"$f":"IFERROR(IF(A4077=\"\",\"\",IF(VLOOKUP(A4077,'Romaneio da Carga'!E:E,1,0)=BD!A4077,\"Volume Ok\",\"Volume não pertence a carga\")),\"Volume não pertence a carga\")","v":""}]
[null,{"$f":"IFERROR(IF(A4078=\"\",\"\",IF(VLOOKUP(A4078,'Romaneio da Carga'!E:E,1,0)=BD!A4078,\"Volume Ok\",\"Volume não pertence a carga\")),\"Volume não pertence a carga\")","v":""}]
[null,{"$f":"IFERROR(IF(A4079=\"\",\"\",IF(VLOOKUP(A4079,'Romaneio da Carga'!E:E,1,0)=BD!A4079,\"Volume Ok\",\"Volume não pertence a carga\")),\"Volume não pertence a carga\")","v":""}]
[null,{"$f":"IFERROR(IF(A4080=\"\",\"\",IF(VLOOKUP(A4080,'Romaneio da Carga'!E:E,1,0)=BD!A4080,\"Volume Ok\",\"Volume não pertence a carga\")),\"Volume não pertence a carga\")","v":""}]
[null,{"$f":"IFERROR(IF(A4081=\"\",\"\",IF(VLOOKUP(A4081,'Romaneio da Carga'!E:E,1,0)=BD!A4081,\"Volume Ok\",\"Volume não pertence a carga\")),\"Volume não pertence a carga\")","v":""}]
[null,{"$f":"IFERROR(IF(A4082=\"\",\"\",IF(VLOOKUP(A4082,'Romaneio da Carga'!E:E,1,0)=BD!A4082,\"Volume Ok\",\"Volume não pertence a carga\")),\"Volume não pertence a carga\")","v":""}]
[null,{"$f":"IFERROR(IF(A4083=\"\",\"\",IF(VLOOKUP(A4083,'Romaneio da Carga'!E:E,1,0)=BD!A4083,\"Volume Ok\",\"Volume não pertence a carga\")),\"Volume não pertence a carga\")","v":""}]
[null,{"$f":"IFERROR(IF(A4084=\"\",\"\",IF(VLOOKUP(A4084,'Romaneio da Carga'!E:E,1,0)=BD!A4084,\"Volume Ok\",\"Volume não pertence a carga\")),\"Volume não pertence a carga\")","v":""}]
[null,{"$f":"IFERROR(IF(A4085=\"\",\"\",IF(VLOOKUP(A4085,'Romaneio da Carga'!E:E,1,0)=BD!A4085,\"Volume Ok\",\"Volume não pertence a carga\")),\"Volume não pertence a carga\")","v":""}]
[null,{"$f":"IFERROR(IF(A4086=\"\",\"\",IF(VLOOKUP(A4086,'Romaneio da Carga'!E:E,1,0)=BD!A4086,\"Volume Ok\",\"Volume não pertence a carga\")),\"Volume não pertence a carga\")","v":""}]
[null,{"$f":"IFERROR(IF(A4087=\"\",\"\",IF(VLOOKUP(A4087,'Romaneio da Carga'!E:E,1,0)=BD!A4087,\"Volume Ok\",\"Volume não pertence a carga\")),\"Volume não pertence a carga\")","v":""}]
[null,{"$f":"IFERROR(IF(A4088=\"\",\"\",IF(VLOOKUP(A4088,'Romaneio da Carga'!E:E,1,0)=BD!A4088,\"Volume Ok\",\"Volume não pertence a carga\")),\"Volume não pertence a carga\")","v":""}]
[null,{"$f":"IFERROR(IF(A4089=\"\",\"\",IF(VLOOKUP(A4089,'Romaneio da Carga'!E:E,1,0)=BD!A4089,\"Volume Ok\",\"Volume não pertence a carga\")),\"Volume não pertence a carga\")","v":""}]
[null,{"$f":"IFERROR(IF(A4090=\"\",\"\",IF(VLOOKUP(A4090,'Romaneio da Carga'!E:E,1,0)=BD!A4090,\"Volume Ok\",\"Volume não pertence a carga\")),\"Volume não pertence a carga\")","v":""}]
[null,{"$f":"IFERROR(IF(A4091=\"\",\"\",IF(VLOOKUP(A4091,'Romaneio da Carga'!E:E,1,0)=BD!A4091,\"Volume Ok\",\"Volume não pertence a carga\")),\"Volume não pertence a carga\")","v":""}]
[null,{"$f":"IFERROR(IF(A4092=\"\",\"\",IF(VLOOKUP(A4092,'Romaneio da Carga'!E:E,1,0)=BD!A4092,\"Volume Ok\",\"Volume não pertence a carga\")),\"Volume não pertence a carga\")","v":""}]
[null,{"$f":"IFERROR(IF(A4093=\"\",\"\",IF(VLOOKUP(A4093,'Romaneio da Carga'!E:E,1,0)=BD!A4093,\"Volume Ok\",\"Volume não pertence a carga\")),\"Volume não pertence a carga\")","v":""}]
[null,{"$f":"IFERROR(IF(A4094=\"\",\"\",IF(VLOOKUP(A4094,'Romaneio da Carga'!E:E,1,0)=BD!A4094,\"Volume Ok\",\"Volume não pertence a carga\")),\"Volume não pertence a carga\")","v":""}]
[null,{"$f":"IFERROR(IF(A4095=\"\",\"\",IF(VLOOKUP(A4095,'Romaneio da Carga'!E:E,1,0)=BD!A4095,\"Volume Ok\",\"Volume não pertence a carga\")),\"Volume não pertence a carga\")","v":""}]
[null,{"$f":"IFERROR(IF(A4096=\"\",\"\",IF(VLOOKUP(A4096,'Romaneio da Carga'!E:E,1,0)=BD!A4096,\"Volume Ok\",\"Volume não pertence a carga\")),\"Volume não pertence a carga\")","v":""}]
[null,{"$f":"IFERROR(IF(A4097=\"\",\"\",IF(VLOOKUP(A4097,'Romaneio da Carga'!E:E,1,0)=BD!A4097,\"Volume Ok\",\"Volume não pertence a carga\")),\"Volume não pertence a carga\")","v":""}]
[null,{"$f":"IFERROR(IF(A4098=\"\",\"\",IF(VLOOKUP(A4098,'Romaneio da Carga'!E:E,1,0)=BD!A4098,\"Volume Ok\",\"Volume não pertence a carga\")),\"Volume não pertence a carga\")","v":""}]
[null,{"$f":"IFERROR(IF(A4099=\"\",\"\",IF(VLOOKUP(A4099,'Romaneio da Carga'!E:E,1,0)=BD!A4099,\"Volume Ok\",\"Volume não pertence a carga\")),\"Volume não pertence a carga\")","v":""}]
[null,{"$f":"IFERROR(IF(A4100=\"\",\"\",IF(VLOOKUP(A4100,'Romaneio da Carga'!E:E,1,0)=BD!A4100,\"Volume Ok\",\"Volume não pertence a carga\")),\"Volume não pertence a carga\")","v":""}]
[null,{"$f":"IFERROR(IF(A4101=\"\",\"\",IF(VLOOKUP(A4101,'Romaneio da Carga'!E:E,1,0)=BD!A4101,\"Volume Ok\",\"Volume não pertence a carga\")),\"Volume não pertence a carga\")","v":""}]
[null,{"$f":"IFERROR(IF(A4102=\"\",\"\",IF(VLOOKUP(A4102,'Romaneio da Carga'!E:E,1,0)=BD!A4102,\"Volume Ok\",\"Volume não pertence a carga\")),\"Volume não pertence a carga\")","v":""}]
[null,{"$f":"IFERROR(IF(A4103=\"\",\"\",IF(VLOOKUP(A4103,'Romaneio da Carga'!E:E,1,0)=BD!A4103,\"Volume Ok\",\"Volume não pertence a carga\")),\"Volume não pertence a carga\")","v":""}]
[null,{"$f":"IFERROR(IF(A4104=\"\",\"\",IF(VLOOKUP(A4104,'Romaneio da Carga'!E:E,1,0)=BD!A4104,\"Volume Ok\",\"Volume não pertence a carga\")),\"Volume não pertence a carga\")","v":""}]
[null,{"$f":"IFERROR(IF(A4105=\"\",\"\",IF(VLOOKUP(A4105,'Romaneio da Carga'!E:E,1,0)=BD!A4105,\"Volume Ok\",\"Volume não pertence a carga\")),\"Volume não pertence a carga\")","v":""}]
[null,{"$f":"IFERROR(IF(A4106=\"\",\"\",IF(VLOOKUP(A4106,'Romaneio da Carga'!E:E,1,0)=BD!A4106,\"Volume Ok\",\"Volume não pertence a carga\")),\"Volume não pertence a carga\")","v":""}]
[null,{"$f":"IFERROR(IF(A4107=\"\",\"\",IF(VLOOKUP(A4107,'Romaneio da Carga'!E:E,1,0)=BD!A4107,\"Volume Ok\",\"Volume não pertence a carga\")),\"Volume não pertence a carga\")","v":""}]
[null,{"$f":"IFERROR(IF(A4108=\"\",\"\",IF(VLOOKUP(A4108,'Romaneio da Carga'!E:E,1,0)=BD!A4108,\"Volume Ok\",\"Volume não pertence a carga\")),\"Volume não pertence a carga\")","v":""}]
[null,{"$f":"IFERROR(IF(A4109=\"\",\"\",IF(VLOOKUP(A4109,'Romaneio da Carga'!E:E,1,0)=BD!A4109,\"Volume Ok\",\"Volume não pertence a carga\")),\"Volume não pertence a carga\")","v":""}]
[null,{"$f":"IFERROR(IF(A4110=\"\",\"\",IF(VLOOKUP(A4110,'Romaneio da Carga'!E:E,1,0)=BD!A4110,\"Volume Ok\",\"Volume não pertence a carga\")),\"Volume não pertence a carga\")","v":""}]
[null,{"$f":"IFERROR(IF(A4111=\"\",\"\",IF(VLOOKUP(A4111,'Romaneio da Carga'!E:E,1,0)=BD!A4111,\"Volume Ok\",\"Volume não pertence a carga\")),\"Volume não pertence a carga\")","v":""}]
[null,{"$f":"IFERROR(IF(A4112=\"\",\"\",IF(VLOOKUP(A4112,'Romaneio da Carga'!E:E,1,0)=BD!A4112,\"Volume Ok\",\"Volume não pertence a carga\")),\"Volume não pertence a carga\")","v":""}]
[null,{"$f":"IFERROR(IF(A4113=\"\",\"\",IF(VLOOKUP(A4113,'Romaneio da Carga'!E:E,1,0)=BD!A4113,\"Volume Ok\",\"Volume não pertence a carga\")),\"Volume não pertence a carga\")","v":""}]
[null,{"$f":"IFERROR(IF(A4114=\"\",\"\",IF(VLOOKUP(A4114,'Romaneio da Carga'!E:E,1,0)=BD!A4114,\"Volume Ok\",\"Volume não pertence a carga\")),\"Volume não pertence a carga\")","v":""}]
[null,{"$f":"IFERROR(IF(A4115=\"\",\"\",IF(VLOOKUP(A4115,'Romaneio da Carga'!E:E,1,0)=BD!A4115,\"Volume Ok\",\"Volume não pertence a carga\")),\"Volume não pertence a carga\")","v":""}]
[null,{"$f":"IFERROR(IF(A4116=\"\",\"\",IF(VLOOKUP(A4116,'Romaneio da Carga'!E:E,1,0)=BD!A4116,\"Volume Ok\",\"Volume não pertence a carga\")),\"Volume não pertence a carga\")","v":""}]
[null,{"$f":"IFERROR(IF(A4117=\"\",\"\",IF(VLOOKUP(A4117,'Romaneio da Carga'!E:E,1,0)=BD!A4117,\"Volume Ok\",\"Volume não pertence a carga\")),\"Volume não pertence a carga\")","v":""}]
[null,{"$f":"IFERROR(IF(A4118=\"\",\"\",IF(VLOOKUP(A4118,'Romaneio da Carga'!E:E,1,0)=BD!A4118,\"Volume Ok\",\"Volume não pertence a carga\")),\"Volume não pertence a carga\")","v":""}]
[null,{"$f":"IFERROR(IF(A4119=\"\",\"\",IF(VLOOKUP(A4119,'Romaneio da Carga'!E:E,1,0)=BD!A4119,\"Volume Ok\",\"Volume não pertence a carga\")),\"Volume não pertence a carga\")","v":""}]
[null,{"$f":"IFERROR(IF(A4120=\"\",\"\",IF(VLOOKUP(A4120,'Romaneio da Carga'!E:E,1,0)=BD!A4120,\"Volume Ok\",\"Volume não pertence a carga\")),\"Volume não pertence a carga\")","v":""}]
[null,{"$f":"IFERROR(IF(A4121=\"\",\"\",IF(VLOOKUP(A4121,'Romaneio da Carga'!E:E,1,0)=BD!A4121,\"Volume Ok\",\"Volume não pertence a carga\")),\"Volume não pertence a carga\")","v":""}]
[null,{"$f":"IFERROR(IF(A4122=\"\",\"\",IF(VLOOKUP(A4122,'Romaneio da Carga'!E:E,1,0)=BD!A4122,\"Volume Ok\",\"Volume não pertence a carga\")),\"Volume não pertence a carga\")","v":""}]
[null,{"$f":"IFERROR(IF(A4123=\"\",\"\",IF(VLOOKUP(A4123,'Romaneio da Carga'!E:E,1,0)=BD!A4123,\"Volume Ok\",\"Volume não pertence a carga\")),\"Volume não pertence a carga\")","v":""}]
[null,{"$f":"IFERROR(IF(A4124=\"\",\"\",IF(VLOOKUP(A4124,'Romaneio da Carga'!E:E,1,0)=BD!A4124,\"Volume Ok\",\"Volume não pertence a carga\")),\"Volume não pertence a carga\")","v":""}]
[null,{"$f":"IFERROR(IF(A4125=\"\",\"\",IF(VLOOKUP(A4125,'Romaneio da Carga'!E:E,1,0)=BD!A4125,\"Volume Ok\",\"Volume não pertence a carga\")),\"Volume não pertence a carga\")","v":""}]
[null,{"$f":"IFERROR(IF(A4126=\"\",\"\",IF(VLOOKUP(A4126,'Romaneio da Carga'!E:E,1,0)=BD!A4126,\"Volume Ok\",\"Volume não pertence a carga\")),\"Volume não pertence a carga\")","v":""}]
[null,{"$f":"IFERROR(IF(A4127=\"\",\"\",IF(VLOOKUP(A4127,'Romaneio da Carga'!E:E,1,0)=BD!A4127,\"Volume Ok\",\"Volume não pertence a carga\")),\"Volume não pertence a carga\")","v":""}]
[null,{"$f":"IFERROR(IF(A4128=\"\",\"\",IF(VLOOKUP(A4128,'Romaneio da Carga'!E:E,1,0)=BD!A4128,\"Volume Ok\",\"Volume não pertence a carga\")),\"Volume não pertence a carga\")","v":""}]
[null,{"$f":"IFERROR(IF(A4129=\"\",\"\",IF(VLOOKUP(A4129,'Romaneio da Carga'!E:E,1,0)=BD!A4129,\"Volume Ok\",\"Volume não pertence a carga\")),\"Volume não pertence a carga\")","v":""}]
[null,{"$f":"IFERROR(IF(A4130=\"\",\"\",IF(VLOOKUP(A4130,'Romaneio da Carga'!E:E,1,0)=BD!A4130,\"Volume Ok\",\"Volume não pertence a carga\")),\"Volume não pertence a carga\")","v":""}]
[null,{"$f":"IFERROR(IF(A4131=\"\",\"\",IF(VLOOKUP(A4131,'Romaneio da Carga'!E:E,1,0)=BD!A4131,\"Volume Ok\",\"Volume não pertence a carga\")),\"Volume não pertence a carga\")","v":""}]
[null,{"$f":"IFERROR(IF(A4132=\"\",\"\",IF(VLOOKUP(A4132,'Romaneio da Carga'!E:E,1,0)=BD!A4132,\"Volume Ok\",\"Volume não pertence a carga\")),\"Volume não pertence a carga\")","v":""}]
[null,{"$f":"IFERROR(IF(A4133=\"\",\"\",IF(VLOOKUP(A4133,'Romaneio da Carga'!E:E,1,0)=BD!A4133,\"Volume Ok\",\"Volume não pertence a carga\")),\"Volume não pertence a carga\")","v":""}]
[null,{"$f":"IFERROR(IF(A4134=\"\",\"\",IF(VLOOKUP(A4134,'Romaneio da Carga'!E:E,1,0)=BD!A4134,\"Volume Ok\",\"Volume não pertence a carga\")),\"Volume não pertence a carga\")","v":""}]
[null,{"$f":"IFERROR(IF(A4135=\"\",\"\",IF(VLOOKUP(A4135,'Romaneio da Carga'!E:E,1,0)=BD!A4135,\"Volume Ok\",\"Volume não pertence a carga\")),\"Volume não pertence a carga\")","v":""}]
[null,{"$f":"IFERROR(IF(A4136=\"\",\"\",IF(VLOOKUP(A4136,'Romaneio da Carga'!E:E,1,0)=BD!A4136,\"Volume Ok\",\"Volume não pertence a carga\")),\"Volume não pertence a carga\")","v":""}]
[null,{"$f":"IFERROR(IF(A4137=\"\",\"\",IF(VLOOKUP(A4137,'Romaneio da Carga'!E:E,1,0)=BD!A4137,\"Volume Ok\",\"Volume não pertence a carga\")),\"Volume não pertence a carga\")","v":""}]
[null,{"$f":"IFERROR(IF(A4138=\"\",\"\",IF(VLOOKUP(A4138,'Romaneio da Carga'!E:E,1,0)=BD!A4138,\"Volume Ok\",\"Volume não pertence a carga\")),\"Volume não pertence a carga\")","v":""}]
[null,{"$f":"IFERROR(IF(A4139=\"\",\"\",IF(VLOOKUP(A4139,'Romaneio da Carga'!E:E,1,0)=BD!A4139,\"Volume Ok\",\"Volume não pertence a carga\")),\"Volume não pertence a carga\")","v":""}]
[null,{"$f":"IFERROR(IF(A4140=\"\",\"\",IF(VLOOKUP(A4140,'Romaneio da Carga'!E:E,1,0)=BD!A4140,\"Volume Ok\",\"Volume não pertence a carga\")),\"Volume não pertence a carga\")","v":""}]
[null,{"$f":"IFERROR(IF(A4141=\"\",\"\",IF(VLOOKUP(A4141,'Romaneio da Carga'!E:E,1,0)=BD!A4141,\"Volume Ok\",\"Volume não pertence a carga\")),\"Volume não pertence a carga\")","v":""}]
[null,{"$f":"IFERROR(IF(A4142=\"\",\"\",IF(VLOOKUP(A4142,'Romaneio da Carga'!E:E,1,0)=BD!A4142,\"Volume Ok\",\"Volume não pertence a carga\")),\"Volume não pertence a carga\")","v":""}]
[null,{"$f":"IFERROR(IF(A4143=\"\",\"\",IF(VLOOKUP(A4143,'Romaneio da Carga'!E:E,1,0)=BD!A4143,\"Volume Ok\",\"Volume não pertence a carga\")),\"Volume não pertence a carga\")","v":""}]
[null,{"$f":"IFERROR(IF(A4144=\"\",\"\",IF(VLOOKUP(A4144,'Romaneio da Carga'!E:E,1,0)=BD!A4144,\"Volume Ok\",\"Volume não pertence a carga\")),\"Volume não pertence a carga\")","v":""}]
[null,{"$f":"IFERROR(IF(A4145=\"\",\"\",IF(VLOOKUP(A4145,'Romaneio da Carga'!E:E,1,0)=BD!A4145,\"Volume Ok\",\"Volume não pertence a carga\")),\"Volume não pertence a carga\")","v":""}]
[null,{"$f":"IFERROR(IF(A4146=\"\",\"\",IF(VLOOKUP(A4146,'Romaneio da Carga'!E:E,1,0)=BD!A4146,\"Volume Ok\",\"Volume não pertence a carga\")),\"Volume não pertence a carga\")","v":""}]
[null,{"$f":"IFERROR(IF(A4147=\"\",\"\",IF(VLOOKUP(A4147,'Romaneio da Carga'!E:E,1,0)=BD!A4147,\"Volume Ok\",\"Volume não pertence a carga\")),\"Volume não pertence a carga\")","v":""}]
[null,{"$f":"IFERROR(IF(A4148=\"\",\"\",IF(VLOOKUP(A4148,'Romaneio da Carga'!E:E,1,0)=BD!A4148,\"Volume Ok\",\"Volume não pertence a carga\")),\"Volume não pertence a carga\")","v":""}]
[null,{"$f":"IFERROR(IF(A4149=\"\",\"\",IF(VLOOKUP(A4149,'Romaneio da Carga'!E:E,1,0)=BD!A4149,\"Volume Ok\",\"Volume não pertence a carga\")),\"Volume não pertence a carga\")","v":""}]
[null,{"$f":"IFERROR(IF(A4150=\"\",\"\",IF(VLOOKUP(A4150,'Romaneio da Carga'!E:E,1,0)=BD!A4150,\"Volume Ok\",\"Volume não pertence a carga\")),\"Volume não pertence a carga\")","v":""}]
[null,{"$f":"IFERROR(IF(A4151=\"\",\"\",IF(VLOOKUP(A4151,'Romaneio da Carga'!E:E,1,0)=BD!A4151,\"Volume Ok\",\"Volume não pertence a carga\")),\"Volume não pertence a carga\")","v":""}]
[null,{"$f":"IFERROR(IF(A4152=\"\",\"\",IF(VLOOKUP(A4152,'Romaneio da Carga'!E:E,1,0)=BD!A4152,\"Volume Ok\",\"Volume não pertence a carga\")),\"Volume não pertence a carga\")","v":""}]
[null,{"$f":"IFERROR(IF(A4153=\"\",\"\",IF(VLOOKUP(A4153,'Romaneio da Carga'!E:E,1,0)=BD!A4153,\"Volume Ok\",\"Volume não pertence a carga\")),\"Volume não pertence a carga\")","v":""}]
[null,{"$f":"IFERROR(IF(A4154=\"\",\"\",IF(VLOOKUP(A4154,'Romaneio da Carga'!E:E,1,0)=BD!A4154,\"Volume Ok\",\"Volume não pertence a carga\")),\"Volume não pertence a carga\")","v":""}]
[null,{"$f":"IFERROR(IF(A4155=\"\",\"\",IF(VLOOKUP(A4155,'Romaneio da Carga'!E:E,1,0)=BD!A4155,\"Volume Ok\",\"Volume não pertence a carga\")),\"Volume não pertence a carga\")","v":""}]
[null,{"$f":"IFERROR(IF(A4156=\"\",\"\",IF(VLOOKUP(A4156,'Romaneio da Carga'!E:E,1,0)=BD!A4156,\"Volume Ok\",\"Volume não pertence a carga\")),\"Volume não pertence a carga\")","v":""}]
[null,{"$f":"IFERROR(IF(A4157=\"\",\"\",IF(VLOOKUP(A4157,'Romaneio da Carga'!E:E,1,0)=BD!A4157,\"Volume Ok\",\"Volume não pertence a carga\")),\"Volume não pertence a carga\")","v":""}]
[null,{"$f":"IFERROR(IF(A4158=\"\",\"\",IF(VLOOKUP(A4158,'Romaneio da Carga'!E:E,1,0)=BD!A4158,\"Volume Ok\",\"Volume não pertence a carga\")),\"Volume não pertence a carga\")","v":""}]
[null,{"$f":"IFERROR(IF(A4159=\"\",\"\",IF(VLOOKUP(A4159,'Romaneio da Carga'!E:E,1,0)=BD!A4159,\"Volume Ok\",\"Volume não pertence a carga\")),\"Volume não pertence a carga\")","v":""}]
[null,{"$f":"IFERROR(IF(A4160=\"\",\"\",IF(VLOOKUP(A4160,'Romaneio da Carga'!E:E,1,0)=BD!A4160,\"Volume Ok\",\"Volume não pertence a carga\")),\"Volume não pertence a carga\")","v":""}]
[null,{"$f":"IFERROR(IF(A4161=\"\",\"\",IF(VLOOKUP(A4161,'Romaneio da Carga'!E:E,1,0)=BD!A4161,\"Volume Ok\",\"Volume não pertence a carga\")),\"Volume não pertence a carga\")","v":""}]
[null,{"$f":"IFERROR(IF(A4162=\"\",\"\",IF(VLOOKUP(A4162,'Romaneio da Carga'!E:E,1,0)=BD!A4162,\"Volume Ok\",\"Volume não pertence a carga\")),\"Volume não pertence a carga\")","v":""}]
[null,{"$f":"IFERROR(IF(A4163=\"\",\"\",IF(VLOOKUP(A4163,'Romaneio da Carga'!E:E,1,0)=BD!A4163,\"Volume Ok\",\"Volume não pertence a carga\")),\"Volume não pertence a carga\")","v":""}]
[null,{"$f":"IFERROR(IF(A4164=\"\",\"\",IF(VLOOKUP(A4164,'Romaneio da Carga'!E:E,1,0)=BD!A4164,\"Volume Ok\",\"Volume não pertence a carga\")),\"Volume não pertence a carga\")","v":""}]
[null,{"$f":"IFERROR(IF(A4165=\"\",\"\",IF(VLOOKUP(A4165,'Romaneio da Carga'!E:E,1,0)=BD!A4165,\"Volume Ok\",\"Volume não pertence a carga\")),\"Volume não pertence a carga\")","v":""}]
[null,{"$f":"IFERROR(IF(A4166=\"\",\"\",IF(VLOOKUP(A4166,'Romaneio da Carga'!E:E,1,0)=BD!A4166,\"Volume Ok\",\"Volume não pertence a carga\")),\"Volume não pertence a carga\")","v":""}]
[null,{"$f":"IFERROR(IF(A4167=\"\",\"\",IF(VLOOKUP(A4167,'Romaneio da Carga'!E:E,1,0)=BD!A4167,\"Volume Ok\",\"Volume não pertence a carga\")),\"Volume não pertence a carga\")","v":""}]
[null,{"$f":"IFERROR(IF(A4168=\"\",\"\",IF(VLOOKUP(A4168,'Romaneio da Carga'!E:E,1,0)=BD!A4168,\"Volume Ok\",\"Volume não pertence a carga\")),\"Volume não pertence a carga\")","v":""}]
[null,{"$f":"IFERROR(IF(A4169=\"\",\"\",IF(VLOOKUP(A4169,'Romaneio da Carga'!E:E,1,0)=BD!A4169,\"Volume Ok\",\"Volume não pertence a carga\")),\"Volume não pertence a carga\")","v":""}]
[null,{"$f":"IFERROR(IF(A4170=\"\",\"\",IF(VLOOKUP(A4170,'Romaneio da Carga'!E:E,1,0)=BD!A4170,\"Volume Ok\",\"Volume não pertence a carga\")),\"Volume não pertence a carga\")","v":""}]
[null,{"$f":"IFERROR(IF(A4171=\"\",\"\",IF(VLOOKUP(A4171,'Romaneio da Carga'!E:E,1,0)=BD!A4171,\"Volume Ok\",\"Volume não pertence a carga\")),\"Volume não pertence a carga\")","v":""}]
[null,{"$f":"IFERROR(IF(A4172=\"\",\"\",IF(VLOOKUP(A4172,'Romaneio da Carga'!E:E,1,0)=BD!A4172,\"Volume Ok\",\"Volume não pertence a carga\")),\"Volume não pertence a carga\")","v":""}]
[null,{"$f":"IFERROR(IF(A4173=\"\",\"\",IF(VLOOKUP(A4173,'Romaneio da Carga'!E:E,1,0)=BD!A4173,\"Volume Ok\",\"Volume não pertence a carga\")),\"Volume não pertence a carga\")","v":""}]
[null,{"$f":"IFERROR(IF(A4174=\"\",\"\",IF(VLOOKUP(A4174,'Romaneio da Carga'!E:E,1,0)=BD!A4174,\"Volume Ok\",\"Volume não pertence a carga\")),\"Volume não pertence a carga\")","v":""}]
[null,{"$f":"IFERROR(IF(A4175=\"\",\"\",IF(VLOOKUP(A4175,'Romaneio da Carga'!E:E,1,0)=BD!A4175,\"Volume Ok\",\"Volume não pertence a carga\")),\"Volume não pertence a carga\")","v":""}]
[null,{"$f":"IFERROR(IF(A4176=\"\",\"\",IF(VLOOKUP(A4176,'Romaneio da Carga'!E:E,1,0)=BD!A4176,\"Volume Ok\",\"Volume não pertence a carga\")),\"Volume não pertence a carga\")","v":""}]
[null,{"$f":"IFERROR(IF(A4177=\"\",\"\",IF(VLOOKUP(A4177,'Romaneio da Carga'!E:E,1,0)=BD!A4177,\"Volume Ok\",\"Volume não pertence a carga\")),\"Volume não pertence a carga\")","v":""}]
[null,{"$f":"IFERROR(IF(A4178=\"\",\"\",IF(VLOOKUP(A4178,'Romaneio da Carga'!E:E,1,0)=BD!A4178,\"Volume Ok\",\"Volume não pertence a carga\")),\"Volume não pertence a carga\")","v":""}]
[null,{"$f":"IFERROR(IF(A4179=\"\",\"\",IF(VLOOKUP(A4179,'Romaneio da Carga'!E:E,1,0)=BD!A4179,\"Volume Ok\",\"Volume não pertence a carga\")),\"Volume não pertence a carga\")","v":""}]
[null,{"$f":"IFERROR(IF(A4180=\"\",\"\",IF(VLOOKUP(A4180,'Romaneio da Carga'!E:E,1,0)=BD!A4180,\"Volume Ok\",\"Volume não pertence a carga\")),\"Volume não pertence a carga\")","v":""}]
[null,{"$f":"IFERROR(IF(A4181=\"\",\"\",IF(VLOOKUP(A4181,'Romaneio da Carga'!E:E,1,0)=BD!A4181,\"Volume Ok\",\"Volume não pertence a carga\")),\"Volume não pertence a carga\")","v":""}]
[null,{"$f":"IFERROR(IF(A4182=\"\",\"\",IF(VLOOKUP(A4182,'Romaneio da Carga'!E:E,1,0)=BD!A4182,\"Volume Ok\",\"Volume não pertence a carga\")),\"Volume não pertence a carga\")","v":""}]
[null,{"$f":"IFERROR(IF(A4183=\"\",\"\",IF(VLOOKUP(A4183,'Romaneio da Carga'!E:E,1,0)=BD!A4183,\"Volume Ok\",\"Volume não pertence a carga\")),\"Volume não pertence a carga\")","v":""}]
[null,{"$f":"IFERROR(IF(A4184=\"\",\"\",IF(VLOOKUP(A4184,'Romaneio da Carga'!E:E,1,0)=BD!A4184,\"Volume Ok\",\"Volume não pertence a carga\")),\"Volume não pertence a carga\")","v":""}]
[null,{"$f":"IFERROR(IF(A4185=\"\",\"\",IF(VLOOKUP(A4185,'Romaneio da Carga'!E:E,1,0)=BD!A4185,\"Volume Ok\",\"Volume não pertence a carga\")),\"Volume não pertence a carga\")","v":""}]
[null,{"$f":"IFERROR(IF(A4186=\"\",\"\",IF(VLOOKUP(A4186,'Romaneio da Carga'!E:E,1,0)=BD!A4186,\"Volume Ok\",\"Volume não pertence a carga\")),\"Volume não pertence a carga\")","v":""}]
[null,{"$f":"IFERROR(IF(A4187=\"\",\"\",IF(VLOOKUP(A4187,'Romaneio da Carga'!E:E,1,0)=BD!A4187,\"Volume Ok\",\"Volume não pertence a carga\")),\"Volume não pertence a carga\")","v":""}]
[null,{"$f":"IFERROR(IF(A4188=\"\",\"\",IF(VLOOKUP(A4188,'Romaneio da Carga'!E:E,1,0)=BD!A4188,\"Volume Ok\",\"Volume não pertence a carga\")),\"Volume não pertence a carga\")","v":""}]
[null,{"$f":"IFERROR(IF(A4189=\"\",\"\",IF(VLOOKUP(A4189,'Romaneio da Carga'!E:E,1,0)=BD!A4189,\"Volume Ok\",\"Volume não pertence a carga\")),\"Volume não pertence a carga\")","v":""}]
[null,{"$f":"IFERROR(IF(A4190=\"\",\"\",IF(VLOOKUP(A4190,'Romaneio da Carga'!E:E,1,0)=BD!A4190,\"Volume Ok\",\"Volume não pertence a carga\")),\"Volume não pertence a carga\")","v":""}]
[null,{"$f":"IFERROR(IF(A4191=\"\",\"\",IF(VLOOKUP(A4191,'Romaneio da Carga'!E:E,1,0)=BD!A4191,\"Volume Ok\",\"Volume não pertence a carga\")),\"Volume não pertence a carga\")","v":""}]
[null,{"$f":"IFERROR(IF(A4192=\"\",\"\",IF(VLOOKUP(A4192,'Romaneio da Carga'!E:E,1,0)=BD!A4192,\"Volume Ok\",\"Volume não pertence a carga\")),\"Volume não pertence a carga\")","v":""}]
[null,{"$f":"IFERROR(IF(A4193=\"\",\"\",IF(VLOOKUP(A4193,'Romaneio da Carga'!E:E,1,0)=BD!A4193,\"Volume Ok\",\"Volume não pertence a carga\")),\"Volume não pertence a carga\")","v":""}]
[null,{"$f":"IFERROR(IF(A4194=\"\",\"\",IF(VLOOKUP(A4194,'Romaneio da Carga'!E:E,1,0)=BD!A4194,\"Volume Ok\",\"Volume não pertence a carga\")),\"Volume não pertence a carga\")","v":""}]
[null,{"$f":"IFERROR(IF(A4195=\"\",\"\",IF(VLOOKUP(A4195,'Romaneio da Carga'!E:E,1,0)=BD!A4195,\"Volume Ok\",\"Volume não pertence a carga\")),\"Volume não pertence a carga\")","v":""}]
[null,{"$f":"IFERROR(IF(A4196=\"\",\"\",IF(VLOOKUP(A4196,'Romaneio da Carga'!E:E,1,0)=BD!A4196,\"Volume Ok\",\"Volume não pertence a carga\")),\"Volume não pertence a carga\")","v":""}]
[null,{"$f":"IFERROR(IF(A4197=\"\",\"\",IF(VLOOKUP(A4197,'Romaneio da Carga'!E:E,1,0)=BD!A4197,\"Volume Ok\",\"Volume não pertence a carga\")),\"Volume não pertence a carga\")","v":""}]
[null,{"$f":"IFERROR(IF(A4198=\"\",\"\",IF(VLOOKUP(A4198,'Romaneio da Carga'!E:E,1,0)=BD!A4198,\"Volume Ok\",\"Volume não pertence a carga\")),\"Volume não pertence a carga\")","v":""}]
[null,{"$f":"IFERROR(IF(A4199=\"\",\"\",IF(VLOOKUP(A4199,'Romaneio da Carga'!E:E,1,0)=BD!A4199,\"Volume Ok\",\"Volume não pertence a carga\")),\"Volume não pertence a carga\")","v":""}]
[null,{"$f":"IFERROR(IF(A4200=\"\",\"\",IF(VLOOKUP(A4200,'Romaneio da Carga'!E:E,1,0)=BD!A4200,\"Volume Ok\",\"Volume não pertence a carga\")),\"Volume não pertence a carga\")","v":""}]
[null,{"$f":"IFERROR(IF(A4201=\"\",\"\",IF(VLOOKUP(A4201,'Romaneio da Carga'!E:E,1,0)=BD!A4201,\"Volume Ok\",\"Volume não pertence a carga\")),\"Volume não pertence a carga\")","v":""}]
[null,{"$f":"IFERROR(IF(A4202=\"\",\"\",IF(VLOOKUP(A4202,'Romaneio da Carga'!E:E,1,0)=BD!A4202,\"Volume Ok\",\"Volume não pertence a carga\")),\"Volume não pertence a carga\")","v":""}]
[null,{"$f":"IFERROR(IF(A4203=\"\",\"\",IF(VLOOKUP(A4203,'Romaneio da Carga'!E:E,1,0)=BD!A4203,\"Volume Ok\",\"Volume não pertence a carga\")),\"Volume não pertence a carga\")","v":""}]
[null,{"$f":"IFERROR(IF(A4204=\"\",\"\",IF(VLOOKUP(A4204,'Romaneio da Carga'!E:E,1,0)=BD!A4204,\"Volume Ok\",\"Volume não pertence a carga\")),\"Volume não pertence a carga\")","v":""}]
[null,{"$f":"IFERROR(IF(A4205=\"\",\"\",IF(VLOOKUP(A4205,'Romaneio da Carga'!E:E,1,0)=BD!A4205,\"Volume Ok\",\"Volume não pertence a carga\")),\"Volume não pertence a carga\")","v":""}]
[null,{"$f":"IFERROR(IF(A4206=\"\",\"\",IF(VLOOKUP(A4206,'Romaneio da Carga'!E:E,1,0)=BD!A4206,\"Volume Ok\",\"Volume não pertence a carga\")),\"Volume não pertence a carga\")","v":""}]
[null,{"$f":"IFERROR(IF(A4207=\"\",\"\",IF(VLOOKUP(A4207,'Romaneio da Carga'!E:E,1,0)=BD!A4207,\"Volume Ok\",\"Volume não pertence a carga\")),\"Volume não pertence a carga\")","v":""}]
[null,{"$f":"IFERROR(IF(A4208=\"\",\"\",IF(VLOOKUP(A4208,'Romaneio da Carga'!E:E,1,0)=BD!A4208,\"Volume Ok\",\"Volume não pertence a carga\")),\"Volume não pertence a carga\")","v":""}]
[null,{"$f":"IFERROR(IF(A4209=\"\",\"\",IF(VLOOKUP(A4209,'Romaneio da Carga'!E:E,1,0)=BD!A4209,\"Volume Ok\",\"Volume não pertence a carga\")),\"Volume não pertence a carga\")","v":""}]
[null,{"$f":"IFERROR(IF(A4210=\"\",\"\",IF(VLOOKUP(A4210,'Romaneio da Carga'!E:E,1,0)=BD!A4210,\"Volume Ok\",\"Volume não pertence a carga\")),\"Volume não pertence a carga\")","v":""}]
[null,{"$f":"IFERROR(IF(A4211=\"\",\"\",IF(VLOOKUP(A4211,'Romaneio da Carga'!E:E,1,0)=BD!A4211,\"Volume Ok\",\"Volume não pertence a carga\")),\"Volume não pertence a carga\")","v":""}]
[null,{"$f":"IFERROR(IF(A4212=\"\",\"\",IF(VLOOKUP(A4212,'Romaneio da Carga'!E:E,1,0)=BD!A4212,\"Volume Ok\",\"Volume não pertence a carga\")),\"Volume não pertence a carga\")","v":""}]
[null,{"$f":"IFERROR(IF(A4213=\"\",\"\",IF(VLOOKUP(A4213,'Romaneio da Carga'!E:E,1,0)=BD!A4213,\"Volume Ok\",\"Volume não pertence a carga\")),\"Volume não pertence a carga\")","v":""}]
[null,{"$f":"IFERROR(IF(A4214=\"\",\"\",IF(VLOOKUP(A4214,'Romaneio da Carga'!E:E,1,0)=BD!A4214,\"Volume Ok\",\"Volume não pertence a carga\")),\"Volume não pertence a carga\")","v":""}]
[null,{"$f":"IFERROR(IF(A4215=\"\",\"\",IF(VLOOKUP(A4215,'Romaneio da Carga'!E:E,1,0)=BD!A4215,\"Volume Ok\",\"Volume não pertence a carga\")),\"Volume não pertence a carga\")","v":""}]
[null,{"$f":"IFERROR(IF(A4216=\"\",\"\",IF(VLOOKUP(A4216,'Romaneio da Carga'!E:E,1,0)=BD!A4216,\"Volume Ok\",\"Volume não pertence a carga\")),\"Volume não pertence a carga\")","v":""}]
[null,{"$f":"IFERROR(IF(A4217=\"\",\"\",IF(VLOOKUP(A4217,'Romaneio da Carga'!E:E,1,0)=BD!A4217,\"Volume Ok\",\"Volume não pertence a carga\")),\"Volume não pertence a carga\")","v":""}]
[null,{"$f":"IFERROR(IF(A4218=\"\",\"\",IF(VLOOKUP(A4218,'Romaneio da Carga'!E:E,1,0)=BD!A4218,\"Volume Ok\",\"Volume não pertence a carga\")),\"Volume não pertence a carga\")","v":""}]
[null,{"$f":"IFERROR(IF(A4219=\"\",\"\",IF(VLOOKUP(A4219,'Romaneio da Carga'!E:E,1,0)=BD!A4219,\"Volume Ok\",\"Volume não pertence a carga\")),\"Volume não pertence a carga\")","v":""}]
[null,{"$f":"IFERROR(IF(A4220=\"\",\"\",IF(VLOOKUP(A4220,'Romaneio da Carga'!E:E,1,0)=BD!A4220,\"Volume Ok\",\"Volume não pertence a carga\")),\"Volume não pertence a carga\")","v":""}]
[null,{"$f":"IFERROR(IF(A4221=\"\",\"\",IF(VLOOKUP(A4221,'Romaneio da Carga'!E:E,1,0)=BD!A4221,\"Volume Ok\",\"Volume não pertence a carga\")),\"Volume não pertence a carga\")","v":""}]
[null,{"$f":"IFERROR(IF(A4222=\"\",\"\",IF(VLOOKUP(A4222,'Romaneio da Carga'!E:E,1,0)=BD!A4222,\"Volume Ok\",\"Volume não pertence a carga\")),\"Volume não pertence a carga\")","v":""}]
[null,{"$f":"IFERROR(IF(A4223=\"\",\"\",IF(VLOOKUP(A4223,'Romaneio da Carga'!E:E,1,0)=BD!A4223,\"Volume Ok\",\"Volume não pertence a carga\")),\"Volume não pertence a carga\")","v":""}]
[null,{"$f":"IFERROR(IF(A4224=\"\",\"\",IF(VLOOKUP(A4224,'Romaneio da Carga'!E:E,1,0)=BD!A4224,\"Volume Ok\",\"Volume não pertence a carga\")),\"Volume não pertence a carga\")","v":""}]
[null,{"$f":"IFERROR(IF(A4225=\"\",\"\",IF(VLOOKUP(A4225,'Romaneio da Carga'!E:E,1,0)=BD!A4225,\"Volume Ok\",\"Volume não pertence a carga\")),\"Volume não pertence a carga\")","v":""}]
[null,{"$f":"IFERROR(IF(A4226=\"\",\"\",IF(VLOOKUP(A4226,'Romaneio da Carga'!E:E,1,0)=BD!A4226,\"Volume Ok\",\"Volume não pertence a carga\")),\"Volume não pertence a carga\")","v":""}]
[null,{"$f":"IFERROR(IF(A4227=\"\",\"\",IF(VLOOKUP(A4227,'Romaneio da Carga'!E:E,1,0)=BD!A4227,\"Volume Ok\",\"Volume não pertence a carga\")),\"Volume não pertence a carga\")","v":""}]
[null,{"$f":"IFERROR(IF(A4228=\"\",\"\",IF(VLOOKUP(A4228,'Romaneio da Carga'!E:E,1,0)=BD!A4228,\"Volume Ok\",\"Volume não pertence a carga\")),\"Volume não pertence a carga\")","v":""}]
[null,{"$f":"IFERROR(IF(A4229=\"\",\"\",IF(VLOOKUP(A4229,'Romaneio da Carga'!E:E,1,0)=BD!A4229,\"Volume Ok\",\"Volume não pertence a carga\")),\"Volume não pertence a carga\")","v":""}]
[null,{"$f":"IFERROR(IF(A4230=\"\",\"\",IF(VLOOKUP(A4230,'Romaneio da Carga'!E:E,1,0)=BD!A4230,\"Volume Ok\",\"Volume não pertence a carga\")),\"Volume não pertence a carga\")","v":""}]
[null,{"$f":"IFERROR(IF(A4231=\"\",\"\",IF(VLOOKUP(A4231,'Romaneio da Carga'!E:E,1,0)=BD!A4231,\"Volume Ok\",\"Volume não pertence a carga\")),\"Volume não pertence a carga\")","v":""}]
[null,{"$f":"IFERROR(IF(A4232=\"\",\"\",IF(VLOOKUP(A4232,'Romaneio da Carga'!E:E,1,0)=BD!A4232,\"Volume Ok\",\"Volume não pertence a carga\")),\"Volume não pertence a carga\")","v":""}]
[null,{"$f":"IFERROR(IF(A4233=\"\",\"\",IF(VLOOKUP(A4233,'Romaneio da Carga'!E:E,1,0)=BD!A4233,\"Volume Ok\",\"Volume não pertence a carga\")),\"Volume não pertence a carga\")","v":""}]
[null,{"$f":"IFERROR(IF(A4234=\"\",\"\",IF(VLOOKUP(A4234,'Romaneio da Carga'!E:E,1,0)=BD!A4234,\"Volume Ok\",\"Volume não pertence a carga\")),\"Volume não pertence a carga\")","v":""}]
[null,{"$f":"IFERROR(IF(A4235=\"\",\"\",IF(VLOOKUP(A4235,'Romaneio da Carga'!E:E,1,0)=BD!A4235,\"Volume Ok\",\"Volume não pertence a carga\")),\"Volume não pertence a carga\")","v":""}]
[null,{"$f":"IFERROR(IF(A4236=\"\",\"\",IF(VLOOKUP(A4236,'Romaneio da Carga'!E:E,1,0)=BD!A4236,\"Volume Ok\",\"Volume não pertence a carga\")),\"Volume não pertence a carga\")","v":""}]
[null,{"$f":"IFERROR(IF(A4237=\"\",\"\",IF(VLOOKUP(A4237,'Romaneio da Carga'!E:E,1,0)=BD!A4237,\"Volume Ok\",\"Volume não pertence a carga\")),\"Volume não pertence a carga\")","v":""}]
[null,{"$f":"IFERROR(IF(A4238=\"\",\"\",IF(VLOOKUP(A4238,'Romaneio da Carga'!E:E,1,0)=BD!A4238,\"Volume Ok\",\"Volume não pertence a carga\")),\"Volume não pertence a carga\")","v":""}]
[null,{"$f":"IFERROR(IF(A4239=\"\",\"\",IF(VLOOKUP(A4239,'Romaneio da Carga'!E:E,1,0)=BD!A4239,\"Volume Ok\",\"Volume não pertence a carga\")),\"Volume não pertence a carga\")","v":""}]
[null,{"$f":"IFERROR(IF(A4240=\"\",\"\",IF(VLOOKUP(A4240,'Romaneio da Carga'!E:E,1,0)=BD!A4240,\"Volume Ok\",\"Volume não pertence a carga\")),\"Volume não pertence a carga\")","v":""}]
[null,{"$f":"IFERROR(IF(A4241=\"\",\"\",IF(VLOOKUP(A4241,'Romaneio da Carga'!E:E,1,0)=BD!A4241,\"Volume Ok\",\"Volume não pertence a carga\")),\"Volume não pertence a carga\")","v":""}]
[null,{"$f":"IFERROR(IF(A4242=\"\",\"\",IF(VLOOKUP(A4242,'Romaneio da Carga'!E:E,1,0)=BD!A4242,\"Volume Ok\",\"Volume não pertence a carga\")),\"Volume não pertence a carga\")","v":""}]
[null,{"$f":"IFERROR(IF(A4243=\"\",\"\",IF(VLOOKUP(A4243,'Romaneio da Carga'!E:E,1,0)=BD!A4243,\"Volume Ok\",\"Volume não pertence a carga\")),\"Volume não pertence a carga\")","v":""}]
[null,{"$f":"IFERROR(IF(A4244=\"\",\"\",IF(VLOOKUP(A4244,'Romaneio da Carga'!E:E,1,0)=BD!A4244,\"Volume Ok\",\"Volume não pertence a carga\")),\"Volume não pertence a carga\")","v":""}]
[null,{"$f":"IFERROR(IF(A4245=\"\",\"\",IF(VLOOKUP(A4245,'Romaneio da Carga'!E:E,1,0)=BD!A4245,\"Volume Ok\",\"Volume não pertence a carga\")),\"Volume não pertence a carga\")","v":""}]
[null,{"$f":"IFERROR(IF(A4246=\"\",\"\",IF(VLOOKUP(A4246,'Romaneio da Carga'!E:E,1,0)=BD!A4246,\"Volume Ok\",\"Volume não pertence a carga\")),\"Volume não pertence a carga\")","v":""}]
[null,{"$f":"IFERROR(IF(A4247=\"\",\"\",IF(VLOOKUP(A4247,'Romaneio da Carga'!E:E,1,0)=BD!A4247,\"Volume Ok\",\"Volume não pertence a carga\")),\"Volume não pertence a carga\")","v":""}]
[null,{"$f":"IFERROR(IF(A4248=\"\",\"\",IF(VLOOKUP(A4248,'Romaneio da Carga'!E:E,1,0)=BD!A4248,\"Volume Ok\",\"Volume não pertence a carga\")),\"Volume não pertence a carga\")","v":""}]
[null,{"$f":"IFERROR(IF(A4249=\"\",\"\",IF(VLOOKUP(A4249,'Romaneio da Carga'!E:E,1,0)=BD!A4249,\"Volume Ok\",\"Volume não pertence a carga\")),\"Volume não pertence a carga\")","v":""}]
[null,{"$f":"IFERROR(IF(A4250=\"\",\"\",IF(VLOOKUP(A4250,'Romaneio da Carga'!E:E,1,0)=BD!A4250,\"Volume Ok\",\"Volume não pertence a carga\")),\"Volume não pertence a carga\")","v":""}]
[null,{"$f":"IFERROR(IF(A4251=\"\",\"\",IF(VLOOKUP(A4251,'Romaneio da Carga'!E:E,1,0)=BD!A4251,\"Volume Ok\",\"Volume não pertence a carga\")),\"Volume não pertence a carga\")","v":""}]
[null,{"$f":"IFERROR(IF(A4252=\"\",\"\",IF(VLOOKUP(A4252,'Romaneio da Carga'!E:E,1,0)=BD!A4252,\"Volume Ok\",\"Volume não pertence a carga\")),\"Volume não pertence a carga\")","v":""}]
[null,{"$f":"IFERROR(IF(A4253=\"\",\"\",IF(VLOOKUP(A4253,'Romaneio da Carga'!E:E,1,0)=BD!A4253,\"Volume Ok\",\"Volume não pertence a carga\")),\"Volume não pertence a carga\")","v":""}]
[null,{"$f":"IFERROR(IF(A4254=\"\",\"\",IF(VLOOKUP(A4254,'Romaneio da Carga'!E:E,1,0)=BD!A4254,\"Volume Ok\",\"Volume não pertence a carga\")),\"Volume não pertence a carga\")","v":""}]
[null,{"$f":"IFERROR(IF(A4255=\"\",\"\",IF(VLOOKUP(A4255,'Romaneio da Carga'!E:E,1,0)=BD!A4255,\"Volume Ok\",\"Volume não pertence a carga\")),\"Volume não pertence a carga\")","v":""}]
[null,{"$f":"IFERROR(IF(A4256=\"\",\"\",IF(VLOOKUP(A4256,'Romaneio da Carga'!E:E,1,0)=BD!A4256,\"Volume Ok\",\"Volume não pertence a carga\")),\"Volume não pertence a carga\")","v":""}]
[null,{"$f":"IFERROR(IF(A4257=\"\",\"\",IF(VLOOKUP(A4257,'Romaneio da Carga'!E:E,1,0)=BD!A4257,\"Volume Ok\",\"Volume não pertence a carga\")),\"Volume não pertence a carga\")","v":""}]
[null,{"$f":"IFERROR(IF(A4258=\"\",\"\",IF(VLOOKUP(A4258,'Romaneio da Carga'!E:E,1,0)=BD!A4258,\"Volume Ok\",\"Volume não pertence a carga\")),\"Volume não pertence a carga\")","v":""}]
[null,{"$f":"IFERROR(IF(A4259=\"\",\"\",IF(VLOOKUP(A4259,'Romaneio da Carga'!E:E,1,0)=BD!A4259,\"Volume Ok\",\"Volume não pertence a carga\")),\"Volume não pertence a carga\")","v":""}]
[null,{"$f":"IFERROR(IF(A4260=\"\",\"\",IF(VLOOKUP(A4260,'Romaneio da Carga'!E:E,1,0)=BD!A4260,\"Volume Ok\",\"Volume não pertence a carga\")),\"Volume não pertence a carga\")","v":""}]
[null,{"$f":"IFERROR(IF(A4261=\"\",\"\",IF(VLOOKUP(A4261,'Romaneio da Carga'!E:E,1,0)=BD!A4261,\"Volume Ok\",\"Volume não pertence a carga\")),\"Volume não pertence a carga\")","v":""}]
[null,{"$f":"IFERROR(IF(A4262=\"\",\"\",IF(VLOOKUP(A4262,'Romaneio da Carga'!E:E,1,0)=BD!A4262,\"Volume Ok\",\"Volume não pertence a carga\")),\"Volume não pertence a carga\")","v":""}]
[null,{"$f":"IFERROR(IF(A4263=\"\",\"\",IF(VLOOKUP(A4263,'Romaneio da Carga'!E:E,1,0)=BD!A4263,\"Volume Ok\",\"Volume não pertence a carga\")),\"Volume não pertence a carga\")","v":""}]
[null,{"$f":"IFERROR(IF(A4264=\"\",\"\",IF(VLOOKUP(A4264,'Romaneio da Carga'!E:E,1,0)=BD!A4264,\"Volume Ok\",\"Volume não pertence a carga\")),\"Volume não pertence a carga\")","v":""}]
[null,{"$f":"IFERROR(IF(A4265=\"\",\"\",IF(VLOOKUP(A4265,'Romaneio da Carga'!E:E,1,0)=BD!A4265,\"Volume Ok\",\"Volume não pertence a carga\")),\"Volume não pertence a carga\")","v":""}]
[null,{"$f":"IFERROR(IF(A4266=\"\",\"\",IF(VLOOKUP(A4266,'Romaneio da Carga'!E:E,1,0)=BD!A4266,\"Volume Ok\",\"Volume não pertence a carga\")),\"Volume não pertence a carga\")","v":""}]
[null,{"$f":"IFERROR(IF(A4267=\"\",\"\",IF(VLOOKUP(A4267,'Romaneio da Carga'!E:E,1,0)=BD!A4267,\"Volume Ok\",\"Volume não pertence a carga\")),\"Volume não pertence a carga\")","v":""}]
[null,{"$f":"IFERROR(IF(A4268=\"\",\"\",IF(VLOOKUP(A4268,'Romaneio da Carga'!E:E,1,0)=BD!A4268,\"Volume Ok\",\"Volume não pertence a carga\")),\"Volume não pertence a carga\")","v":""}]
[null,{"$f":"IFERROR(IF(A4269=\"\",\"\",IF(VLOOKUP(A4269,'Romaneio da Carga'!E:E,1,0)=BD!A4269,\"Volume Ok\",\"Volume não pertence a carga\")),\"Volume não pertence a carga\")","v":""}]
[null,{"$f":"IFERROR(IF(A4270=\"\",\"\",IF(VLOOKUP(A4270,'Romaneio da Carga'!E:E,1,0)=BD!A4270,\"Volume Ok\",\"Volume não pertence a carga\")),\"Volume não pertence a carga\")","v":""}]
[null,{"$f":"IFERROR(IF(A4271=\"\",\"\",IF(VLOOKUP(A4271,'Romaneio da Carga'!E:E,1,0)=BD!A4271,\"Volume Ok\",\"Volume não pertence a carga\")),\"Volume não pertence a carga\")","v":""}]
[null,{"$f":"IFERROR(IF(A4272=\"\",\"\",IF(VLOOKUP(A4272,'Romaneio da Carga'!E:E,1,0)=BD!A4272,\"Volume Ok\",\"Volume não pertence a carga\")),\"Volume não pertence a carga\")","v":""}]
[null,{"$f":"IFERROR(IF(A4273=\"\",\"\",IF(VLOOKUP(A4273,'Romaneio da Carga'!E:E,1,0)=BD!A4273,\"Volume Ok\",\"Volume não pertence a carga\")),\"Volume não pertence a carga\")","v":""}]
[null,{"$f":"IFERROR(IF(A4274=\"\",\"\",IF(VLOOKUP(A4274,'Romaneio da Carga'!E:E,1,0)=BD!A4274,\"Volume Ok\",\"Volume não pertence a carga\")),\"Volume não pertence a carga\")","v":""}]
[null,{"$f":"IFERROR(IF(A4275=\"\",\"\",IF(VLOOKUP(A4275,'Romaneio da Carga'!E:E,1,0)=BD!A4275,\"Volume Ok\",\"Volume não pertence a carga\")),\"Volume não pertence a carga\")","v":""}]
[null,{"$f":"IFERROR(IF(A4276=\"\",\"\",IF(VLOOKUP(A4276,'Romaneio da Carga'!E:E,1,0)=BD!A4276,\"Volume Ok\",\"Volume não pertence a carga\")),\"Volume não pertence a carga\")","v":""}]
[null,{"$f":"IFERROR(IF(A4277=\"\",\"\",IF(VLOOKUP(A4277,'Romaneio da Carga'!E:E,1,0)=BD!A4277,\"Volume Ok\",\"Volume não pertence a carga\")),\"Volume não pertence a carga\")","v":""}]
[null,{"$f":"IFERROR(IF(A4278=\"\",\"\",IF(VLOOKUP(A4278,'Romaneio da Carga'!E:E,1,0)=BD!A4278,\"Volume Ok\",\"Volume não pertence a carga\")),\"Volume não pertence a carga\")","v":""}]
[null,{"$f":"IFERROR(IF(A4279=\"\",\"\",IF(VLOOKUP(A4279,'Romaneio da Carga'!E:E,1,0)=BD!A4279,\"Volume Ok\",\"Volume não pertence a carga\")),\"Volume não pertence a carga\")","v":""}]
[null,{"$f":"IFERROR(IF(A4280=\"\",\"\",IF(VLOOKUP(A4280,'Romaneio da Carga'!E:E,1,0)=BD!A4280,\"Volume Ok\",\"Volume não pertence a carga\")),\"Volume não pertence a carga\")","v":""}]
[null,{"$f":"IFERROR(IF(A4281=\"\",\"\",IF(VLOOKUP(A4281,'Romaneio da Carga'!E:E,1,0)=BD!A4281,\"Volume Ok\",\"Volume não pertence a carga\")),\"Volume não pertence a carga\")","v":""}]
[null,{"$f":"IFERROR(IF(A4282=\"\",\"\",IF(VLOOKUP(A4282,'Romaneio da Carga'!E:E,1,0)=BD!A4282,\"Volume Ok\",\"Volume não pertence a carga\")),\"Volume não pertence a carga\")","v":""}]
[null,{"$f":"IFERROR(IF(A4283=\"\",\"\",IF(VLOOKUP(A4283,'Romaneio da Carga'!E:E,1,0)=BD!A4283,\"Volume Ok\",\"Volume não pertence a carga\")),\"Volume não pertence a carga\")","v":""}]
[null,{"$f":"IFERROR(IF(A4284=\"\",\"\",IF(VLOOKUP(A4284,'Romaneio da Carga'!E:E,1,0)=BD!A4284,\"Volume Ok\",\"Volume não pertence a carga\")),\"Volume não pertence a carga\")","v":""}]
[null,{"$f":"IFERROR(IF(A4285=\"\",\"\",IF(VLOOKUP(A4285,'Romaneio da Carga'!E:E,1,0)=BD!A4285,\"Volume Ok\",\"Volume não pertence a carga\")),\"Volume não pertence a carga\")","v":""}]
[null,{"$f":"IFERROR(IF(A4286=\"\",\"\",IF(VLOOKUP(A4286,'Romaneio da Carga'!E:E,1,0)=BD!A4286,\"Volume Ok\",\"Volume não pertence a carga\")),\"Volume não pertence a carga\")","v":""}]
[null,{"$f":"IFERROR(IF(A4287=\"\",\"\",IF(VLOOKUP(A4287,'Romaneio da Carga'!E:E,1,0)=BD!A4287,\"Volume Ok\",\"Volume não pertence a carga\")),\"Volume não pertence a carga\")","v":""}]
[null,{"$f":"IFERROR(IF(A4288=\"\",\"\",IF(VLOOKUP(A4288,'Romaneio da Carga'!E:E,1,0)=BD!A4288,\"Volume Ok\",\"Volume não pertence a carga\")),\"Volume não pertence a carga\")","v":""}]
[null,{"$f":"IFERROR(IF(A4289=\"\",\"\",IF(VLOOKUP(A4289,'Romaneio da Carga'!E:E,1,0)=BD!A4289,\"Volume Ok\",\"Volume não pertence a carga\")),\"Volume não pertence a carga\")","v":""}]
[null,{"$f":"IFERROR(IF(A4290=\"\",\"\",IF(VLOOKUP(A4290,'Romaneio da Carga'!E:E,1,0)=BD!A4290,\"Volume Ok\",\"Volume não pertence a carga\")),\"Volume não pertence a carga\")","v":""}]
[null,{"$f":"IFERROR(IF(A4291=\"\",\"\",IF(VLOOKUP(A4291,'Romaneio da Carga'!E:E,1,0)=BD!A4291,\"Volume Ok\",\"Volume não pertence a carga\")),\"Volume não pertence a carga\")","v":""}]
[null,{"$f":"IFERROR(IF(A4292=\"\",\"\",IF(VLOOKUP(A4292,'Romaneio da Carga'!E:E,1,0)=BD!A4292,\"Volume Ok\",\"Volume não pertence a carga\")),\"Volume não pertence a carga\")","v":""}]
[null,{"$f":"IFERROR(IF(A4293=\"\",\"\",IF(VLOOKUP(A4293,'Romaneio da Carga'!E:E,1,0)=BD!A4293,\"Volume Ok\",\"Volume não pertence a carga\")),\"Volume não pertence a carga\")","v":""}]
[null,{"$f":"IFERROR(IF(A4294=\"\",\"\",IF(VLOOKUP(A4294,'Romaneio da Carga'!E:E,1,0)=BD!A4294,\"Volume Ok\",\"Volume não pertence a carga\")),\"Volume não pertence a carga\")","v":""}]
[null,{"$f":"IFERROR(IF(A4295=\"\",\"\",IF(VLOOKUP(A4295,'Romaneio da Carga'!E:E,1,0)=BD!A4295,\"Volume Ok\",\"Volume não pertence a carga\")),\"Volume não pertence a carga\")","v":""}]
[null,{"$f":"IFERROR(IF(A4296=\"\",\"\",IF(VLOOKUP(A4296,'Romaneio da Carga'!E:E,1,0)=BD!A4296,\"Volume Ok\",\"Volume não pertence a carga\")),\"Volume não pertence a carga\")","v":""}]
[null,{"$f":"IFERROR(IF(A4297=\"\",\"\",IF(VLOOKUP(A4297,'Romaneio da Carga'!E:E,1,0)=BD!A4297,\"Volume Ok\",\"Volume não pertence a carga\")),\"Volume não pertence a carga\")","v":""}]
[null,{"$f":"IFERROR(IF(A4298=\"\",\"\",IF(VLOOKUP(A4298,'Romaneio da Carga'!E:E,1,0)=BD!A4298,\"Volume Ok\",\"Volume não pertence a carga\")),\"Volume não pertence a carga\")","v":""}]
[null,{"$f":"IFERROR(IF(A4299=\"\",\"\",IF(VLOOKUP(A4299,'Romaneio da Carga'!E:E,1,0)=BD!A4299,\"Volume Ok\",\"Volume não pertence a carga\")),\"Volume não pertence a carga\")","v":""}]
[null,{"$f":"IFERROR(IF(A4300=\"\",\"\",IF(VLOOKUP(A4300,'Romaneio da Carga'!E:E,1,0)=BD!A4300,\"Volume Ok\",\"Volume não pertence a carga\")),\"Volume não pertence a carga\")","v":""}]
[null,{"$f":"IFERROR(IF(A4301=\"\",\"\",IF(VLOOKUP(A4301,'Romaneio da Carga'!E:E,1,0)=BD!A4301,\"Volume Ok\",\"Volume não pertence a carga\")),\"Volume não pertence a carga\")","v":""}]
[null,{"$f":"IFERROR(IF(A4302=\"\",\"\",IF(VLOOKUP(A4302,'Romaneio da Carga'!E:E,1,0)=BD!A4302,\"Volume Ok\",\"Volume não pertence a carga\")),\"Volume não pertence a carga\")","v":""}]
[null,{"$f":"IFERROR(IF(A4303=\"\",\"\",IF(VLOOKUP(A4303,'Romaneio da Carga'!E:E,1,0)=BD!A4303,\"Volume Ok\",\"Volume não pertence a carga\")),\"Volume não pertence a carga\")","v":""}]
[null,{"$f":"IFERROR(IF(A4304=\"\",\"\",IF(VLOOKUP(A4304,'Romaneio da Carga'!E:E,1,0)=BD!A4304,\"Volume Ok\",\"Volume não pertence a carga\")),\"Volume não pertence a carga\")","v":""}]
[null,{"$f":"IFERROR(IF(A4305=\"\",\"\",IF(VLOOKUP(A4305,'Romaneio da Carga'!E:E,1,0)=BD!A4305,\"Volume Ok\",\"Volume não pertence a carga\")),\"Volume não pertence a carga\")","v":""}]
[null,{"$f":"IFERROR(IF(A4306=\"\",\"\",IF(VLOOKUP(A4306,'Romaneio da Carga'!E:E,1,0)=BD!A4306,\"Volume Ok\",\"Volume não pertence a carga\")),\"Volume não pertence a carga\")","v":""}]
[null,{"$f":"IFERROR(IF(A4307=\"\",\"\",IF(VLOOKUP(A4307,'Romaneio da Carga'!E:E,1,0)=BD!A4307,\"Volume Ok\",\"Volume não pertence a carga\")),\"Volume não pertence a carga\")","v":""}]
[null,{"$f":"IFERROR(IF(A4308=\"\",\"\",IF(VLOOKUP(A4308,'Romaneio da Carga'!E:E,1,0)=BD!A4308,\"Volume Ok\",\"Volume não pertence a carga\")),\"Volume não pertence a carga\")","v":""}]
[null,{"$f":"IFERROR(IF(A4309=\"\",\"\",IF(VLOOKUP(A4309,'Romaneio da Carga'!E:E,1,0)=BD!A4309,\"Volume Ok\",\"Volume não pertence a carga\")),\"Volume não pertence a carga\")","v":""}]
[null,{"$f":"IFERROR(IF(A4310=\"\",\"\",IF(VLOOKUP(A4310,'Romaneio da Carga'!E:E,1,0)=BD!A4310,\"Volume Ok\",\"Volume não pertence a carga\")),\"Volume não pertence a carga\")","v":""}]
[null,{"$f":"IFERROR(IF(A4311=\"\",\"\",IF(VLOOKUP(A4311,'Romaneio da Carga'!E:E,1,0)=BD!A4311,\"Volume Ok\",\"Volume não pertence a carga\")),\"Volume não pertence a carga\")","v":""}]
[null,{"$f":"IFERROR(IF(A4312=\"\",\"\",IF(VLOOKUP(A4312,'Romaneio da Carga'!E:E,1,0)=BD!A4312,\"Volume Ok\",\"Volume não pertence a carga\")),\"Volume não pertence a carga\")","v":""}]
[null,{"$f":"IFERROR(IF(A4313=\"\",\"\",IF(VLOOKUP(A4313,'Romaneio da Carga'!E:E,1,0)=BD!A4313,\"Volume Ok\",\"Volume não pertence a carga\")),\"Volume não pertence a carga\")","v":""}]
[null,{"$f":"IFERROR(IF(A4314=\"\",\"\",IF(VLOOKUP(A4314,'Romaneio da Carga'!E:E,1,0)=BD!A4314,\"Volume Ok\",\"Volume não pertence a carga\")),\"Volume não pertence a carga\")","v":""}]
[null,{"$f":"IFERROR(IF(A4315=\"\",\"\",IF(VLOOKUP(A4315,'Romaneio da Carga'!E:E,1,0)=BD!A4315,\"Volume Ok\",\"Volume não pertence a carga\")),\"Volume não pertence a carga\")","v":""}]
[null,{"$f":"IFERROR(IF(A4316=\"\",\"\",IF(VLOOKUP(A4316,'Romaneio da Carga'!E:E,1,0)=BD!A4316,\"Volume Ok\",\"Volume não pertence a carga\")),\"Volume não pertence a carga\")","v":""}]
[null,{"$f":"IFERROR(IF(A4317=\"\",\"\",IF(VLOOKUP(A4317,'Romaneio da Carga'!E:E,1,0)=BD!A4317,\"Volume Ok\",\"Volume não pertence a carga\")),\"Volume não pertence a carga\")","v":""}]
[null,{"$f":"IFERROR(IF(A4318=\"\",\"\",IF(VLOOKUP(A4318,'Romaneio da Carga'!E:E,1,0)=BD!A4318,\"Volume Ok\",\"Volume não pertence a carga\")),\"Volume não pertence a carga\")","v":""}]
[null,{"$f":"IFERROR(IF(A4319=\"\",\"\",IF(VLOOKUP(A4319,'Romaneio da Carga'!E:E,1,0)=BD!A4319,\"Volume Ok\",\"Volume não pertence a carga\")),\"Volume não pertence a carga\")","v":""}]
[null,{"$f":"IFERROR(IF(A4320=\"\",\"\",IF(VLOOKUP(A4320,'Romaneio da Carga'!E:E,1,0)=BD!A4320,\"Volume Ok\",\"Volume não pertence a carga\")),\"Volume não pertence a carga\")","v":""}]
[null,{"$f":"IFERROR(IF(A4321=\"\",\"\",IF(VLOOKUP(A4321,'Romaneio da Carga'!E:E,1,0)=BD!A4321,\"Volume Ok\",\"Volume não pertence a carga\")),\"Volume não pertence a carga\")","v":""}]
[null,{"$f":"IFERROR(IF(A4322=\"\",\"\",IF(VLOOKUP(A4322,'Romaneio da Carga'!E:E,1,0)=BD!A4322,\"Volume Ok\",\"Volume não pertence a carga\")),\"Volume não pertence a carga\")","v":""}]
[null,{"$f":"IFERROR(IF(A4323=\"\",\"\",IF(VLOOKUP(A4323,'Romaneio da Carga'!E:E,1,0)=BD!A4323,\"Volume Ok\",\"Volume não pertence a carga\")),\"Volume não pertence a carga\")","v":""}]
[null,{"$f":"IFERROR(IF(A4324=\"\",\"\",IF(VLOOKUP(A4324,'Romaneio da Carga'!E:E,1,0)=BD!A4324,\"Volume Ok\",\"Volume não pertence a carga\")),\"Volume não pertence a carga\")","v":""}]
[null,{"$f":"IFERROR(IF(A4325=\"\",\"\",IF(VLOOKUP(A4325,'Romaneio da Carga'!E:E,1,0)=BD!A4325,\"Volume Ok\",\"Volume não pertence a carga\")),\"Volume não pertence a carga\")","v":""}]
[null,{"$f":"IFERROR(IF(A4326=\"\",\"\",IF(VLOOKUP(A4326,'Romaneio da Carga'!E:E,1,0)=BD!A4326,\"Volume Ok\",\"Volume não pertence a carga\")),\"Volume não pertence a carga\")","v":""}]
[null,{"$f":"IFERROR(IF(A4327=\"\",\"\",IF(VLOOKUP(A4327,'Romaneio da Carga'!E:E,1,0)=BD!A4327,\"Volume Ok\",\"Volume não pertence a carga\")),\"Volume não pertence a carga\")","v":""}]
[null,{"$f":"IFERROR(IF(A4328=\"\",\"\",IF(VLOOKUP(A4328,'Romaneio da Carga'!E:E,1,0)=BD!A4328,\"Volume Ok\",\"Volume não pertence a carga\")),\"Volume não pertence a carga\")","v":""}]
[null,{"$f":"IFERROR(IF(A4329=\"\",\"\",IF(VLOOKUP(A4329,'Romaneio da Carga'!E:E,1,0)=BD!A4329,\"Volume Ok\",\"Volume não pertence a carga\")),\"Volume não pertence a carga\")","v":""}]
[null,{"$f":"IFERROR(IF(A4330=\"\",\"\",IF(VLOOKUP(A4330,'Romaneio da Carga'!E:E,1,0)=BD!A4330,\"Volume Ok\",\"Volume não pertence a carga\")),\"Volume não pertence a carga\")","v":""}]
[null,{"$f":"IFERROR(IF(A4331=\"\",\"\",IF(VLOOKUP(A4331,'Romaneio da Carga'!E:E,1,0)=BD!A4331,\"Volume Ok\",\"Volume não pertence a carga\")),\"Volume não pertence a carga\")","v":""}]
[null,{"$f":"IFERROR(IF(A4332=\"\",\"\",IF(VLOOKUP(A4332,'Romaneio da Carga'!E:E,1,0)=BD!A4332,\"Volume Ok\",\"Volume não pertence a carga\")),\"Volume não pertence a carga\")","v":""}]
[null,{"$f":"IFERROR(IF(A4333=\"\",\"\",IF(VLOOKUP(A4333,'Romaneio da Carga'!E:E,1,0)=BD!A4333,\"Volume Ok\",\"Volume não pertence a carga\")),\"Volume não pertence a carga\")","v":""}]
[null,{"$f":"IFERROR(IF(A4334=\"\",\"\",IF(VLOOKUP(A4334,'Romaneio da Carga'!E:E,1,0)=BD!A4334,\"Volume Ok\",\"Volume não pertence a carga\")),\"Volume não pertence a carga\")","v":""}]
[null,{"$f":"IFERROR(IF(A4335=\"\",\"\",IF(VLOOKUP(A4335,'Romaneio da Carga'!E:E,1,0)=BD!A4335,\"Volume Ok\",\"Volume não pertence a carga\")),\"Volume não pertence a carga\")","v":""}]
[null,{"$f":"IFERROR(IF(A4336=\"\",\"\",IF(VLOOKUP(A4336,'Romaneio da Carga'!E:E,1,0)=BD!A4336,\"Volume Ok\",\"Volume não pertence a carga\")),\"Volume não pertence a carga\")","v":""}]
[null,{"$f":"IFERROR(IF(A4337=\"\",\"\",IF(VLOOKUP(A4337,'Romaneio da Carga'!E:E,1,0)=BD!A4337,\"Volume Ok\",\"Volume não pertence a carga\")),\"Volume não pertence a carga\")","v":""}]
[null,{"$f":"IFERROR(IF(A4338=\"\",\"\",IF(VLOOKUP(A4338,'Romaneio da Carga'!E:E,1,0)=BD!A4338,\"Volume Ok\",\"Volume não pertence a carga\")),\"Volume não pertence a carga\")","v":""}]
[null,{"$f":"IFERROR(IF(A4339=\"\",\"\",IF(VLOOKUP(A4339,'Romaneio da Carga'!E:E,1,0)=BD!A4339,\"Volume Ok\",\"Volume não pertence a carga\")),\"Volume não pertence a carga\")","v":""}]
[null,{"$f":"IFERROR(IF(A4340=\"\",\"\",IF(VLOOKUP(A4340,'Romaneio da Carga'!E:E,1,0)=BD!A4340,\"Volume Ok\",\"Volume não pertence a carga\")),\"Volume não pertence a carga\")","v":""}]
[null,{"$f":"IFERROR(IF(A4341=\"\",\"\",IF(VLOOKUP(A4341,'Romaneio da Carga'!E:E,1,0)=BD!A4341,\"Volume Ok\",\"Volume não pertence a carga\")),\"Volume não pertence a carga\")","v":""}]
[null,{"$f":"IFERROR(IF(A4342=\"\",\"\",IF(VLOOKUP(A4342,'Romaneio da Carga'!E:E,1,0)=BD!A4342,\"Volume Ok\",\"Volume não pertence a carga\")),\"Volume não pertence a carga\")","v":""}]
[null,{"$f":"IFERROR(IF(A4343=\"\",\"\",IF(VLOOKUP(A4343,'Romaneio da Carga'!E:E,1,0)=BD!A4343,\"Volume Ok\",\"Volume não pertence a carga\")),\"Volume não pertence a carga\")","v":""}]
[null,{"$f":"IFERROR(IF(A4344=\"\",\"\",IF(VLOOKUP(A4344,'Romaneio da Carga'!E:E,1,0)=BD!A4344,\"Volume Ok\",\"Volume não pertence a carga\")),\"Volume não pertence a carga\")","v":""}]
[null,{"$f":"IFERROR(IF(A4345=\"\",\"\",IF(VLOOKUP(A4345,'Romaneio da Carga'!E:E,1,0)=BD!A4345,\"Volume Ok\",\"Volume não pertence a carga\")),\"Volume não pertence a carga\")","v":""}]
[null,{"$f":"IFERROR(IF(A4346=\"\",\"\",IF(VLOOKUP(A4346,'Romaneio da Carga'!E:E,1,0)=BD!A4346,\"Volume Ok\",\"Volume não pertence a carga\")),\"Volume não pertence a carga\")","v":""}]
[null,{"$f":"IFERROR(IF(A4347=\"\",\"\",IF(VLOOKUP(A4347,'Romaneio da Carga'!E:E,1,0)=BD!A4347,\"Volume Ok\",\"Volume não pertence a carga\")),\"Volume não pertence a carga\")","v":""}]
[null,{"$f":"IFERROR(IF(A4348=\"\",\"\",IF(VLOOKUP(A4348,'Romaneio da Carga'!E:E,1,0)=BD!A4348,\"Volume Ok\",\"Volume não pertence a carga\")),\"Volume não pertence a carga\")","v":""}]
[null,{"$f":"IFERROR(IF(A4349=\"\",\"\",IF(VLOOKUP(A4349,'Romaneio da Carga'!E:E,1,0)=BD!A4349,\"Volume Ok\",\"Volume não pertence a carga\")),\"Volume não pertence a carga\")","v":""}]
[null,{"$f":"IFERROR(IF(A4350=\"\",\"\",IF(VLOOKUP(A4350,'Romaneio da Carga'!E:E,1,0)=BD!A4350,\"Volume Ok\",\"Volume não pertence a carga\")),\"Volume não pertence a carga\")","v":""}]
[null,{"$f":"IFERROR(IF(A4351=\"\",\"\",IF(VLOOKUP(A4351,'Romaneio da Carga'!E:E,1,0)=BD!A4351,\"Volume Ok\",\"Volume não pertence a carga\")),\"Volume não pertence a carga\")","v":""}]
[null,{"$f":"IFERROR(IF(A4352=\"\",\"\",IF(VLOOKUP(A4352,'Romaneio da Carga'!E:E,1,0)=BD!A4352,\"Volume Ok\",\"Volume não pertence a carga\")),\"Volume não pertence a carga\")","v":""}]
[null,{"$f":"IFERROR(IF(A4353=\"\",\"\",IF(VLOOKUP(A4353,'Romaneio da Carga'!E:E,1,0)=BD!A4353,\"Volume Ok\",\"Volume não pertence a carga\")),\"Volume não pertence a carga\")","v":""}]
[null,{"$f":"IFERROR(IF(A4354=\"\",\"\",IF(VLOOKUP(A4354,'Romaneio da Carga'!E:E,1,0)=BD!A4354,\"Volume Ok\",\"Volume não pertence a carga\")),\"Volume não pertence a carga\")","v":""}]
[null,{"$f":"IFERROR(IF(A4355=\"\",\"\",IF(VLOOKUP(A4355,'Romaneio da Carga'!E:E,1,0)=BD!A4355,\"Volume Ok\",\"Volume não pertence a carga\")),\"Volume não pertence a carga\")","v":""}]
[null,{"$f":"IFERROR(IF(A4356=\"\",\"\",IF(VLOOKUP(A4356,'Romaneio da Carga'!E:E,1,0)=BD!A4356,\"Volume Ok\",\"Volume não pertence a carga\")),\"Volume não pertence a carga\")","v":""}]
[null,{"$f":"IFERROR(IF(A4357=\"\",\"\",IF(VLOOKUP(A4357,'Romaneio da Carga'!E:E,1,0)=BD!A4357,\"Volume Ok\",\"Volume não pertence a carga\")),\"Volume não pertence a carga\")","v":""}]
[null,{"$f":"IFERROR(IF(A4358=\"\",\"\",IF(VLOOKUP(A4358,'Romaneio da Carga'!E:E,1,0)=BD!A4358,\"Volume Ok\",\"Volume não pertence a carga\")),\"Volume não pertence a carga\")","v":""}]
[null,{"$f":"IFERROR(IF(A4359=\"\",\"\",IF(VLOOKUP(A4359,'Romaneio da Carga'!E:E,1,0)=BD!A4359,\"Volume Ok\",\"Volume não pertence a carga\")),\"Volume não pertence a carga\")","v":""}]
[null,{"$f":"IFERROR(IF(A4360=\"\",\"\",IF(VLOOKUP(A4360,'Romaneio da Carga'!E:E,1,0)=BD!A4360,\"Volume Ok\",\"Volume não pertence a carga\")),\"Volume não pertence a carga\")","v":""}]
[null,{"$f":"IFERROR(IF(A4361=\"\",\"\",IF(VLOOKUP(A4361,'Romaneio da Carga'!E:E,1,0)=BD!A4361,\"Volume Ok\",\"Volume não pertence a carga\")),\"Volume não pertence a carga\")","v":""}]
[null,{"$f":"IFERROR(IF(A4362=\"\",\"\",IF(VLOOKUP(A4362,'Romaneio da Carga'!E:E,1,0)=BD!A4362,\"Volume Ok\",\"Volume não pertence a carga\")),\"Volume não pertence a carga\")","v":""}]
[null,{"$f":"IFERROR(IF(A4363=\"\",\"\",IF(VLOOKUP(A4363,'Romaneio da Carga'!E:E,1,0)=BD!A4363,\"Volume Ok\",\"Volume não pertence a carga\")),\"Volume não pertence a carga\")","v":""}]
[null,{"$f":"IFERROR(IF(A4364=\"\",\"\",IF(VLOOKUP(A4364,'Romaneio da Carga'!E:E,1,0)=BD!A4364,\"Volume Ok\",\"Volume não pertence a carga\")),\"Volume não pertence a carga\")","v":""}]
[null,{"$f":"IFERROR(IF(A4365=\"\",\"\",IF(VLOOKUP(A4365,'Romaneio da Carga'!E:E,1,0)=BD!A4365,\"Volume Ok\",\"Volume não pertence a carga\")),\"Volume não pertence a carga\")","v":""}]
[null,{"$f":"IFERROR(IF(A4366=\"\",\"\",IF(VLOOKUP(A4366,'Romaneio da Carga'!E:E,1,0)=BD!A4366,\"Volume Ok\",\"Volume não pertence a carga\")),\"Volume não pertence a carga\")","v":""}]
[null,{"$f":"IFERROR(IF(A4367=\"\",\"\",IF(VLOOKUP(A4367,'Romaneio da Carga'!E:E,1,0)=BD!A4367,\"Volume Ok\",\"Volume não pertence a carga\")),\"Volume não pertence a carga\")","v":""}]
[null,{"$f":"IFERROR(IF(A4368=\"\",\"\",IF(VLOOKUP(A4368,'Romaneio da Carga'!E:E,1,0)=BD!A4368,\"Volume Ok\",\"Volume não pertence a carga\")),\"Volume não pertence a carga\")","v":""}]
[null,{"$f":"IFERROR(IF(A4369=\"\",\"\",IF(VLOOKUP(A4369,'Romaneio da Carga'!E:E,1,0)=BD!A4369,\"Volume Ok\",\"Volume não pertence a carga\")),\"Volume não pertence a carga\")","v":""}]
[null,{"$f":"IFERROR(IF(A4370=\"\",\"\",IF(VLOOKUP(A4370,'Romaneio da Carga'!E:E,1,0)=BD!A4370,\"Volume Ok\",\"Volume não pertence a carga\")),\"Volume não pertence a carga\")","v":""}]
[null,{"$f":"IFERROR(IF(A4371=\"\",\"\",IF(VLOOKUP(A4371,'Romaneio da Carga'!E:E,1,0)=BD!A4371,\"Volume Ok\",\"Volume não pertence a carga\")),\"Volume não pertence a carga\")","v":""}]
[null,{"$f":"IFERROR(IF(A4372=\"\",\"\",IF(VLOOKUP(A4372,'Romaneio da Carga'!E:E,1,0)=BD!A4372,\"Volume Ok\",\"Volume não pertence a carga\")),\"Volume não pertence a carga\")","v":""}]
[null,{"$f":"IFERROR(IF(A4373=\"\",\"\",IF(VLOOKUP(A4373,'Romaneio da Carga'!E:E,1,0)=BD!A4373,\"Volume Ok\",\"Volume não pertence a carga\")),\"Volume não pertence a carga\")","v":""}]
[null,{"$f":"IFERROR(IF(A4374=\"\",\"\",IF(VLOOKUP(A4374,'Romaneio da Carga'!E:E,1,0)=BD!A4374,\"Volume Ok\",\"Volume não pertence a carga\")),\"Volume não pertence a carga\")","v":""}]
[null,{"$f":"IFERROR(IF(A4375=\"\",\"\",IF(VLOOKUP(A4375,'Romaneio da Carga'!E:E,1,0)=BD!A4375,\"Volume Ok\",\"Volume não pertence a carga\")),\"Volume não pertence a carga\")","v":""}]
[null,{"$f":"IFERROR(IF(A4376=\"\",\"\",IF(VLOOKUP(A4376,'Romaneio da Carga'!E:E,1,0)=BD!A4376,\"Volume Ok\",\"Volume não pertence a carga\")),\"Volume não pertence a carga\")","v":""}]
[null,{"$f":"IFERROR(IF(A4377=\"\",\"\",IF(VLOOKUP(A4377,'Romaneio da Carga'!E:E,1,0)=BD!A4377,\"Volume Ok\",\"Volume não pertence a carga\")),\"Volume não pertence a carga\")","v":""}]
[null,{"$f":"IFERROR(IF(A4378=\"\",\"\",IF(VLOOKUP(A4378,'Romaneio da Carga'!E:E,1,0)=BD!A4378,\"Volume Ok\",\"Volume não pertence a carga\")),\"Volume não pertence a carga\")","v":""}]
[null,{"$f":"IFERROR(IF(A4379=\"\",\"\",IF(VLOOKUP(A4379,'Romaneio da Carga'!E:E,1,0)=BD!A4379,\"Volume Ok\",\"Volume não pertence a carga\")),\"Volume não pertence a carga\")","v":""}]
[null,{"$f":"IFERROR(IF(A4380=\"\",\"\",IF(VLOOKUP(A4380,'Romaneio da Carga'!E:E,1,0)=BD!A4380,\"Volume Ok\",\"Volume não pertence a carga\")),\"Volume não pertence a carga\")","v":""}]
[null,{"$f":"IFERROR(IF(A4381=\"\",\"\",IF(VLOOKUP(A4381,'Romaneio da Carga'!E:E,1,0)=BD!A4381,\"Volume Ok\",\"Volume não pertence a carga\")),\"Volume não pertence a carga\")","v":""}]
[null,{"$f":"IFERROR(IF(A4382=\"\",\"\",IF(VLOOKUP(A4382,'Romaneio da Carga'!E:E,1,0)=BD!A4382,\"Volume Ok\",\"Volume não pertence a carga\")),\"Volume não pertence a carga\")","v":""}]
[null,{"$f":"IFERROR(IF(A4383=\"\",\"\",IF(VLOOKUP(A4383,'Romaneio da Carga'!E:E,1,0)=BD!A4383,\"Volume Ok\",\"Volume não pertence a carga\")),\"Volume não pertence a carga\")","v":""}]
[null,{"$f":"IFERROR(IF(A4384=\"\",\"\",IF(VLOOKUP(A4384,'Romaneio da Carga'!E:E,1,0)=BD!A4384,\"Volume Ok\",\"Volume não pertence a carga\")),\"Volume não pertence a carga\")","v":""}]
[null,{"$f":"IFERROR(IF(A4385=\"\",\"\",IF(VLOOKUP(A4385,'Romaneio da Carga'!E:E,1,0)=BD!A4385,\"Volume Ok\",\"Volume não pertence a carga\")),\"Volume não pertence a carga\")","v":""}]
[null,{"$f":"IFERROR(IF(A4386=\"\",\"\",IF(VLOOKUP(A4386,'Romaneio da Carga'!E:E,1,0)=BD!A4386,\"Volume Ok\",\"Volume não pertence a carga\")),\"Volume não pertence a carga\")","v":""}]
[null,{"$f":"IFERROR(IF(A4387=\"\",\"\",IF(VLOOKUP(A4387,'Romaneio da Carga'!E:E,1,0)=BD!A4387,\"Volume Ok\",\"Volume não pertence a carga\")),\"Volume não pertence a carga\")","v":""}]
[null,{"$f":"IFERROR(IF(A4388=\"\",\"\",IF(VLOOKUP(A4388,'Romaneio da Carga'!E:E,1,0)=BD!A4388,\"Volume Ok\",\"Volume não pertence a carga\")),\"Volume não pertence a carga\")","v":""}]
[null,{"$f":"IFERROR(IF(A4389=\"\",\"\",IF(VLOOKUP(A4389,'Romaneio da Carga'!E:E,1,0)=BD!A4389,\"Volume Ok\",\"Volume não pertence a carga\")),\"Volume não pertence a carga\")","v":""}]
[null,{"$f":"IFERROR(IF(A4390=\"\",\"\",IF(VLOOKUP(A4390,'Romaneio da Carga'!E:E,1,0)=BD!A4390,\"Volume Ok\",\"Volume não pertence a carga\")),\"Volume não pertence a carga\")","v":""}]
[null,{"$f":"IFERROR(IF(A4391=\"\",\"\",IF(VLOOKUP(A4391,'Romaneio da Carga'!E:E,1,0)=BD!A4391,\"Volume Ok\",\"Volume não pertence a carga\")),\"Volume não pertence a carga\")","v":""}]
[null,{"$f":"IFERROR(IF(A4392=\"\",\"\",IF(VLOOKUP(A4392,'Romaneio da Carga'!E:E,1,0)=BD!A4392,\"Volume Ok\",\"Volume não pertence a carga\")),\"Volume não pertence a carga\")","v":""}]
[null,{"$f":"IFERROR(IF(A4393=\"\",\"\",IF(VLOOKUP(A4393,'Romaneio da Carga'!E:E,1,0)=BD!A4393,\"Volume Ok\",\"Volume não pertence a carga\")),\"Volume não pertence a carga\")","v":""}]
[null,{"$f":"IFERROR(IF(A4394=\"\",\"\",IF(VLOOKUP(A4394,'Romaneio da Carga'!E:E,1,0)=BD!A4394,\"Volume Ok\",\"Volume não pertence a carga\")),\"Volume não pertence a carga\")","v":""}]
[null,{"$f":"IFERROR(IF(A4395=\"\",\"\",IF(VLOOKUP(A4395,'Romaneio da Carga'!E:E,1,0)=BD!A4395,\"Volume Ok\",\"Volume não pertence a carga\")),\"Volume não pertence a carga\")","v":""}]
[null,{"$f":"IFERROR(IF(A4396=\"\",\"\",IF(VLOOKUP(A4396,'Romaneio da Carga'!E:E,1,0)=BD!A4396,\"Volume Ok\",\"Volume não pertence a carga\")),\"Volume não pertence a carga\")","v":""}]
[null,{"$f":"IFERROR(IF(A4397=\"\",\"\",IF(VLOOKUP(A4397,'Romaneio da Carga'!E:E,1,0)=BD!A4397,\"Volume Ok\",\"Volume não pertence a carga\")),\"Volume não pertence a carga\")","v":""}]
[null,{"$f":"IFERROR(IF(A4398=\"\",\"\",IF(VLOOKUP(A4398,'Romaneio da Carga'!E:E,1,0)=BD!A4398,\"Volume Ok\",\"Volume não pertence a carga\")),\"Volume não pertence a carga\")","v":""}]
[null,{"$f":"IFERROR(IF(A4399=\"\",\"\",IF(VLOOKUP(A4399,'Romaneio da Carga'!E:E,1,0)=BD!A4399,\"Volume Ok\",\"Volume não pertence a carga\")),\"Volume não pertence a carga\")","v":""}]
[null,{"$f":"IFERROR(IF(A4400=\"\",\"\",IF(VLOOKUP(A4400,'Romaneio da Carga'!E:E,1,0)=BD!A4400,\"Volume Ok\",\"Volume não pertence a carga\")),\"Volume não pertence a carga\")","v":""}]
[null,{"$f":"IFERROR(IF(A4401=\"\",\"\",IF(VLOOKUP(A4401,'Romaneio da Carga'!E:E,1,0)=BD!A4401,\"Volume Ok\",\"Volume não pertence a carga\")),\"Volume não pertence a carga\")","v":""}]
[null,{"$f":"IFERROR(IF(A4402=\"\",\"\",IF(VLOOKUP(A4402,'Romaneio da Carga'!E:E,1,0)=BD!A4402,\"Volume Ok\",\"Volume não pertence a carga\")),\"Volume não pertence a carga\")","v":""}]
[null,{"$f":"IFERROR(IF(A4403=\"\",\"\",IF(VLOOKUP(A4403,'Romaneio da Carga'!E:E,1,0)=BD!A4403,\"Volume Ok\",\"Volume não pertence a carga\")),\"Volume não pertence a carga\")","v":""}]
[null,{"$f":"IFERROR(IF(A4404=\"\",\"\",IF(VLOOKUP(A4404,'Romaneio da Carga'!E:E,1,0)=BD!A4404,\"Volume Ok\",\"Volume não pertence a carga\")),\"Volume não pertence a carga\")","v":""}]
[null,{"$f":"IFERROR(IF(A4405=\"\",\"\",IF(VLOOKUP(A4405,'Romaneio da Carga'!E:E,1,0)=BD!A4405,\"Volume Ok\",\"Volume não pertence a carga\")),\"Volume não pertence a carga\")","v":""}]
[null,{"$f":"IFERROR(IF(A4406=\"\",\"\",IF(VLOOKUP(A4406,'Romaneio da Carga'!E:E,1,0)=BD!A4406,\"Volume Ok\",\"Volume não pertence a carga\")),\"Volume não pertence a carga\")","v":""}]
[null,{"$f":"IFERROR(IF(A4407=\"\",\"\",IF(VLOOKUP(A4407,'Romaneio da Carga'!E:E,1,0)=BD!A4407,\"Volume Ok\",\"Volume não pertence a carga\")),\"Volume não pertence a carga\")","v":""}]
[null,{"$f":"IFERROR(IF(A4408=\"\",\"\",IF(VLOOKUP(A4408,'Romaneio da Carga'!E:E,1,0)=BD!A4408,\"Volume Ok\",\"Volume não pertence a carga\")),\"Volume não pertence a carga\")","v":""}]
[null,{"$f":"IFERROR(IF(A4409=\"\",\"\",IF(VLOOKUP(A4409,'Romaneio da Carga'!E:E,1,0)=BD!A4409,\"Volume Ok\",\"Volume não pertence a carga\")),\"Volume não pertence a carga\")","v":""}]
[null,{"$f":"IFERROR(IF(A4410=\"\",\"\",IF(VLOOKUP(A4410,'Romaneio da Carga'!E:E,1,0)=BD!A4410,\"Volume Ok\",\"Volume não pertence a carga\")),\"Volume não pertence a carga\")","v":""}]
[null,{"$f":"IFERROR(IF(A4411=\"\",\"\",IF(VLOOKUP(A4411,'Romaneio da Carga'!E:E,1,0)=BD!A4411,\"Volume Ok\",\"Volume não pertence a carga\")),\"Volume não pertence a carga\")","v":""}]
[null,{"$f":"IFERROR(IF(A4412=\"\",\"\",IF(VLOOKUP(A4412,'Romaneio da Carga'!E:E,1,0)=BD!A4412,\"Volume Ok\",\"Volume não pertence a carga\")),\"Volume não pertence a carga\")","v":""}]
[null,{"$f":"IFERROR(IF(A4413=\"\",\"\",IF(VLOOKUP(A4413,'Romaneio da Carga'!E:E,1,0)=BD!A4413,\"Volume Ok\",\"Volume não pertence a carga\")),\"Volume não pertence a carga\")","v":""}]
[null,{"$f":"IFERROR(IF(A4414=\"\",\"\",IF(VLOOKUP(A4414,'Romaneio da Carga'!E:E,1,0)=BD!A4414,\"Volume Ok\",\"Volume não pertence a carga\")),\"Volume não pertence a carga\")","v":""}]
[null,{"$f":"IFERROR(IF(A4415=\"\",\"\",IF(VLOOKUP(A4415,'Romaneio da Carga'!E:E,1,0)=BD!A4415,\"Volume Ok\",\"Volume não pertence a carga\")),\"Volume não pertence a carga\")","v":""}]
[null,{"$f":"IFERROR(IF(A4416=\"\",\"\",IF(VLOOKUP(A4416,'Romaneio da Carga'!E:E,1,0)=BD!A4416,\"Volume Ok\",\"Volume não pertence a carga\")),\"Volume não pertence a carga\")","v":""}]
[null,{"$f":"IFERROR(IF(A4417=\"\",\"\",IF(VLOOKUP(A4417,'Romaneio da Carga'!E:E,1,0)=BD!A4417,\"Volume Ok\",\"Volume não pertence a carga\")),\"Volume não pertence a carga\")","v":""}]
[null,{"$f":"IFERROR(IF(A4418=\"\",\"\",IF(VLOOKUP(A4418,'Romaneio da Carga'!E:E,1,0)=BD!A4418,\"Volume Ok\",\"Volume não pertence a carga\")),\"Volume não pertence a carga\")","v":""}]
[null,{"$f":"IFERROR(IF(A4419=\"\",\"\",IF(VLOOKUP(A4419,'Romaneio da Carga'!E:E,1,0)=BD!A4419,\"Volume Ok\",\"Volume não pertence a carga\")),\"Volume não pertence a carga\")","v":""}]
[null,{"$f":"IFERROR(IF(A4420=\"\",\"\",IF(VLOOKUP(A4420,'Romaneio da Carga'!E:E,1,0)=BD!A4420,\"Volume Ok\",\"Volume não pertence a carga\")),\"Volume não pertence a carga\")","v":""}]
[null,{"$f":"IFERROR(IF(A4421=\"\",\"\",IF(VLOOKUP(A4421,'Romaneio da Carga'!E:E,1,0)=BD!A4421,\"Volume Ok\",\"Volume não pertence a carga\")),\"Volume não pertence a carga\")","v":""}]
[null,{"$f":"IFERROR(IF(A4422=\"\",\"\",IF(VLOOKUP(A4422,'Romaneio da Carga'!E:E,1,0)=BD!A4422,\"Volume Ok\",\"Volume não pertence a carga\")),\"Volume não pertence a carga\")","v":""}]
[null,{"$f":"IFERROR(IF(A4423=\"\",\"\",IF(VLOOKUP(A4423,'Romaneio da Carga'!E:E,1,0)=BD!A4423,\"Volume Ok\",\"Volume não pertence a carga\")),\"Volume não pertence a carga\")","v":""}]
[null,{"$f":"IFERROR(IF(A4424=\"\",\"\",IF(VLOOKUP(A4424,'Romaneio da Carga'!E:E,1,0)=BD!A4424,\"Volume Ok\",\"Volume não pertence a carga\")),\"Volume não pertence a carga\")","v":""}]
[null,{"$f":"IFERROR(IF(A4425=\"\",\"\",IF(VLOOKUP(A4425,'Romaneio da Carga'!E:E,1,0)=BD!A4425,\"Volume Ok\",\"Volume não pertence a carga\")),\"Volume não pertence a carga\")","v":""}]
[null,{"$f":"IFERROR(IF(A4426=\"\",\"\",IF(VLOOKUP(A4426,'Romaneio da Carga'!E:E,1,0)=BD!A4426,\"Volume Ok\",\"Volume não pertence a carga\")),\"Volume não pertence a carga\")","v":""}]
[null,{"$f":"IFERROR(IF(A4427=\"\",\"\",IF(VLOOKUP(A4427,'Romaneio da Carga'!E:E,1,0)=BD!A4427,\"Volume Ok\",\"Volume não pertence a carga\")),\"Volume não pertence a carga\")","v":""}]
[null,{"$f":"IFERROR(IF(A4428=\"\",\"\",IF(VLOOKUP(A4428,'Romaneio da Carga'!E:E,1,0)=BD!A4428,\"Volume Ok\",\"Volume não pertence a carga\")),\"Volume não pertence a carga\")","v":""}]
[null,{"$f":"IFERROR(IF(A4429=\"\",\"\",IF(VLOOKUP(A4429,'Romaneio da Carga'!E:E,1,0)=BD!A4429,\"Volume Ok\",\"Volume não pertence a carga\")),\"Volume não pertence a carga\")","v":""}]
[null,{"$f":"IFERROR(IF(A4430=\"\",\"\",IF(VLOOKUP(A4430,'Romaneio da Carga'!E:E,1,0)=BD!A4430,\"Volume Ok\",\"Volume não pertence a carga\")),\"Volume não pertence a carga\")","v":""}]
[null,{"$f":"IFERROR(IF(A4431=\"\",\"\",IF(VLOOKUP(A4431,'Romaneio da Carga'!E:E,1,0)=BD!A4431,\"Volume Ok\",\"Volume não pertence a carga\")),\"Volume não pertence a carga\")","v":""}]
[null,{"$f":"IFERROR(IF(A4432=\"\",\"\",IF(VLOOKUP(A4432,'Romaneio da Carga'!E:E,1,0)=BD!A4432,\"Volume Ok\",\"Volume não pertence a carga\")),\"Volume não pertence a carga\")","v":""}]
[null,{"$f":"IFERROR(IF(A4433=\"\",\"\",IF(VLOOKUP(A4433,'Romaneio da Carga'!E:E,1,0)=BD!A4433,\"Volume Ok\",\"Volume não pertence a carga\")),\"Volume não pertence a carga\")","v":""}]
[null,{"$f":"IFERROR(IF(A4434=\"\",\"\",IF(VLOOKUP(A4434,'Romaneio da Carga'!E:E,1,0)=BD!A4434,\"Volume Ok\",\"Volume não pertence a carga\")),\"Volume não pertence a carga\")","v":""}]
[null,{"$f":"IFERROR(IF(A4435=\"\",\"\",IF(VLOOKUP(A4435,'Romaneio da Carga'!E:E,1,0)=BD!A4435,\"Volume Ok\",\"Volume não pertence a carga\")),\"Volume não pertence a carga\")","v":""}]
[null,{"$f":"IFERROR(IF(A4436=\"\",\"\",IF(VLOOKUP(A4436,'Romaneio da Carga'!E:E,1,0)=BD!A4436,\"Volume Ok\",\"Volume não pertence a carga\")),\"Volume não pertence a carga\")","v":""}]
[null,{"$f":"IFERROR(IF(A4437=\"\",\"\",IF(VLOOKUP(A4437,'Romaneio da Carga'!E:E,1,0)=BD!A4437,\"Volume Ok\",\"Volume não pertence a carga\")),\"Volume não pertence a carga\")","v":""}]
[null,{"$f":"IFERROR(IF(A4438=\"\",\"\",IF(VLOOKUP(A4438,'Romaneio da Carga'!E:E,1,0)=BD!A4438,\"Volume Ok\",\"Volume não pertence a carga\")),\"Volume não pertence a carga\")","v":""}]
[null,{"$f":"IFERROR(IF(A4439=\"\",\"\",IF(VLOOKUP(A4439,'Romaneio da Carga'!E:E,1,0)=BD!A4439,\"Volume Ok\",\"Volume não pertence a carga\")),\"Volume não pertence a carga\")","v":""}]
[null,{"$f":"IFERROR(IF(A4440=\"\",\"\",IF(VLOOKUP(A4440,'Romaneio da Carga'!E:E,1,0)=BD!A4440,\"Volume Ok\",\"Volume não pertence a carga\")),\"Volume não pertence a carga\")","v":""}]
[null,{"$f":"IFERROR(IF(A4441=\"\",\"\",IF(VLOOKUP(A4441,'Romaneio da Carga'!E:E,1,0)=BD!A4441,\"Volume Ok\",\"Volume não pertence a carga\")),\"Volume não pertence a carga\")","v":""}]
[null,{"$f":"IFERROR(IF(A4442=\"\",\"\",IF(VLOOKUP(A4442,'Romaneio da Carga'!E:E,1,0)=BD!A4442,\"Volume Ok\",\"Volume não pertence a carga\")),\"Volume não pertence a carga\")","v":""}]
[null,{"$f":"IFERROR(IF(A4443=\"\",\"\",IF(VLOOKUP(A4443,'Romaneio da Carga'!E:E,1,0)=BD!A4443,\"Volume Ok\",\"Volume não pertence a carga\")),\"Volume não pertence a carga\")","v":""}]
[null,{"$f":"IFERROR(IF(A4444=\"\",\"\",IF(VLOOKUP(A4444,'Romaneio da Carga'!E:E,1,0)=BD!A4444,\"Volume Ok\",\"Volume não pertence a carga\")),\"Volume não pertence a carga\")","v":""}]
[null,{"$f":"IFERROR(IF(A4445=\"\",\"\",IF(VLOOKUP(A4445,'Romaneio da Carga'!E:E,1,0)=BD!A4445,\"Volume Ok\",\"Volume não pertence a carga\")),\"Volume não pertence a carga\")","v":""}]
[null,{"$f":"IFERROR(IF(A4446=\"\",\"\",IF(VLOOKUP(A4446,'Romaneio da Carga'!E:E,1,0)=BD!A4446,\"Volume Ok\",\"Volume não pertence a carga\")),\"Volume não pertence a carga\")","v":""}]
[null,{"$f":"IFERROR(IF(A4447=\"\",\"\",IF(VLOOKUP(A4447,'Romaneio da Carga'!E:E,1,0)=BD!A4447,\"Volume Ok\",\"Volume não pertence a carga\")),\"Volume não pertence a carga\")","v":""}]
[null,{"$f":"IFERROR(IF(A4448=\"\",\"\",IF(VLOOKUP(A4448,'Romaneio da Carga'!E:E,1,0)=BD!A4448,\"Volume Ok\",\"Volume não pertence a carga\")),\"Volume não pertence a carga\")","v":""}]
[null,{"$f":"IFERROR(IF(A4449=\"\",\"\",IF(VLOOKUP(A4449,'Romaneio da Carga'!E:E,1,0)=BD!A4449,\"Volume Ok\",\"Volume não pertence a carga\")),\"Volume não pertence a carga\")","v":""}]
[null,{"$f":"IFERROR(IF(A4450=\"\",\"\",IF(VLOOKUP(A4450,'Romaneio da Carga'!E:E,1,0)=BD!A4450,\"Volume Ok\",\"Volume não pertence a carga\")),\"Volume não pertence a carga\")","v":""}]
[null,{"$f":"IFERROR(IF(A4451=\"\",\"\",IF(VLOOKUP(A4451,'Romaneio da Carga'!E:E,1,0)=BD!A4451,\"Volume Ok\",\"Volume não pertence a carga\")),\"Volume não pertence a carga\")","v":""}]
[null,{"$f":"IFERROR(IF(A4452=\"\",\"\",IF(VLOOKUP(A4452,'Romaneio da Carga'!E:E,1,0)=BD!A4452,\"Volume Ok\",\"Volume não pertence a carga\")),\"Volume não pertence a carga\")","v":""}]
[null,{"$f":"IFERROR(IF(A4453=\"\",\"\",IF(VLOOKUP(A4453,'Romaneio da Carga'!E:E,1,0)=BD!A4453,\"Volume Ok\",\"Volume não pertence a carga\")),\"Volume não pertence a carga\")","v":""}]
[null,{"$f":"IFERROR(IF(A4454=\"\",\"\",IF(VLOOKUP(A4454,'Romaneio da Carga'!E:E,1,0)=BD!A4454,\"Volume Ok\",\"Volume não pertence a carga\")),\"Volume não pertence a carga\")","v":""}]
[null,{"$f":"IFERROR(IF(A4455=\"\",\"\",IF(VLOOKUP(A4455,'Romaneio da Carga'!E:E,1,0)=BD!A4455,\"Volume Ok\",\"Volume não pertence a carga\")),\"Volume não pertence a carga\")","v":""}]
[null,{"$f":"IFERROR(IF(A4456=\"\",\"\",IF(VLOOKUP(A4456,'Romaneio da Carga'!E:E,1,0)=BD!A4456,\"Volume Ok\",\"Volume não pertence a carga\")),\"Volume não pertence a carga\")","v":""}]
[null,{"$f":"IFERROR(IF(A4457=\"\",\"\",IF(VLOOKUP(A4457,'Romaneio da Carga'!E:E,1,0)=BD!A4457,\"Volume Ok\",\"Volume não pertence a carga\")),\"Volume não pertence a carga\")","v":""}]
[null,{"$f":"IFERROR(IF(A4458=\"\",\"\",IF(VLOOKUP(A4458,'Romaneio da Carga'!E:E,1,0)=BD!A4458,\"Volume Ok\",\"Volume não pertence a carga\")),\"Volume não pertence a carga\")","v":""}]
[null,{"$f":"IFERROR(IF(A4459=\"\",\"\",IF(VLOOKUP(A4459,'Romaneio da Carga'!E:E,1,0)=BD!A4459,\"Volume Ok\",\"Volume não pertence a carga\")),\"Volume não pertence a carga\")","v":""}]
[null,{"$f":"IFERROR(IF(A4460=\"\",\"\",IF(VLOOKUP(A4460,'Romaneio da Carga'!E:E,1,0)=BD!A4460,\"Volume Ok\",\"Volume não pertence a carga\")),\"Volume não pertence a carga\")","v":""}]
[null,{"$f":"IFERROR(IF(A4461=\"\",\"\",IF(VLOOKUP(A4461,'Romaneio da Carga'!E:E,1,0)=BD!A4461,\"Volume Ok\",\"Volume não pertence a carga\")),\"Volume não pertence a carga\")","v":""}]
[null,{"$f":"IFERROR(IF(A4462=\"\",\"\",IF(VLOOKUP(A4462,'Romaneio da Carga'!E:E,1,0)=BD!A4462,\"Volume Ok\",\"Volume não pertence a carga\")),\"Volume não pertence a carga\")","v":""}]
[null,{"$f":"IFERROR(IF(A4463=\"\",\"\",IF(VLOOKUP(A4463,'Romaneio da Carga'!E:E,1,0)=BD!A4463,\"Volume Ok\",\"Volume não pertence a carga\")),\"Volume não pertence a carga\")","v":""}]
[null,{"$f":"IFERROR(IF(A4464=\"\",\"\",IF(VLOOKUP(A4464,'Romaneio da Carga'!E:E,1,0)=BD!A4464,\"Volume Ok\",\"Volume não pertence a carga\")),\"Volume não pertence a carga\")","v":""}]
[null,{"$f":"IFERROR(IF(A4465=\"\",\"\",IF(VLOOKUP(A4465,'Romaneio da Carga'!E:E,1,0)=BD!A4465,\"Volume Ok\",\"Volume não pertence a carga\")),\"Volume não pertence a carga\")","v":""}]
[null,{"$f":"IFERROR(IF(A4466=\"\",\"\",IF(VLOOKUP(A4466,'Romaneio da Carga'!E:E,1,0)=BD!A4466,\"Volume Ok\",\"Volume não pertence a carga\")),\"Volume não pertence a carga\")","v":""}]
[null,{"$f":"IFERROR(IF(A4467=\"\",\"\",IF(VLOOKUP(A4467,'Romaneio da Carga'!E:E,1,0)=BD!A4467,\"Volume Ok\",\"Volume não pertence a carga\")),\"Volume não pertence a carga\")","v":""}]
[null,{"$f":"IFERROR(IF(A4468=\"\",\"\",IF(VLOOKUP(A4468,'Romaneio da Carga'!E:E,1,0)=BD!A4468,\"Volume Ok\",\"Volume não pertence a carga\")),\"Volume não pertence a carga\")","v":""}]
[null,{"$f":"IFERROR(IF(A4469=\"\",\"\",IF(VLOOKUP(A4469,'Romaneio da Carga'!E:E,1,0)=BD!A4469,\"Volume Ok\",\"Volume não pertence a carga\")),\"Volume não pertence a carga\")","v":""}]
[null,{"$f":"IFERROR(IF(A4470=\"\",\"\",IF(VLOOKUP(A4470,'Romaneio da Carga'!E:E,1,0)=BD!A4470,\"Volume Ok\",\"Volume não pertence a carga\")),\"Volume não pertence a carga\")","v":""}]
[null,{"$f":"IFERROR(IF(A4471=\"\",\"\",IF(VLOOKUP(A4471,'Romaneio da Carga'!E:E,1,0)=BD!A4471,\"Volume Ok\",\"Volume não pertence a carga\")),\"Volume não pertence a carga\")","v":""}]
[null,{"$f":"IFERROR(IF(A4472=\"\",\"\",IF(VLOOKUP(A4472,'Romaneio da Carga'!E:E,1,0)=BD!A4472,\"Volume Ok\",\"Volume não pertence a carga\")),\"Volume não pertence a carga\")","v":""}]
[null,{"$f":"IFERROR(IF(A4473=\"\",\"\",IF(VLOOKUP(A4473,'Romaneio da Carga'!E:E,1,0)=BD!A4473,\"Volume Ok\",\"Volume não pertence a carga\")),\"Volume não pertence a carga\")","v":""}]
[null,{"$f":"IFERROR(IF(A4474=\"\",\"\",IF(VLOOKUP(A4474,'Romaneio da Carga'!E:E,1,0)=BD!A4474,\"Volume Ok\",\"Volume não pertence a carga\")),\"Volume não pertence a carga\")","v":""}]
[null,{"$f":"IFERROR(IF(A4475=\"\",\"\",IF(VLOOKUP(A4475,'Romaneio da Carga'!E:E,1,0)=BD!A4475,\"Volume Ok\",\"Volume não pertence a carga\")),\"Volume não pertence a carga\")","v":""}]
[null,{"$f":"IFERROR(IF(A4476=\"\",\"\",IF(VLOOKUP(A4476,'Romaneio da Carga'!E:E,1,0)=BD!A4476,\"Volume Ok\",\"Volume não pertence a carga\")),\"Volume não pertence a carga\")","v":""}]
[null,{"$f":"IFERROR(IF(A4477=\"\",\"\",IF(VLOOKUP(A4477,'Romaneio da Carga'!E:E,1,0)=BD!A4477,\"Volume Ok\",\"Volume não pertence a carga\")),\"Volume não pertence a carga\")","v":""}]
[null,{"$f":"IFERROR(IF(A4478=\"\",\"\",IF(VLOOKUP(A4478,'Romaneio da Carga'!E:E,1,0)=BD!A4478,\"Volume Ok\",\"Volume não pertence a carga\")),\"Volume não pertence a carga\")","v":""}]
[null,{"$f":"IFERROR(IF(A4479=\"\",\"\",IF(VLOOKUP(A4479,'Romaneio da Carga'!E:E,1,0)=BD!A4479,\"Volume Ok\",\"Volume não pertence a carga\")),\"Volume não pertence a carga\")","v":""}]
[null,{"$f":"IFERROR(IF(A4480=\"\",\"\",IF(VLOOKUP(A4480,'Romaneio da Carga'!E:E,1,0)=BD!A4480,\"Volume Ok\",\"Volume não pertence a carga\")),\"Volume não pertence a carga\")","v":""}]
[null,{"$f":"IFERROR(IF(A4481=\"\",\"\",IF(VLOOKUP(A4481,'Romaneio da Carga'!E:E,1,0)=BD!A4481,\"Volume Ok\",\"Volume não pertence a carga\")),\"Volume não pertence a carga\")","v":""}]
[null,{"$f":"IFERROR(IF(A4482=\"\",\"\",IF(VLOOKUP(A4482,'Romaneio da Carga'!E:E,1,0)=BD!A4482,\"Volume Ok\",\"Volume não pertence a carga\")),\"Volume não pertence a carga\")","v":""}]
[null,{"$f":"IFERROR(IF(A4483=\"\",\"\",IF(VLOOKUP(A4483,'Romaneio da Carga'!E:E,1,0)=BD!A4483,\"Volume Ok\",\"Volume não pertence a carga\")),\"Volume não pertence a carga\")","v":""}]
[null,{"$f":"IFERROR(IF(A4484=\"\",\"\",IF(VLOOKUP(A4484,'Romaneio da Carga'!E:E,1,0)=BD!A4484,\"Volume Ok\",\"Volume não pertence a carga\")),\"Volume não pertence a carga\")","v":""}]
[null,{"$f":"IFERROR(IF(A4485=\"\",\"\",IF(VLOOKUP(A4485,'Romaneio da Carga'!E:E,1,0)=BD!A4485,\"Volume Ok\",\"Volume não pertence a carga\")),\"Volume não pertence a carga\")","v":""}]
[null,{"$f":"IFERROR(IF(A4486=\"\",\"\",IF(VLOOKUP(A4486,'Romaneio da Carga'!E:E,1,0)=BD!A4486,\"Volume Ok\",\"Volume não pertence a carga\")),\"Volume não pertence a carga\")","v":""}]
[null,{"$f":"IFERROR(IF(A4487=\"\",\"\",IF(VLOOKUP(A4487,'Romaneio da Carga'!E:E,1,0)=BD!A4487,\"Volume Ok\",\"Volume não pertence a carga\")),\"Volume não pertence a carga\")","v":""}]
[null,{"$f":"IFERROR(IF(A4488=\"\",\"\",IF(VLOOKUP(A4488,'Romaneio da Carga'!E:E,1,0)=BD!A4488,\"Volume Ok\",\"Volume não pertence a carga\")),\"Volume não pertence a carga\")","v":""}]
[null,{"$f":"IFERROR(IF(A4489=\"\",\"\",IF(VLOOKUP(A4489,'Romaneio da Carga'!E:E,1,0)=BD!A4489,\"Volume Ok\",\"Volume não pertence a carga\")),\"Volume não pertence a carga\")","v":""}]
[null,{"$f":"IFERROR(IF(A4490=\"\",\"\",IF(VLOOKUP(A4490,'Romaneio da Carga'!E:E,1,0)=BD!A4490,\"Volume Ok\",\"Volume não pertence a carga\")),\"Volume não pertence a carga\")","v":""}]
[null,{"$f":"IFERROR(IF(A4491=\"\",\"\",IF(VLOOKUP(A4491,'Romaneio da Carga'!E:E,1,0)=BD!A4491,\"Volume Ok\",\"Volume não pertence a carga\")),\"Volume não pertence a carga\")","v":""}]
[null,{"$f":"IFERROR(IF(A4492=\"\",\"\",IF(VLOOKUP(A4492,'Romaneio da Carga'!E:E,1,0)=BD!A4492,\"Volume Ok\",\"Volume não pertence a carga\")),\"Volume não pertence a carga\")","v":""}]
[null,{"$f":"IFERROR(IF(A4493=\"\",\"\",IF(VLOOKUP(A4493,'Romaneio da Carga'!E:E,1,0)=BD!A4493,\"Volume Ok\",\"Volume não pertence a carga\")),\"Volume não pertence a carga\")","v":""}]
[null,{"$f":"IFERROR(IF(A4494=\"\",\"\",IF(VLOOKUP(A4494,'Romaneio da Carga'!E:E,1,0)=BD!A4494,\"Volume Ok\",\"Volume não pertence a carga\")),\"Volume não pertence a carga\")","v":""}]
[null,{"$f":"IFERROR(IF(A4495=\"\",\"\",IF(VLOOKUP(A4495,'Romaneio da Carga'!E:E,1,0)=BD!A4495,\"Volume Ok\",\"Volume não pertence a carga\")),\"Volume não pertence a carga\")","v":""}]
[null,{"$f":"IFERROR(IF(A4496=\"\",\"\",IF(VLOOKUP(A4496,'Romaneio da Carga'!E:E,1,0)=BD!A4496,\"Volume Ok\",\"Volume não pertence a carga\")),\"Volume não pertence a carga\")","v":""}]
[null,{"$f":"IFERROR(IF(A4497=\"\",\"\",IF(VLOOKUP(A4497,'Romaneio da Carga'!E:E,1,0)=BD!A4497,\"Volume Ok\",\"Volume não pertence a carga\")),\"Volume não pertence a carga\")","v":""}]
[null,{"$f":"IFERROR(IF(A4498=\"\",\"\",IF(VLOOKUP(A4498,'Romaneio da Carga'!E:E,1,0)=BD!A4498,\"Volume Ok\",\"Volume não pertence a carga\")),\"Volume não pertence a carga\")","v":""}]
[null,{"$f":"IFERROR(IF(A4499=\"\",\"\",IF(VLOOKUP(A4499,'Romaneio da Carga'!E:E,1,0)=BD!A4499,\"Volume Ok\",\"Volume não pertence a carga\")),\"Volume não pertence a carga\")","v":""}]
[null,{"$f":"IFERROR(IF(A4500=\"\",\"\",IF(VLOOKUP(A4500,'Romaneio da Carga'!E:E,1,0)=BD!A4500,\"Volume Ok\",\"Volume não pertence a carga\")),\"Volume não pertence a carga\")","v":""}]
[null,{"$f":"IFERROR(IF(A4501=\"\",\"\",IF(VLOOKUP(A4501,'Romaneio da Carga'!E:E,1,0)=BD!A4501,\"Volume Ok\",\"Volume não pertence a carga\")),\"Volume não pertence a carga\")","v":""}]
[null,{"$f":"IFERROR(IF(A4502=\"\",\"\",IF(VLOOKUP(A4502,'Romaneio da Carga'!E:E,1,0)=BD!A4502,\"Volume Ok\",\"Volume não pertence a carga\")),\"Volume não pertence a carga\")","v":""}]
[null,{"$f":"IFERROR(IF(A4503=\"\",\"\",IF(VLOOKUP(A4503,'Romaneio da Carga'!E:E,1,0)=BD!A4503,\"Volume Ok\",\"Volume não pertence a carga\")),\"Volume não pertence a carga\")","v":""}]
[null,{"$f":"IFERROR(IF(A4504=\"\",\"\",IF(VLOOKUP(A4504,'Romaneio da Carga'!E:E,1,0)=BD!A4504,\"Volume Ok\",\"Volume não pertence a carga\")),\"Volume não pertence a carga\")","v":""}]
[null,{"$f":"IFERROR(IF(A4505=\"\",\"\",IF(VLOOKUP(A4505,'Romaneio da Carga'!E:E,1,0)=BD!A4505,\"Volume Ok\",\"Volume não pertence a carga\")),\"Volume não pertence a carga\")","v":""}]
[null,{"$f":"IFERROR(IF(A4506=\"\",\"\",IF(VLOOKUP(A4506,'Romaneio da Carga'!E:E,1,0)=BD!A4506,\"Volume Ok\",\"Volume não pertence a carga\")),\"Volume não pertence a carga\")","v":""}]
[null,{"$f":"IFERROR(IF(A4507=\"\",\"\",IF(VLOOKUP(A4507,'Romaneio da Carga'!E:E,1,0)=BD!A4507,\"Volume Ok\",\"Volume não pertence a carga\")),\"Volume não pertence a carga\")","v":""}]
[null,{"$f":"IFERROR(IF(A4508=\"\",\"\",IF(VLOOKUP(A4508,'Romaneio da Carga'!E:E,1,0)=BD!A4508,\"Volume Ok\",\"Volume não pertence a carga\")),\"Volume não pertence a carga\")","v":""}]
[null,{"$f":"IFERROR(IF(A4509=\"\",\"\",IF(VLOOKUP(A4509,'Romaneio da Carga'!E:E,1,0)=BD!A4509,\"Volume Ok\",\"Volume não pertence a carga\")),\"Volume não pertence a carga\")","v":""}]
[null,{"$f":"IFERROR(IF(A4510=\"\",\"\",IF(VLOOKUP(A4510,'Romaneio da Carga'!E:E,1,0)=BD!A4510,\"Volume Ok\",\"Volume não pertence a carga\")),\"Volume não pertence a carga\")","v":""}]
[null,{"$f":"IFERROR(IF(A4511=\"\",\"\",IF(VLOOKUP(A4511,'Romaneio da Carga'!E:E,1,0)=BD!A4511,\"Volume Ok\",\"Volume não pertence a carga\")),\"Volume não pertence a carga\")","v":""}]
[null,{"$f":"IFERROR(IF(A4512=\"\",\"\",IF(VLOOKUP(A4512,'Romaneio da Carga'!E:E,1,0)=BD!A4512,\"Volume Ok\",\"Volume não pertence a carga\")),\"Volume não pertence a carga\")","v":""}]
[null,{"$f":"IFERROR(IF(A4513=\"\",\"\",IF(VLOOKUP(A4513,'Romaneio da Carga'!E:E,1,0)=BD!A4513,\"Volume Ok\",\"Volume não pertence a carga\")),\"Volume não pertence a carga\")","v":""}]
[null,{"$f":"IFERROR(IF(A4514=\"\",\"\",IF(VLOOKUP(A4514,'Romaneio da Carga'!E:E,1,0)=BD!A4514,\"Volume Ok\",\"Volume não pertence a carga\")),\"Volume não pertence a carga\")","v":""}]
[null,{"$f":"IFERROR(IF(A4515=\"\",\"\",IF(VLOOKUP(A4515,'Romaneio da Carga'!E:E,1,0)=BD!A4515,\"Volume Ok\",\"Volume não pertence a carga\")),\"Volume não pertence a carga\")","v":""}]
[null,{"$f":"IFERROR(IF(A4516=\"\",\"\",IF(VLOOKUP(A4516,'Romaneio da Carga'!E:E,1,0)=BD!A4516,\"Volume Ok\",\"Volume não pertence a carga\")),\"Volume não pertence a carga\")","v":""}]
[null,{"$f":"IFERROR(IF(A4517=\"\",\"\",IF(VLOOKUP(A4517,'Romaneio da Carga'!E:E,1,0)=BD!A4517,\"Volume Ok\",\"Volume não pertence a carga\")),\"Volume não pertence a carga\")","v":""}]
[null,{"$f":"IFERROR(IF(A4518=\"\",\"\",IF(VLOOKUP(A4518,'Romaneio da Carga'!E:E,1,0)=BD!A4518,\"Volume Ok\",\"Volume não pertence a carga\")),\"Volume não pertence a carga\")","v":""}]
[null,{"$f":"IFERROR(IF(A4519=\"\",\"\",IF(VLOOKUP(A4519,'Romaneio da Carga'!E:E,1,0)=BD!A4519,\"Volume Ok\",\"Volume não pertence a carga\")),\"Volume não pertence a carga\")","v":""}]
[null,{"$f":"IFERROR(IF(A4520=\"\",\"\",IF(VLOOKUP(A4520,'Romaneio da Carga'!E:E,1,0)=BD!A4520,\"Volume Ok\",\"Volume não pertence a carga\")),\"Volume não pertence a carga\")","v":""}]
[null,{"$f":"IFERROR(IF(A4521=\"\",\"\",IF(VLOOKUP(A4521,'Romaneio da Carga'!E:E,1,0)=BD!A4521,\"Volume Ok\",\"Volume não pertence a carga\")),\"Volume não pertence a carga\")","v":""}]
[null,{"$f":"IFERROR(IF(A4522=\"\",\"\",IF(VLOOKUP(A4522,'Romaneio da Carga'!E:E,1,0)=BD!A4522,\"Volume Ok\",\"Volume não pertence a carga\")),\"Volume não pertence a carga\")","v":""}]
[null,{"$f":"IFERROR(IF(A4523=\"\",\"\",IF(VLOOKUP(A4523,'Romaneio da Carga'!E:E,1,0)=BD!A4523,\"Volume Ok\",\"Volume não pertence a carga\")),\"Volume não pertence a carga\")","v":""}]
[null,{"$f":"IFERROR(IF(A4524=\"\",\"\",IF(VLOOKUP(A4524,'Romaneio da Carga'!E:E,1,0)=BD!A4524,\"Volume Ok\",\"Volume não pertence a carga\")),\"Volume não pertence a carga\")","v":""}]
[null,{"$f":"IFERROR(IF(A4525=\"\",\"\",IF(VLOOKUP(A4525,'Romaneio da Carga'!E:E,1,0)=BD!A4525,\"Volume Ok\",\"Volume não pertence a carga\")),\"Volume não pertence a carga\")","v":""}]
[null,{"$f":"IFERROR(IF(A4526=\"\",\"\",IF(VLOOKUP(A4526,'Romaneio da Carga'!E:E,1,0)=BD!A4526,\"Volume Ok\",\"Volume não pertence a carga\")),\"Volume não pertence a carga\")","v":""}]
[null,{"$f":"IFERROR(IF(A4527=\"\",\"\",IF(VLOOKUP(A4527,'Romaneio da Carga'!E:E,1,0)=BD!A4527,\"Volume Ok\",\"Volume não pertence a carga\")),\"Volume não pertence a carga\")","v":""}]
[null,{"$f":"IFERROR(IF(A4528=\"\",\"\",IF(VLOOKUP(A4528,'Romaneio da Carga'!E:E,1,0)=BD!A4528,\"Volume Ok\",\"Volume não pertence a carga\")),\"Volume não pertence a carga\")","v":""}]
[null,{"$f":"IFERROR(IF(A4529=\"\",\"\",IF(VLOOKUP(A4529,'Romaneio da Carga'!E:E,1,0)=BD!A4529,\"Volume Ok\",\"Volume não pertence a carga\")),\"Volume não pertence a carga\")","v":""}]
[null,{"$f":"IFERROR(IF(A4530=\"\",\"\",IF(VLOOKUP(A4530,'Romaneio da Carga'!E:E,1,0)=BD!A4530,\"Volume Ok\",\"Volume não pertence a carga\")),\"Volume não pertence a carga\")","v":""}]
[null,{"$f":"IFERROR(IF(A4531=\"\",\"\",IF(VLOOKUP(A4531,'Romaneio da Carga'!E:E,1,0)=BD!A4531,\"Volume Ok\",\"Volume não pertence a carga\")),\"Volume não pertence a carga\")","v":""}]
[null,{"$f":"IFERROR(IF(A4532=\"\",\"\",IF(VLOOKUP(A4532,'Romaneio da Carga'!E:E,1,0)=BD!A4532,\"Volume Ok\",\"Volume não pertence a carga\")),\"Volume não pertence a carga\")","v":""}]
[null,{"$f":"IFERROR(IF(A4533=\"\",\"\",IF(VLOOKUP(A4533,'Romaneio da Carga'!E:E,1,0)=BD!A4533,\"Volume Ok\",\"Volume não pertence a carga\")),\"Volume não pertence a carga\")","v":""}]
[null,{"$f":"IFERROR(IF(A4534=\"\",\"\",IF(VLOOKUP(A4534,'Romaneio da Carga'!E:E,1,0)=BD!A4534,\"Volume Ok\",\"Volume não pertence a carga\")),\"Volume não pertence a carga\")","v":""}]
[null,{"$f":"IFERROR(IF(A4535=\"\",\"\",IF(VLOOKUP(A4535,'Romaneio da Carga'!E:E,1,0)=BD!A4535,\"Volume Ok\",\"Volume não pertence a carga\")),\"Volume não pertence a carga\")","v":""}]
[null,{"$f":"IFERROR(IF(A4536=\"\",\"\",IF(VLOOKUP(A4536,'Romaneio da Carga'!E:E,1,0)=BD!A4536,\"Volume Ok\",\"Volume não pertence a carga\")),\"Volume não pertence a carga\")","v":""}]
[null,{"$f":"IFERROR(IF(A4537=\"\",\"\",IF(VLOOKUP(A4537,'Romaneio da Carga'!E:E,1,0)=BD!A4537,\"Volume Ok\",\"Volume não pertence a carga\")),\"Volume não pertence a carga\")","v":""}]
[null,{"$f":"IFERROR(IF(A4538=\"\",\"\",IF(VLOOKUP(A4538,'Romaneio da Carga'!E:E,1,0)=BD!A4538,\"Volume Ok\",\"Volume não pertence a carga\")),\"Volume não pertence a carga\")","v":""}]
[null,{"$f":"IFERROR(IF(A4539=\"\",\"\",IF(VLOOKUP(A4539,'Romaneio da Carga'!E:E,1,0)=BD!A4539,\"Volume Ok\",\"Volume não pertence a carga\")),\"Volume não pertence a carga\")","v":""}]
[null,{"$f":"IFERROR(IF(A4540=\"\",\"\",IF(VLOOKUP(A4540,'Romaneio da Carga'!E:E,1,0)=BD!A4540,\"Volume Ok\",\"Volume não pertence a carga\")),\"Volume não pertence a carga\")","v":""}]
[null,{"$f":"IFERROR(IF(A4541=\"\",\"\",IF(VLOOKUP(A4541,'Romaneio da Carga'!E:E,1,0)=BD!A4541,\"Volume Ok\",\"Volume não pertence a carga\")),\"Volume não pertence a carga\")","v":""}]
[null,{"$f":"IFERROR(IF(A4542=\"\",\"\",IF(VLOOKUP(A4542,'Romaneio da Carga'!E:E,1,0)=BD!A4542,\"Volume Ok\",\"Volume não pertence a carga\")),\"Volume não pertence a carga\")","v":""}]
[null,{"$f":"IFERROR(IF(A4543=\"\",\"\",IF(VLOOKUP(A4543,'Romaneio da Carga'!E:E,1,0)=BD!A4543,\"Volume Ok\",\"Volume não pertence a carga\")),\"Volume não pertence a carga\")","v":""}]
[null,{"$f":"IFERROR(IF(A4544=\"\",\"\",IF(VLOOKUP(A4544,'Romaneio da Carga'!E:E,1,0)=BD!A4544,\"Volume Ok\",\"Volume não pertence a carga\")),\"Volume não pertence a carga\")","v":""}]
[null,{"$f":"IFERROR(IF(A4545=\"\",\"\",IF(VLOOKUP(A4545,'Romaneio da Carga'!E:E,1,0)=BD!A4545,\"Volume Ok\",\"Volume não pertence a carga\")),\"Volume não pertence a carga\")","v":""}]
[null,{"$f":"IFERROR(IF(A4546=\"\",\"\",IF(VLOOKUP(A4546,'Romaneio da Carga'!E:E,1,0)=BD!A4546,\"Volume Ok\",\"Volume não pertence a carga\")),\"Volume não pertence a carga\")","v":""}]
[null,{"$f":"IFERROR(IF(A4547=\"\",\"\",IF(VLOOKUP(A4547,'Romaneio da Carga'!E:E,1,0)=BD!A4547,\"Volume Ok\",\"Volume não pertence a carga\")),\"Volume não pertence a carga\")","v":""}]
[null,{"$f":"IFERROR(IF(A4548=\"\",\"\",IF(VLOOKUP(A4548,'Romaneio da Carga'!E:E,1,0)=BD!A4548,\"Volume Ok\",\"Volume não pertence a carga\")),\"Volume não pertence a carga\")","v":""}]
[null,{"$f":"IFERROR(IF(A4549=\"\",\"\",IF(VLOOKUP(A4549,'Romaneio da Carga'!E:E,1,0)=BD!A4549,\"Volume Ok\",\"Volume não pertence a carga\")),\"Volume não pertence a carga\")","v":""}]
[null,{"$f":"IFERROR(IF(A4550=\"\",\"\",IF(VLOOKUP(A4550,'Romaneio da Carga'!E:E,1,0)=BD!A4550,\"Volume Ok\",\"Volume não pertence a carga\")),\"Volume não pertence a carga\")","v":""}]
[null,{"$f":"IFERROR(IF(A4551=\"\",\"\",IF(VLOOKUP(A4551,'Romaneio da Carga'!E:E,1,0)=BD!A4551,\"Volume Ok\",\"Volume não pertence a carga\")),\"Volume não pertence a carga\")","v":""}]
[null,{"$f":"IFERROR(IF(A4552=\"\",\"\",IF(VLOOKUP(A4552,'Romaneio da Carga'!E:E,1,0)=BD!A4552,\"Volume Ok\",\"Volume não pertence a carga\")),\"Volume não pertence a carga\")","v":""}]
[null,{"$f":"IFERROR(IF(A4553=\"\",\"\",IF(VLOOKUP(A4553,'Romaneio da Carga'!E:E,1,0)=BD!A4553,\"Volume Ok\",\"Volume não pertence a carga\")),\"Volume não pertence a carga\")","v":""}]
[null,{"$f":"IFERROR(IF(A4554=\"\",\"\",IF(VLOOKUP(A4554,'Romaneio da Carga'!E:E,1,0)=BD!A4554,\"Volume Ok\",\"Volume não pertence a carga\")),\"Volume não pertence a carga\")","v":""}]
[null,{"$f":"IFERROR(IF(A4555=\"\",\"\",IF(VLOOKUP(A4555,'Romaneio da Carga'!E:E,1,0)=BD!A4555,\"Volume Ok\",\"Volume não pertence a carga\")),\"Volume não pertence a carga\")","v":""}]
[null,{"$f":"IFERROR(IF(A4556=\"\",\"\",IF(VLOOKUP(A4556,'Romaneio da Carga'!E:E,1,0)=BD!A4556,\"Volume Ok\",\"Volume não pertence a carga\")),\"Volume não pertence a carga\")","v":""}]
[null,{"$f":"IFERROR(IF(A4557=\"\",\"\",IF(VLOOKUP(A4557,'Romaneio da Carga'!E:E,1,0)=BD!A4557,\"Volume Ok\",\"Volume não pertence a carga\")),\"Volume não pertence a carga\")","v":""}]
[null,{"$f":"IFERROR(IF(A4558=\"\",\"\",IF(VLOOKUP(A4558,'Romaneio da Carga'!E:E,1,0)=BD!A4558,\"Volume Ok\",\"Volume não pertence a carga\")),\"Volume não pertence a carga\")","v":""}]
[null,{"$f":"IFERROR(IF(A4559=\"\",\"\",IF(VLOOKUP(A4559,'Romaneio da Carga'!E:E,1,0)=BD!A4559,\"Volume Ok\",\"Volume não pertence a carga\")),\"Volume não pertence a carga\")","v":""}]
[null,{"$f":"IFERROR(IF(A4560=\"\",\"\",IF(VLOOKUP(A4560,'Romaneio da Carga'!E:E,1,0)=BD!A4560,\"Volume Ok\",\"Volume não pertence a carga\")),\"Volume não pertence a carga\")","v":""}]
[null,{"$f":"IFERROR(IF(A4561=\"\",\"\",IF(VLOOKUP(A4561,'Romaneio da Carga'!E:E,1,0)=BD!A4561,\"Volume Ok\",\"Volume não pertence a carga\")),\"Volume não pertence a carga\")","v":""}]
[null,{"$f":"IFERROR(IF(A4562=\"\",\"\",IF(VLOOKUP(A4562,'Romaneio da Carga'!E:E,1,0)=BD!A4562,\"Volume Ok\",\"Volume não pertence a carga\")),\"Volume não pertence a carga\")","v":""}]
[null,{"$f":"IFERROR(IF(A4563=\"\",\"\",IF(VLOOKUP(A4563,'Romaneio da Carga'!E:E,1,0)=BD!A4563,\"Volume Ok\",\"Volume não pertence a carga\")),\"Volume não pertence a carga\")","v":""}]
[null,{"$f":"IFERROR(IF(A4564=\"\",\"\",IF(VLOOKUP(A4564,'Romaneio da Carga'!E:E,1,0)=BD!A4564,\"Volume Ok\",\"Volume não pertence a carga\")),\"Volume não pertence a carga\")","v":""}]
[null,{"$f":"IFERROR(IF(A4565=\"\",\"\",IF(VLOOKUP(A4565,'Romaneio da Carga'!E:E,1,0)=BD!A4565,\"Volume Ok\",\"Volume não pertence a carga\")),\"Volume não pertence a carga\")","v":""}]
[null,{"$f":"IFERROR(IF(A4566=\"\",\"\",IF(VLOOKUP(A4566,'Romaneio da Carga'!E:E,1,0)=BD!A4566,\"Volume Ok\",\"Volume não pertence a carga\")),\"Volume não pertence a carga\")","v":""}]
[null,{"$f":"IFERROR(IF(A4567=\"\",\"\",IF(VLOOKUP(A4567,'Romaneio da Carga'!E:E,1,0)=BD!A4567,\"Volume Ok\",\"Volume não pertence a carga\")),\"Volume não pertence a carga\")","v":""}]
[null,{"$f":"IFERROR(IF(A4568=\"\",\"\",IF(VLOOKUP(A4568,'Romaneio da Carga'!E:E,1,0)=BD!A4568,\"Volume Ok\",\"Volume não pertence a carga\")),\"Volume não pertence a carga\")","v":""}]
[null,{"$f":"IFERROR(IF(A4569=\"\",\"\",IF(VLOOKUP(A4569,'Romaneio da Carga'!E:E,1,0)=BD!A4569,\"Volume Ok\",\"Volume não pertence a carga\")),\"Volume não pertence a carga\")","v":""}]
[null,{"$f":"IFERROR(IF(A4570=\"\",\"\",IF(VLOOKUP(A4570,'Romaneio da Carga'!E:E,1,0)=BD!A4570,\"Volume Ok\",\"Volume não pertence a carga\")),\"Volume não pertence a carga\")","v":""}]
[null,{"$f":"IFERROR(IF(A4571=\"\",\"\",IF(VLOOKUP(A4571,'Romaneio da Carga'!E:E,1,0)=BD!A4571,\"Volume Ok\",\"Volume não pertence a carga\")),\"Volume não pertence a carga\")","v":""}]
[null,{"$f":"IFERROR(IF(A4572=\"\",\"\",IF(VLOOKUP(A4572,'Romaneio da Carga'!E:E,1,0)=BD!A4572,\"Volume Ok\",\"Volume não pertence a carga\")),\"Volume não pertence a carga\")","v":""}]
[null,{"$f":"IFERROR(IF(A4573=\"\",\"\",IF(VLOOKUP(A4573,'Romaneio da Carga'!E:E,1,0)=BD!A4573,\"Volume Ok\",\"Volume não pertence a carga\")),\"Volume não pertence a carga\")","v":""}]
[null,{"$f":"IFERROR(IF(A4574=\"\",\"\",IF(VLOOKUP(A4574,'Romaneio da Carga'!E:E,1,0)=BD!A4574,\"Volume Ok\",\"Volume não pertence a carga\")),\"Volume não pertence a carga\")","v":""}]
[null,{"$f":"IFERROR(IF(A4575=\"\",\"\",IF(VLOOKUP(A4575,'Romaneio da Carga'!E:E,1,0)=BD!A4575,\"Volume Ok\",\"Volume não pertence a carga\")),\"Volume não pertence a carga\")","v":""}]
[null,{"$f":"IFERROR(IF(A4576=\"\",\"\",IF(VLOOKUP(A4576,'Romaneio da Carga'!E:E,1,0)=BD!A4576,\"Volume Ok\",\"Volume não pertence a carga\")),\"Volume não pertence a carga\")","v":""}]
[null,{"$f":"IFERROR(IF(A4577=\"\",\"\",IF(VLOOKUP(A4577,'Romaneio da Carga'!E:E,1,0)=BD!A4577,\"Volume Ok\",\"Volume não pertence a carga\")),\"Volume não pertence a carga\")","v":""}]
[null,{"$f":"IFERROR(IF(A4578=\"\",\"\",IF(VLOOKUP(A4578,'Romaneio da Carga'!E:E,1,0)=BD!A4578,\"Volume Ok\",\"Volume não pertence a carga\")),\"Volume não pertence a carga\")","v":""}]
[null,{"$f":"IFERROR(IF(A4579=\"\",\"\",IF(VLOOKUP(A4579,'Romaneio da Carga'!E:E,1,0)=BD!A4579,\"Volume Ok\",\"Volume não pertence a carga\")),\"Volume não pertence a carga\")","v":""}]
[null,{"$f":"IFERROR(IF(A4580=\"\",\"\",IF(VLOOKUP(A4580,'Romaneio da Carga'!E:E,1,0)=BD!A4580,\"Volume Ok\",\"Volume não pertence a carga\")),\"Volume não pertence a carga\")","v":""}]
[null,{"$f":"IFERROR(IF(A4581=\"\",\"\",IF(VLOOKUP(A4581,'Romaneio da Carga'!E:E,1,0)=BD!A4581,\"Volume Ok\",\"Volume não pertence a carga\")),\"Volume não pertence a carga\")","v":""}]
[null,{"$f":"IFERROR(IF(A4582=\"\",\"\",IF(VLOOKUP(A4582,'Romaneio da Carga'!E:E,1,0)=BD!A4582,\"Volume Ok\",\"Volume não pertence a carga\")),\"Volume não pertence a carga\")","v":""}]
[null,{"$f":"IFERROR(IF(A4583=\"\",\"\",IF(VLOOKUP(A4583,'Romaneio da Carga'!E:E,1,0)=BD!A4583,\"Volume Ok\",\"Volume não pertence a carga\")),\"Volume não pertence a carga\")","v":""}]
[null,{"$f":"IFERROR(IF(A4584=\"\",\"\",IF(VLOOKUP(A4584,'Romaneio da Carga'!E:E,1,0)=BD!A4584,\"Volume Ok\",\"Volume não pertence a carga\")),\"Volume não pertence a carga\")","v":""}]
[null,{"$f":"IFERROR(IF(A4585=\"\",\"\",IF(VLOOKUP(A4585,'Romaneio da Carga'!E:E,1,0)=BD!A4585,\"Volume Ok\",\"Volume não pertence a carga\")),\"Volume não pertence a carga\")","v":""}]
[null,{"$f":"IFERROR(IF(A4586=\"\",\"\",IF(VLOOKUP(A4586,'Romaneio da Carga'!E:E,1,0)=BD!A4586,\"Volume Ok\",\"Volume não pertence a carga\")),\"Volume não pertence a carga\")","v":""}]
[null,{"$f":"IFERROR(IF(A4587=\"\",\"\",IF(VLOOKUP(A4587,'Romaneio da Carga'!E:E,1,0)=BD!A4587,\"Volume Ok\",\"Volume não pertence a carga\")),\"Volume não pertence a carga\")","v":""}]
[null,{"$f":"IFERROR(IF(A4588=\"\",\"\",IF(VLOOKUP(A4588,'Romaneio da Carga'!E:E,1,0)=BD!A4588,\"Volume Ok\",\"Volume não pertence a carga\")),\"Volume não pertence a carga\")","v":""}]
[null,{"$f":"IFERROR(IF(A4589=\"\",\"\",IF(VLOOKUP(A4589,'Romaneio da Carga'!E:E,1,0)=BD!A4589,\"Volume Ok\",\"Volume não pertence a carga\")),\"Volume não pertence a carga\")","v":""}]
[null,{"$f":"IFERROR(IF(A4590=\"\",\"\",IF(VLOOKUP(A4590,'Romaneio da Carga'!E:E,1,0)=BD!A4590,\"Volume Ok\",\"Volume não pertence a carga\")),\"Volume não pertence a carga\")","v":""}]
[null,{"$f":"IFERROR(IF(A4591=\"\",\"\",IF(VLOOKUP(A4591,'Romaneio da Carga'!E:E,1,0)=BD!A4591,\"Volume Ok\",\"Volume não pertence a carga\")),\"Volume não pertence a carga\")","v":""}]
[null,{"$f":"IFERROR(IF(A4592=\"\",\"\",IF(VLOOKUP(A4592,'Romaneio da Carga'!E:E,1,0)=BD!A4592,\"Volume Ok\",\"Volume não pertence a carga\")),\"Volume não pertence a carga\")","v":""}]
[null,{"$f":"IFERROR(IF(A4593=\"\",\"\",IF(VLOOKUP(A4593,'Romaneio da Carga'!E:E,1,0)=BD!A4593,\"Volume Ok\",\"Volume não pertence a carga\")),\"Volume não pertence a carga\")","v":""}]
[null,{"$f":"IFERROR(IF(A4594=\"\",\"\",IF(VLOOKUP(A4594,'Romaneio da Carga'!E:E,1,0)=BD!A4594,\"Volume Ok\",\"Volume não pertence a carga\")),\"Volume não pertence a carga\")","v":""}]
[null,{"$f":"IFERROR(IF(A4595=\"\",\"\",IF(VLOOKUP(A4595,'Romaneio da Carga'!E:E,1,0)=BD!A4595,\"Volume Ok\",\"Volume não pertence a carga\")),\"Volume não pertence a carga\")","v":""}]
[null,{"$f":"IFERROR(IF(A4596=\"\",\"\",IF(VLOOKUP(A4596,'Romaneio da Carga'!E:E,1,0)=BD!A4596,\"Volume Ok\",\"Volume não pertence a carga\")),\"Volume não pertence a carga\")","v":""}]
[null,{"$f":"IFERROR(IF(A4597=\"\",\"\",IF(VLOOKUP(A4597,'Romaneio da Carga'!E:E,1,0)=BD!A4597,\"Volume Ok\",\"Volume não pertence a carga\")),\"Volume não pertence a carga\")","v":""}]
[null,{"$f":"IFERROR(IF(A4598=\"\",\"\",IF(VLOOKUP(A4598,'Romaneio da Carga'!E:E,1,0)=BD!A4598,\"Volume Ok\",\"Volume não pertence a carga\")),\"Volume não pertence a carga\")","v":""}]
[null,{"$f":"IFERROR(IF(A4599=\"\",\"\",IF(VLOOKUP(A4599,'Romaneio da Carga'!E:E,1,0)=BD!A4599,\"Volume Ok\",\"Volume não pertence a carga\")),\"Volume não pertence a carga\")","v":""}]
[null,{"$f":"IFERROR(IF(A4600=\"\",\"\",IF(VLOOKUP(A4600,'Romaneio da Carga'!E:E,1,0)=BD!A4600,\"Volume Ok\",\"Volume não pertence a carga\")),\"Volume não pertence a carga\")","v":""}]
[null,{"$f":"IFERROR(IF(A4601=\"\",\"\",IF(VLOOKUP(A4601,'Romaneio da Carga'!E:E,1,0)=BD!A4601,\"Volume Ok\",\"Volume não pertence a carga\")),\"Volume não pertence a carga\")","v":""}]
[null,{"$f":"IFERROR(IF(A4602=\"\",\"\",IF(VLOOKUP(A4602,'Romaneio da Carga'!E:E,1,0)=BD!A4602,\"Volume Ok\",\"Volume não pertence a carga\")),\"Volume não pertence a carga\")","v":""}]
[null,{"$f":"IFERROR(IF(A4603=\"\",\"\",IF(VLOOKUP(A4603,'Romaneio da Carga'!E:E,1,0)=BD!A4603,\"Volume Ok\",\"Volume não pertence a carga\")),\"Volume não pertence a carga\")","v":""}]
[null,{"$f":"IFERROR(IF(A4604=\"\",\"\",IF(VLOOKUP(A4604,'Romaneio da Carga'!E:E,1,0)=BD!A4604,\"Volume Ok\",\"Volume não pertence a carga\")),\"Volume não pertence a carga\")","v":""}]
[null,{"$f":"IFERROR(IF(A4605=\"\",\"\",IF(VLOOKUP(A4605,'Romaneio da Carga'!E:E,1,0)=BD!A4605,\"Volume Ok\",\"Volume não pertence a carga\")),\"Volume não pertence a carga\")","v":""}]
[null,{"$f":"IFERROR(IF(A4606=\"\",\"\",IF(VLOOKUP(A4606,'Romaneio da Carga'!E:E,1,0)=BD!A4606,\"Volume Ok\",\"Volume não pertence a carga\")),\"Volume não pertence a carga\")","v":""}]
[null,{"$f":"IFERROR(IF(A4607=\"\",\"\",IF(VLOOKUP(A4607,'Romaneio da Carga'!E:E,1,0)=BD!A4607,\"Volume Ok\",\"Volume não pertence a carga\")),\"Volume não pertence a carga\")","v":""}]
[null,{"$f":"IFERROR(IF(A4608=\"\",\"\",IF(VLOOKUP(A4608,'Romaneio da Carga'!E:E,1,0)=BD!A4608,\"Volume Ok\",\"Volume não pertence a carga\")),\"Volume não pertence a carga\")","v":""}]
[null,{"$f":"IFERROR(IF(A4609=\"\",\"\",IF(VLOOKUP(A4609,'Romaneio da Carga'!E:E,1,0)=BD!A4609,\"Volume Ok\",\"Volume não pertence a carga\")),\"Volume não pertence a carga\")","v":""}]
[null,{"$f":"IFERROR(IF(A4610=\"\",\"\",IF(VLOOKUP(A4610,'Romaneio da Carga'!E:E,1,0)=BD!A4610,\"Volume Ok\",\"Volume não pertence a carga\")),\"Volume não pertence a carga\")","v":""}]
[null,{"$f":"IFERROR(IF(A4611=\"\",\"\",IF(VLOOKUP(A4611,'Romaneio da Carga'!E:E,1,0)=BD!A4611,\"Volume Ok\",\"Volume não pertence a carga\")),\"Volume não pertence a carga\")","v":""}]
[null,{"$f":"IFERROR(IF(A4612=\"\",\"\",IF(VLOOKUP(A4612,'Romaneio da Carga'!E:E,1,0)=BD!A4612,\"Volume Ok\",\"Volume não pertence a carga\")),\"Volume não pertence a carga\")","v":""}]
[null,{"$f":"IFERROR(IF(A4613=\"\",\"\",IF(VLOOKUP(A4613,'Romaneio da Carga'!E:E,1,0)=BD!A4613,\"Volume Ok\",\"Volume não pertence a carga\")),\"Volume não pertence a carga\")","v":""}]
[null,{"$f":"IFERROR(IF(A4614=\"\",\"\",IF(VLOOKUP(A4614,'Romaneio da Carga'!E:E,1,0)=BD!A4614,\"Volume Ok\",\"Volume não pertence a carga\")),\"Volume não pertence a carga\")","v":""}]
[null,{"$f":"IFERROR(IF(A4615=\"\",\"\",IF(VLOOKUP(A4615,'Romaneio da Carga'!E:E,1,0)=BD!A4615,\"Volume Ok\",\"Volume não pertence a carga\")),\"Volume não pertence a carga\")","v":""}]
[null,{"$f":"IFERROR(IF(A4616=\"\",\"\",IF(VLOOKUP(A4616,'Romaneio da Carga'!E:E,1,0)=BD!A4616,\"Volume Ok\",\"Volume não pertence a carga\")),\"Volume não pertence a carga\")","v":""}]
[null,{"$f":"IFERROR(IF(A4617=\"\",\"\",IF(VLOOKUP(A4617,'Romaneio da Carga'!E:E,1,0)=BD!A4617,\"Volume Ok\",\"Volume não pertence a carga\")),\"Volume não pertence a carga\")","v":""}]
[null,{"$f":"IFERROR(IF(A4618=\"\",\"\",IF(VLOOKUP(A4618,'Romaneio da Carga'!E:E,1,0)=BD!A4618,\"Volume Ok\",\"Volume não pertence a carga\")),\"Volume não pertence a carga\")","v":""}]
[null,{"$f":"IFERROR(IF(A4619=\"\",\"\",IF(VLOOKUP(A4619,'Romaneio da Carga'!E:E,1,0)=BD!A4619,\"Volume Ok\",\"Volume não pertence a carga\")),\"Volume não pertence a carga\")","v":""}]
[null,{"$f":"IFERROR(IF(A4620=\"\",\"\",IF(VLOOKUP(A4620,'Romaneio da Carga'!E:E,1,0)=BD!A4620,\"Volume Ok\",\"Volume não pertence a carga\")),\"Volume não pertence a carga\")","v":""}]
[null,{"$f":"IFERROR(IF(A4621=\"\",\"\",IF(VLOOKUP(A4621,'Romaneio da Carga'!E:E,1,0)=BD!A4621,\"Volume Ok\",\"Volume não pertence a carga\")),\"Volume não pertence a carga\")","v":""}]
[null,{"$f":"IFERROR(IF(A4622=\"\",\"\",IF(VLOOKUP(A4622,'Romaneio da Carga'!E:E,1,0)=BD!A4622,\"Volume Ok\",\"Volume não pertence a carga\")),\"Volume não pertence a carga\")","v":""}]
[null,{"$f":"IFERROR(IF(A4623=\"\",\"\",IF(VLOOKUP(A4623,'Romaneio da Carga'!E:E,1,0)=BD!A4623,\"Volume Ok\",\"Volume não pertence a carga\")),\"Volume não pertence a carga\")","v":""}]
[null,{"$f":"IFERROR(IF(A4624=\"\",\"\",IF(VLOOKUP(A4624,'Romaneio da Carga'!E:E,1,0)=BD!A4624,\"Volume Ok\",\"Volume não pertence a carga\")),\"Volume não pertence a carga\")","v":""}]
[null,{"$f":"IFERROR(IF(A4625=\"\",\"\",IF(VLOOKUP(A4625,'Romaneio da Carga'!E:E,1,0)=BD!A4625,\"Volume Ok\",\"Volume não pertence a carga\")),\"Volume não pertence a carga\")","v":""}]
[null,{"$f":"IFERROR(IF(A4626=\"\",\"\",IF(VLOOKUP(A4626,'Romaneio da Carga'!E:E,1,0)=BD!A4626,\"Volume Ok\",\"Volume não pertence a carga\")),\"Volume não pertence a carga\")","v":""}]
[null,{"$f":"IFERROR(IF(A4627=\"\",\"\",IF(VLOOKUP(A4627,'Romaneio da Carga'!E:E,1,0)=BD!A4627,\"Volume Ok\",\"Volume não pertence a carga\")),\"Volume não pertence a carga\")","v":""}]
[null,{"$f":"IFERROR(IF(A4628=\"\",\"\",IF(VLOOKUP(A4628,'Romaneio da Carga'!E:E,1,0)=BD!A4628,\"Volume Ok\",\"Volume não pertence a carga\")),\"Volume não pertence a carga\")","v":""}]
[null,{"$f":"IFERROR(IF(A4629=\"\",\"\",IF(VLOOKUP(A4629,'Romaneio da Carga'!E:E,1,0)=BD!A4629,\"Volume Ok\",\"Volume não pertence a carga\")),\"Volume não pertence a carga\")","v":""}]
[null,{"$f":"IFERROR(IF(A4630=\"\",\"\",IF(VLOOKUP(A4630,'Romaneio da Carga'!E:E,1,0)=BD!A4630,\"Volume Ok\",\"Volume não pertence a carga\")),\"Volume não pertence a carga\")","v":""}]
[null,{"$f":"IFERROR(IF(A4631=\"\",\"\",IF(VLOOKUP(A4631,'Romaneio da Carga'!E:E,1,0)=BD!A4631,\"Volume Ok\",\"Volume não pertence a carga\")),\"Volume não pertence a carga\")","v":""}]
[null,{"$f":"IFERROR(IF(A4632=\"\",\"\",IF(VLOOKUP(A4632,'Romaneio da Carga'!E:E,1,0)=BD!A4632,\"Volume Ok\",\"Volume não pertence a carga\")),\"Volume não pertence a carga\")","v":""}]
[null,{"$f":"IFERROR(IF(A4633=\"\",\"\",IF(VLOOKUP(A4633,'Romaneio da Carga'!E:E,1,0)=BD!A4633,\"Volume Ok\",\"Volume não pertence a carga\")),\"Volume não pertence a carga\")","v":""}]
[null,{"$f":"IFERROR(IF(A4634=\"\",\"\",IF(VLOOKUP(A4634,'Romaneio da Carga'!E:E,1,0)=BD!A4634,\"Volume Ok\",\"Volume não pertence a carga\")),\"Volume não pertence a carga\")","v":""}]
[null,{"$f":"IFERROR(IF(A4635=\"\",\"\",IF(VLOOKUP(A4635,'Romaneio da Carga'!E:E,1,0)=BD!A4635,\"Volume Ok\",\"Volume não pertence a carga\")),\"Volume não pertence a carga\")","v":""}]
[null,{"$f":"IFERROR(IF(A4636=\"\",\"\",IF(VLOOKUP(A4636,'Romaneio da Carga'!E:E,1,0)=BD!A4636,\"Volume Ok\",\"Volume não pertence a carga\")),\"Volume não pertence a carga\")","v":""}]
[null,{"$f":"IFERROR(IF(A4637=\"\",\"\",IF(VLOOKUP(A4637,'Romaneio da Carga'!E:E,1,0)=BD!A4637,\"Volume Ok\",\"Volume não pertence a carga\")),\"Volume não pertence a carga\")","v":""}]
[null,{"$f":"IFERROR(IF(A4638=\"\",\"\",IF(VLOOKUP(A4638,'Romaneio da Carga'!E:E,1,0)=BD!A4638,\"Volume Ok\",\"Volume não pertence a carga\")),\"Volume não pertence a carga\")","v":""}]
[null,{"$f":"IFERROR(IF(A4639=\"\",\"\",IF(VLOOKUP(A4639,'Romaneio da Carga'!E:E,1,0)=BD!A4639,\"Volume Ok\",\"Volume não pertence a carga\")),\"Volume não pertence a carga\")","v":""}]
[null,{"$f":"IFERROR(IF(A4640=\"\",\"\",IF(VLOOKUP(A4640,'Romaneio da Carga'!E:E,1,0)=BD!A4640,\"Volume Ok\",\"Volume não pertence a carga\")),\"Volume não pertence a carga\")","v":""}]
[null,{"$f":"IFERROR(IF(A4641=\"\",\"\",IF(VLOOKUP(A4641,'Romaneio da Carga'!E:E,1,0)=BD!A4641,\"Volume Ok\",\"Volume não pertence a carga\")),\"Volume não pertence a carga\")","v":""}]
[null,{"$f":"IFERROR(IF(A4642=\"\",\"\",IF(VLOOKUP(A4642,'Romaneio da Carga'!E:E,1,0)=BD!A4642,\"Volume Ok\",\"Volume não pertence a carga\")),\"Volume não pertence a carga\")","v":""}]
[null,{"$f":"IFERROR(IF(A4643=\"\",\"\",IF(VLOOKUP(A4643,'Romaneio da Carga'!E:E,1,0)=BD!A4643,\"Volume Ok\",\"Volume não pertence a carga\")),\"Volume não pertence a carga\")","v":""}]
[null,{"$f":"IFERROR(IF(A4644=\"\",\"\",IF(VLOOKUP(A4644,'Romaneio da Carga'!E:E,1,0)=BD!A4644,\"Volume Ok\",\"Volume não pertence a carga\")),\"Volume não pertence a carga\")","v":""}]
[null,{"$f":"IFERROR(IF(A4645=\"\",\"\",IF(VLOOKUP(A4645,'Romaneio da Carga'!E:E,1,0)=BD!A4645,\"Volume Ok\",\"Volume não pertence a carga\")),\"Volume não pertence a carga\")","v":""}]
[null,{"$f":"IFERROR(IF(A4646=\"\",\"\",IF(VLOOKUP(A4646,'Romaneio da Carga'!E:E,1,0)=BD!A4646,\"Volume Ok\",\"Volume não pertence a carga\")),\"Volume não pertence a carga\")","v":""}]
[null,{"$f":"IFERROR(IF(A4647=\"\",\"\",IF(VLOOKUP(A4647,'Romaneio da Carga'!E:E,1,0)=BD!A4647,\"Volume Ok\",\"Volume não pertence a carga\")),\"Volume não pertence a carga\")","v":""}]
[null,{"$f":"IFERROR(IF(A4648=\"\",\"\",IF(VLOOKUP(A4648,'Romaneio da Carga'!E:E,1,0)=BD!A4648,\"Volume Ok\",\"Volume não pertence a carga\")),\"Volume não pertence a carga\")","v":""}]
[null,{"$f":"IFERROR(IF(A4649=\"\",\"\",IF(VLOOKUP(A4649,'Romaneio da Carga'!E:E,1,0)=BD!A4649,\"Volume Ok\",\"Volume não pertence a carga\")),\"Volume não pertence a carga\")","v":""}]
[null,{"$f":"IFERROR(IF(A4650=\"\",\"\",IF(VLOOKUP(A4650,'Romaneio da Carga'!E:E,1,0)=BD!A4650,\"Volume Ok\",\"Volume não pertence a carga\")),\"Volume não pertence a carga\")","v":""}]
[null,{"$f":"IFERROR(IF(A4651=\"\",\"\",IF(VLOOKUP(A4651,'Romaneio da Carga'!E:E,1,0)=BD!A4651,\"Volume Ok\",\"Volume não pertence a carga\")),\"Volume não pertence a carga\")","v":""}]
[null,{"$f":"IFERROR(IF(A4652=\"\",\"\",IF(VLOOKUP(A4652,'Romaneio da Carga'!E:E,1,0)=BD!A4652,\"Volume Ok\",\"Volume não pertence a carga\")),\"Volume não pertence a carga\")","v":""}]
[null,{"$f":"IFERROR(IF(A4653=\"\",\"\",IF(VLOOKUP(A4653,'Romaneio da Carga'!E:E,1,0)=BD!A4653,\"Volume Ok\",\"Volume não pertence a carga\")),\"Volume não pertence a carga\")","v":""}]
[null,{"$f":"IFERROR(IF(A4654=\"\",\"\",IF(VLOOKUP(A4654,'Romaneio da Carga'!E:E,1,0)=BD!A4654,\"Volume Ok\",\"Volume não pertence a carga\")),\"Volume não pertence a carga\")","v":""}]
[null,{"$f":"IFERROR(IF(A4655=\"\",\"\",IF(VLOOKUP(A4655,'Romaneio da Carga'!E:E,1,0)=BD!A4655,\"Volume Ok\",\"Volume não pertence a carga\")),\"Volume não pertence a carga\")","v":""}]
[null,{"$f":"IFERROR(IF(A4656=\"\",\"\",IF(VLOOKUP(A4656,'Romaneio da Carga'!E:E,1,0)=BD!A4656,\"Volume Ok\",\"Volume não pertence a carga\")),\"Volume não pertence a carga\")","v":""}]
[null,{"$f":"IFERROR(IF(A4657=\"\",\"\",IF(VLOOKUP(A4657,'Romaneio da Carga'!E:E,1,0)=BD!A4657,\"Volume Ok\",\"Volume não pertence a carga\")),\"Volume não pertence a carga\")","v":""}]
[null,{"$f":"IFERROR(IF(A4658=\"\",\"\",IF(VLOOKUP(A4658,'Romaneio da Carga'!E:E,1,0)=BD!A4658,\"Volume Ok\",\"Volume não pertence a carga\")),\"Volume não pertence a carga\")","v":""}]
[null,{"$f":"IFERROR(IF(A4659=\"\",\"\",IF(VLOOKUP(A4659,'Romaneio da Carga'!E:E,1,0)=BD!A4659,\"Volume Ok\",\"Volume não pertence a carga\")),\"Volume não pertence a carga\")","v":""}]
[null,{"$f":"IFERROR(IF(A4660=\"\",\"\",IF(VLOOKUP(A4660,'Romaneio da Carga'!E:E,1,0)=BD!A4660,\"Volume Ok\",\"Volume não pertence a carga\")),\"Volume não pertence a carga\")","v":""}]
[null,{"$f":"IFERROR(IF(A4661=\"\",\"\",IF(VLOOKUP(A4661,'Romaneio da Carga'!E:E,1,0)=BD!A4661,\"Volume Ok\",\"Volume não pertence a carga\")),\"Volume não pertence a carga\")","v":""}]
[null,{"$f":"IFERROR(IF(A4662=\"\",\"\",IF(VLOOKUP(A4662,'Romaneio da Carga'!E:E,1,0)=BD!A4662,\"Volume Ok\",\"Volume não pertence a carga\")),\"Volume não pertence a carga\")","v":""}]
[null,{"$f":"IFERROR(IF(A4663=\"\",\"\",IF(VLOOKUP(A4663,'Romaneio da Carga'!E:E,1,0)=BD!A4663,\"Volume Ok\",\"Volume não pertence a carga\")),\"Volume não pertence a carga\")","v":""}]
[null,{"$f":"IFERROR(IF(A4664=\"\",\"\",IF(VLOOKUP(A4664,'Romaneio da Carga'!E:E,1,0)=BD!A4664,\"Volume Ok\",\"Volume não pertence a carga\")),\"Volume não pertence a carga\")","v":""}]
[null,{"$f":"IFERROR(IF(A4665=\"\",\"\",IF(VLOOKUP(A4665,'Romaneio da Carga'!E:E,1,0)=BD!A4665,\"Volume Ok\",\"Volume não pertence a carga\")),\"Volume não pertence a carga\")","v":""}]
[null,{"$f":"IFERROR(IF(A4666=\"\",\"\",IF(VLOOKUP(A4666,'Romaneio da Carga'!E:E,1,0)=BD!A4666,\"Volume Ok\",\"Volume não pertence a carga\")),\"Volume não pertence a carga\")","v":""}]
[null,{"$f":"IFERROR(IF(A4667=\"\",\"\",IF(VLOOKUP(A4667,'Romaneio da Carga'!E:E,1,0)=BD!A4667,\"Volume Ok\",\"Volume não pertence a carga\")),\"Volume não pertence a carga\")","v":""}]
[null,{"$f":"IFERROR(IF(A4668=\"\",\"\",IF(VLOOKUP(A4668,'Romaneio da Carga'!E:E,1,0)=BD!A4668,\"Volume Ok\",\"Volume não pertence a carga\")),\"Volume não pertence a carga\")","v":""}]
[null,{"$f":"IFERROR(IF(A4669=\"\",\"\",IF(VLOOKUP(A4669,'Romaneio da Carga'!E:E,1,0)=BD!A4669,\"Volume Ok\",\"Volume não pertence a carga\")),\"Volume não pertence a carga\")","v":""}]
[null,{"$f":"IFERROR(IF(A4670=\"\",\"\",IF(VLOOKUP(A4670,'Romaneio da Carga'!E:E,1,0)=BD!A4670,\"Volume Ok\",\"Volume não pertence a carga\")),\"Volume não pertence a carga\")","v":""}]
[null,{"$f":"IFERROR(IF(A4671=\"\",\"\",IF(VLOOKUP(A4671,'Romaneio da Carga'!E:E,1,0)=BD!A4671,\"Volume Ok\",\"Volume não pertence a carga\")),\"Volume não pertence a carga\")","v":""}]
[null,{"$f":"IFERROR(IF(A4672=\"\",\"\",IF(VLOOKUP(A4672,'Romaneio da Carga'!E:E,1,0)=BD!A4672,\"Volume Ok\",\"Volume não pertence a carga\")),\"Volume não pertence a carga\")","v":""}]
[null,{"$f":"IFERROR(IF(A4673=\"\",\"\",IF(VLOOKUP(A4673,'Romaneio da Carga'!E:E,1,0)=BD!A4673,\"Volume Ok\",\"Volume não pertence a carga\")),\"Volume não pertence a carga\")","v":""}]
[null,{"$f":"IFERROR(IF(A4674=\"\",\"\",IF(VLOOKUP(A4674,'Romaneio da Carga'!E:E,1,0)=BD!A4674,\"Volume Ok\",\"Volume não pertence a carga\")),\"Volume não pertence a carga\")","v":""}]
[null,{"$f":"IFERROR(IF(A4675=\"\",\"\",IF(VLOOKUP(A4675,'Romaneio da Carga'!E:E,1,0)=BD!A4675,\"Volume Ok\",\"Volume não pertence a carga\")),\"Volume não pertence a carga\")","v":""}]
[null,{"$f":"IFERROR(IF(A4676=\"\",\"\",IF(VLOOKUP(A4676,'Romaneio da Carga'!E:E,1,0)=BD!A4676,\"Volume Ok\",\"Volume não pertence a carga\")),\"Volume não pertence a carga\")","v":""}]
[null,{"$f":"IFERROR(IF(A4677=\"\",\"\",IF(VLOOKUP(A4677,'Romaneio da Carga'!E:E,1,0)=BD!A4677,\"Volume Ok\",\"Volume não pertence a carga\")),\"Volume não pertence a carga\")","v":""}]
[null,{"$f":"IFERROR(IF(A4678=\"\",\"\",IF(VLOOKUP(A4678,'Romaneio da Carga'!E:E,1,0)=BD!A4678,\"Volume Ok\",\"Volume não pertence a carga\")),\"Volume não pertence a carga\")","v":""}]
[null,{"$f":"IFERROR(IF(A4679=\"\",\"\",IF(VLOOKUP(A4679,'Romaneio da Carga'!E:E,1,0)=BD!A4679,\"Volume Ok\",\"Volume não pertence a carga\")),\"Volume não pertence a carga\")","v":""}]
[null,{"$f":"IFERROR(IF(A4680=\"\",\"\",IF(VLOOKUP(A4680,'Romaneio da Carga'!E:E,1,0)=BD!A4680,\"Volume Ok\",\"Volume não pertence a carga\")),\"Volume não pertence a carga\")","v":""}]
[null,{"$f":"IFERROR(IF(A4681=\"\",\"\",IF(VLOOKUP(A4681,'Romaneio da Carga'!E:E,1,0)=BD!A4681,\"Volume Ok\",\"Volume não pertence a carga\")),\"Volume não pertence a carga\")","v":""}]
[null,{"$f":"IFERROR(IF(A4682=\"\",\"\",IF(VLOOKUP(A4682,'Romaneio da Carga'!E:E,1,0)=BD!A4682,\"Volume Ok\",\"Volume não pertence a carga\")),\"Volume não pertence a carga\")","v":""}]
[null,{"$f":"IFERROR(IF(A4683=\"\",\"\",IF(VLOOKUP(A4683,'Romaneio da Carga'!E:E,1,0)=BD!A4683,\"Volume Ok\",\"Volume não pertence a carga\")),\"Volume não pertence a carga\")","v":""}]
[null,{"$f":"IFERROR(IF(A4684=\"\",\"\",IF(VLOOKUP(A4684,'Romaneio da Carga'!E:E,1,0)=BD!A4684,\"Volume Ok\",\"Volume não pertence a carga\")),\"Volume não pertence a carga\")","v":""}]
[null,{"$f":"IFERROR(IF(A4685=\"\",\"\",IF(VLOOKUP(A4685,'Romaneio da Carga'!E:E,1,0)=BD!A4685,\"Volume Ok\",\"Volume não pertence a carga\")),\"Volume não pertence a carga\")","v":""}]
[null,{"$f":"IFERROR(IF(A4686=\"\",\"\",IF(VLOOKUP(A4686,'Romaneio da Carga'!E:E,1,0)=BD!A4686,\"Volume Ok\",\"Volume não pertence a carga\")),\"Volume não pertence a carga\")","v":""}]
[null,{"$f":"IFERROR(IF(A4687=\"\",\"\",IF(VLOOKUP(A4687,'Romaneio da Carga'!E:E,1,0)=BD!A4687,\"Volume Ok\",\"Volume não pertence a carga\")),\"Volume não pertence a carga\")","v":""}]
[null,{"$f":"IFERROR(IF(A4688=\"\",\"\",IF(VLOOKUP(A4688,'Romaneio da Carga'!E:E,1,0)=BD!A4688,\"Volume Ok\",\"Volume não pertence a carga\")),\"Volume não pertence a carga\")","v":""}]
[null,{"$f":"IFERROR(IF(A4689=\"\",\"\",IF(VLOOKUP(A4689,'Romaneio da Carga'!E:E,1,0)=BD!A4689,\"Volume Ok\",\"Volume não pertence a carga\")),\"Volume não pertence a carga\")","v":""}]
[null,{"$f":"IFERROR(IF(A4690=\"\",\"\",IF(VLOOKUP(A4690,'Romaneio da Carga'!E:E,1,0)=BD!A4690,\"Volume Ok\",\"Volume não pertence a carga\")),\"Volume não pertence a carga\")","v":""}]
[null,{"$f":"IFERROR(IF(A4691=\"\",\"\",IF(VLOOKUP(A4691,'Romaneio da Carga'!E:E,1,0)=BD!A4691,\"Volume Ok\",\"Volume não pertence a carga\")),\"Volume não pertence a carga\")","v":""}]
[null,{"$f":"IFERROR(IF(A4692=\"\",\"\",IF(VLOOKUP(A4692,'Romaneio da Carga'!E:E,1,0)=BD!A4692,\"Volume Ok\",\"Volume não pertence a carga\")),\"Volume não pertence a carga\")","v":""}]
[null,{"$f":"IFERROR(IF(A4693=\"\",\"\",IF(VLOOKUP(A4693,'Romaneio da Carga'!E:E,1,0)=BD!A4693,\"Volume Ok\",\"Volume não pertence a carga\")),\"Volume não pertence a carga\")","v":""}]
[null,{"$f":"IFERROR(IF(A4694=\"\",\"\",IF(VLOOKUP(A4694,'Romaneio da Carga'!E:E,1,0)=BD!A4694,\"Volume Ok\",\"Volume não pertence a carga\")),\"Volume não pertence a carga\")","v":""}]
[null,{"$f":"IFERROR(IF(A4695=\"\",\"\",IF(VLOOKUP(A4695,'Romaneio da Carga'!E:E,1,0)=BD!A4695,\"Volume Ok\",\"Volume não pertence a carga\")),\"Volume não pertence a carga\")","v":""}]
[null,{"$f":"IFERROR(IF(A4696=\"\",\"\",IF(VLOOKUP(A4696,'Romaneio da Carga'!E:E,1,0)=BD!A4696,\"Volume Ok\",\"Volume não pertence a carga\")),\"Volume não pertence a carga\")","v":""}]
[null,{"$f":"IFERROR(IF(A4697=\"\",\"\",IF(VLOOKUP(A4697,'Romaneio da Carga'!E:E,1,0)=BD!A4697,\"Volume Ok\",\"Volume não pertence a carga\")),\"Volume não pertence a carga\")","v":""}]
[null,{"$f":"IFERROR(IF(A4698=\"\",\"\",IF(VLOOKUP(A4698,'Romaneio da Carga'!E:E,1,0)=BD!A4698,\"Volume Ok\",\"Volume não pertence a carga\")),\"Volume não pertence a carga\")","v":""}]
[null,{"$f":"IFERROR(IF(A4699=\"\",\"\",IF(VLOOKUP(A4699,'Romaneio da Carga'!E:E,1,0)=BD!A4699,\"Volume Ok\",\"Volume não pertence a carga\")),\"Volume não pertence a carga\")","v":""}]
[null,{"$f":"IFERROR(IF(A4700=\"\",\"\",IF(VLOOKUP(A4700,'Romaneio da Carga'!E:E,1,0)=BD!A4700,\"Volume Ok\",\"Volume não pertence a carga\")),\"Volume não pertence a carga\")","v":""}]
[null,{"$f":"IFERROR(IF(A4701=\"\",\"\",IF(VLOOKUP(A4701,'Romaneio da Carga'!E:E,1,0)=BD!A4701,\"Volume Ok\",\"Volume não pertence a carga\")),\"Volume não pertence a carga\")","v":""}]
[null,{"$f":"IFERROR(IF(A4702=\"\",\"\",IF(VLOOKUP(A4702,'Romaneio da Carga'!E:E,1,0)=BD!A4702,\"Volume Ok\",\"Volume não pertence a carga\")),\"Volume não pertence a carga\")","v":""}]
[null,{"$f":"IFERROR(IF(A4703=\"\",\"\",IF(VLOOKUP(A4703,'Romaneio da Carga'!E:E,1,0)=BD!A4703,\"Volume Ok\",\"Volume não pertence a carga\")),\"Volume não pertence a carga\")","v":""}]
[null,{"$f":"IFERROR(IF(A4704=\"\",\"\",IF(VLOOKUP(A4704,'Romaneio da Carga'!E:E,1,0)=BD!A4704,\"Volume Ok\",\"Volume não pertence a carga\")),\"Volume não pertence a carga\")","v":""}]
[null,{"$f":"IFERROR(IF(A4705=\"\",\"\",IF(VLOOKUP(A4705,'Romaneio da Carga'!E:E,1,0)=BD!A4705,\"Volume Ok\",\"Volume não pertence a carga\")),\"Volume não pertence a carga\")","v":""}]
[null,{"$f":"IFERROR(IF(A4706=\"\",\"\",IF(VLOOKUP(A4706,'Romaneio da Carga'!E:E,1,0)=BD!A4706,\"Volume Ok\",\"Volume não pertence a carga\")),\"Volume não pertence a carga\")","v":""}]
[null,{"$f":"IFERROR(IF(A4707=\"\",\"\",IF(VLOOKUP(A4707,'Romaneio da Carga'!E:E,1,0)=BD!A4707,\"Volume Ok\",\"Volume não pertence a carga\")),\"Volume não pertence a carga\")","v":""}]
[null,{"$f":"IFERROR(IF(A4708=\"\",\"\",IF(VLOOKUP(A4708,'Romaneio da Carga'!E:E,1,0)=BD!A4708,\"Volume Ok\",\"Volume não pertence a carga\")),\"Volume não pertence a carga\")","v":""}]
[null,{"$f":"IFERROR(IF(A4709=\"\",\"\",IF(VLOOKUP(A4709,'Romaneio da Carga'!E:E,1,0)=BD!A4709,\"Volume Ok\",\"Volume não pertence a carga\")),\"Volume não pertence a carga\")","v":""}]
[null,{"$f":"IFERROR(IF(A4710=\"\",\"\",IF(VLOOKUP(A4710,'Romaneio da Carga'!E:E,1,0)=BD!A4710,\"Volume Ok\",\"Volume não pertence a carga\")),\"Volume não pertence a carga\")","v":""}]
[null,{"$f":"IFERROR(IF(A4711=\"\",\"\",IF(VLOOKUP(A4711,'Romaneio da Carga'!E:E,1,0)=BD!A4711,\"Volume Ok\",\"Volume não pertence a carga\")),\"Volume não pertence a carga\")","v":""}]
[null,{"$f":"IFERROR(IF(A4712=\"\",\"\",IF(VLOOKUP(A4712,'Romaneio da Carga'!E:E,1,0)=BD!A4712,\"Volume Ok\",\"Volume não pertence a carga\")),\"Volume não pertence a carga\")","v":""}]
[null,{"$f":"IFERROR(IF(A4713=\"\",\"\",IF(VLOOKUP(A4713,'Romaneio da Carga'!E:E,1,0)=BD!A4713,\"Volume Ok\",\"Volume não pertence a carga\")),\"Volume não pertence a carga\")","v":""}]
[null,{"$f":"IFERROR(IF(A4714=\"\",\"\",IF(VLOOKUP(A4714,'Romaneio da Carga'!E:E,1,0)=BD!A4714,\"Volume Ok\",\"Volume não pertence a carga\")),\"Volume não pertence a carga\")","v":""}]
[null,{"$f":"IFERROR(IF(A4715=\"\",\"\",IF(VLOOKUP(A4715,'Romaneio da Carga'!E:E,1,0)=BD!A4715,\"Volume Ok\",\"Volume não pertence a carga\")),\"Volume não pertence a carga\")","v":""}]
[null,{"$f":"IFERROR(IF(A4716=\"\",\"\",IF(VLOOKUP(A4716,'Romaneio da Carga'!E:E,1,0)=BD!A4716,\"Volume Ok\",\"Volume não pertence a carga\")),\"Volume não pertence a carga\")","v":""}]
[null,{"$f":"IFERROR(IF(A4717=\"\",\"\",IF(VLOOKUP(A4717,'Romaneio da Carga'!E:E,1,0)=BD!A4717,\"Volume Ok\",\"Volume não pertence a carga\")),\"Volume não pertence a carga\")","v":""}]
[null,{"$f":"IFERROR(IF(A4718=\"\",\"\",IF(VLOOKUP(A4718,'Romaneio da Carga'!E:E,1,0)=BD!A4718,\"Volume Ok\",\"Volume não pertence a carga\")),\"Volume não pertence a carga\")","v":""}]
[null,{"$f":"IFERROR(IF(A4719=\"\",\"\",IF(VLOOKUP(A4719,'Romaneio da Carga'!E:E,1,0)=BD!A4719,\"Volume Ok\",\"Volume não pertence a carga\")),\"Volume não pertence a carga\")","v":""}]
[null,{"$f":"IFERROR(IF(A4720=\"\",\"\",IF(VLOOKUP(A4720,'Romaneio da Carga'!E:E,1,0)=BD!A4720,\"Volume Ok\",\"Volume não pertence a carga\")),\"Volume não pertence a carga\")","v":""}]
[null,{"$f":"IFERROR(IF(A4721=\"\",\"\",IF(VLOOKUP(A4721,'Romaneio da Carga'!E:E,1,0)=BD!A4721,\"Volume Ok\",\"Volume não pertence a carga\")),\"Volume não pertence a carga\")","v":""}]
[null,{"$f":"IFERROR(IF(A4722=\"\",\"\",IF(VLOOKUP(A4722,'Romaneio da Carga'!E:E,1,0)=BD!A4722,\"Volume Ok\",\"Volume não pertence a carga\")),\"Volume não pertence a carga\")","v":""}]
[null,{"$f":"IFERROR(IF(A4723=\"\",\"\",IF(VLOOKUP(A4723,'Romaneio da Carga'!E:E,1,0)=BD!A4723,\"Volume Ok\",\"Volume não pertence a carga\")),\"Volume não pertence a carga\")","v":""}]
[null,{"$f":"IFERROR(IF(A4724=\"\",\"\",IF(VLOOKUP(A4724,'Romaneio da Carga'!E:E,1,0)=BD!A4724,\"Volume Ok\",\"Volume não pertence a carga\")),\"Volume não pertence a carga\")","v":""}]
[null,{"$f":"IFERROR(IF(A4725=\"\",\"\",IF(VLOOKUP(A4725,'Romaneio da Carga'!E:E,1,0)=BD!A4725,\"Volume Ok\",\"Volume não pertence a carga\")),\"Volume não pertence a carga\")","v":""}]
[null,{"$f":"IFERROR(IF(A4726=\"\",\"\",IF(VLOOKUP(A4726,'Romaneio da Carga'!E:E,1,0)=BD!A4726,\"Volume Ok\",\"Volume não pertence a carga\")),\"Volume não pertence a carga\")","v":""}]
[null,{"$f":"IFERROR(IF(A4727=\"\",\"\",IF(VLOOKUP(A4727,'Romaneio da Carga'!E:E,1,0)=BD!A4727,\"Volume Ok\",\"Volume não pertence a carga\")),\"Volume não pertence a carga\")","v":""}]
[null,{"$f":"IFERROR(IF(A4728=\"\",\"\",IF(VLOOKUP(A4728,'Romaneio da Carga'!E:E,1,0)=BD!A4728,\"Volume Ok\",\"Volume não pertence a carga\")),\"Volume não pertence a carga\")","v":""}]
[null,{"$f":"IFERROR(IF(A4729=\"\",\"\",IF(VLOOKUP(A4729,'Romaneio da Carga'!E:E,1,0)=BD!A4729,\"Volume Ok\",\"Volume não pertence a carga\")),\"Volume não pertence a carga\")","v":""}]
[null,{"$f":"IFERROR(IF(A4730=\"\",\"\",IF(VLOOKUP(A4730,'Romaneio da Carga'!E:E,1,0)=BD!A4730,\"Volume Ok\",\"Volume não pertence a carga\")),\"Volume não pertence a carga\")","v":""}]
[null,{"$f":"IFERROR(IF(A4731=\"\",\"\",IF(VLOOKUP(A4731,'Romaneio da Carga'!E:E,1,0)=BD!A4731,\"Volume Ok\",\"Volume não pertence a carga\")),\"Volume não pertence a carga\")","v":""}]
[null,{"$f":"IFERROR(IF(A4732=\"\",\"\",IF(VLOOKUP(A4732,'Romaneio da Carga'!E:E,1,0)=BD!A4732,\"Volume Ok\",\"Volume não pertence a carga\")),\"Volume não pertence a carga\")","v":""}]
[null,{"$f":"IFERROR(IF(A4733=\"\",\"\",IF(VLOOKUP(A4733,'Romaneio da Carga'!E:E,1,0)=BD!A4733,\"Volume Ok\",\"Volume não pertence a carga\")),\"Volume não pertence a carga\")","v":""}]
[null,{"$f":"IFERROR(IF(A4734=\"\",\"\",IF(VLOOKUP(A4734,'Romaneio da Carga'!E:E,1,0)=BD!A4734,\"Volume Ok\",\"Volume não pertence a carga\")),\"Volume não pertence a carga\")","v":""}]
[null,{"$f":"IFERROR(IF(A4735=\"\",\"\",IF(VLOOKUP(A4735,'Romaneio da Carga'!E:E,1,0)=BD!A4735,\"Volume Ok\",\"Volume não pertence a carga\")),\"Volume não pertence a carga\")","v":""}]
[null,{"$f":"IFERROR(IF(A4736=\"\",\"\",IF(VLOOKUP(A4736,'Romaneio da Carga'!E:E,1,0)=BD!A4736,\"Volume Ok\",\"Volume não pertence a carga\")),\"Volume não pertence a carga\")","v":""}]
[null,{"$f":"IFERROR(IF(A4737=\"\",\"\",IF(VLOOKUP(A4737,'Romaneio da Carga'!E:E,1,0)=BD!A4737,\"Volume Ok\",\"Volume não pertence a carga\")),\"Volume não pertence a carga\")","v":""}]
[null,{"$f":"IFERROR(IF(A4738=\"\",\"\",IF(VLOOKUP(A4738,'Romaneio da Carga'!E:E,1,0)=BD!A4738,\"Volume Ok\",\"Volume não pertence a carga\")),\"Volume não pertence a carga\")","v":""}]
[null,{"$f":"IFERROR(IF(A4739=\"\",\"\",IF(VLOOKUP(A4739,'Romaneio da Carga'!E:E,1,0)=BD!A4739,\"Volume Ok\",\"Volume não pertence a carga\")),\"Volume não pertence a carga\")","v":""}]
[null,{"$f":"IFERROR(IF(A4740=\"\",\"\",IF(VLOOKUP(A4740,'Romaneio da Carga'!E:E,1,0)=BD!A4740,\"Volume Ok\",\"Volume não pertence a carga\")),\"Volume não pertence a carga\")","v":""}]
[null,{"$f":"IFERROR(IF(A4741=\"\",\"\",IF(VLOOKUP(A4741,'Romaneio da Carga'!E:E,1,0)=BD!A4741,\"Volume Ok\",\"Volume não pertence a carga\")),\"Volume não pertence a carga\")","v":""}]
[null,{"$f":"IFERROR(IF(A4742=\"\",\"\",IF(VLOOKUP(A4742,'Romaneio da Carga'!E:E,1,0)=BD!A4742,\"Volume Ok\",\"Volume não pertence a carga\")),\"Volume não pertence a carga\")","v":""}]
[null,{"$f":"IFERROR(IF(A4743=\"\",\"\",IF(VLOOKUP(A4743,'Romaneio da Carga'!E:E,1,0)=BD!A4743,\"Volume Ok\",\"Volume não pertence a carga\")),\"Volume não pertence a carga\")","v":""}]
[null,{"$f":"IFERROR(IF(A4744=\"\",\"\",IF(VLOOKUP(A4744,'Romaneio da Carga'!E:E,1,0)=BD!A4744,\"Volume Ok\",\"Volume não pertence a carga\")),\"Volume não pertence a carga\")","v":""}]
[null,{"$f":"IFERROR(IF(A4745=\"\",\"\",IF(VLOOKUP(A4745,'Romaneio da Carga'!E:E,1,0)=BD!A4745,\"Volume Ok\",\"Volume não pertence a carga\")),\"Volume não pertence a carga\")","v":""}]
[null,{"$f":"IFERROR(IF(A4746=\"\",\"\",IF(VLOOKUP(A4746,'Romaneio da Carga'!E:E,1,0)=BD!A4746,\"Volume Ok\",\"Volume não pertence a carga\")),\"Volume não pertence a carga\")","v":""}]
[null,{"$f":"IFERROR(IF(A4747=\"\",\"\",IF(VLOOKUP(A4747,'Romaneio da Carga'!E:E,1,0)=BD!A4747,\"Volume Ok\",\"Volume não pertence a carga\")),\"Volume não pertence a carga\")","v":""}]
[null,{"$f":"IFERROR(IF(A4748=\"\",\"\",IF(VLOOKUP(A4748,'Romaneio da Carga'!E:E,1,0)=BD!A4748,\"Volume Ok\",\"Volume não pertence a carga\")),\"Volume não pertence a carga\")","v":""}]
[null,{"$f":"IFERROR(IF(A4749=\"\",\"\",IF(VLOOKUP(A4749,'Romaneio da Carga'!E:E,1,0)=BD!A4749,\"Volume Ok\",\"Volume não pertence a carga\")),\"Volume não pertence a carga\")","v":""}]
[null,{"$f":"IFERROR(IF(A4750=\"\",\"\",IF(VLOOKUP(A4750,'Romaneio da Carga'!E:E,1,0)=BD!A4750,\"Volume Ok\",\"Volume não pertence a carga\")),\"Volume não pertence a carga\")","v":""}]
[null,{"$f":"IFERROR(IF(A4751=\"\",\"\",IF(VLOOKUP(A4751,'Romaneio da Carga'!E:E,1,0)=BD!A4751,\"Volume Ok\",\"Volume não pertence a carga\")),\"Volume não pertence a carga\")","v":""}]
[null,{"$f":"IFERROR(IF(A4752=\"\",\"\",IF(VLOOKUP(A4752,'Romaneio da Carga'!E:E,1,0)=BD!A4752,\"Volume Ok\",\"Volume não pertence a carga\")),\"Volume não pertence a carga\")","v":""}]
[null,{"$f":"IFERROR(IF(A4753=\"\",\"\",IF(VLOOKUP(A4753,'Romaneio da Carga'!E:E,1,0)=BD!A4753,\"Volume Ok\",\"Volume não pertence a carga\")),\"Volume não pertence a carga\")","v":""}]
[null,{"$f":"IFERROR(IF(A4754=\"\",\"\",IF(VLOOKUP(A4754,'Romaneio da Carga'!E:E,1,0)=BD!A4754,\"Volume Ok\",\"Volume não pertence a carga\")),\"Volume não pertence a carga\")","v":""}]
[null,{"$f":"IFERROR(IF(A4755=\"\",\"\",IF(VLOOKUP(A4755,'Romaneio da Carga'!E:E,1,0)=BD!A4755,\"Volume Ok\",\"Volume não pertence a carga\")),\"Volume não pertence a carga\")","v":""}]
[null,{"$f":"IFERROR(IF(A4756=\"\",\"\",IF(VLOOKUP(A4756,'Romaneio da Carga'!E:E,1,0)=BD!A4756,\"Volume Ok\",\"Volume não pertence a carga\")),\"Volume não pertence a carga\")","v":""}]
[null,{"$f":"IFERROR(IF(A4757=\"\",\"\",IF(VLOOKUP(A4757,'Romaneio da Carga'!E:E,1,0)=BD!A4757,\"Volume Ok\",\"Volume não pertence a carga\")),\"Volume não pertence a carga\")","v":""}]
[null,{"$f":"IFERROR(IF(A4758=\"\",\"\",IF(VLOOKUP(A4758,'Romaneio da Carga'!E:E,1,0)=BD!A4758,\"Volume Ok\",\"Volume não pertence a carga\")),\"Volume não pertence a carga\")","v":""}]
[null,{"$f":"IFERROR(IF(A4759=\"\",\"\",IF(VLOOKUP(A4759,'Romaneio da Carga'!E:E,1,0)=BD!A4759,\"Volume Ok\",\"Volume não pertence a carga\")),\"Volume não pertence a carga\")","v":""}]
[null,{"$f":"IFERROR(IF(A4760=\"\",\"\",IF(VLOOKUP(A4760,'Romaneio da Carga'!E:E,1,0)=BD!A4760,\"Volume Ok\",\"Volume não pertence a carga\")),\"Volume não pertence a carga\")","v":""}]
[null,{"$f":"IFERROR(IF(A4761=\"\",\"\",IF(VLOOKUP(A4761,'Romaneio da Carga'!E:E,1,0)=BD!A4761,\"Volume Ok\",\"Volume não pertence a carga\")),\"Volume não pertence a carga\")","v":""}]
[null,{"$f":"IFERROR(IF(A4762=\"\",\"\",IF(VLOOKUP(A4762,'Romaneio da Carga'!E:E,1,0)=BD!A4762,\"Volume Ok\",\"Volume não pertence a carga\")),\"Volume não pertence a carga\")","v":""}]
[null,{"$f":"IFERROR(IF(A4763=\"\",\"\",IF(VLOOKUP(A4763,'Romaneio da Carga'!E:E,1,0)=BD!A4763,\"Volume Ok\",\"Volume não pertence a carga\")),\"Volume não pertence a carga\")","v":""}]
[null,{"$f":"IFERROR(IF(A4764=\"\",\"\",IF(VLOOKUP(A4764,'Romaneio da Carga'!E:E,1,0)=BD!A4764,\"Volume Ok\",\"Volume não pertence a carga\")),\"Volume não pertence a carga\")","v":""}]
[null,{"$f":"IFERROR(IF(A4765=\"\",\"\",IF(VLOOKUP(A4765,'Romaneio da Carga'!E:E,1,0)=BD!A4765,\"Volume Ok\",\"Volume não pertence a carga\")),\"Volume não pertence a carga\")","v":""}]
[null,{"$f":"IFERROR(IF(A4766=\"\",\"\",IF(VLOOKUP(A4766,'Romaneio da Carga'!E:E,1,0)=BD!A4766,\"Volume Ok\",\"Volume não pertence a carga\")),\"Volume não pertence a carga\")","v":""}]
[null,{"$f":"IFERROR(IF(A4767=\"\",\"\",IF(VLOOKUP(A4767,'Romaneio da Carga'!E:E,1,0)=BD!A4767,\"Volume Ok\",\"Volume não pertence a carga\")),\"Volume não pertence a carga\")","v":""}]
[null,{"$f":"IFERROR(IF(A4768=\"\",\"\",IF(VLOOKUP(A4768,'Romaneio da Carga'!E:E,1,0)=BD!A4768,\"Volume Ok\",\"Volume não pertence a carga\")),\"Volume não pertence a carga\")","v":""}]
[null,{"$f":"IFERROR(IF(A4769=\"\",\"\",IF(VLOOKUP(A4769,'Romaneio da Carga'!E:E,1,0)=BD!A4769,\"Volume Ok\",\"Volume não pertence a carga\")),\"Volume não pertence a carga\")","v":""}]
[null,{"$f":"IFERROR(IF(A4770=\"\",\"\",IF(VLOOKUP(A4770,'Romaneio da Carga'!E:E,1,0)=BD!A4770,\"Volume Ok\",\"Volume não pertence a carga\")),\"Volume não pertence a carga\")","v":""}]
[null,{"$f":"IFERROR(IF(A4771=\"\",\"\",IF(VLOOKUP(A4771,'Romaneio da Carga'!E:E,1,0)=BD!A4771,\"Volume Ok\",\"Volume não pertence a carga\")),\"Volume não pertence a carga\")","v":""}]
[null,{"$f":"IFERROR(IF(A4772=\"\",\"\",IF(VLOOKUP(A4772,'Romaneio da Carga'!E:E,1,0)=BD!A4772,\"Volume Ok\",\"Volume não pertence a carga\")),\"Volume não pertence a carga\")","v":""}]
[null,{"$f":"IFERROR(IF(A4773=\"\",\"\",IF(VLOOKUP(A4773,'Romaneio da Carga'!E:E,1,0)=BD!A4773,\"Volume Ok\",\"Volume não pertence a carga\")),\"Volume não pertence a carga\")","v":""}]
[null,{"$f":"IFERROR(IF(A4774=\"\",\"\",IF(VLOOKUP(A4774,'Romaneio da Carga'!E:E,1,0)=BD!A4774,\"Volume Ok\",\"Volume não pertence a carga\")),\"Volume não pertence a carga\")","v":""}]
[null,{"$f":"IFERROR(IF(A4775=\"\",\"\",IF(VLOOKUP(A4775,'Romaneio da Carga'!E:E,1,0)=BD!A4775,\"Volume Ok\",\"Volume não pertence a carga\")),\"Volume não pertence a carga\")","v":""}]
[null,{"$f":"IFERROR(IF(A4776=\"\",\"\",IF(VLOOKUP(A4776,'Romaneio da Carga'!E:E,1,0)=BD!A4776,\"Volume Ok\",\"Volume não pertence a carga\")),\"Volume não pertence a carga\")","v":""}]
[null,{"$f":"IFERROR(IF(A4777=\"\",\"\",IF(VLOOKUP(A4777,'Romaneio da Carga'!E:E,1,0)=BD!A4777,\"Volume Ok\",\"Volume não pertence a carga\")),\"Volume não pertence a carga\")","v":""}]
[null,{"$f":"IFERROR(IF(A4778=\"\",\"\",IF(VLOOKUP(A4778,'Romaneio da Carga'!E:E,1,0)=BD!A4778,\"Volume Ok\",\"Volume não pertence a carga\")),\"Volume não pertence a carga\")","v":""}]
[null,{"$f":"IFERROR(IF(A4779=\"\",\"\",IF(VLOOKUP(A4779,'Romaneio da Carga'!E:E,1,0)=BD!A4779,\"Volume Ok\",\"Volume não pertence a carga\")),\"Volume não pertence a carga\")","v":""}]
[null,{"$f":"IFERROR(IF(A4780=\"\",\"\",IF(VLOOKUP(A4780,'Romaneio da Carga'!E:E,1,0)=BD!A4780,\"Volume Ok\",\"Volume não pertence a carga\")),\"Volume não pertence a carga\")","v":""}]
[null,{"$f":"IFERROR(IF(A4781=\"\",\"\",IF(VLOOKUP(A4781,'Romaneio da Carga'!E:E,1,0)=BD!A4781,\"Volume Ok\",\"Volume não pertence a carga\")),\"Volume não pertence a carga\")","v":""}]
[null,{"$f":"IFERROR(IF(A4782=\"\",\"\",IF(VLOOKUP(A4782,'Romaneio da Carga'!E:E,1,0)=BD!A4782,\"Volume Ok\",\"Volume não pertence a carga\")),\"Volume não pertence a carga\")","v":""}]
[null,{"$f":"IFERROR(IF(A4783=\"\",\"\",IF(VLOOKUP(A4783,'Romaneio da Carga'!E:E,1,0)=BD!A4783,\"Volume Ok\",\"Volume não pertence a carga\")),\"Volume não pertence a carga\")","v":""}]
[null,{"$f":"IFERROR(IF(A4784=\"\",\"\",IF(VLOOKUP(A4784,'Romaneio da Carga'!E:E,1,0)=BD!A4784,\"Volume Ok\",\"Volume não pertence a carga\")),\"Volume não pertence a carga\")","v":""}]
[null,{"$f":"IFERROR(IF(A4785=\"\",\"\",IF(VLOOKUP(A4785,'Romaneio da Carga'!E:E,1,0)=BD!A4785,\"Volume Ok\",\"Volume não pertence a carga\")),\"Volume não pertence a carga\")","v":""}]
[null,{"$f":"IFERROR(IF(A4786=\"\",\"\",IF(VLOOKUP(A4786,'Romaneio da Carga'!E:E,1,0)=BD!A4786,\"Volume Ok\",\"Volume não pertence a carga\")),\"Volume não pertence a carga\")","v":""}]
[null,{"$f":"IFERROR(IF(A4787=\"\",\"\",IF(VLOOKUP(A4787,'Romaneio da Carga'!E:E,1,0)=BD!A4787,\"Volume Ok\",\"Volume não pertence a carga\")),\"Volume não pertence a carga\")","v":""}]
[null,{"$f":"IFERROR(IF(A4788=\"\",\"\",IF(VLOOKUP(A4788,'Romaneio da Carga'!E:E,1,0)=BD!A4788,\"Volume Ok\",\"Volume não pertence a carga\")),\"Volume não pertence a carga\")","v":""}]
[null,{"$f":"IFERROR(IF(A4789=\"\",\"\",IF(VLOOKUP(A4789,'Romaneio da Carga'!E:E,1,0)=BD!A4789,\"Volume Ok\",\"Volume não pertence a carga\")),\"Volume não pertence a carga\")","v":""}]
[null,{"$f":"IFERROR(IF(A4790=\"\",\"\",IF(VLOOKUP(A4790,'Romaneio da Carga'!E:E,1,0)=BD!A4790,\"Volume Ok\",\"Volume não pertence a carga\")),\"Volume não pertence a carga\")","v":""}]
[null,{"$f":"IFERROR(IF(A4791=\"\",\"\",IF(VLOOKUP(A4791,'Romaneio da Carga'!E:E,1,0)=BD!A4791,\"Volume Ok\",\"Volume não pertence a carga\")),\"Volume não pertence a carga\")","v":""}]
[null,{"$f":"IFERROR(IF(A4792=\"\",\"\",IF(VLOOKUP(A4792,'Romaneio da Carga'!E:E,1,0)=BD!A4792,\"Volume Ok\",\"Volume não pertence a carga\")),\"Volume não pertence a carga\")","v":""}]
[null,{"$f":"IFERROR(IF(A4793=\"\",\"\",IF(VLOOKUP(A4793,'Romaneio da Carga'!E:E,1,0)=BD!A4793,\"Volume Ok\",\"Volume não pertence a carga\")),\"Volume não pertence a carga\")","v":""}]
[null,{"$f":"IFERROR(IF(A4794=\"\",\"\",IF(VLOOKUP(A4794,'Romaneio da Carga'!E:E,1,0)=BD!A4794,\"Volume Ok\",\"Volume não pertence a carga\")),\"Volume não pertence a carga\")","v":""}]
[null,{"$f":"IFERROR(IF(A4795=\"\",\"\",IF(VLOOKUP(A4795,'Romaneio da Carga'!E:E,1,0)=BD!A4795,\"Volume Ok\",\"Volume não pertence a carga\")),\"Volume não pertence a carga\")","v":""}]
[null,{"$f":"IFERROR(IF(A4796=\"\",\"\",IF(VLOOKUP(A4796,'Romaneio da Carga'!E:E,1,0)=BD!A4796,\"Volume Ok\",\"Volume não pertence a carga\")),\"Volume não pertence a carga\")","v":""}]
[null,{"$f":"IFERROR(IF(A4797=\"\",\"\",IF(VLOOKUP(A4797,'Romaneio da Carga'!E:E,1,0)=BD!A4797,\"Volume Ok\",\"Volume não pertence a carga\")),\"Volume não pertence a carga\")","v":""}]
[null,{"$f":"IFERROR(IF(A4798=\"\",\"\",IF(VLOOKUP(A4798,'Romaneio da Carga'!E:E,1,0)=BD!A4798,\"Volume Ok\",\"Volume não pertence a carga\")),\"Volume não pertence a carga\")","v":""}]
[null,{"$f":"IFERROR(IF(A4799=\"\",\"\",IF(VLOOKUP(A4799,'Romaneio da Carga'!E:E,1,0)=BD!A4799,\"Volume Ok\",\"Volume não pertence a carga\")),\"Volume não pertence a carga\")","v":""}]
[null,{"$f":"IFERROR(IF(A4800=\"\",\"\",IF(VLOOKUP(A4800,'Romaneio da Carga'!E:E,1,0)=BD!A4800,\"Volume Ok\",\"Volume não pertence a carga\")),\"Volume não pertence a carga\")","v":""}]
[null,{"$f":"IFERROR(IF(A4801=\"\",\"\",IF(VLOOKUP(A4801,'Romaneio da Carga'!E:E,1,0)=BD!A4801,\"Volume Ok\",\"Volume não pertence a carga\")),\"Volume não pertence a carga\")","v":""}]
[null,{"$f":"IFERROR(IF(A4802=\"\",\"\",IF(VLOOKUP(A4802,'Romaneio da Carga'!E:E,1,0)=BD!A4802,\"Volume Ok\",\"Volume não pertence a carga\")),\"Volume não pertence a carga\")","v":""}]
[null,{"$f":"IFERROR(IF(A4803=\"\",\"\",IF(VLOOKUP(A4803,'Romaneio da Carga'!E:E,1,0)=BD!A4803,\"Volume Ok\",\"Volume não pertence a carga\")),\"Volume não pertence a carga\")","v":""}]
[null,{"$f":"IFERROR(IF(A4804=\"\",\"\",IF(VLOOKUP(A4804,'Romaneio da Carga'!E:E,1,0)=BD!A4804,\"Volume Ok\",\"Volume não pertence a carga\")),\"Volume não pertence a carga\")","v":""}]
[null,{"$f":"IFERROR(IF(A4805=\"\",\"\",IF(VLOOKUP(A4805,'Romaneio da Carga'!E:E,1,0)=BD!A4805,\"Volume Ok\",\"Volume não pertence a carga\")),\"Volume não pertence a carga\")","v":""}]
[null,{"$f":"IFERROR(IF(A4806=\"\",\"\",IF(VLOOKUP(A4806,'Romaneio da Carga'!E:E,1,0)=BD!A4806,\"Volume Ok\",\"Volume não pertence a carga\")),\"Volume não pertence a carga\")","v":""}]
[null,{"$f":"IFERROR(IF(A4807=\"\",\"\",IF(VLOOKUP(A4807,'Romaneio da Carga'!E:E,1,0)=BD!A4807,\"Volume Ok\",\"Volume não pertence a carga\")),\"Volume não pertence a carga\")","v":""}]
[null,{"$f":"IFERROR(IF(A4808=\"\",\"\",IF(VLOOKUP(A4808,'Romaneio da Carga'!E:E,1,0)=BD!A4808,\"Volume Ok\",\"Volume não pertence a carga\")),\"Volume não pertence a carga\")","v":""}]
[null,{"$f":"IFERROR(IF(A4809=\"\",\"\",IF(VLOOKUP(A4809,'Romaneio da Carga'!E:E,1,0)=BD!A4809,\"Volume Ok\",\"Volume não pertence a carga\")),\"Volume não pertence a carga\")","v":""}]
[null,{"$f":"IFERROR(IF(A4810=\"\",\"\",IF(VLOOKUP(A4810,'Romaneio da Carga'!E:E,1,0)=BD!A4810,\"Volume Ok\",\"Volume não pertence a carga\")),\"Volume não pertence a carga\")","v":""}]
[null,{"$f":"IFERROR(IF(A4811=\"\",\"\",IF(VLOOKUP(A4811,'Romaneio da Carga'!E:E,1,0)=BD!A4811,\"Volume Ok\",\"Volume não pertence a carga\")),\"Volume não pertence a carga\")","v":""}]
[null,{"$f":"IFERROR(IF(A4812=\"\",\"\",IF(VLOOKUP(A4812,'Romaneio da Carga'!E:E,1,0)=BD!A4812,\"Volume Ok\",\"Volume não pertence a carga\")),\"Volume não pertence a carga\")","v":""}]
[null,{"$f":"IFERROR(IF(A4813=\"\",\"\",IF(VLOOKUP(A4813,'Romaneio da Carga'!E:E,1,0)=BD!A4813,\"Volume Ok\",\"Volume não pertence a carga\")),\"Volume não pertence a carga\")","v":""}]
[null,{"$f":"IFERROR(IF(A4814=\"\",\"\",IF(VLOOKUP(A4814,'Romaneio da Carga'!E:E,1,0)=BD!A4814,\"Volume Ok\",\"Volume não pertence a carga\")),\"Volume não pertence a carga\")","v":""}]
[null,{"$f":"IFERROR(IF(A4815=\"\",\"\",IF(VLOOKUP(A4815,'Romaneio da Carga'!E:E,1,0)=BD!A4815,\"Volume Ok\",\"Volume não pertence a carga\")),\"Volume não pertence a carga\")","v":""}]
[null,{"$f":"IFERROR(IF(A4816=\"\",\"\",IF(VLOOKUP(A4816,'Romaneio da Carga'!E:E,1,0)=BD!A4816,\"Volume Ok\",\"Volume não pertence a carga\")),\"Volume não pertence a carga\")","v":""}]
[null,{"$f":"IFERROR(IF(A4817=\"\",\"\",IF(VLOOKUP(A4817,'Romaneio da Carga'!E:E,1,0)=BD!A4817,\"Volume Ok\",\"Volume não pertence a carga\")),\"Volume não pertence a carga\")","v":""}]
[null,{"$f":"IFERROR(IF(A4818=\"\",\"\",IF(VLOOKUP(A4818,'Romaneio da Carga'!E:E,1,0)=BD!A4818,\"Volume Ok\",\"Volume não pertence a carga\")),\"Volume não pertence a carga\")","v":""}]
[null,{"$f":"IFERROR(IF(A4819=\"\",\"\",IF(VLOOKUP(A4819,'Romaneio da Carga'!E:E,1,0)=BD!A4819,\"Volume Ok\",\"Volume não pertence a carga\")),\"Volume não pertence a carga\")","v":""}]
[null,{"$f":"IFERROR(IF(A4820=\"\",\"\",IF(VLOOKUP(A4820,'Romaneio da Carga'!E:E,1,0)=BD!A4820,\"Volume Ok\",\"Volume não pertence a carga\")),\"Volume não pertence a carga\")","v":""}]
[null,{"$f":"IFERROR(IF(A4821=\"\",\"\",IF(VLOOKUP(A4821,'Romaneio da Carga'!E:E,1,0)=BD!A4821,\"Volume Ok\",\"Volume não pertence a carga\")),\"Volume não pertence a carga\")","v":""}]
[null,{"$f":"IFERROR(IF(A4822=\"\",\"\",IF(VLOOKUP(A4822,'Romaneio da Carga'!E:E,1,0)=BD!A4822,\"Volume Ok\",\"Volume não pertence a carga\")),\"Volume não pertence a carga\")","v":""}]
[null,{"$f":"IFERROR(IF(A4823=\"\",\"\",IF(VLOOKUP(A4823,'Romaneio da Carga'!E:E,1,0)=BD!A4823,\"Volume Ok\",\"Volume não pertence a carga\")),\"Volume não pertence a carga\")","v":""}]
[null,{"$f":"IFERROR(IF(A4824=\"\",\"\",IF(VLOOKUP(A4824,'Romaneio da Carga'!E:E,1,0)=BD!A4824,\"Volume Ok\",\"Volume não pertence a carga\")),\"Volume não pertence a carga\")","v":""}]
[null,{"$f":"IFERROR(IF(A4825=\"\",\"\",IF(VLOOKUP(A4825,'Romaneio da Carga'!E:E,1,0)=BD!A4825,\"Volume Ok\",\"Volume não pertence a carga\")),\"Volume não pertence a carga\")","v":""}]
[null,{"$f":"IFERROR(IF(A4826=\"\",\"\",IF(VLOOKUP(A4826,'Romaneio da Carga'!E:E,1,0)=BD!A4826,\"Volume Ok\",\"Volume não pertence a carga\")),\"Volume não pertence a carga\")","v":""}]
[null,{"$f":"IFERROR(IF(A4827=\"\",\"\",IF(VLOOKUP(A4827,'Romaneio da Carga'!E:E,1,0)=BD!A4827,\"Volume Ok\",\"Volume não pertence a carga\")),\"Volume não pertence a carga\")","v":""}]
[null,{"$f":"IFERROR(IF(A4828=\"\",\"\",IF(VLOOKUP(A4828,'Romaneio da Carga'!E:E,1,0)=BD!A4828,\"Volume Ok\",\"Volume não pertence a carga\")),\"Volume não pertence a carga\")","v":""}]
[null,{"$f":"IFERROR(IF(A4829=\"\",\"\",IF(VLOOKUP(A4829,'Romaneio da Carga'!E:E,1,0)=BD!A4829,\"Volume Ok\",\"Volume não pertence a carga\")),\"Volume não pertence a carga\")","v":""}]
[null,{"$f":"IFERROR(IF(A4830=\"\",\"\",IF(VLOOKUP(A4830,'Romaneio da Carga'!E:E,1,0)=BD!A4830,\"Volume Ok\",\"Volume não pertence a carga\")),\"Volume não pertence a carga\")","v":""}]
[null,{"$f":"IFERROR(IF(A4831=\"\",\"\",IF(VLOOKUP(A4831,'Romaneio da Carga'!E:E,1,0)=BD!A4831,\"Volume Ok\",\"Volume não pertence a carga\")),\"Volume não pertence a carga\")","v":""}]
[null,{"$f":"IFERROR(IF(A4832=\"\",\"\",IF(VLOOKUP(A4832,'Romaneio da Carga'!E:E,1,0)=BD!A4832,\"Volume Ok\",\"Volume não pertence a carga\")),\"Volume não pertence a carga\")","v":""}]
[null,{"$f":"IFERROR(IF(A4833=\"\",\"\",IF(VLOOKUP(A4833,'Romaneio da Carga'!E:E,1,0)=BD!A4833,\"Volume Ok\",\"Volume não pertence a carga\")),\"Volume não pertence a carga\")","v":""}]
[null,{"$f":"IFERROR(IF(A4834=\"\",\"\",IF(VLOOKUP(A4834,'Romaneio da Carga'!E:E,1,0)=BD!A4834,\"Volume Ok\",\"Volume não pertence a carga\")),\"Volume não pertence a carga\")","v":""}]
[null,{"$f":"IFERROR(IF(A4835=\"\",\"\",IF(VLOOKUP(A4835,'Romaneio da Carga'!E:E,1,0)=BD!A4835,\"Volume Ok\",\"Volume não pertence a carga\")),\"Volume não pertence a carga\")","v":""}]
[null,{"$f":"IFERROR(IF(A4836=\"\",\"\",IF(VLOOKUP(A4836,'Romaneio da Carga'!E:E,1,0)=BD!A4836,\"Volume Ok\",\"Volume não pertence a carga\")),\"Volume não pertence a carga\")","v":""}]
[null,{"$f":"IFERROR(IF(A4837=\"\",\"\",IF(VLOOKUP(A4837,'Romaneio da Carga'!E:E,1,0)=BD!A4837,\"Volume Ok\",\"Volume não pertence a carga\")),\"Volume não pertence a carga\")","v":""}]
[null,{"$f":"IFERROR(IF(A4838=\"\",\"\",IF(VLOOKUP(A4838,'Romaneio da Carga'!E:E,1,0)=BD!A4838,\"Volume Ok\",\"Volume não pertence a carga\")),\"Volume não pertence a carga\")","v":""}]
[null,{"$f":"IFERROR(IF(A4839=\"\",\"\",IF(VLOOKUP(A4839,'Romaneio da Carga'!E:E,1,0)=BD!A4839,\"Volume Ok\",\"Volume não pertence a carga\")),\"Volume não pertence a carga\")","v":""}]
[null,{"$f":"IFERROR(IF(A4840=\"\",\"\",IF(VLOOKUP(A4840,'Romaneio da Carga'!E:E,1,0)=BD!A4840,\"Volume Ok\",\"Volume não pertence a carga\")),\"Volume não pertence a carga\")","v":""}]
[null,{"$f":"IFERROR(IF(A4841=\"\",\"\",IF(VLOOKUP(A4841,'Romaneio da Carga'!E:E,1,0)=BD!A4841,\"Volume Ok\",\"Volume não pertence a carga\")),\"Volume não pertence a carga\")","v":""}]
[null,{"$f":"IFERROR(IF(A4842=\"\",\"\",IF(VLOOKUP(A4842,'Romaneio da Carga'!E:E,1,0)=BD!A4842,\"Volume Ok\",\"Volume não pertence a carga\")),\"Volume não pertence a carga\")","v":""}]
[null,{"$f":"IFERROR(IF(A4843=\"\",\"\",IF(VLOOKUP(A4843,'Romaneio da Carga'!E:E,1,0)=BD!A4843,\"Volume Ok\",\"Volume não pertence a carga\")),\"Volume não pertence a carga\")","v":""}]
[null,{"$f":"IFERROR(IF(A4844=\"\",\"\",IF(VLOOKUP(A4844,'Romaneio da Carga'!E:E,1,0)=BD!A4844,\"Volume Ok\",\"Volume não pertence a carga\")),\"Volume não pertence a carga\")","v":""}]
[null,{"$f":"IFERROR(IF(A4845=\"\",\"\",IF(VLOOKUP(A4845,'Romaneio da Carga'!E:E,1,0)=BD!A4845,\"Volume Ok\",\"Volume não pertence a carga\")),\"Volume não pertence a carga\")","v":""}]
[null,{"$f":"IFERROR(IF(A4846=\"\",\"\",IF(VLOOKUP(A4846,'Romaneio da Carga'!E:E,1,0)=BD!A4846,\"Volume Ok\",\"Volume não pertence a carga\")),\"Volume não pertence a carga\")","v":""}]
[null,{"$f":"IFERROR(IF(A4847=\"\",\"\",IF(VLOOKUP(A4847,'Romaneio da Carga'!E:E,1,0)=BD!A4847,\"Volume Ok\",\"Volume não pertence a carga\")),\"Volume não pertence a carga\")","v":""}]
[null,{"$f":"IFERROR(IF(A4848=\"\",\"\",IF(VLOOKUP(A4848,'Romaneio da Carga'!E:E,1,0)=BD!A4848,\"Volume Ok\",\"Volume não pertence a carga\")),\"Volume não pertence a carga\")","v":""}]
[null,{"$f":"IFERROR(IF(A4849=\"\",\"\",IF(VLOOKUP(A4849,'Romaneio da Carga'!E:E,1,0)=BD!A4849,\"Volume Ok\",\"Volume não pertence a carga\")),\"Volume não pertence a carga\")","v":""}]
[null,{"$f":"IFERROR(IF(A4850=\"\",\"\",IF(VLOOKUP(A4850,'Romaneio da Carga'!E:E,1,0)=BD!A4850,\"Volume Ok\",\"Volume não pertence a carga\")),\"Volume não pertence a carga\")","v":""}]
[null,{"$f":"IFERROR(IF(A4851=\"\",\"\",IF(VLOOKUP(A4851,'Romaneio da Carga'!E:E,1,0)=BD!A4851,\"Volume Ok\",\"Volume não pertence a carga\")),\"Volume não pertence a carga\")","v":""}]
[null,{"$f":"IFERROR(IF(A4852=\"\",\"\",IF(VLOOKUP(A4852,'Romaneio da Carga'!E:E,1,0)=BD!A4852,\"Volume Ok\",\"Volume não pertence a carga\")),\"Volume não pertence a carga\")","v":""}]
[null,{"$f":"IFERROR(IF(A4853=\"\",\"\",IF(VLOOKUP(A4853,'Romaneio da Carga'!E:E,1,0)=BD!A4853,\"Volume Ok\",\"Volume não pertence a carga\")),\"Volume não pertence a carga\")","v":""}]
[null,{"$f":"IFERROR(IF(A4854=\"\",\"\",IF(VLOOKUP(A4854,'Romaneio da Carga'!E:E,1,0)=BD!A4854,\"Volume Ok\",\"Volume não pertence a carga\")),\"Volume não pertence a carga\")","v":""}]
[null,{"$f":"IFERROR(IF(A4855=\"\",\"\",IF(VLOOKUP(A4855,'Romaneio da Carga'!E:E,1,0)=BD!A4855,\"Volume Ok\",\"Volume não pertence a carga\")),\"Volume não pertence a carga\")","v":""}]
[null,{"$f":"IFERROR(IF(A4856=\"\",\"\",IF(VLOOKUP(A4856,'Romaneio da Carga'!E:E,1,0)=BD!A4856,\"Volume Ok\",\"Volume não pertence a carga\")),\"Volume não pertence a carga\")","v":""}]
[null,{"$f":"IFERROR(IF(A4857=\"\",\"\",IF(VLOOKUP(A4857,'Romaneio da Carga'!E:E,1,0)=BD!A4857,\"Volume Ok\",\"Volume não pertence a carga\")),\"Volume não pertence a carga\")","v":""}]
[null,{"$f":"IFERROR(IF(A4858=\"\",\"\",IF(VLOOKUP(A4858,'Romaneio da Carga'!E:E,1,0)=BD!A4858,\"Volume Ok\",\"Volume não pertence a carga\")),\"Volume não pertence a carga\")","v":""}]
[null,{"$f":"IFERROR(IF(A4859=\"\",\"\",IF(VLOOKUP(A4859,'Romaneio da Carga'!E:E,1,0)=BD!A4859,\"Volume Ok\",\"Volume não pertence a carga\")),\"Volume não pertence a carga\")","v":""}]
[null,{"$f":"IFERROR(IF(A4860=\"\",\"\",IF(VLOOKUP(A4860,'Romaneio da Carga'!E:E,1,0)=BD!A4860,\"Volume Ok\",\"Volume não pertence a carga\")),\"Volume não pertence a carga\")","v":""}]
[null,{"$f":"IFERROR(IF(A4861=\"\",\"\",IF(VLOOKUP(A4861,'Romaneio da Carga'!E:E,1,0)=BD!A4861,\"Volume Ok\",\"Volume não pertence a carga\")),\"Volume não pertence a carga\")","v":""}]
[null,{"$f":"IFERROR(IF(A4862=\"\",\"\",IF(VLOOKUP(A4862,'Romaneio da Carga'!E:E,1,0)=BD!A4862,\"Volume Ok\",\"Volume não pertence a carga\")),\"Volume não pertence a carga\")","v":""}]
[null,{"$f":"IFERROR(IF(A4863=\"\",\"\",IF(VLOOKUP(A4863,'Romaneio da Carga'!E:E,1,0)=BD!A4863,\"Volume Ok\",\"Volume não pertence a carga\")),\"Volume não pertence a carga\")","v":""}]
[null,{"$f":"IFERROR(IF(A4864=\"\",\"\",IF(VLOOKUP(A4864,'Romaneio da Carga'!E:E,1,0)=BD!A4864,\"Volume Ok\",\"Volume não pertence a carga\")),\"Volume não pertence a carga\")","v":""}]
[null,{"$f":"IFERROR(IF(A4865=\"\",\"\",IF(VLOOKUP(A4865,'Romaneio da Carga'!E:E,1,0)=BD!A4865,\"Volume Ok\",\"Volume não pertence a carga\")),\"Volume não pertence a carga\")","v":""}]
[null,{"$f":"IFERROR(IF(A4866=\"\",\"\",IF(VLOOKUP(A4866,'Romaneio da Carga'!E:E,1,0)=BD!A4866,\"Volume Ok\",\"Volume não pertence a carga\")),\"Volume não pertence a carga\")","v":""}]
[null,{"$f":"IFERROR(IF(A4867=\"\",\"\",IF(VLOOKUP(A4867,'Romaneio da Carga'!E:E,1,0)=BD!A4867,\"Volume Ok\",\"Volume não pertence a carga\")),\"Volume não pertence a carga\")","v":""}]
[null,{"$f":"IFERROR(IF(A4868=\"\",\"\",IF(VLOOKUP(A4868,'Romaneio da Carga'!E:E,1,0)=BD!A4868,\"Volume Ok\",\"Volume não pertence a carga\")),\"Volume não pertence a carga\")","v":""}]
[null,{"$f":"IFERROR(IF(A4869=\"\",\"\",IF(VLOOKUP(A4869,'Romaneio da Carga'!E:E,1,0)=BD!A4869,\"Volume Ok\",\"Volume não pertence a carga\")),\"Volume não pertence a carga\")","v":""}]
[null,{"$f":"IFERROR(IF(A4870=\"\",\"\",IF(VLOOKUP(A4870,'Romaneio da Carga'!E:E,1,0)=BD!A4870,\"Volume Ok\",\"Volume não pertence a carga\")),\"Volume não pertence a carga\")","v":""}]
[null,{"$f":"IFERROR(IF(A4871=\"\",\"\",IF(VLOOKUP(A4871,'Romaneio da Carga'!E:E,1,0)=BD!A4871,\"Volume Ok\",\"Volume não pertence a carga\")),\"Volume não pertence a carga\")","v":""}]
[null,{"$f":"IFERROR(IF(A4872=\"\",\"\",IF(VLOOKUP(A4872,'Romaneio da Carga'!E:E,1,0)=BD!A4872,\"Volume Ok\",\"Volume não pertence a carga\")),\"Volume não pertence a carga\")","v":""}]
[null,{"$f":"IFERROR(IF(A4873=\"\",\"\",IF(VLOOKUP(A4873,'Romaneio da Carga'!E:E,1,0)=BD!A4873,\"Volume Ok\",\"Volume não pertence a carga\")),\"Volume não pertence a carga\")","v":""}]
[null,{"$f":"IFERROR(IF(A4874=\"\",\"\",IF(VLOOKUP(A4874,'Romaneio da Carga'!E:E,1,0)=BD!A4874,\"Volume Ok\",\"Volume não pertence a carga\")),\"Volume não pertence a carga\")","v":""}]
[null,{"$f":"IFERROR(IF(A4875=\"\",\"\",IF(VLOOKUP(A4875,'Romaneio da Carga'!E:E,1,0)=BD!A4875,\"Volume Ok\",\"Volume não pertence a carga\")),\"Volume não pertence a carga\")","v":""}]
[null,{"$f":"IFERROR(IF(A4876=\"\",\"\",IF(VLOOKUP(A4876,'Romaneio da Carga'!E:E,1,0)=BD!A4876,\"Volume Ok\",\"Volume não pertence a carga\")),\"Volume não pertence a carga\")","v":""}]
[null,{"$f":"IFERROR(IF(A4877=\"\",\"\",IF(VLOOKUP(A4877,'Romaneio da Carga'!E:E,1,0)=BD!A4877,\"Volume Ok\",\"Volume não pertence a carga\")),\"Volume não pertence a carga\")","v":""}]
[null,{"$f":"IFERROR(IF(A4878=\"\",\"\",IF(VLOOKUP(A4878,'Romaneio da Carga'!E:E,1,0)=BD!A4878,\"Volume Ok\",\"Volume não pertence a carga\")),\"Volume não pertence a carga\")","v":""}]
[null,{"$f":"IFERROR(IF(A4879=\"\",\"\",IF(VLOOKUP(A4879,'Romaneio da Carga'!E:E,1,0)=BD!A4879,\"Volume Ok\",\"Volume não pertence a carga\")),\"Volume não pertence a carga\")","v":""}]
[null,{"$f":"IFERROR(IF(A4880=\"\",\"\",IF(VLOOKUP(A4880,'Romaneio da Carga'!E:E,1,0)=BD!A4880,\"Volume Ok\",\"Volume não pertence a carga\")),\"Volume não pertence a carga\")","v":""}]
[null,{"$f":"IFERROR(IF(A4881=\"\",\"\",IF(VLOOKUP(A4881,'Romaneio da Carga'!E:E,1,0)=BD!A4881,\"Volume Ok\",\"Volume não pertence a carga\")),\"Volume não pertence a carga\")","v":""}]
[null,{"$f":"IFERROR(IF(A4882=\"\",\"\",IF(VLOOKUP(A4882,'Romaneio da Carga'!E:E,1,0)=BD!A4882,\"Volume Ok\",\"Volume não pertence a carga\")),\"Volume não pertence a carga\")","v":""}]
[null,{"$f":"IFERROR(IF(A4883=\"\",\"\",IF(VLOOKUP(A4883,'Romaneio da Carga'!E:E,1,0)=BD!A4883,\"Volume Ok\",\"Volume não pertence a carga\")),\"Volume não pertence a carga\")","v":""}]
[null,{"$f":"IFERROR(IF(A4884=\"\",\"\",IF(VLOOKUP(A4884,'Romaneio da Carga'!E:E,1,0)=BD!A4884,\"Volume Ok\",\"Volume não pertence a carga\")),\"Volume não pertence a carga\")","v":""}]
[null,{"$f":"IFERROR(IF(A4885=\"\",\"\",IF(VLOOKUP(A4885,'Romaneio da Carga'!E:E,1,0)=BD!A4885,\"Volume Ok\",\"Volume não pertence a carga\")),\"Volume não pertence a carga\")","v":""}]
[null,{"$f":"IFERROR(IF(A4886=\"\",\"\",IF(VLOOKUP(A4886,'Romaneio da Carga'!E:E,1,0)=BD!A4886,\"Volume Ok\",\"Volume não pertence a carga\")),\"Volume não pertence a carga\")","v":""}]
[null,{"$f":"IFERROR(IF(A4887=\"\",\"\",IF(VLOOKUP(A4887,'Romaneio da Carga'!E:E,1,0)=BD!A4887,\"Volume Ok\",\"Volume não pertence a carga\")),\"Volume não pertence a carga\")","v":""}]
[null,{"$f":"IFERROR(IF(A4888=\"\",\"\",IF(VLOOKUP(A4888,'Romaneio da Carga'!E:E,1,0)=BD!A4888,\"Volume Ok\",\"Volume não pertence a carga\")),\"Volume não pertence a carga\")","v":""}]
[null,{"$f":"IFERROR(IF(A4889=\"\",\"\",IF(VLOOKUP(A4889,'Romaneio da Carga'!E:E,1,0)=BD!A4889,\"Volume Ok\",\"Volume não pertence a carga\")),\"Volume não pertence a carga\")","v":""}]
[null,{"$f":"IFERROR(IF(A4890=\"\",\"\",IF(VLOOKUP(A4890,'Romaneio da Carga'!E:E,1,0)=BD!A4890,\"Volume Ok\",\"Volume não pertence a carga\")),\"Volume não pertence a carga\")","v":""}]
[null,{"$f":"IFERROR(IF(A4891=\"\",\"\",IF(VLOOKUP(A4891,'Romaneio da Carga'!E:E,1,0)=BD!A4891,\"Volume Ok\",\"Volume não pertence a carga\")),\"Volume não pertence a carga\")","v":""}]
[null,{"$f":"IFERROR(IF(A4892=\"\",\"\",IF(VLOOKUP(A4892,'Romaneio da Carga'!E:E,1,0)=BD!A4892,\"Volume Ok\",\"Volume não pertence a carga\")),\"Volume não pertence a carga\")","v":""}]
[null,{"$f":"IFERROR(IF(A4893=\"\",\"\",IF(VLOOKUP(A4893,'Romaneio da Carga'!E:E,1,0)=BD!A4893,\"Volume Ok\",\"Volume não pertence a carga\")),\"Volume não pertence a carga\")","v":""}]
[null,{"$f":"IFERROR(IF(A4894=\"\",\"\",IF(VLOOKUP(A4894,'Romaneio da Carga'!E:E,1,0)=BD!A4894,\"Volume Ok\",\"Volume não pertence a carga\")),\"Volume não pertence a carga\")","v":""}]
[null,{"$f":"IFERROR(IF(A4895=\"\",\"\",IF(VLOOKUP(A4895,'Romaneio da Carga'!E:E,1,0)=BD!A4895,\"Volume Ok\",\"Volume não pertence a carga\")),\"Volume não pertence a carga\")","v":""}]
[null,{"$f":"IFERROR(IF(A4896=\"\",\"\",IF(VLOOKUP(A4896,'Romaneio da Carga'!E:E,1,0)=BD!A4896,\"Volume Ok\",\"Volume não pertence a carga\")),\"Volume não pertence a carga\")","v":""}]
[null,{"$f":"IFERROR(IF(A4897=\"\",\"\",IF(VLOOKUP(A4897,'Romaneio da Carga'!E:E,1,0)=BD!A4897,\"Volume Ok\",\"Volume não pertence a carga\")),\"Volume não pertence a carga\")","v":""}]
[null,{"$f":"IFERROR(IF(A4898=\"\",\"\",IF(VLOOKUP(A4898,'Romaneio da Carga'!E:E,1,0)=BD!A4898,\"Volume Ok\",\"Volume não pertence a carga\")),\"Volume não pertence a carga\")","v":""}]
[null,{"$f":"IFERROR(IF(A4899=\"\",\"\",IF(VLOOKUP(A4899,'Romaneio da Carga'!E:E,1,0)=BD!A4899,\"Volume Ok\",\"Volume não pertence a carga\")),\"Volume não pertence a carga\")","v":""}]
[null,{"$f":"IFERROR(IF(A4900=\"\",\"\",IF(VLOOKUP(A4900,'Romaneio da Carga'!E:E,1,0)=BD!A4900,\"Volume Ok\",\"Volume não pertence a carga\")),\"Volume não pertence a carga\")","v":""}]
[null,{"$f":"IFERROR(IF(A4901=\"\",\"\",IF(VLOOKUP(A4901,'Romaneio da Carga'!E:E,1,0)=BD!A4901,\"Volume Ok\",\"Volume não pertence a carga\")),\"Volume não pertence a carga\")","v":""}]
[null,{"$f":"IFERROR(IF(A4902=\"\",\"\",IF(VLOOKUP(A4902,'Romaneio da Carga'!E:E,1,0)=BD!A4902,\"Volume Ok\",\"Volume não pertence a carga\")),\"Volume não pertence a carga\")","v":""}]
[null,{"$f":"IFERROR(IF(A4903=\"\",\"\",IF(VLOOKUP(A4903,'Romaneio da Carga'!E:E,1,0)=BD!A4903,\"Volume Ok\",\"Volume não pertence a carga\")),\"Volume não pertence a carga\")","v":""}]
[null,{"$f":"IFERROR(IF(A4904=\"\",\"\",IF(VLOOKUP(A4904,'Romaneio da Carga'!E:E,1,0)=BD!A4904,\"Volume Ok\",\"Volume não pertence a carga\")),\"Volume não pertence a carga\")","v":""}]
[null,{"$f":"IFERROR(IF(A4905=\"\",\"\",IF(VLOOKUP(A4905,'Romaneio da Carga'!E:E,1,0)=BD!A4905,\"Volume Ok\",\"Volume não pertence a carga\")),\"Volume não pertence a carga\")","v":""}]
[null,{"$f":"IFERROR(IF(A4906=\"\",\"\",IF(VLOOKUP(A4906,'Romaneio da Carga'!E:E,1,0)=BD!A4906,\"Volume Ok\",\"Volume não pertence a carga\")),\"Volume não pertence a carga\")","v":""}]
[null,{"$f":"IFERROR(IF(A4907=\"\",\"\",IF(VLOOKUP(A4907,'Romaneio da Carga'!E:E,1,0)=BD!A4907,\"Volume Ok\",\"Volume não pertence a carga\")),\"Volume não pertence a carga\")","v":""}]
[null,{"$f":"IFERROR(IF(A4908=\"\",\"\",IF(VLOOKUP(A4908,'Romaneio da Carga'!E:E,1,0)=BD!A4908,\"Volume Ok\",\"Volume não pertence a carga\")),\"Volume não pertence a carga\")","v":""}]
[null,{"$f":"IFERROR(IF(A4909=\"\",\"\",IF(VLOOKUP(A4909,'Romaneio da Carga'!E:E,1,0)=BD!A4909,\"Volume Ok\",\"Volume não pertence a carga\")),\"Volume não pertence a carga\")","v":""}]
[null,{"$f":"IFERROR(IF(A4910=\"\",\"\",IF(VLOOKUP(A4910,'Romaneio da Carga'!E:E,1,0)=BD!A4910,\"Volume Ok\",\"Volume não pertence a carga\")),\"Volume não pertence a carga\")","v":""}]
[null,{"$f":"IFERROR(IF(A4911=\"\",\"\",IF(VLOOKUP(A4911,'Romaneio da Carga'!E:E,1,0)=BD!A4911,\"Volume Ok\",\"Volume não pertence a carga\")),\"Volume não pertence a carga\")","v":""}]
[null,{"$f":"IFERROR(IF(A4912=\"\",\"\",IF(VLOOKUP(A4912,'Romaneio da Carga'!E:E,1,0)=BD!A4912,\"Volume Ok\",\"Volume não pertence a carga\")),\"Volume não pertence a carga\")","v":""}]
[null,{"$f":"IFERROR(IF(A4913=\"\",\"\",IF(VLOOKUP(A4913,'Romaneio da Carga'!E:E,1,0)=BD!A4913,\"Volume Ok\",\"Volume não pertence a carga\")),\"Volume não pertence a carga\")","v":""}]
[null,{"$f":"IFERROR(IF(A4914=\"\",\"\",IF(VLOOKUP(A4914,'Romaneio da Carga'!E:E,1,0)=BD!A4914,\"Volume Ok\",\"Volume não pertence a carga\")),\"Volume não pertence a carga\")","v":""}]
[null,{"$f":"IFERROR(IF(A4915=\"\",\"\",IF(VLOOKUP(A4915,'Romaneio da Carga'!E:E,1,0)=BD!A4915,\"Volume Ok\",\"Volume não pertence a carga\")),\"Volume não pertence a carga\")","v":""}]
[null,{"$f":"IFERROR(IF(A4916=\"\",\"\",IF(VLOOKUP(A4916,'Romaneio da Carga'!E:E,1,0)=BD!A4916,\"Volume Ok\",\"Volume não pertence a carga\")),\"Volume não pertence a carga\")","v":""}]
[null,{"$f":"IFERROR(IF(A4917=\"\",\"\",IF(VLOOKUP(A4917,'Romaneio da Carga'!E:E,1,0)=BD!A4917,\"Volume Ok\",\"Volume não pertence a carga\")),\"Volume não pertence a carga\")","v":""}]
[null,{"$f":"IFERROR(IF(A4918=\"\",\"\",IF(VLOOKUP(A4918,'Romaneio da Carga'!E:E,1,0)=BD!A4918,\"Volume Ok\",\"Volume não pertence a carga\")),\"Volume não pertence a carga\")","v":""}]
[null,{"$f":"IFERROR(IF(A4919=\"\",\"\",IF(VLOOKUP(A4919,'Romaneio da Carga'!E:E,1,0)=BD!A4919,\"Volume Ok\",\"Volume não pertence a carga\")),\"Volume não pertence a carga\")","v":""}]
[null,{"$f":"IFERROR(IF(A4920=\"\",\"\",IF(VLOOKUP(A4920,'Romaneio da Carga'!E:E,1,0)=BD!A4920,\"Volume Ok\",\"Volume não pertence a carga\")),\"Volume não pertence a carga\")","v":""}]
[null,{"$f":"IFERROR(IF(A4921=\"\",\"\",IF(VLOOKUP(A4921,'Romaneio da Carga'!E:E,1,0)=BD!A4921,\"Volume Ok\",\"Volume não pertence a carga\")),\"Volume não pertence a carga\")","v":""}]
[null,{"$f":"IFERROR(IF(A4922=\"\",\"\",IF(VLOOKUP(A4922,'Romaneio da Carga'!E:E,1,0)=BD!A4922,\"Volume Ok\",\"Volume não pertence a carga\")),\"Volume não pertence a carga\")","v":""}]
[null,{"$f":"IFERROR(IF(A4923=\"\",\"\",IF(VLOOKUP(A4923,'Romaneio da Carga'!E:E,1,0)=BD!A4923,\"Volume Ok\",\"Volume não pertence a carga\")),\"Volume não pertence a carga\")","v":""}]
[null,{"$f":"IFERROR(IF(A4924=\"\",\"\",IF(VLOOKUP(A4924,'Romaneio da Carga'!E:E,1,0)=BD!A4924,\"Volume Ok\",\"Volume não pertence a carga\")),\"Volume não pertence a carga\")","v":""}]
[null,{"$f":"IFERROR(IF(A4925=\"\",\"\",IF(VLOOKUP(A4925,'Romaneio da Carga'!E:E,1,0)=BD!A4925,\"Volume Ok\",\"Volume não pertence a carga\")),\"Volume não pertence a carga\")","v":""}]
[null,{"$f":"IFERROR(IF(A4926=\"\",\"\",IF(VLOOKUP(A4926,'Romaneio da Carga'!E:E,1,0)=BD!A4926,\"Volume Ok\",\"Volume não pertence a carga\")),\"Volume não pertence a carga\")","v":""}]
[null,{"$f":"IFERROR(IF(A4927=\"\",\"\",IF(VLOOKUP(A4927,'Romaneio da Carga'!E:E,1,0)=BD!A4927,\"Volume Ok\",\"Volume não pertence a carga\")),\"Volume não pertence a carga\")","v":""}]
[null,{"$f":"IFERROR(IF(A4928=\"\",\"\",IF(VLOOKUP(A4928,'Romaneio da Carga'!E:E,1,0)=BD!A4928,\"Volume Ok\",\"Volume não pertence a carga\")),\"Volume não pertence a carga\")","v":""}]
[null,{"$f":"IFERROR(IF(A4929=\"\",\"\",IF(VLOOKUP(A4929,'Romaneio da Carga'!E:E,1,0)=BD!A4929,\"Volume Ok\",\"Volume não pertence a carga\")),\"Volume não pertence a carga\")","v":""}]
[null,{"$f":"IFERROR(IF(A4930=\"\",\"\",IF(VLOOKUP(A4930,'Romaneio da Carga'!E:E,1,0)=BD!A4930,\"Volume Ok\",\"Volume não pertence a carga\")),\"Volume não pertence a carga\")","v":""}]
[null,{"$f":"IFERROR(IF(A4931=\"\",\"\",IF(VLOOKUP(A4931,'Romaneio da Carga'!E:E,1,0)=BD!A4931,\"Volume Ok\",\"Volume não pertence a carga\")),\"Volume não pertence a carga\")","v":""}]
[null,{"$f":"IFERROR(IF(A4932=\"\",\"\",IF(VLOOKUP(A4932,'Romaneio da Carga'!E:E,1,0)=BD!A4932,\"Volume Ok\",\"Volume não pertence a carga\")),\"Volume não pertence a carga\")","v":""}]
[null,{"$f":"IFERROR(IF(A4933=\"\",\"\",IF(VLOOKUP(A4933,'Romaneio da Carga'!E:E,1,0)=BD!A4933,\"Volume Ok\",\"Volume não pertence a carga\")),\"Volume não pertence a carga\")","v":""}]
[null,{"$f":"IFERROR(IF(A4934=\"\",\"\",IF(VLOOKUP(A4934,'Romaneio da Carga'!E:E,1,0)=BD!A4934,\"Volume Ok\",\"Volume não pertence a carga\")),\"Volume não pertence a carga\")","v":""}]
[null,{"$f":"IFERROR(IF(A4935=\"\",\"\",IF(VLOOKUP(A4935,'Romaneio da Carga'!E:E,1,0)=BD!A4935,\"Volume Ok\",\"Volume não pertence a carga\")),\"Volume não pertence a carga\")","v":""}]
[null,{"$f":"IFERROR(IF(A4936=\"\",\"\",IF(VLOOKUP(A4936,'Romaneio da Carga'!E:E,1,0)=BD!A4936,\"Volume Ok\",\"Volume não pertence a carga\")),\"Volume não pertence a carga\")","v":""}]
[null,{"$f":"IFERROR(IF(A4937=\"\",\"\",IF(VLOOKUP(A4937,'Romaneio da Carga'!E:E,1,0)=BD!A4937,\"Volume Ok\",\"Volume não pertence a carga\")),\"Volume não pertence a carga\")","v":""}]
[null,{"$f":"IFERROR(IF(A4938=\"\",\"\",IF(VLOOKUP(A4938,'Romaneio da Carga'!E:E,1,0)=BD!A4938,\"Volume Ok\",\"Volume não pertence a carga\")),\"Volume não pertence a carga\")","v":""}]
[null,{"$f":"IFERROR(IF(A4939=\"\",\"\",IF(VLOOKUP(A4939,'Romaneio da Carga'!E:E,1,0)=BD!A4939,\"Volume Ok\",\"Volume não pertence a carga\")),\"Volume não pertence a carga\")","v":""}]
[null,{"$f":"IFERROR(IF(A4940=\"\",\"\",IF(VLOOKUP(A4940,'Romaneio da Carga'!E:E,1,0)=BD!A4940,\"Volume Ok\",\"Volume não pertence a carga\")),\"Volume não pertence a carga\")","v":""}]
[null,{"$f":"IFERROR(IF(A4941=\"\",\"\",IF(VLOOKUP(A4941,'Romaneio da Carga'!E:E,1,0)=BD!A4941,\"Volume Ok\",\"Volume não pertence a carga\")),\"Volume não pertence a carga\")","v":""}]
[null,{"$f":"IFERROR(IF(A4942=\"\",\"\",IF(VLOOKUP(A4942,'Romaneio da Carga'!E:E,1,0)=BD!A4942,\"Volume Ok\",\"Volume não pertence a carga\")),\"Volume não pertence a carga\")","v":""}]
[null,{"$f":"IFERROR(IF(A4943=\"\",\"\",IF(VLOOKUP(A4943,'Romaneio da Carga'!E:E,1,0)=BD!A4943,\"Volume Ok\",\"Volume não pertence a carga\")),\"Volume não pertence a carga\")","v":""}]
[null,{"$f":"IFERROR(IF(A4944=\"\",\"\",IF(VLOOKUP(A4944,'Romaneio da Carga'!E:E,1,0)=BD!A4944,\"Volume Ok\",\"Volume não pertence a carga\")),\"Volume não pertence a carga\")","v":""}]
[null,{"$f":"IFERROR(IF(A4945=\"\",\"\",IF(VLOOKUP(A4945,'Romaneio da Carga'!E:E,1,0)=BD!A4945,\"Volume Ok\",\"Volume não pertence a carga\")),\"Volume não pertence a carga\")","v":""}]
[null,{"$f":"IFERROR(IF(A4946=\"\",\"\",IF(VLOOKUP(A4946,'Romaneio da Carga'!E:E,1,0)=BD!A4946,\"Volume Ok\",\"Volume não pertence a carga\")),\"Volume não pertence a carga\")","v":""}]
[null,{"$f":"IFERROR(IF(A4947=\"\",\"\",IF(VLOOKUP(A4947,'Romaneio da Carga'!E:E,1,0)=BD!A4947,\"Volume Ok\",\"Volume não pertence a carga\")),\"Volume não pertence a carga\")","v":""}]
[null,{"$f":"IFERROR(IF(A4948=\"\",\"\",IF(VLOOKUP(A4948,'Romaneio da Carga'!E:E,1,0)=BD!A4948,\"Volume Ok\",\"Volume não pertence a carga\")),\"Volume não pertence a carga\")","v":""}]
[null,{"$f":"IFERROR(IF(A4949=\"\",\"\",IF(VLOOKUP(A4949,'Romaneio da Carga'!E:E,1,0)=BD!A4949,\"Volume Ok\",\"Volume não pertence a carga\")),\"Volume não pertence a carga\")","v":""}]
[null,{"$f":"IFERROR(IF(A4950=\"\",\"\",IF(VLOOKUP(A4950,'Romaneio da Carga'!E:E,1,0)=BD!A4950,\"Volume Ok\",\"Volume não pertence a carga\")),\"Volume não pertence a carga\")","v":""}]
[null,{"$f":"IFERROR(IF(A4951=\"\",\"\",IF(VLOOKUP(A4951,'Romaneio da Carga'!E:E,1,0)=BD!A4951,\"Volume Ok\",\"Volume não pertence a carga\")),\"Volume não pertence a carga\")","v":""}]
[null,{"$f":"IFERROR(IF(A4952=\"\",\"\",IF(VLOOKUP(A4952,'Romaneio da Carga'!E:E,1,0)=BD!A4952,\"Volume Ok\",\"Volume não pertence a carga\")),\"Volume não pertence a carga\")","v":""}]
[null,{"$f":"IFERROR(IF(A4953=\"\",\"\",IF(VLOOKUP(A4953,'Romaneio da Carga'!E:E,1,0)=BD!A4953,\"Volume Ok\",\"Volume não pertence a carga\")),\"Volume não pertence a carga\")","v":""}]
[null,{"$f":"IFERROR(IF(A4954=\"\",\"\",IF(VLOOKUP(A4954,'Romaneio da Carga'!E:E,1,0)=BD!A4954,\"Volume Ok\",\"Volume não pertence a carga\")),\"Volume não pertence a carga\")","v":""}]
[null,{"$f":"IFERROR(IF(A4955=\"\",\"\",IF(VLOOKUP(A4955,'Romaneio da Carga'!E:E,1,0)=BD!A4955,\"Volume Ok\",\"Volume não pertence a carga\")),\"Volume não pertence a carga\")","v":""}]
[null,{"$f":"IFERROR(IF(A4956=\"\",\"\",IF(VLOOKUP(A4956,'Romaneio da Carga'!E:E,1,0)=BD!A4956,\"Volume Ok\",\"Volume não pertence a carga\")),\"Volume não pertence a carga\")","v":""}]
[null,{"$f":"IFERROR(IF(A4957=\"\",\"\",IF(VLOOKUP(A4957,'Romaneio da Carga'!E:E,1,0)=BD!A4957,\"Volume Ok\",\"Volume não pertence a carga\")),\"Volume não pertence a carga\")","v":""}]
[null,{"$f":"IFERROR(IF(A4958=\"\",\"\",IF(VLOOKUP(A4958,'Romaneio da Carga'!E:E,1,0)=BD!A4958,\"Volume Ok\",\"Volume não pertence a carga\")),\"Volume não pertence a carga\")","v":""}]
[null,{"$f":"IFERROR(IF(A4959=\"\",\"\",IF(VLOOKUP(A4959,'Romaneio da Carga'!E:E,1,0)=BD!A4959,\"Volume Ok\",\"Volume não pertence a carga\")),\"Volume não pertence a carga\")","v":""}]
[null,{"$f":"IFERROR(IF(A4960=\"\",\"\",IF(VLOOKUP(A4960,'Romaneio da Carga'!E:E,1,0)=BD!A4960,\"Volume Ok\",\"Volume não pertence a carga\")),\"Volume não pertence a carga\")","v":""}]
[null,{"$f":"IFERROR(IF(A4961=\"\",\"\",IF(VLOOKUP(A4961,'Romaneio da Carga'!E:E,1,0)=BD!A4961,\"Volume Ok\",\"Volume não pertence a carga\")),\"Volume não pertence a carga\")","v":""}]
[null,{"$f":"IFERROR(IF(A4962=\"\",\"\",IF(VLOOKUP(A4962,'Romaneio da Carga'!E:E,1,0)=BD!A4962,\"Volume Ok\",\"Volume não pertence a carga\")),\"Volume não pertence a carga\")","v":""}]
[null,{"$f":"IFERROR(IF(A4963=\"\",\"\",IF(VLOOKUP(A4963,'Romaneio da Carga'!E:E,1,0)=BD!A4963,\"Volume Ok\",\"Volume não pertence a carga\")),\"Volume não pertence a carga\")","v":""}]
[null,{"$f":"IFERROR(IF(A4964=\"\",\"\",IF(VLOOKUP(A4964,'Romaneio da Carga'!E:E,1,0)=BD!A4964,\"Volume Ok\",\"Volume não pertence a carga\")),\"Volume não pertence a carga\")","v":""}]
[null,{"$f":"IFERROR(IF(A4965=\"\",\"\",IF(VLOOKUP(A4965,'Romaneio da Carga'!E:E,1,0)=BD!A4965,\"Volume Ok\",\"Volume não pertence a carga\")),\"Volume não pertence a carga\")","v":""}]
[null,{"$f":"IFERROR(IF(A4966=\"\",\"\",IF(VLOOKUP(A4966,'Romaneio da Carga'!E:E,1,0)=BD!A4966,\"Volume Ok\",\"Volume não pertence a carga\")),\"Volume não pertence a carga\")","v":""}]
[null,{"$f":"IFERROR(IF(A4967=\"\",\"\",IF(VLOOKUP(A4967,'Romaneio da Carga'!E:E,1,0)=BD!A4967,\"Volume Ok\",\"Volume não pertence a carga\")),\"Volume não pertence a carga\")","v":""}]
[null,{"$f":"IFERROR(IF(A4968=\"\",\"\",IF(VLOOKUP(A4968,'Romaneio da Carga'!E:E,1,0)=BD!A4968,\"Volume Ok\",\"Volume não pertence a carga\")),\"Volume não pertence a carga\")","v":""}]
[null,{"$f":"IFERROR(IF(A4969=\"\",\"\",IF(VLOOKUP(A4969,'Romaneio da Carga'!E:E,1,0)=BD!A4969,\"Volume Ok\",\"Volume não pertence a carga\")),\"Volume não pertence a carga\")","v":""}]
[null,{"$f":"IFERROR(IF(A4970=\"\",\"\",IF(VLOOKUP(A4970,'Romaneio da Carga'!E:E,1,0)=BD!A4970,\"Volume Ok\",\"Volume não pertence a carga\")),\"Volume não pertence a carga\")","v":""}]
[null,{"$f":"IFERROR(IF(A4971=\"\",\"\",IF(VLOOKUP(A4971,'Romaneio da Carga'!E:E,1,0)=BD!A4971,\"Volume Ok\",\"Volume não pertence a carga\")),\"Volume não pertence a carga\")","v":""}]
[null,{"$f":"IFERROR(IF(A4972=\"\",\"\",IF(VLOOKUP(A4972,'Romaneio da Carga'!E:E,1,0)=BD!A4972,\"Volume Ok\",\"Volume não pertence a carga\")),\"Volume não pertence a carga\")","v":""}]
[null,{"$f":"IFERROR(IF(A4973=\"\",\"\",IF(VLOOKUP(A4973,'Romaneio da Carga'!E:E,1,0)=BD!A4973,\"Volume Ok\",\"Volume não pertence a carga\")),\"Volume não pertence a carga\")","v":""}]
[null,{"$f":"IFERROR(IF(A4974=\"\",\"\",IF(VLOOKUP(A4974,'Romaneio da Carga'!E:E,1,0)=BD!A4974,\"Volume Ok\",\"Volume não pertence a carga\")),\"Volume não pertence a carga\")","v":""}]
[null,{"$f":"IFERROR(IF(A4975=\"\",\"\",IF(VLOOKUP(A4975,'Romaneio da Carga'!E:E,1,0)=BD!A4975,\"Volume Ok\",\"Volume não pertence a carga\")),\"Volume não pertence a carga\")","v":""}]
[null,{"$f":"IFERROR(IF(A4976=\"\",\"\",IF(VLOOKUP(A4976,'Romaneio da Carga'!E:E,1,0)=BD!A4976,\"Volume Ok\",\"Volume não pertence a carga\")),\"Volume não pertence a carga\")","v":""}]
[null,{"$f":"IFERROR(IF(A4977=\"\",\"\",IF(VLOOKUP(A4977,'Romaneio da Carga'!E:E,1,0)=BD!A4977,\"Volume Ok\",\"Volume não pertence a carga\")),\"Volume não pertence a carga\")","v":""}]
[null,{"$f":"IFERROR(IF(A4978=\"\",\"\",IF(VLOOKUP(A4978,'Romaneio da Carga'!E:E,1,0)=BD!A4978,\"Volume Ok\",\"Volume não pertence a carga\")),\"Volume não pertence a carga\")","v":""}]
[null,{"$f":"IFERROR(IF(A4979=\"\",\"\",IF(VLOOKUP(A4979,'Romaneio da Carga'!E:E,1,0)=BD!A4979,\"Volume Ok\",\"Volume não pertence a carga\")),\"Volume não pertence a carga\")","v":""}]
[null,{"$f":"IFERROR(IF(A4980=\"\",\"\",IF(VLOOKUP(A4980,'Romaneio da Carga'!E:E,1,0)=BD!A4980,\"Volume Ok\",\"Volume não pertence a carga\")),\"Volume não pertence a carga\")","v":""}]
[null,{"$f":"IFERROR(IF(A4981=\"\",\"\",IF(VLOOKUP(A4981,'Romaneio da Carga'!E:E,1,0)=BD!A4981,\"Volume Ok\",\"Volume não pertence a carga\")),\"Volume não pertence a carga\")","v":""}]
[null,{"$f":"IFERROR(IF(A4982=\"\",\"\",IF(VLOOKUP(A4982,'Romaneio da Carga'!E:E,1,0)=BD!A4982,\"Volume Ok\",\"Volume não pertence a carga\")),\"Volume não pertence a carga\")","v":""}]
[null,{"$f":"IFERROR(IF(A4983=\"\",\"\",IF(VLOOKUP(A4983,'Romaneio da Carga'!E:E,1,0)=BD!A4983,\"Volume Ok\",\"Volume não pertence a carga\")),\"Volume não pertence a carga\")","v":""}]
[null,{"$f":"IFERROR(IF(A4984=\"\",\"\",IF(VLOOKUP(A4984,'Romaneio da Carga'!E:E,1,0)=BD!A4984,\"Volume Ok\",\"Volume não pertence a carga\")),\"Volume não pertence a carga\")","v":""}]
[null,{"$f":"IFERROR(IF(A4985=\"\",\"\",IF(VLOOKUP(A4985,'Romaneio da Carga'!E:E,1,0)=BD!A4985,\"Volume Ok\",\"Volume não pertence a carga\")),\"Volume não pertence a carga\")","v":""}]
[null,{"$f":"IFERROR(IF(A4986=\"\",\"\",IF(VLOOKUP(A4986,'Romaneio da Carga'!E:E,1,0)=BD!A4986,\"Volume Ok\",\"Volume não pertence a carga\")),\"Volume não pertence a carga\")","v":""}]
[null,{"$f":"IFERROR(IF(A4987=\"\",\"\",IF(VLOOKUP(A4987,'Romaneio da Carga'!E:E,1,0)=BD!A4987,\"Volume Ok\",\"Volume não pertence a carga\")),\"Volume não pertence a carga\")","v":""}]
[null,{"$f":"IFERROR(IF(A4988=\"\",\"\",IF(VLOOKUP(A4988,'Romaneio da Carga'!E:E,1,0)=BD!A4988,\"Volume Ok\",\"Volume não pertence a carga\")),\"Volume não pertence a carga\")","v":""}]
[null,{"$f":"IFERROR(IF(A4989=\"\",\"\",IF(VLOOKUP(A4989,'Romaneio da Carga'!E:E,1,0)=BD!A4989,\"Volume Ok\",\"Volume não pertence a carga\")),\"Volume não pertence a carga\")","v":""}]
[null,{"$f":"IFERROR(IF(A4990=\"\",\"\",IF(VLOOKUP(A4990,'Romaneio da Carga'!E:E,1,0)=BD!A4990,\"Volume Ok\",\"Volume não pertence a carga\")),\"Volume não pertence a carga\")","v":""}]
[null,{"$f":"IFERROR(IF(A4991=\"\",\"\",IF(VLOOKUP(A4991,'Romaneio da Carga'!E:E,1,0)=BD!A4991,\"Volume Ok\",\"Volume não pertence a carga\")),\"Volume não pertence a carga\")","v":""}]
[null,{"$f":"IFERROR(IF(A4992=\"\",\"\",IF(VLOOKUP(A4992,'Romaneio da Carga'!E:E,1,0)=BD!A4992,\"Volume Ok\",\"Volume não pertence a carga\")),\"Volume não pertence a carga\")","v":""}]
[null,{"$f":"IFERROR(IF(A4993=\"\",\"\",IF(VLOOKUP(A4993,'Romaneio da Carga'!E:E,1,0)=BD!A4993,\"Volume Ok\",\"Volume não pertence a carga\")),\"Volume não pertence a carga\")","v":""}]
[null,{"$f":"IFERROR(IF(A4994=\"\",\"\",IF(VLOOKUP(A4994,'Romaneio da Carga'!E:E,1,0)=BD!A4994,\"Volume Ok\",\"Volume não pertence a carga\")),\"Volume não pertence a carga\")","v":""}]
[null,{"$f":"IFERROR(IF(A4995=\"\",\"\",IF(VLOOKUP(A4995,'Romaneio da Carga'!E:E,1,0)=BD!A4995,\"Volume Ok\",\"Volume não pertence a carga\")),\"Volume não pertence a carga\")","v":""}]
[null,{"$f":"IFERROR(IF(A4996=\"\",\"\",IF(VLOOKUP(A4996,'Romaneio da Carga'!E:E,1,0)=BD!A4996,\"Volume Ok\",\"Volume não pertence a carga\")),\"Volume não pertence a carga\")","v":""}]
[null,{"$f":"IFERROR(IF(A4997=\"\",\"\",IF(VLOOKUP(A4997,'Romaneio da Carga'!E:E,1,0)=BD!A4997,\"Volume Ok\",\"Volume não pertence a carga\")),\"Volume não pertence a carga\")","v":""}]
[null,{"$f":"IFERROR(IF(A4998=\"\",\"\",IF(VLOOKUP(A4998,'Romaneio da Carga'!E:E,1,0)=BD!A4998,\"Volume Ok\",\"Volume não pertence a carga\")),\"Volume não pertence a carga\")","v":""}]
[null,{"$f":"IFERROR(IF(A4999=\"\",\"\",IF(VLOOKUP(A4999,'Romaneio da Carga'!E:E,1,0)=BD!A4999,\"Volume Ok\",\"Volume não pertence a carga\")),\"Volume não pertence a carga\")","v":""}]
[null,{"$f":"IFERROR(IF(A5000=\"\",\"\",IF(VLOOKUP(A5000,'Romaneio da Carga'!E:E,1,0)=BD!A5000,\"Volume Ok\",\"Volume não pertence a carga\")),\"Volume não pertence a carga\")","v":""}]

{"sheet":"Romaneio da Carga","index":1,"n_rows":705,"n_cols":24,"rows_kept":705,"cut":false,"hidden":false,"merged":[]}
["Nr. Viagem","Data","Número Dossier","Nr. DDT","Volume","Nr. Pedido","Linha","Fracionamento","Status","Data Exportação HB5","Nr. Documento","Série NF","Linha NF","Produto","Nr. Valor","Moeda","Nr. Fatura","Nr. Container","Lacre","Data NF","Nr. Valor NF","Nr. Peso NF","Pratica CSPS","Transportadora"]
[5500275846,null,5502910195,5500021963,5529333245,7163007,1,1,"CHIUSA",42443.418252314812,82996,0,1,51965513,60,40,0,null,null,42439,69,1,5502910195,34948]
[5500275847,null,5502910189,5500021957,5529333278,7786603,1,1,"CHIUSA",42443.418275462966,82990,0,1,51965513,58,40,0,null,null,42439,70,1,5502910189,34948]
[5500275848,null,5502910556,5500022324,5529334442,7048730,1,1,"CHIUSA",42443.453136574077,83377,0,10,50927749,186,40,0,null,null,42440,2031,0,5502910556,34948]
[5500275848,null,5502910556,5500022324,5529334437,7048730,1,1,"CHIUSA",42443.453148148146,83377,0,9,50927749,186,40,0,null,null,42440,2031,0,5502910556,34948]
[5500275848,null,5502910556,5500022324,5529334432,7048730,1,1,"CHIUSA",42443.453148148146,83377,0,8,50927749,186,40,0,null,null,42440,2031,0,5502910556,34948]
[5500275848,null,5502910556,5500022324,5529334424,7048730,1,1,"CHIUSA",42443.453148148146,83377,0,7,50927749,186,40,0,null,null,42440,2031,0,5502910556,34948]
[5500275848,null,5502910556,5500022324,5529334416,7048730,1,1,"CHIUSA",42443.453148148146,83377,0,6,50927749,186,40,0,null,null,42440,2031,0,5502910556,34948]
[5500275848,null,5502910556,5500022324,5529334410,7048730,1,1,"CHIUSA",42443.453136574077,83377,0,5,50927749,186,40,0,null,null,42440,2031,0,5502910556,34948]
[5500275848,null,5502910556,5500022324,5529334407,7048730,1,1,"CHIUSA",42443.453148148146,83377,0,4,50927749,186,40,0,null,null,42440,2031,0,5502910556,34948]
[5500275848,null,5502910556,5500022324,5529334404,7048730,1,1,"CHIUSA",42443.453136574077,83377,0,3,50927749,186,40,0,null,null,42440,2031,0,5502910556,34948]
[5500275848,null,5502910556,5500022324,5529334397,7048730,1,1,"CHIUSA",42443.453148148146,83377,0,2,50927749,186,40,0,null,null,42440,2031,0,5502910556,34948]
[5500275848,null,5502910556,5500022324,5529334394,7048730,1,1,"CHIUSA",42443.453148148146,83377,0,1,50927749,186,40,0,null,null,42440,2031,0,5502910556,34948]
[5500275848,null,5502910559,5500022327,5529334541,8544243,10,1,"CHIUSA",42443.453148148146,83380,0,1,"K53034051AB",360,40,0,null,null,42440,389,2,5502910559,34948]
[5500275848,null,5502910560,5500022328,5529334526,8649033,2,1,"CHIUSA",42443.453136574077,83381,0,1,"K04891720AA",116,40,0,null,null,42440,126,0,5502910560,34948]
[5500275848,null,5502910561,5500022329,5529334532,8550296,2,1,"CHIUSA",42443.453148148146,83382,0,2,51953111,530,40,0,null,null,42440,1156,3,5502910561,34948]
[5500275848,null,5502910561,5500022329,5529334531,8550296,2,1,"CHIUSA",42443.453136574077,83382,0,1,51953111,530,40,0,null,null,42440,1156,3,5502910561,34948]
[5500275848,null,5502910564,5500022332,5529334456,8644668,1,1,"CHIUSA",42443.453136574077,83385,0,1,52051198,433,40,0,null,null,42440,463,0,5502910564,34948]
[5500275848,null,5502910565,5500022333,5529334462,8429968,2,1,"CHIUSA",42443.453136574077,83386,0,1,"K05184088AH",18,40,0,null,null,42440,19,0,5502910565,34948]
[5500275848,null,5502910580,5500022348,5529334568,8649033,3,1,"CHIUSA",42443.453136574077,83400,0,1,"K04593852AB",101,40,0,null,null,42440,526,1,5502910580,34948]
[5500275848,null,5502910580,5500022348,5529334568,8649033,1,1,"CHIUSA",42443.453136574077,83400,0,2,"K04861660AA",387,40,0,null,null,42440,526,1,5502910580,34948]
[5500275848,null,5502910581,5500022349,5529334559,8456533,3,1,"CHIUSA",42443.453148148146,83401,0,1,"K55157349AD",673,40,0,null,null,42440,734,1,5502910581,34948]
[5500275848,null,5502910597,5500022365,5529334575,8550296,5,1,"CHIUSA",42443.453148148146,83417,0,2,51948097,611,40,0,null,null,42440,1315,6,5502910597,34948]
[5500275848,null,5502910597,5500022365,5529334574,8550296,5,1,"CHIUSA",42443.453148148146,83417,0,1,51948097,611,40,0,null,null,42440,1315,6,5502910597,34948]
[5500275848,null,5502910634,5500022402,5529334683,8665738,6,1,"CHIUSA",42443.453136574077,83621,0,1,52002416,1137,40,0,null,null,42440,1224,0,5502910634,34948]
[5500275848,null,5502910637,5500022405,5529334696,8665738,5,1,"CHIUSA",42443.453136574077,83624,0,1,52002417,1336,40,0,null,null,42440,1438,0,5502910637,34948]
[5500275848,null,5502910657,5500022425,5529334681,8658359,1,1,"CHIUSA",42443.453148148146,83549,0,1,"K04596198",132,40,0,null,null,42440,142,0,5502910657,34948]
[5500275848,null,5502910664,5500022432,5529334606,8649750,1,1,"CHIUSA",42443.453148148146,83433,0,1,"K06506007AA",178,40,0,null,null,42440,178,0,5502910664,34948]
[5500275848,null,5502910665,5500022433,5529334779,8660302,1,1,"CHIUSA",42443.453136574077,83434,0,2,"K04792443AB",979,40,0,null,null,42440,1359,0,5502910665,34948]
[5500275848,null,5502910665,5500022433,5529334764,8640961,13,1,"CHIUSA",42443.453148148146,83434,0,1,"K05142879AB",279,40,0,null,null,42440,1359,0,5502910665,34948]
[5500275848,null,5502910667,5500022435,5529334806,8645150,11,1,"CHIUSA",42443.453136574077,83437,0,4,"K56046710AE",748,40,0,null,null,42440,1616,1,5502910667,34948]
[5500275848,null,5502910667,5500022435,5529334803,8645150,43,1,"CHIUSA",42443.453136574077,83437,0,3,"KSPFR8TI332",428,40,0,null,null,42440,1616,1,5502910667,34948]
[5500275848,null,5502910667,5500022435,5529334792,8645150,29,1,"CHIUSA",42443.453148148146,83437,0,2,"K05085823AC",166,40,0,null,null,42440,1616,1,5502910667,34948]
[5500275848,null,5502910667,5500022435,5529334775,8645150,35,1,"CHIUSA",42443.453136574077,83437,0,1,"K05083344AA",216,40,0,null,null,42440,1616,1,5502910667,34948]
[5500275848,null,5502910668,5500022436,5529334778,8386972,1,1,"CHIUSA",42443.453136574077,83436,0,2,52051218,355,40,0,null,null,42440,774,1,5502910668,34948]
[5500275848,null,5502910668,5500022436,5529334778,8386969,1,1,"CHIUSA",42443.453136574077,83436,0,1,52051218,355,40,0,null,null,42440,774,1,5502910668,34948]
[5500275848,null,5502910669,5500022437,5529334765,8406872,1,1,"CHIUSA",42443.453136574077,83438,0,1,52051218,355,40,0,null,null,42440,387,0,5502910669,34948]
[5500275848,null,5502910670,5500022438,5529334736,8665738,3,1,"CHIUSA",42443.453148148146,83439,0,2,735599028,271,40,0,null,null,42440,511,2,5502910670,34948]
[5500275848,null,5502910670,5500022438,5529334727,8665738,4,1,"CHIUSA",42443.453136574077,83439,0,1,735599101,204,40,0,null,null,42440,511,2,5502910670,34948]
[5500275848,null,5502910683,5500022451,5529334844,8663507,1,1,"CHIUSA",42443.453148148146,83550,0,1,51961724,920,40,0,null,null,42440,920,0,5502910683,34948]
[5500275848,null,5502910698,5500022466,5529334831,8649750,2,1,"CHIUSA",42443.453136574077,83457,0,1,"K68039280AA",153,40,0,null,null,42440,153,0,5502910698,34948]
[5500275848,null,5502910699,5500022467,5529334836,8320140,3,2,"CHIUSA",42443.453136574077,83466,0,1,"K06509475AA",11,40,0,null,null,42440,11,0,5502910699,34948]
[5500275848,null,5502910700,5500022468,5529334839,8645150,16,1,"CHIUSA",42443.453136574077,83461,0,1,"K05183761AD",609,40,0,null,null,42440,656,1,5502910700,34948]
[5500275848,null,5502910701,5500022469,5529334855,8665727,1,1,"CHIUSA",42443.453136574077,83469,0,1,"K05149168AI",170,40,0,null,null,42440,186,0,5502910701,34948]
[5500275848,null,5502910743,5500022511,5529334966,8243777,28,1,"CHIUSA",42443.453148148146,83507,0,1,51953599,319,40,0,null,null,42440,319,0,5502910743,34948]
[5500275848,null,5502910800,5500022568,5529335289,8663429,1,1,"CHIUSA",42443.453136574077,83542,0,2,"K55077894AD",105,40,0,null,null,42440,1135,2,5502910800,34948]
[5500275848,null,5502910800,5500022568,5529334912,8662684,1,2,"CHIUSA",42443.453136574077,83542,0,1,"K68217809AA",948,40,0,null,null,42440,1135,2,5502910800,34948]
[5500275848,null,5502910801,5500022569,5529335311,8665737,12,1,"CHIUSA",42443.453136574077,83553,0,1,"K53032860AA",171,40,0,null,null,42440,184,1,5502910801,34948]
[5500275848,null,5502910803,5500022571,5529335333,8664250,13,1,"CHIUSA",42443.453136574077,83564,0,3,"K56009712AF",544,40,0,null,null,42440,722,1,5502910803,34948]
[5500275848,null,5502910803,5500022571,5529334940,8644797,1,1,"CHIUSA",42443.453136574077,83564,0,2,735599035,29,40,0,null,null,42440,722,1,5502910803,34948]
[5500275848,null,5502910803,5500022571,5529334939,8644797,3,1,"CHIUSA",42443.453136574077,83564,0,1,735599030,90,40,0,null,null,42440,722,1,5502910803,34948]
[5500275848,null,5502910804,5500022572,5529335113,8665737,13,1,"CHIUSA",42443.453136574077,83540,0,5,"K53032857AB",169,40,0,null,null,42440,4374,7,5502910804,34948]
[5500275848,null,5502910804,5500022572,5529335110,8665737,7,1,"CHIUSA",42443.453148148146,83540,0,4,735603977,51,40,0,null,null,42440,4374,7,5502910804,34948]
[5500275848,null,5502910804,5500022572,5529334971,8645150,18,1,"CHIUSA",42443.453136574077,83540,0,3,51943270,98,40,0,null,null,42440,4374,7,5502910804,34948]
[5500275848,null,5502910804,5500022572,5529334945,8645150,21,1,"CHIUSA",42443.453136574077,83540,0,2,51953117,223,40,0,null,null,42440,4374,7,5502910804,34948]
[5500275848,null,5502910804,5500022572,5529334943,8645150,4,1,"CHIUSA",42443.453148148146,83540,0,1,"K05184294AE",3502,40,0,null,null,42440,4374,7,5502910804,34948]
[5500275848,null,5502910805,5500022573,5529334981,8665727,2,1,"CHIUSA",42443.453136574077,83541,0,1,"K68029590AF",416,40,0,null,null,42440,448,2,5502910805,34948]
[5500275848,null,5502910806,5500022574,5529334910,8646391,1,1,"CHIUSA",42443.453136574077,83587,0,1,"K05154515AC",3649,40,0,null,null,42440,3927,8,5502910806,34948]
[5500275848,null,5502910832,5500022600,5529335425,8665737,11,1,"CHIUSA",42443.453136574077,83607,0,1,"K52129125AF",190,40,0,null,null,42440,205,0,5502910832,34948]
[5500275848,null,5502910897,5500022665,5529335481,8643409,1,1,"CHIUSA",42443.453136574077,83693,0,2,"K05184651AG",125,40,0,null,null,42440,545,1,5502910897,34948]
[5500275848,null,5502910897,5500022665,5529335481,8643345,1,1,"CHIUSA",42443.453136574077,83693,0,1,"K1LR01DX9AB",390,40,0,null,null,42440,545,1,5502910897,34948]
[5500275848,null,5502910898,5500022666,5529335487,8525459,6,1,"CHIUSA",42443.453148148146,83696,0,1,"K68088787AB",812,40,0,null,null,42440,874,1,5502910898,34948]
[5500275848,null,5502910899,5500022667,5529335535,7272314,11,1,"CHIUSA",42443.453148148146,83692,0,1,51965513,65,40,0,null,null,42440,70,1,5502910899,34948]
[5500275848,null,5502910900,5500022668,5529335587,8645150,45,1,"CHIUSA",42443.453136574077,83686,0,2,"K68081249AC",497,40,0,null,null,42440,1669,4,5502910900,34948]
[5500275848,null,5502910900,5500022668,5529335569,8645150,8,1,"CHIUSA",42443.453136574077,83686,0,1,"K04677603AK",1051,40,0,null,null,42440,1669,4,5502910900,34948]
[5500275848,null,5502910901,5500022669,5529335581,8243777,25,1,"CHIUSA",42443.453136574077,83681,0,1,51965513,65,40,0,null,null,42440,70,1,5502910901,34948]
[5500275848,null,5502910903,5500022671,5529335586,8243777,25,1,"CHIUSA",42443.453136574077,83689,0,3,51965513,65,40,0,null,null,42440,210,3,5502910903,34948]
[5500275848,null,5502910903,5500022671,5529335582,8243777,25,1,"CHIUSA",42443.453148148146,83689,0,2,51965513,65,40,0,null,null,42440,210,3,5502910903,34948]
[5500275848,null,5502910903,5500022671,5529335565,8243777,25,1,"CHIUSA",42443.453148148146,83689,0,1,51965513,65,40,0,null,null,42440,210,3,5502910903,34948]
[5500275848,null,5502910937,5500022705,5529335641,8645150,2,1,"CHIUSA",42443.453136574077,83723,0,2,"K68088537AA",2127,40,0,null,null,42441,2852,13,5502910937,34948]
[5500275848,null,5502910937,5500022705,5529335612,8645150,9,1,"CHIUSA",42443.453136574077,83723,0,1,"K05076726AD",523,40,0,null,null,42441,2852,13,5502910937,34948]
[5500275848,null,5502910938,5500022706,5529335632,8645150,36,1,"CHIUSA",42443.453136574077,83726,0,5,"K52014516AC",100,40,0,null,null,42441,4328,4,5502910938,34948]
[5500275848,null,5502910938,5500022706,5529335630,8613887,3,1,"CHIUSA",42443.453148148146,83726,0,4,"K0ZA17TZZAA",1019,40,0,null,null,42441,4328,4,5502910938,34948]
[5500275848,null,5502910938,5500022706,5529335623,8645150,6,1,"CHIUSA",42443.453136574077,83726,0,3,"K55079414AF",781,40,0,null,null,42441,4328,4,5502910938,34948]
[5500275848,null,5502910938,5500022706,5529335621,8645150,6,1,"CHIUSA",42443.453136574077,83726,0,2,"K55079414AF",781,40,0,null,null,42441,4328,4,5502910938,34948]
[5500275848,null,5502910938,5500022706,5529335601,8645150,31,1,"CHIUSA",42443.453148148146,83726,0,1,"K68079487AA",1335,40,0,null,null,42441,4328,4,5502910938,34948]
[5500275848,null,5502910966,5500022734,5529335718,8700160,3,1,"CHIUSA",42443.453136574077,83752,0,1,51953123,107,40,0,null,null,42441,117,0,5502910966,34948]
[5500275848,null,5502910967,5500022735,5529335708,8690526,1,1,"CHIUSA",42443.453136574077,83747,0,1,735621293,896,40,0,null,null,42441,978,1,5502910967,34948]
[5500275848,null,5502910970,5500022738,5529335721,8645150,10,1,"CHIUSA",42443.453136574077,83756,0,4,51953121,470,40,0,null,null,42441,1811,18,5502910970,34948]
[5500275848,null,5502910970,5500022738,5529335720,8645150,10,1,"CHIUSA",42443.453136574077,83756,0,3,51953121,470,40,0,null,null,42441,1811,18,5502910970,34948]
[5500275848,null,5502910970,5500022738,5529335696,8645150,12,1,"CHIUSA",42443.453136574077,83756,0,2,"K52109938AB",365,40,0,null,null,42441,1811,18,5502910970,34948]
[5500275848,null,5502910970,5500022738,5529335695,8645150,12,1,"CHIUSA",42443.453136574077,83756,0,1,"K52109938AB",365,40,0,null,null,42441,1811,18,5502910970,34948]
[5500275848,null,5502910971,5500022741,5529335660,8573281,1,1,"CHIUSA",42443.453136574077,83755,0,1,100224773,1219,40,0,null,null,42441,1330,0,5502910971,34948]
[5500275848,null,5502910972,5500022739,5529335669,8573195,8,3,"CHIUSA",42443.453148148146,83759,0,2,52028704,523,40,0,null,null,42441,1433,3,5502910972,34948]
[5500275848,null,5502910972,5500022739,5529335665,8573195,8,1,"CHIUSA",42443.453148148146,83759,0,1,52028704,785,40,0,null,null,42441,1433,3,5502910972,34948]
[5500275848,null,5502910973,5500022740,5529335715,8645150,22,1,"CHIUSA",42443.453136574077,83758,0,11,"K04861756AA",2121,40,0,null,null,42441,9837,33,5502910973,34948]
[5500275848,null,5502910973,5500022740,5529335706,8645150,7,1,"CHIUSA",42443.453136574077,83758,0,10,"K04766950AC",1478,40,0,null,null,42441,9837,33,5502910973,34948]
[5500275848,null,5502910973,5500022740,5529335700,8643038,5,1,"CHIUSA",42443.453136574077,83758,0,9,"K68087242AB",805,40,0,null,null,42441,9837,33,5502910973,34948]
[5500275848,null,5502910973,5500022740,5529335697,8645150,12,1,"CHIUSA",42443.453148148146,83758,0,8,"K52109938AB",365,40,0,null,null,42441,9837,33,5502910973,34948]
[5500275848,null,5502910973,5500022740,5529335693,8645150,12,1,"CHIUSA",42443.453136574077,83758,0,7,"K52109938AB",365,40,0,null,null,42441,9837,33,5502910973,34948]
[5500275848,null,5502910973,5500022740,5529335691,8645150,26,1,"CHIUSA",42443.453136574077,83758,0,6,"K04766479AD",171,40,0,null,null,42441,9837,33,5502910973,34948]
[5500275848,null,5502910973,5500022740,5529335689,8645150,37,1,"CHIUSA",42443.453148148146,83758,0,5,"K05058693AA",933,40,0,null,null,42441,9837,33,5502910973,34948]
[5500275848,null,5502910973,5500022740,5529335683,8645150,3,1,"CHIUSA",42443.453136574077,83758,0,4,"K05078709AB",2053,40,0,null,null,42441,9837,33,5502910973,34948]
[5500275848,null,5502910973,5500022740,5529335681,8645150,27,1,"CHIUSA",42443.453148148146,83758,0,3,"K05149168AI",341,40,0,null,null,42441,9837,33,5502910973,34948]
[5500275848,null,5502910973,5500022740,5529335663,8645150,19,1,"CHIUSA",42443.453136574077,83758,0,2,735613082,255,40,0,null,null,42441,9837,33,5502910973,34948]
[5500275848,null,5502910973,5500022740,5529335661,8645150,19,1,"CHIUSA",42443.453148148146,83758,0,1,735613082,255,40,0,null,null,42441,9837,33,5502910973,34948]
[5500275848,null,5502910993,5500022761,5529335677,8613887,2,1,"CHIUSA",42443.453136574077,83783,0,1,"K55077946AB",3375,40,0,null,null,42441,3632,15,5502910993,34948]
[5500275848,null,5502911056,5500022824,5529335868,8685015,1,1,"CHIUSA",42443.453136574077,83836,0,2,51975489,247,40,0,null,null,42441,1764,1,5502911056,34948]
[5500275848,null,5502911056,5500022824,5529335846,8679431,1,1,"CHIUSA",42443.453136574077,83836,0,1,"K05058693AA",1400,40,0,null,null,42441,1764,1,5502911056,34948]
[5500275848,null,5502911058,5500022826,5529335731,8700160,1,1,"CHIUSA",42443.453148148146,83843,0,1,735599035,29,40,0,null,null,42441,31,0,5502911058,34948]
[5500275848,null,5502911062,5500022829,5529335870,8707111,1,1,"CHIUSA",42443.453136574077,83845,0,2,51975489,247,40,0,null,null,42441,8317,1,5502911062,34948]
[5500275848,null,5502911062,5500022829,5529335812,8695148,1,1,"CHIUSA",42443.453136574077,83845,0,1,100224757,7423,40,0,null,null,42441,8317,1,5502911062,34948]
[5500275848,null,5502911063,5500022831,5529335890,8340678,7,1,"CHIUSA",42443.453136574077,83846,0,5,51965513,65,40,0,null,null,42441,349,6,5502911063,34948]
[5500275848,null,5502911063,5500022831,5529335889,8340678,7,1,"CHIUSA",42443.453136574077,83846,0,4,51965513,65,40,0,null,null,42441,349,6,5502911063,34948]
[5500275848,null,5502911063,5500022831,5529335888,8340678,7,1,"CHIUSA",42443.453136574077,83846,0,3,51965513,65,40,0,null,null,42441,349,6,5502911063,34948]
[5500275848,null,5502911063,5500022831,5529335776,7544608,31,1,"CHIUSA",42443.453136574077,83846,0,2,51965513,65,40,0,null,null,42441,349,6,5502911063,34948]
[5500275848,null,5502911063,5500022831,5529335758,7544608,31,1,"CHIUSA",42443.453136574077,83846,0,1,51965513,65,40,0,null,null,42441,349,6,5502911063,34948]
[5500275848,null,5502911064,5500022832,5529335800,8645150,13,1,"CHIUSA",42443.453148148146,83849,0,2,"K52129250AA",363,40,0,null,null,42441,782,14,5502911064,34948]
[5500275848,null,5502911064,5500022832,5529335799,8645150,13,1,"CHIUSA",42443.453136574077,83849,0,1,"K52129250AA",363,40,0,null,null,42441,782,14,5502911064,34948]
[5500275848,null,5502911064,5500022832,5529335783,8645150,48,1,"CHIUSA",42443.453136574077,83848,0,20,"KSPFR8TE2AA",251,40,0,null,null,42441,11756,8,5502911064,34948]
[5500275848,null,5502911064,5500022832,5529335781,8613887,4,1,"CHIUSA",42443.453136574077,83848,0,19,"K55077337AD",785,40,0,null,null,42441,11756,8,5502911064,34948]
[5500275848,null,5502911064,5500022832,5529335779,8613887,5,1,"CHIUSA",42443.453136574077,83848,0,18,"K55077475AE",869,40,0,null,null,42441,11756,8,5502911064,34948]
[5500275848,null,5502911064,5500022832,5529335777,8645150,47,1,"CHIUSA",42443.453136574077,83848,0,2,"K05151206AC",78,40,0,null,null,42441,11756,8,5502911064,34948]
[5500275848,null,5502911064,5500022832,5529335777,8645150,46,1,"CHIUSA",42443.453136574077,83848,0,3,"K05272526AA",183,40,0,null,null,42441,11756,8,5502911064,34948]
[5500275848,null,5502911064,5500022832,5529335777,8645150,44,1,"CHIUSA",42443.453136574077,83848,0,4,"K05278200AC",1005,40,0,null,null,42441,11756,8,5502911064,34948]
[5500275848,null,5502911064,5500022832,5529335777,8645150,42,1,"CHIUSA",42443.453136574077,83848,0,5,"K05116079AA",115,40,0,null,null,42441,11756,8,5502911064,34948]
[5500275848,null,5502911064,5500022832,5529335777,8645150,40,1,"CHIUSA",42443.453136574077,83848,0,6,"K68044687AA",148,40,0,null,null,42441,11756,8,5502911064,34948]
[5500275848,null,5502911064,5500022832,5529335777,8645150,38,1,"CHIUSA",42443.453136574077,83848,0,7,"K52079880AA",579,40,0,null,null,42441,11756,8,5502911064,34948]
[5500275848,null,5502911064,5500022832,5529335777,8645150,34,1,"CHIUSA",42443.453136574077,83848,0,8,"K68059549AA",252,40,0,null,null,42441,11756,8,5502911064,34948]
[5500275848,null,5502911064,5500022832,5529335777,8645150,33,1,"CHIUSA",42443.453136574077,83848,0,9,"K04596198",264,40,0,null,null,42441,11756,8,5502911064,34948]
[5500275848,null,5502911064,5500022832,5529335777,8645150,30,1,"CHIUSA",42443.453136574077,83848,0,10,"K68160139AA",294,40,0,null,null,42441,11756,8,5502911064,34948]
[5500275848,null,5502911064,5500022832,5529335777,8645150,28,1,"CHIUSA",42443.453136574077,83848,0,11,"K68029829AB",680,40,0,null,null,42441,11756,8,5502911064,34948]
[5500275848,null,5502911064,5500022832,5529335777,8645150,24,1,"CHIUSA",42443.453136574077,83848,0,12,"K04721602AB",923,40,0,null,null,42441,11756,8,5502911064,34948]
[5500275848,null,5502911064,5500022832,5529335777,8645150,23,1,"CHIUSA",42443.453136574077,83848,0,13,"K05085822AC",390,40,0,null,null,42441,11756,8,5502911064,34948]
[5500275848,null,5502911064,5500022832,5529335777,8645150,20,1,"CHIUSA",42443.453136574077,83848,0,14,"K04860038AD",492,40,0,null,null,42441,11756,8,5502911064,34948]
[5500275848,null,5502911064,5500022832,5529335777,8645150,17,1,"CHIUSA",42443.453136574077,83848,0,15,"K05149062AA",1495,40,0,null,null,42441,11756,8,5502911064,34948]
[5500275848,null,5502911064,5500022832,5529335777,8645150,15,1,"CHIUSA",42443.453136574077,83848,0,16,"K57010717AC",668,40,0,null,null,42441,11756,8,5502911064,34948]
[5500275848,null,5502911064,5500022832,5529335777,8645150,14,1,"CHIUSA",42443.453136574077,83848,0,17,"K05093508AA",1345,40,0,null,null,42441,11756,8,5502911064,34948]
[5500275848,null,5502911064,5500022832,5529335743,8645150,41,1,"CHIUSA",42443.453136574077,83848,0,1,"K04721581AA",192,40,0,null,null,42441,11756,8,5502911064,34948]
[5500275848,null,5502911116,5500022884,5529335863,8665737,5,1,"CHIUSA",42443.453136574077,83906,0,1,52033464,246,40,0,null,null,42441,265,0,5502911116,34948]
[5500275848,null,5502911118,5500022887,5529335948,8707425,5,1,"CHIUSA",42443.453136574077,83905,0,2,"K05168167AB",488,40,0,null,null,42441,767,5,5502911118,34948]
[5500275848,null,5502911118,5500022887,5529335925,8707425,6,1,"CHIUSA",42443.453148148146,83905,0,1,"K05171137AB",213,40,0,null,null,42441,767,5,5502911118,34948]
[5500275848,null,5502911119,5500022886,5529335878,8700160,2,1,"CHIUSA",42443.453136574077,83907,0,1,735631085,1208,40,0,null,null,42441,1300,3,5502911119,34948]
[5500275848,null,5502911122,5500022890,5529335940,8705675,6,1,"CHIUSA",42443.453148148146,83908,0,2,"K68087242AB",403,40,0,null,null,42441,1286,5,5502911122,34948]
[5500275848,null,5502911122,5500022890,5529335902,8705675,10,1,"CHIUSA",42443.453136574077,83908,0,1,"K68103309AD",792,40,0,null,null,42441,1286,5,5502911122,34948]
[5500275848,null,5502911126,5500022894,5529335937,8684012,3,1,"CHIUSA",42443.453148148146,83912,0,6,52028879,193,40,0,null,null,42441,1783,13,5502911126,34948]
[5500275848,null,5502911126,5500022894,5529335935,8684175,2,1,"CHIUSA",42443.453148148146,83912,0,5,52028879,193,40,0,null,null,42441,1783,13,5502911126,34948]
[5500275848,null,5502911126,5500022894,5529335934,8687260,3,1,"CHIUSA",42443.453136574077,83912,0,4,52028879,193,40,0,null,null,42441,1783,13,5502911126,34948]
[5500275848,null,5502911126,5500022894,5529335928,8706848,3,1,"CHIUSA",42443.453148148146,83912,0,3,"KCAA3L016AB",691,40,0,null,null,42441,1783,13,5502911126,34948]
[5500275848,null,5502911126,5500022894,5529335905,8706848,5,2,"CHIUSA",42443.453136574077,83912,0,2,"KCERBK041AB",82,40,0,null,null,42441,1783,13,5502911126,34948]
[5500275848,null,5502911126,5500022894,5529335893,8681135,1,1,"CHIUSA",42443.453136574077,83912,0,1,"K04891713AA",285,40,0,null,null,42441,1783,13,5502911126,34948]
[5500275848,null,5502911143,5500022911,5529336037,7259596,1,1,"CHIUSA",42443.453136574077,83929,0,1,"K04779979AD",406,40,0,null,null,42441,440,0,5502911143,34948]
[5500275848,null,5502911144,5500022912,5529336062,8705670,1,1,"CHIUSA",42443.453148148146,83927,0,1,51977596,264,40,0,null,null,42441,285,0,5502911144,34948]
[5500275848,null,5502911145,5500022913,5529336067,8706512,2,1,"CHIUSA",42443.453148148146,83934,0,1,"KCBP4P541AB",662,40,0,null,null,42441,718,1,5502911145,34948]
[5500275848,null,5502911147,5500022915,5529336043,8705675,2,1,"CHIUSA",42443.453148148146,83936,0,2,735599036,29,40,0,null,null,42441,176,1,5502911147,34948]
[5500275848,null,5502911147,5500022915,5529336031,8705675,14,1,"CHIUSA",42443.453136574077,83936,0,1,"K68210315AE",135,40,0,null,null,42441,176,1,5502911147,34948]
[5500275848,null,5502911152,5500022920,5529336152,8620642,1,1,"CHIUSA",42443.453136574077,83940,0,1,"K55396971AC",2166,40,0,null,null,42441,2332,20,5502911152,34948]
[5500275848,null,5502911153,5500022921,5529336153,8643038,2,1,"CHIUSA",42443.453136574077,83941,0,1,"K68003430AB",2251,40,0,null,null,42441,2423,8,5502911153,34948]
[5500275848,null,5502911154,5500022922,5529336140,8705675,11,1,"CHIUSA",42443.453136574077,83942,0,4,"K68203214AA",1072,40,0,null,null,42441,2774,15,5502911154,34948]
[5500275848,null,5502911154,5500022922,5529336111,8705675,1,1,"CHIUSA",42443.453136574077,83942,0,3,735598589,502,40,0,null,null,42441,2774,15,5502911154,34948]
[5500275848,null,5502911154,5500022922,5529336110,8705675,1,1,"CHIUSA",42443.453136574077,83942,0,2,735598589,502,40,0,null,null,42441,2774,15,5502911154,34948]
[5500275848,null,5502911154,5500022922,5529336108,8705675,1,1,"CHIUSA",42443.453136574077,83942,0,1,735598589,502,40,0,null,null,42441,2774,15,5502911154,34948]
[5500275848,null,5502911155,5500022923,5529336101,8679431,2,1,"CHIUSA",42443.453148148146,83945,0,3,"K68081249AC",298,40,0,null,null,42441,5917,11,5502911155,34948]
[5500275848,null,5502911155,5500022923,5529336100,8679431,2,1,"CHIUSA",42443.453148148146,83945,0,2,"K68081249AC",1193,40,0,null,null,42441,5917,11,5502911155,34948]
[5500275848,null,5502911155,5500022923,5529336098,8680975,2,1,"CHIUSA",42443.453136574077,83945,0,1,"K04610325AG",4000,40,0,null,null,42441,5917,11,5502911155,34948]
[5500275848,null,5502911157,5500022925,5529336102,8706035,1,1,"CHIUSA",42443.453136574077,83943,0,1,77367194,3520,40,0,null,null,42441,3520,2,5502911157,34948]
[5500275848,null,5502911225,5500022993,5529336183,8705675,5,1,"CHIUSA",42443.453136574077,84010,0,1,"K05076726AD",523,40,0,null,null,42441,563,3,5502911225,34948]
[5500275848,null,5502911230,5500022998,5529336225,8645150,1,1,"CHIUSA",42443.453136574077,84017,0,1,"K05076777AE",2959,40,0,null,null,42441,3185,9,5502911230,34948]
[5500275848,null,5502911231,5500022999,5529336179,8707425,4,1,"CHIUSA",42443.453136574077,84018,0,1,"K05168166AB",488,40,0,null,null,42441,534,5,5502911231,34948]
[5500275848,null,5502911233,5500023001,5529336207,8550296,1,1,"CHIUSA",42443.453136574077,84026,0,1,51953106,600,40,0,null,null,42441,654,1,5502911233,34948]
[5500275848,null,5502911234,5500023002,5529336208,8550296,1,1,"CHIUSA",42443.453136574077,84021,0,1,51953106,600,40,0,null,null,42441,654,1,5502911234,34948]
[5500275848,null,5502911235,5500023003,5529336200,8620760,2,1,"CHIUSA",42443.453148148146,84022,0,1,51953599,64,40,0,null,null,42441,64,0,5502911235,34948]
[5500275848,null,5502911275,5500023043,5529336223,8429217,1,1,"CHIUSA",42443.453148148146,84063,0,1,"K05076777AE",2959,40,0,null,null,42441,3185,9,5502911275,34948]
[5500275848,null,5502911277,5500023045,5529336239,8428339,1,1,"CHIUSA",42443.453148148146,84064,0,1,"K68213826AB",3240,40,0,null,null,42441,3487,15,5502911277,34948]
[5500275848,null,5502911300,5500023068,5529336705,8618047,1,1,"CHIUSA",42443.453136574077,84096,0,1,55259300,624,40,0,null,null,42443,681,0,5502911300,34948]
[5500275849,null,5502910557,5500022325,5529334447,7039386,1,1,"CHIUSA",42443.456516203703,83378,0,5,50927749,186,40,0,null,null,42440,1016,0,5502910557,34948]
[5500275849,null,5502910557,5500022325,5529334429,7039386,1,1,"CHIUSA",42443.456516203703,83378,0,4,50927749,186,40,0,null,null,42440,1016,0,5502910557,34948]
[5500275849,null,5502910557,5500022325,5529334421,7039386,1,1,"CHIUSA",42443.456516203703,83378,0,3,50927749,186,40,0,null,null,42440,1016,0,5502910557,34948]
[5500275849,null,5502910557,5500022325,5529334402,7039386,1,1,"CHIUSA",42443.456516203703,83378,0,2,50927749,186,40,0,null,null,42440,1016,0,5502910557,34948]
[5500275849,null,5502910557,5500022325,5529334400,7039386,1,1,"CHIUSA",42443.456516203703,83378,0,1,50927749,186,40,0,null,null,42440,1016,0,5502910557,34948]
[5500275849,null,5502910582,5500022350,5529334560,8511042,1,1,"CHIUSA",42443.456516203703,83402,0,1,"K68078540AC",474,40,0,null,null,42440,515,1,5502910582,34948]
[5500275849,null,5502910654,5500022422,5529334623,8643040,1,1,"CHIUSA",42443.456516203703,83546,0,3,"K68082479AA",165,40,0,null,null,42440,4558,1,5502910654,34948]
[5500275849,null,5502910654,5500022422,5529334623,8643003,1,1,"CHIUSA",42443.456516203703,83546,0,2,"K68158126AC",2549,40,0,null,null,42440,4558,1,5502910654,34948]
[5500275849,null,5502910654,5500022422,5529334623,8642960,1,1,"CHIUSA",42443.456516203703,83546,0,1,"K05149062AA",1495,40,0,null,null,42440,4558,1,5502910654,34948]
[5500275849,null,5502910655,5500022423,5529334658,8646692,1,1,"CHIUSA",42443.456516203703,83547,0,1,"K05067789AD",2071,40,0,null,null,42440,2260,3,5502910655,34948]
[5500275849,null,5502910663,5500022431,5529334796,8644328,1,1,"CHIUSA",42443.456516203703,83432,0,1,"K05085823AC",166,40,0,null,null,42440,166,0,5502910663,34948]
[5500275849,null,5502910666,5500022434,5529334788,8645595,4,1,"CHIUSA",42443.456516203703,83435,0,3,"K04805833AA",521,40,0,null,null,42440,4394,1,5502910666,34948]
[5500275849,null,5502910666,5500022434,5529334787,8661695,2,1,"CHIUSA",42443.456516203703,83435,0,2,"K04805729AB",772,40,0,null,null,42440,4394,1,5502910666,34948]
[5500275849,null,5502910666,5500022434,5529334749,8645595,3,1,"CHIUSA",42443.456516203703,83435,0,1,"K04806472AB",2806,40,0,null,null,42440,4394,1,5502910666,34948]
[5500275849,null,5502910702,5500022470,5529334882,8661695,15,1,"CHIUSA",42443.456516203703,83468,0,4,"K52124317AB",676,40,0,null,null,42440,1845,6,5502910702,34948]
[5500275849,null,5502910702,5500022470,5529334881,8661695,11,1,"CHIUSA",42443.456516203703,83468,0,3,"K04805833AA",521,40,0,null,null,42440,1845,6,5502910702,34948]
[5500275849,null,5502910702,5500022470,5529334872,8661695,14,1,"CHIUSA",42443.456516203703,83468,0,2,51987829,427,40,0,null,null,42440,1845,6,5502910702,34948]
[5500275849,null,5502910702,5500022470,5529334812,8645595,2,1,"CHIUSA",42443.456516203703,83468,0,1,"K04806084AA",127,40,0,null,null,42440,1845,6,5502910702,34948]
[5500275849,null,5502910723,5500022491,5529334914,8661695,1,1,"CHIUSA",42443.456516203703,83488,0,1,"K04806471AA",5875,40,0,null,null,42440,6324,6,5502910723,34948]
[5500275849,null,5502910802,5500022570,5529335195,8643040,2,1,"CHIUSA",42443.456516203703,83558,0,1,"K68091790AA",2154,40,0,null,null,42440,2319,6,5502910802,34948]
[5500275849,null,5502910807,5500022575,5529335338,8661695,13,1,"CHIUSA",42443.456516203703,83576,0,6,"K68031388AA",238,40,0,null,null,42440,10675,5,5502910807,34948]
[5500275849,null,5502910807,5500022575,5529335305,8661695,10,1,"CHIUSA",42443.456516203703,83576,0,5,"K04806472AB",2806,40,0,null,null,42440,10675,5,5502910807,34948]
[5500275849,null,5502910807,5500022575,5529335290,8661695,5,1,"CHIUSA",42443.456516203703,83576,0,4,"K1EW63TZZAA",680,40,0,null,null,42440,10675,5,5502910807,34948]
[5500275849,null,5502910807,5500022575,5529334994,8661695,4,1,"CHIUSA",42443.456516203703,83576,0,3,"K04806125AA",475,40,0,null,null,42440,10675,5,5502910807,34948]
[5500275849,null,5502910807,5500022575,5529334964,8661695,6,1,"CHIUSA",42443.456516203703,83576,0,2,"K04805928AC",1334,40,0,null,null,42440,10675,5,5502910807,34948]
[5500275849,null,5502910807,5500022575,5529334948,8661695,3,1,"CHIUSA",42443.456516203703,83576,0,1,"K57010761AA",4363,40,0,null,null,42440,10675,5,5502910807,34948]
[5500275849,null,5502910808,5500022576,5529334938,8641021,1,1,"CHIUSA",42443.456516203703,83580,0,1,"K82214056",561,40,0,null,null,42440,604,1,5502910808,34948]
[5500275849,null,5502910833,5500022601,5529335446,8646692,5,1,"CHIUSA",42443.456516203703,83605,0,1,"K05076777AE",2959,40,0,null,null,42440,3185,9,5502910833,34948]
[5500275849,null,5502910894,5500022662,5529335579,8642707,1,1,"CHIUSA",42443.456516203703,83690,0,1,"K68043990AF",731,40,0,null,null,42440,799,5,5502910894,34948]
[5500275849,null,5502910895,5500022663,5529335576,8651359,3,1,"CHIUSA",42443.456516203703,83684,0,2,735599036,87,40,0,null,null,42440,1854,11,5502910895,34948]
[5500275849,null,5502910895,5500022663,5529335450,8646692,4,1,"CHIUSA",42443.456516203703,83684,0,1,"K05067937AE",1635,40,0,null,null,42440,1854,11,5502910895,34948]
[5500275849,null,5502910896,5500022664,5529335443,8661695,16,1,"CHIUSA",42443.456516203703,83683,0,1,"K68111469AA",1276,40,0,null,null,42440,1374,2,5502910896,34948]
[5500275849,null,5502910902,5500022670,5529335583,8641304,1,1,"CHIUSA",42443.456516203703,83688,0,2,"K68081249AC",149,40,0,null,null,42440,3873,14,5502910902,34948]
[5500275849,null,5502910902,5500022670,5529335563,8642899,2,1,"CHIUSA",42443.456516203703,83688,0,1,"K68141353AC",3402,40,0,null,null,42440,3873,14,5502910902,34948]
[5500275849,null,5502910935,5500022703,5529335650,8639626,1,1,"CHIUSA",42443.456516203703,83721,0,1,52028581,744,40,0,null,null,42441,801,10,5502910935,34948]
[5500275849,null,5502910936,5500022704,5529335609,8642899,1,1,"CHIUSA",42443.456516203703,83722,0,1,"K68078540AC",474,40,0,null,null,42441,515,1,5502910936,34948]
[5500275849,null,5502910939,5500022707,5529335664,8645595,6,1,"CHIUSA",42443.456516203703,83725,0,3,"K04806104AE",430,40,0,null,null,42441,1256,3,5502910939,34948]
[5500275849,null,5502910939,5500022707,5529335657,8661695,8,1,"CHIUSA",42443.456516203703,83725,0,2,"K04806104AE",430,40,0,null,null,42441,1256,3,5502910939,34948]
[5500275849,null,5502910939,5500022707,5529335634,8645595,5,1,"CHIUSA",42443.456516203703,83725,0,1,"K04591871AB",331,40,0,null,null,42441,1256,3,5502910939,34948]
[5500275849,null,5502910968,5500022736,5529335670,8646692,3,1,"CHIUSA",42443.456516203703,83754,0,1,"K68102117AA",1202,40,0,null,null,42441,1294,2,5502910968,34948]
[5500275849,null,5502910969,5500022737,5529335662,8571878,3,2,"CHIUSA",42443.456516203703,83753,0,1,52028704,785,40,0,null,null,42441,860,2,5502910969,34948]
[5500275849,null,5502911057,5500022825,5529335738,8641304,1,1,"CHIUSA",42443.456516203703,83842,0,1,"K68081249AC",348,40,0,null,null,42441,376,1,5502911057,34948]
[5500275849,null,5502911060,5500022828,5529335860,8694440,1,1,"CHIUSA",42443.456516203703,83847,0,3,"K05067788AD",3145,40,0,null,null,42441,4188,9,5502911060,34948]
[5500275849,null,5502911060,5500022828,5529335808,8683661,3,1,"CHIUSA",42443.456516203703,83847,0,2,51987829,427,40,0,null,null,42441,4188,9,5502911060,34948]
[5500275849,null,5502911060,5500022828,5529335806,8683661,2,1,"CHIUSA",42443.456516203703,83847,0,1,51959659,275,40,0,null,null,42441,4188,9,5502911060,34948]
[5500275849,null,5502911061,5500022830,5529335849,6929956,6,2,"CHIUSA",42443.456516203703,83850,0,2,51965513,65,40,0,null,null,42441,140,2,5502911061,34948]
[5500275849,null,5502911061,5500022830,5529335785,7357535,3,1,"CHIUSA",42443.456516203703,83850,0,1,51965513,65,40,0,null,null,42441,140,2,5502911061,34948]
[5500275849,null,5502911117,5500022885,5529335931,8683661,6,1,"CHIUSA",42443.456516203703,83900,0,2,"K68248149AA",705,40,0,null,null,42441,1919,5,5502911117,34948]
[5500275849,null,5502911117,5500022885,5529335855,8646692,6,1,"CHIUSA",42443.456516203703,83900,0,1,"K68038238AA",1068,40,0,null,null,42441,1919,5,5502911117,34948]
[5500275849,null,5502911120,5500022888,5529335945,8681262,6,1,"CHIUSA",42443.456516203703,83897,0,2,735599035,29,40,0,null,null,42441,1931,2,5502911120,34948]
[5500275849,null,5502911120,5500022888,5529335909,8680371,2,1,"CHIUSA",42443.456516203703,83897,0,1,"K05178050AG",1741,40,0,null,null,42441,1931,2,5502911120,34948]
[5500275849,null,5502911121,5500022889,5529335957,8705365,1,1,"CHIUSA",42443.456516203703,83899,0,1,"K05058693AA",933,40,0,null,null,42441,996,1,5502911121,34948]
[5500275849,null,5502911123,5500022891,5529335894,8651359,1,1,"CHIUSA",42443.456516203703,83909,0,1,52002416,1137,40,0,null,null,42441,1224,0,5502911123,34948]
[5500275849,null,5502911146,5500022914,5529336051,8705365,2,1,"CHIUSA",42443.456516203703,83932,0,1,"K68127809AA",712,40,0,null,null,42441,761,1,5502911146,34948]
[5500275849,null,5502911148,5500022916,5529336060,8681262,5,1,"CHIUSA",42443.456516203703,83935,0,3,"K68081249AC",1491,40,0,null,null,42441,7887,18,5502911148,34948]
[5500275849,null,5502911148,5500022916,5529336026,8680371,1,1,"CHIUSA",42443.456516203703,83935,0,2,"K68088537AA",2127,40,0,null,null,42441,7887,18,5502911148,34948]
[5500275849,null,5502911148,5500022916,5529336000,8681262,4,1,"CHIUSA",42443.456516203703,83935,0,1,"K05058693AA",3733,40,0,null,null,42441,7887,18,5502911148,34948]
[5500275849,null,5502911149,5500022917,5529336042,8681262,8,1,"CHIUSA",42443.456516203703,83937,0,1,735599036,29,40,0,null,null,42441,31,0,5502911149,34948]
[5500275849,null,5502911151,5500022919,5529336089,8705883,1,1,"CHIUSA",42443.456516203703,83939,0,1,"K1TY36TZZAE",1839,40,0,null,null,42441,1979,10,5502911151,34948]
[5500275849,null,5502911156,5500022924,5529336105,8707283,2,1,"CHIUSA",42443.456516203703,83944,0,1,"K68148046AC",860,40,0,null,null,42441,860,0,5502911156,34948]
[5500275849,null,5502911186,5500022955,5529336132,8707425,12,1,"CHIUSA",42443.456516203703,83972,0,6,"K52089516AB",423,40,0,null,null,42441,5657,12,5502911186,34948]
[5500275849,null,5502911186,5500022955,5529336124,8707425,11,1,"CHIUSA",42443.456516203703,83972,0,5,"K34201631",731,40,0,null,null,42441,5657,12,5502911186,34948]
[5500275849,null,5502911186,5500022955,5529336120,8707425,18,1,"CHIUSA",42443.456516203703,83972,0,4,"K05154515AC",3649,40,0,null,null,42441,5657,12,5502911186,34948]
[5500275849,null,5502911186,5500022955,5529336112,8707425,8,1,"CHIUSA",42443.456516203703,83972,0,3,"KCBFFR671AA",47,40,0,null,null,42441,5657,12,5502911186,34948]
[5500275849,null,5502911186,5500022955,5529336104,8707425,16,1,"CHIUSA",42443.456516203703,83972,0,2,"K05174185AC",255,40,0,null,null,42441,5657,12,5502911186,34948]
[5500275849,null,5502911186,5500022955,5529336072,8707425,13,1,"CHIUSA",42443.456516203703,83972,0,1,52028879,193,40,0,null,null,42441,5657,12,5502911186,34948]
[5500275849,null,5502911187,5500022954,5529336076,8681262,3,1,"CHIUSA",42443.456516203703,83974,0,1,"K68110950AC",1606,40,0,null,null,42441,1759,7,5502911187,34948]
[5500275849,null,5502911227,5500022995,5529336180,7786940,8,1,"CHIUSA",42443.456516203703,84014,0,1,"K05291000AB",579,40,0,null,null,42441,628,1,5502911227,34948]
[5500275849,null,5502911228,5500022996,5529336178,8704916,1,1,"CHIUSA",42443.456516203703,84015,0,3,"K05189428AC",516,40,0,null,null,42441,735,1,5502911228,34948]
[5500275849,null,5502911228,5500022996,5529336176,8683661,1,1,"CHIUSA",42443.456516203703,84015,0,2,51960717,106,40,0,null,null,42441,735,1,5502911228,34948]
[5500275849,null,5502911228,5500022996,5529336173,8697312,2,1,"CHIUSA",42443.456516203703,84015,0,1,"K52125003AB",58,40,0,null,null,42441,735,1,5502911228,34948]
[5500275849,null,5502911232,5500023000,5529336198,8566842,33,1,"CHIUSA",42443.456516203703,84023,0,3,51953599,64,40,0,null,null,42441,2930,6,5502911232,34948]
[5500275849,null,5502911232,5500023000,5529336197,8566842,44,1,"CHIUSA",42443.456516203703,84023,0,2,735612597,255,40,0,null,null,42441,2930,6,5502911232,34948]
[5500275849,null,5502911232,5500023000,5529336181,8681262,9,1,"CHIUSA",42443.456516203703,84023,0,1,"K04677755AE",2404,40,0,null,null,42441,2930,6,5502911232,34948]
[5500275849,null,5502911236,5500023004,5529336196,8618087,1,1,"CHIUSA",42443.456516203703,84027,0,1,735612597,255,40,0,null,null,42441,279,1,5502911236,34948]
[5500275849,null,5502911258,5500023026,5529336202,8646692,2,1,"CHIUSA",42443.456516203703,84042,0,1,"K1TX73TZZAC",1435,40,0,null,null,42441,1544,3,5502911258,34948]
[5500275849,null,5502911278,5500023046,5529336658,8644895,1,2,"CHIUSA",42443.456516203703,84075,0,1,52029952,1292,40,0,null,null,42443,1391,10,5502911278,34948]
[5500275850,null,5502910951,5500022719,5529335688,8649847,3,1,"CHIUSA",42443.567719907405,83737,0,2,735599060,609,40,0,null,null,42441,1400,5,5502910951,34948]
[5500275850,null,5502910951,5500022719,5529335686,8649847,3,1,"CHIUSA",42443.567719907405,83737,0,1,735599060,609,40,0,null,null,42441,1400,5,5502910951,34948]
[5500275850,null,5502910956,5500022724,5529335619,8507027,8,1,"CHIUSA",42443.567719907405,83741,0,1,51965513,60,40,0,null,null,42441,69,1,5502910956,34948]
[5500275850,null,5502911039,5500022807,5529335858,8684523,7,1,"CHIUSA",42443.567719907405,83828,0,5,"K68141353AC",2827,40,0,null,null,42441,4796,14,5502911039,34948]
[5500275850,null,5502911039,5500022807,5529335825,8684523,2,1,"CHIUSA",42443.567719907405,83828,0,4,"K68078554AD",419,40,0,null,null,42441,4796,14,5502911039,34948]
[5500275850,null,5502911039,5500022807,5529335789,8684523,4,1,"CHIUSA",42443.567719907405,83828,0,3,"K05184778AB",180,40,0,null,null,42441,4796,14,5502911039,34948]
[5500275850,null,5502911039,5500022807,5529335789,8684523,3,1,"CHIUSA",42443.567719907405,83828,0,2,"K05047077AB",4,40,0,null,null,42441,4796,14,5502911039,34948]
[5500275850,null,5502911039,5500022807,5529335735,8684523,1,1,"CHIUSA",42443.567719907405,83828,0,1,"K68078540AC",398,40,0,null,null,42441,4796,14,5502911039,34948]
[5500275850,null,5502911040,5500022808,5529335730,8572234,3,1,"CHIUSA",42443.567719907405,83825,0,1,7089674,83,40,0,null,null,42441,96,0,5502911040,34948]
[5500275850,null,5502911041,5500022809,5529335791,8688154,2,1,"CHIUSA",42443.567719907405,83818,0,2,"K55155788AA",141,40,0,null,null,42441,353,0,5502911041,34948]
[5500275850,null,5502911041,5500022809,5529335788,8688154,1,1,"CHIUSA",42443.567719907405,83818,0,1,"K55155789AA",141,40,0,null,null,42441,353,0,5502911041,34948]
[5500275850,null,5502911054,5500022822,5529335879,8473336,4,1,"CHIUSA",42443.567719907405,83837,0,3,51965513,60,40,0,null,null,42441,236,2,5502911054,34948]
[5500275850,null,5502911054,5500022822,5529335737,8589962,2,1,"CHIUSA",42443.567719907405,83837,0,2,51927074,78,40,0,null,null,42441,236,2,5502911054,34948]
[5500275850,null,5502911054,5500022822,5529335728,8595430,2,1,"CHIUSA",42443.567719907405,83837,0,1,52005058,89,40,0,null,null,42441,236,2,5502911054,34948]
[5500275850,null,5502911097,5500022865,5529335875,8684523,6,1,"CHIUSA",42443.567719907405,83883,0,1,"K06509564AA",153,40,0,null,null,42441,153,1,5502911097,34948]
[5500275850,null,5502911102,5500022870,5529335951,8687987,4,1,"CHIUSA",42443.567719907405,83888,0,1,52016541,113,40,0,null,null,42441,131,0,5502911102,34948]
[5500275851,null,5502911140,5500022908,5529335336,8665344,1,1,"CHIUSA",42443.567743055559,83928,0,2,50927640,109,40,0,null,null,42441,259,5,5502911140,34948]
[5500275851,null,5502911140,5500022908,5529335335,8665344,1,1,"CHIUSA",42443.567743055559,83928,0,1,50927640,109,40,0,null,null,42441,259,5,5502911140,34948]
[5500275851,null,5502911141,5500022909,5529335653,8607076,5,1,"CHIUSA",42443.567743055559,83930,0,1,51959953,186,40,0,null,null,42441,222,0,5502911141,34948]
[5500275852,null,5502910949,5500022717,5529335631,7994691,1,1,"CHIUSA",42443.567766203705,83735,0,1,51965513,60,40,0,null,null,42441,69,1,5502910949,34948]
[5500275852,null,5502910958,5500022726,5529335613,8291718,11,1,"CHIUSA",42443.567766203705,83749,0,2,51965513,60,40,0,null,null,42441,137,2,5502910958,34948]
[5500275852,null,5502910958,5500022726,5529335608,7401568,2,1,"CHIUSA",42443.567766203705,83749,0,1,51965513,60,40,0,null,null,42441,137,2,5502910958,34948]
[5500275852,null,5502910962,5500022730,5529335636,7927512,14,1,"CHIUSA",42443.567766203705,83742,0,1,51965513,60,40,0,null,null,42441,69,1,5502910962,34948]
[5500275853,null,5502910974,5500022743,5529335622,8037755,1,1,"CHIUSA",42443.57130787037,83757,0,1,51965513,60,40,0,null,null,42441,69,1,5502910974,34948]
[5500275853,null,5502910975,5500022742,5529335599,8642703,1,2,"CHIUSA",42443.57130787037,83762,0,1,51953121,353,40,0,null,null,42441,449,2,5502910975,34948]
[5500275853,null,5502910976,5500022744,5529335667,8549079,1,1,"CHIUSA",42443.57130787037,83760,0,1,52028704,241,40,0,null,null,42441,284,1,5502910976,34948]
[5500275853,null,5502910981,5500022750,5529335607,7428392,1,1,"CHIUSA",42443.57130787037,83764,0,1,51965513,60,40,0,null,null,42441,69,1,5502910981,34948]
[5500275853,null,5502910982,5500022749,5529335722,8570203,1,1,"CHIUSA",42443.57130787037,83769,0,1,52042475,2086,40,0,null,null,42441,2456,0,5502910982,34948]
[5500275853,null,5502910986,5500022754,5529335617,8168042,1,1,"CHIUSA",42443.57130787037,83770,0,2,51965513,60,40,0,null,null,42441,139,2,5502910986,34948]
[5500275853,null,5502910986,5500022754,5529335614,8168360,1,1,"CHIUSA",42443.57130787037,83770,0,1,51965513,60,40,0,null,null,42441,139,2,5502910986,34948]
[5500275853,null,5502910987,5500022755,5529335679,8643042,6,1,"CHIUSA",42443.57130787037,83772,0,4,735599034,99,40,0,null,null,42441,791,4,5502910987,34948]
[5500275853,null,5502910987,5500022755,5529335659,8640714,2,1,"CHIUSA",42443.57130787037,83772,0,3,735613082,238,40,0,null,null,42441,791,4,5502910987,34948]
[5500275853,null,5502910987,5500022755,5529335658,8640714,2,1,"CHIUSA",42443.57130787037,83772,0,2,735613082,238,40,0,null,null,42441,791,4,5502910987,34948]
[5500275853,null,5502910987,5500022755,5529335625,8643042,9,1,"CHIUSA",42443.57130787037,83772,0,1,735603422,99,40,0,null,null,42441,791,4,5502910987,34948]
[5500275853,null,5502911070,5500022838,5529335861,7387406,7,1,"CHIUSA",42443.57130787037,83856,0,2,51965513,60,40,0,null,null,42441,139,2,5502911070,34948]
[5500275853,null,5502911070,5500022838,5529335815,7044882,2,1,"CHIUSA",42443.57130787037,83856,0,1,51965513,60,40,0,null,null,42441,139,2,5502911070,34948]
[5500275853,null,5502911075,5500022844,5529335742,8662844,2,1,"CHIUSA",42443.57130787037,83864,0,1,"K05151024AA",191,40,0,null,null,42441,243,0,5502911075,34948]
[5500275853,null,5502911076,5500022843,5529335794,8704011,1,1,"CHIUSA",42443.57130787037,83861,0,1,"K68148406AA",286,40,0,null,null,42441,363,0,5502911076,34948]
[5500275853,null,5502911077,5500022846,5529335729,8649314,2,1,"CHIUSA",42443.57130787037,83862,0,1,735607764,482,40,0,null,null,42441,563,1,5502911077,34948]
[5500275853,null,5502911078,5500022845,5529335751,8598838,1,1,"CHIUSA",42443.57130787037,83867,0,1,51939949,79,40,0,null,null,42441,100,0,5502911078,34948]
[5500275854,null,5502911006,5500022774,5529335603,8320456,8,1,"CHIUSA",42443.567789351851,83784,0,1,51965513,58,40,0,null,null,42441,70,1,5502911006,34948]
[5500275854,null,5502911027,5500022795,5529335790,8320456,10,1,"CHIUSA",42443.567789351851,83808,0,1,51953599,57,40,0,null,null,42441,57,0,5502911027,34948]
[5500275854,null,5502911087,5500022855,5529335898,8707516,2,1,"CHIUSA",42443.567789351851,83875,0,1,"K04877889AE",2267,40,0,null,null,42441,2833,4,5502911087,34948]
[5500275855,null,5502910996,5500022764,5529335703,8707510,4,1,"CHIUSA",42443.571215277778,83785,0,1,51953117,202,40,0,null,null,42441,245,0,5502910996,34948]
[5500275855,null,5502911088,5500022856,5529335903,8707510,2,1,"CHIUSA",42443.571215277778,83878,0,1,735599564,77,40,0,null,null,42441,94,1,5502911088,34948]
[5500275855,null,5502911130,5500022898,5529335914,8707510,1,1,"CHIUSA",42443.571215277778,83919,0,1,735599569,135,40,0,null,null,42441,163,2,5502911130,34948]
[5500275856,null,5502910955,5500022723,5529335620,8112621,1,1,"CHIUSA",42443.571261574078,83738,0,1,51965513,62,40,0,null,null,42441,70,1,5502910955,34948]
[5500275856,null,5502911274,5500023042,5529336226,8243827,12,1,"CHIUSA",42443.571261574078,84061,0,1,"K55369587AG",4168,40,0,null,null,42441,5128,10,5502911274,34948]
[5500275857,null,5502910941,5500022709,5529335539,8663981,2,1,"CHIUSA",42443.571284722224,83727,0,1,51953329,35,40,0,null,null,42441,43,0,5502910941,34948]
[5500275857,null,5502910944,5500022712,5529335690,8573348,4,1,"CHIUSA",42443.571284722224,83729,0,1,735599952,201,40,0,null,null,42441,243,1,5502910944,34948]
[5500275857,null,5502911110,5500022879,5529335908,8706873,4,1,"CHIUSA",42443.571284722224,83896,0,2,51965906,504,40,0,null,null,42441,1444,10,5502911110,34948]
[5500275857,null,5502911110,5500022879,5529335739,8706873,3,1,"CHIUSA",42443.571284722224,83896,0,1,51961630,687,40,0,null,null,42441,1444,10,5502911110,34948]
[5500275857,null,5502911111,5500022878,5529335869,8566315,6,1,"CHIUSA",42443.571284722224,83895,0,4,51965513,58,40,0,null,null,42441,986,7,5502911111,34948]
[5500275857,null,5502911111,5500022878,5529335807,8051225,1,1,"CHIUSA",42443.571284722224,83895,0,3,51965513,58,40,0,null,null,42441,986,7,5502911111,34948]
[5500275857,null,5502911111,5500022878,5529335805,8051225,1,1,"CHIUSA",42443.571284722224,83895,0,2,51965513,58,40,0,null,null,42441,986,7,5502911111,34948]
[5500275857,null,5502911111,5500022878,5529335714,8566315,1,1,"CHIUSA",42443.571284722224,83895,0,1,51961341,621,40,0,null,null,42441,986,7,5502911111,34948]
[5500275858,null,5502910952,5500022720,5529335610,8218016,15,1,"CHIUSA",42443.571238425924,83740,0,1,"K05182820AC",350,40,0,null,null,42441,434,2,5502910952,34948]
[5500275858,null,5502910953,5500022721,5529335642,8681113,1,1,"CHIUSA",42443.571238425924,83739,0,1,"K68148332AA",9174,40,0,null,null,42441,11398,1,5502910953,34948]
[5500275858,null,5502911038,5500022806,5529335817,8681049,2,1,"CHIUSA",42443.571238425924,83823,0,3,"K55372082AC",346,40,0,null,null,42441,706,1,5502911038,34948]
[5500275858,null,5502911038,5500022806,5529335787,8678767,2,1,"CHIUSA",42443.571238425924,83823,0,2,"K05151184AB",155,40,0,null,null,42441,706,1,5502911038,34948]
[5500275858,null,5502911038,5500022806,5529335713,8679243,4,1,"CHIUSA",42443.571238425924,83823,0,1,"K68256278AA",71,40,0,null,null,42441,706,1,5502911038,34948]
[5500275858,null,5502911264,5500023032,5529336219,8542829,1,1,"CHIUSA",42443.571238425924,84051,0,1,735599034,59,40,0,null,null,42441,67,1,5502911264,34948]
[5500275859,null,5502911114,5500022883,5529335947,8681394,6,1,"CHIUSA",42443.571331018517,83904,0,2,735599035,53,40,0,null,null,42441,151,2,5502911114,34948]
[5500275859,null,5502911114,5500022883,5529335942,8681394,5,1,"CHIUSA",42443.571331018517,83904,0,1,735599034,98,40,0,null,null,42441,151,2,5502911114,34948]
[5500275859,null,5502911115,5500022882,5529335956,8705530,5,1,"CHIUSA",42443.571331018517,83903,0,4,"K68091515AA",153,40,0,null,null,42441,2801,10,5502911115,34948]
[5500275859,null,5502911115,5500022882,5529335883,8681613,1,1,"CHIUSA",42443.571331018517,83903,0,3,"K04801475AA",1494,40,0,null,null,42441,2801,10,5502911115,34948]
[5500275859,null,5502911115,5500022882,5529335876,8681613,2,1,"CHIUSA",42443.571331018517,83903,0,2,"KCBXNP143AA",29,40,0,null,null,42441,2801,10,5502911115,34948]
[5500275859,null,5502911115,5500022882,5529335826,8705530,4,1,"CHIUSA",42443.571331018517,83903,0,1,"K68109898AC",1126,40,0,null,null,42441,2801,10,5502911115,34948]
[5500275860,null,5502910943,5500022711,5529335526,8665570,5,1,"CHIUSA",42443.574687499997,83730,0,1,"K68049744AA",771,40,0,null,null,42441,950,4,5502910943,34948]
[5500275860,null,5502911107,5500022875,5529335822,7086777,12,1,"CHIUSA",42443.574687499997,83901,0,1,51965513,59,40,0,null,null,42441,70,1,5502911107,34948]
[5500275861,null,5502910992,5500022760,5529335848,8665764,1,1,"CHIUSA",42443.57476851852,83777,0,1,"K1VQ66TZZAA",2130,40,0,null,null,42441,2662,3,5502910992,34948]
[5500275861,null,5502911003,5500022771,5529335741,8687658,2,1,"CHIUSA",42443.57476851852,83790,0,1,51961630,687,40,0,null,null,42441,833,7,5502911003,34948]
[5500275861,null,5502911007,5500022775,5529335611,7342978,4,1,"CHIUSA",42443.57476851852,83792,0,1,51965513,58,40,0,null,null,42441,70,1,5502911007,34948]
[5500275861,null,5502911009,5500022777,5529335606,8544807,3,1,"CHIUSA",42443.57476851852,83795,0,1,51965513,58,40,0,null,null,42441,70,1,5502911009,34948]
[5500275861,null,5502911010,5500022778,5529335673,8642847,2,1,"CHIUSA",42443.57476851852,83791,0,1,735598592,57,40,0,null,null,42441,69,0,5502911010,34948]
[5500275861,null,5502911012,5500022780,5529335629,7066059,2,1,"CHIUSA",42443.57476851852,83797,0,1,51965513,58,40,0,null,null,42441,70,1,5502911012,34948]
[5500275861,null,5502911025,5500022793,5529335830,8688098,1,1,"CHIUSA",42443.57476851852,83813,0,1,100223375,57,40,0,null,null,42441,69,0,5502911025,34948]
[5500275861,null,5502911026,5500022794,5529335796,8684558,1,1,"CHIUSA",42443.57476851852,83821,0,1,"K52125003AB",49,40,0,null,null,42441,49,0,5502911026,34948]
[5500275861,null,5502911083,5500022851,5529335882,8688098,2,1,"CHIUSA",42443.57476851852,83866,0,1,735598590,90,40,0,null,null,42441,110,0,5502911083,34948]
[5500275861,null,5502911129,5500022897,5529335857,8684788,1,1,"CHIUSA",42443.57476851852,83917,0,1,"K68029993AB",2607,40,0,null,null,42441,3258,4,5502911129,34948]
[5500275861,null,5502911299,5500023067,5529336704,8620057,1,1,"CHIUSA",42443.57476851852,84097,0,1,55259300,570,40,0,null,null,42443,695,0,5502911299,34948]
[5500275862,null,5502910298,5500022066,5529333575,8066856,6,2,"CHIUSA",42443.574791666666,83094,0,1,"K68052368AA",311,40,0,null,null,42439,360,0,5502910298,34948]
[5500275862,null,5502910374,5500022142,5529333835,8620077,6,1,"CHIUSA",42443.574791666666,83161,0,1,735599035,26,40,0,null,null,42439,30,0,5502910374,34948]
[5500275862,null,5502910430,5500022198,5529333974,8620077,5,1,"CHIUSA",42443.574791666666,83214,0,1,52002406,928,40,0,null,null,42439,1049,0,5502910430,34948]
[5500275862,null,5502910447,5500022215,5529333885,8620098,1,1,"CHIUSA",42443.574791666666,83230,0,1,"KCBWPR091AA",925,40,0,null,null,42439,1071,1,5502910447,34948]
[5500275862,null,5502910448,5500022216,5529333893,8620077,8,1,"CHIUSA",42443.574791666666,83231,0,1,735607765,368,40,0,null,null,42439,416,1,5502910448,34948]
[5500275862,null,5502910530,5500022298,5529334036,8620077,2,1,"CHIUSA",42443.574791666666,83308,0,1,51953329,36,40,0,null,null,42439,41,0,5502910530,34948]
[5500275862,null,5502910616,5500022384,5529334558,8620098,1,1,"CHIUSA",42443.574791666666,83330,0,1,"KCBWPR091AA",617,40,0,null,null,42440,714,1,5502910616,34948]
[5500275862,null,5502910617,5500022385,5529334539,8571348,3,1,"CHIUSA",42443.574791666666,83331,0,2,"KCBWPR091AA",154,40,0,null,null,42440,535,0,5502910617,34948]
[5500275862,null,5502910617,5500022385,5529334535,8501112,4,1,"CHIUSA",42443.574791666666,83331,0,1,"KCBWPR091AA",308,40,0,null,null,42440,535,0,5502910617,34948]
[5500275862,null,5502910724,5500022492,5529334919,8665573,1,1,"CHIUSA",42443.574791666666,83504,0,2,735631085,1095,40,0,null,null,42440,2475,7,5502910724,34948]
[5500275862,null,5502910724,5500022492,5529334916,8665559,1,1,"CHIUSA",42443.574791666666,83504,0,1,735631085,1095,40,0,null,null,42440,2475,7,5502910724,34948]
[5500275862,null,5502910725,5500022493,5529334921,8665573,1,1,"CHIUSA",42443.574791666666,83499,0,1,735631085,1095,40,0,null,null,42440,1238,3,5502910725,34948]
[5500275862,null,5502910750,5500022518,5529334884,8664817,1,1,"CHIUSA",42443.574791666666,83512,0,1,"K55372143AB",130,40,0,null,null,42440,151,0,5502910750,34948]
[5500275862,null,5502910780,5500022548,5529334922,8665573,1,1,"CHIUSA",42443.574791666666,83538,0,2,735631085,1095,40,0,null,null,42440,2475,7,5502910780,34948]
[5500275862,null,5502910780,5500022548,5529334920,8665573,1,1,"CHIUSA",42443.574791666666,83538,0,1,735631085,1095,40,0,null,null,42440,2475,7,5502910780,34948]
[5500275863,null,5502911000,5500022768,5529335626,7826175,1,1,"CHIUSA",42443.57472222222,83789,0,1,51965513,59,40,0,null,null,42441,68,1,5502911000,34948]
[5500275863,null,5502911001,5500022769,5529335802,8700343,5,1,"CHIUSA",42443.57472222222,83788,0,1,51953116,59,40,0,null,null,42441,69,0,5502911001,34948]
[5500275863,null,5502911015,5500022783,5529335753,8572559,2,1,"CHIUSA",42443.57472222222,83801,0,4,55259300,582,40,0,null,null,42441,875,3,5502911015,34948]
[5500275863,null,5502911015,5500022783,5529335635,7952408,4,1,"CHIUSA",42443.57471064815,83801,0,3,51965513,59,40,0,null,null,42441,875,3,5502911015,34948]
[5500275863,null,5502911015,5500022783,5529335633,7955138,2,1,"CHIUSA",42443.57472222222,83801,0,2,51965513,59,40,0,null,null,42441,875,3,5502911015,34948]
[5500275863,null,5502911015,5500022783,5529335628,7209194,7,1,"CHIUSA",42443.57471064815,83801,0,1,51965513,59,40,0,null,null,42441,875,3,5502911015,34948]
[5500275864,null,5502911013,5500022781,5529335624,7823182,3,1,"CHIUSA",42443.574745370373,83798,0,1,51965513,59,40,0,null,null,42441,69,1,5502911013,34948]
[5500275864,null,5502911014,5500022782,5529335780,7823354,2,1,"CHIUSA",42443.574745370373,83799,0,3,51965513,59,40,0,null,null,42441,207,3,5502911014,34948]
[5500275864,null,5502911014,5500022782,5529335778,7823354,2,1,"CHIUSA",42443.574745370373,83799,0,2,51965513,59,40,0,null,null,42441,207,3,5502911014,34948]
[5500275864,null,5502911014,5500022782,5529335759,7823354,2,1,"CHIUSA",42443.574745370373,83799,0,1,51965513,59,40,0,null,null,42441,207,3,5502911014,34948]
[5500275864,null,5502911016,5500022784,5529335627,7259367,1,1,"CHIUSA",42443.574745370373,83800,0,1,51965513,59,40,0,null,null,42441,69,1,5502911016,34948]
[5500275864,null,5502911017,5500022785,5529335798,8681122,2,1,"CHIUSA",42443.574745370373,83802,0,2,"K68070908AD",1294,40,0,null,null,42441,1416,3,5502911017,34948]
[5500275864,null,5502911017,5500022785,5529335640,8639892,2,1,"CHIUSA",42443.574745370373,83802,0,1,"K04778569",101,40,0,null,null,42441,1416,3,5502911017,34948]
[5500275864,null,5502911018,5500022786,5529335810,7388528,23,1,"CHIUSA",42443.574745370373,83803,0,2,51965513,59,40,0,null,null,42441,138,2,5502911018,34948]
[5500275864,null,5502911018,5500022786,5529335809,7388528,23,1,"CHIUSA",42443.574745370373,83803,0,1,51965513,59,40,0,null,null,42441,138,2,5502911018,34948]
[5500275865,null,5502910977,5500022745,5529335489,8666174,7,1,"CHIUSA",42443.578159722223,83761,0,1,50900821,472,40,0,null,null,42441,599,6,5502910977,34948]
[5500275865,null,5502910978,5500022747,5529335604,8638751,4,1,"CHIUSA",42443.578159722223,83766,0,1,"KCBD1H361",114,40,0,null,null,42441,114,1,5502910978,34948]
[5500275865,null,5502910979,5500022746,5529335618,8663532,1,1,"CHIUSA",42443.578159722223,83768,0,1,7087808,290,40,0,null,null,42441,339,1,5502910979,34948]
[5500275865,null,5502910980,5500022748,5529335602,8524274,2,1,"CHIUSA",42443.578159722223,83765,0,1,52028582,870,40,0,null,null,42441,1015,10,5502910980,34948]
[5500275865,null,5502911065,5500022833,5529335836,8666174,25,1,"CHIUSA",42443.578159722223,83851,0,10,52033464,226,40,0,null,null,42441,2642,0,5502911065,34948]
[5500275865,null,5502911065,5500022833,5529335835,8666174,25,1,"CHIUSA",42443.578159722223,83851,0,9,52033464,226,40,0,null,null,42441,2642,0,5502911065,34948]
[5500275865,null,5502911065,5500022833,5529335834,8666174,25,1,"CHIUSA",42443.578159722223,83851,0,8,52033464,226,40,0,null,null,42441,2642,0,5502911065,34948]
[5500275865,null,5502911065,5500022833,5529335833,8666174,25,1,"CHIUSA",42443.578159722223,83851,0,7,52033464,226,40,0,null,null,42441,2642,0,5502911065,34948]
[5500275865,null,5502911065,5500022833,5529335831,8666174,25,1,"CHIUSA",42443.578159722223,83851,0,6,52033464,226,40,0,null,null,42441,2642,0,5502911065,34948]
[5500275865,null,5502911065,5500022833,5529335828,8666174,25,1,"CHIUSA",42443.578159722223,83851,0,5,52033464,226,40,0,null,null,42441,2642,0,5502911065,34948]
[5500275865,null,5502911065,5500022833,5529335824,8666174,25,1,"CHIUSA",42443.578159722223,83851,0,4,52033464,226,40,0,null,null,42441,2642,0,5502911065,34948]
[5500275865,null,5502911065,5500022833,5529335823,8666174,25,1,"CHIUSA",42443.578159722223,83851,0,3,52033464,226,40,0,null,null,42441,2642,0,5502911065,34948]
[5500275865,null,5502911065,5500022833,5529335820,8666174,25,1,"CHIUSA",42443.578159722223,83851,0,2,52033464,226,40,0,null,null,42441,2642,0,5502911065,34948]
[5500275865,null,5502911065,5500022833,5529335803,8666174,25,1,"CHIUSA",42443.578159722223,83851,0,1,52033464,226,40,0,null,null,42441,2642,0,5502911065,34948]
[5500275865,null,5502911066,5500022834,5529335725,8638751,8,1,"CHIUSA",42443.578159722223,83852,0,1,"K04861756AA",889,40,0,null,null,42441,1130,2,5502911066,34948]
[5500275865,null,5502911068,5500022836,5529335911,8706352,1,1,"CHIUSA",42443.578159722223,83855,0,2,"K68078540AC",398,40,0,null,null,42441,5012,8,5502911068,34948]
[5500275865,null,5502911068,5500022836,5529335832,8705584,1,1,"CHIUSA",42443.578159722223,83855,0,1,"K68140631AD",3550,40,0,null,null,42441,5012,8,5502911068,34948]
[5500275865,null,5502911079,5500022847,5529335748,8681713,1,1,"CHIUSA",42443.578159722223,83868,0,1,55265162,2543,40,0,null,null,42441,3236,1,5502911079,34948]
[5500275865,null,5502911080,5500022848,5529335792,7728237,7,1,"CHIUSA",42443.578159722223,83863,0,1,51965513,60,40,0,null,null,42441,69,1,5502911080,34948]
[5500275866,null,5502911011,5500022779,5529335637,7881680,1,1,"CHIUSA",42443.578182870369,83787,0,1,51965513,58,40,0,null,null,42441,70,1,5502911011,34948]
[5500275866,null,5502911082,5500022850,5529335837,8681417,1,1,"CHIUSA",42443.578182870369,83870,0,1,"K55038003AG",1704,40,0,null,null,42441,2129,3,5502911082,34948]
[5500275867,null,5502911004,5500022772,5529335701,8682783,1,1,"CHIUSA",42443.578206018516,83786,0,1,"K04792608AC",34,40,0,null,null,42441,34,0,5502911004,34948]
[5500275867,null,5502911005,5500022773,5529335752,8570881,2,2,"CHIUSA",42443.578206018516,83796,0,1,735598591,227,40,0,null,null,42441,227,1,5502911005,34948]
[5500275868,null,5502910988,5500022756,5529335643,8600376,1,1,"CHIUSA",42443.578229166669,83773,0,1,"K68141376AB",354,40,0,null,null,42441,354,0,5502910988,34948]
[5500275868,null,5502910989,5500022758,5529335680,8600592,1,1,"CHIUSA",42443.578229166669,83774,0,1,52028704,242,40,0,null,null,42441,242,1,5502910989,34948]
[5500275868,null,5502910990,5500022757,5529335501,8703448,1,1,"CHIUSA",42443.578229166669,83775,0,6,50927640,109,40,0,null,null,42441,777,14,5502910990,34948]
[5500275868,null,5502910990,5500022757,5529335498,8703448,1,1,"CHIUSA",42443.578229166669,83775,0,5,50927640,109,40,0,null,null,42441,777,14,5502910990,34948]
[5500275868,null,5502910990,5500022757,5529335496,8703448,1,1,"CHIUSA",42443.578229166669,83775,0,4,50927640,109,40,0,null,null,42441,777,14,5502910990,34948]
[5500275868,null,5502910990,5500022757,5529335491,8703448,1,1,"CHIUSA",42443.578229166669,83775,0,3,50927640,109,40,0,null,null,42441,777,14,5502910990,34948]
[5500275868,null,5502910990,5500022757,5529335490,8703448,1,1,"CHIUSA",42443.578229166669,83775,0,2,50927640,109,40,0,null,null,42441,777,14,5502910990,34948]
[5500275868,null,5502910990,5500022757,5529335486,8703448,1,1,"CHIUSA",42443.578229166669,83775,0,1,50927640,109,40,0,null,null,42441,777,14,5502910990,34948]
[5500275868,null,5502910991,5500022759,5529335668,8703448,3,1,"CHIUSA",42443.578229166669,83776,0,8,50927749,160,40,0,null,null,42441,1097,14,5502910991,34948]
[5500275868,null,5502910991,5500022759,5529335505,8703448,1,1,"CHIUSA",42443.578229166669,83776,0,7,50927640,109,40,0,null,null,42441,1097,14,5502910991,34948]
[5500275868,null,5502910991,5500022759,5529335503,8703448,1,1,"CHIUSA",42443.578229166669,83776,0,6,50927640,109,40,0,null,null,42441,1097,14,5502910991,34948]
[5500275868,null,5502910991,5500022759,5529335502,8703448,1,1,"CHIUSA",42443.578229166669,83776,0,5,50927640,109,40,0,null,null,42441,1097,14,5502910991,34948]
[5500275868,null,5502910991,5500022759,5529335500,8703448,1,1,"CHIUSA",42443.578229166669,83776,0,4,50927640,109,40,0,null,null,42441,1097,14,5502910991,34948]
[5500275868,null,5502910991,5500022759,5529335495,8703448,1,1,"CHIUSA",42443.578229166669,83776,0,3,50927640,109,40,0,null,null,42441,1097,14,5502910991,34948]
[5500275868,null,5502910991,5500022759,5529335493,8703448,1,1,"CHIUSA",42443.578229166669,83776,0,2,50927640,109,40,0,null,null,42441,1097,14,5502910991,34948]
[5500275868,null,5502910991,5500022759,5529335457,8703448,3,1,"CHIUSA",42443.578229166669,83776,0,1,50927749,160,40,0,null,null,42441,1097,14,5502910991,34948]
[5500275868,null,5502911073,5500022841,5529335723,8508937,5,1,"CHIUSA",42443.578229166669,83857,0,1,52005057,40,40,0,null,null,42441,40,0,5502911073,34948]
[5500275868,null,5502911074,5500022842,5529335872,8698520,1,1,"CHIUSA",42443.578229166669,83859,0,2,"KSP149125AE",612,40,0,null,null,42441,3473,1,5502911074,34948]
[5500275868,null,5502911074,5500022842,5529335819,8698520,2,1,"CHIUSA",42443.578229166669,83859,0,1,"K05150650AB",2266,40,0,null,null,42441,3473,1,5502911074,34948]
[5500275869,null,5502910945,5500022713,5529335645,8590290,2,1,"CHIUSA",42443.578252314815,83731,0,1,55190965,321,40,0,null,null,42441,391,0,5502910945,34948]
[5500275869,null,5502910946,5500022714,5529335685,8429895,3,1,"CHIUSA",42443.578252314815,83734,0,3,735598589,445,40,0,null,null,42441,1620,13,5502910946,34948]
[5500275869,null,5502910946,5500022714,5529335684,8429895,3,1,"CHIUSA",42443.578252314815,83734,0,2,735598589,445,40,0,null,null,42441,1620,13,5502910946,34948]
[5500275869,null,5502910946,5500022714,5529335682,8429895,3,1,"CHIUSA",42443.578252314815,83734,0,1,735598589,445,40,0,null,null,42441,1620,13,5502910946,34948]
[5500275869,null,5502910947,5500022715,5529335709,8706873,8,1,"CHIUSA",42443.578252314815,83736,0,1,51943270,88,40,0,null,null,42441,108,0,5502910947,34948]
[5500275869,null,5502911109,5500022877,5529335793,8473975,7,1,"CHIUSA",42443.578252314815,83892,0,1,51953599,57,40,0,null,null,42441,57,0,5502911109,34948]
[5500275870,null,5502910983,5500022751,5529335675,8593894,1,1,"CHIUSA",42443.581643518519,83763,0,1,52028704,247,40,0,null,null,42441,287,1,5502910983,34948]
[5500275870,null,5502910984,5500022752,5529335712,8525350,4,1,"CHIUSA",42443.581643518519,83771,0,1,71778011,61,40,0,null,null,42441,70,0,5502910984,34948]
[5500275870,null,5502910985,5500022753,5529335698,8502017,0,1,"CHIUSA",42443.581643518519,83767,0,2,735603002,431,40,0,null,null,42441,499,1,5502910985,34948]
[5500275870,null,5502910985,5500022753,5529335572,8572612,1,1,"CHIUSA",42443.581643518519,83767,0,1,51984013,59,40,0,null,null,42441,499,1,5502910985,34948]
[5500275870,null,5502911067,5500022835,5529335916,8698349,1,1,"CHIUSA",42443.581643518519,83854,0,1,"K55157411AD",207,40,0,null,null,42441,259,1,5502911067,34948]
[5500275870,null,5502911069,5500022837,5529335886,8573350,5,1,"CHIUSA",42443.581643518519,83853,0,1,51965515,52,40,0,null,null,42441,60,1,5502911069,34948]
[5500275870,null,5502911071,5500022839,5529335816,7041156,11,1,"CHIUSA",42443.581643518519,83858,0,1,51965513,61,40,0,null,null,42441,70,1,5502911071,34948]
[5500275870,null,5502911072,5500022840,5529335856,7471159,9,1,"CHIUSA",42443.581643518519,83860,0,3,51965513,61,40,0,null,null,42441,230,2,5502911072,34948]
[5500275870,null,5502911072,5500022840,5529335827,7878537,31,1,"CHIUSA",42443.581643518519,83860,0,2,51965513,61,40,0,null,null,42441,230,2,5502911072,34948]
[5500275870,null,5502911072,5500022840,5529335754,8502017,9,1,"CHIUSA",42443.581643518519,83860,0,1,52005058,91,40,0,null,null,42441,230,2,5502911072,34948]
[5500275871,null,5502911085,5500022853,5529335887,8689999,1,1,"CHIUSA",42443.581724537034,83871,0,1,51953116,57,40,0,null,null,42441,72,0,5502911085,34948]
[5500275872,null,5502910206,5500021974,5529332981,8620034,1,1,"CHIUSA",42443.581747685188,83007,0,6,"K68038238AA",888,40,0,null,null,42439,16404,14,5502910206,34948]
[5500275872,null,5502910206,5500021974,5529332980,8620062,1,1,"CHIUSA",42443.581747685188,83007,0,5,"K68144708AG",8134,40,0,null,null,42439,16404,14,5502910206,34948]
[5500275872,null,5502910206,5500021974,5529332979,8620034,2,1,"CHIUSA",42443.581747685188,83007,0,4,"K68087244AA",166,40,0,null,null,42439,16404,14,5502910206,34948]
[5500275872,null,5502910206,5500021974,5529332951,8222450,6,1,"CHIUSA",42443.581747685188,83007,0,3,"K68141936AD",253,40,0,null,null,42439,16404,14,5502910206,34948]
[5500275872,null,5502910206,5500021974,5529332949,8619897,1,1,"CHIUSA",42443.581747685188,83007,0,2,"K68049020AA",4491,40,0,null,null,42439,16404,14,5502910206,34948]
[5500275872,null,5502910206,5500021974,5529332910,8477058,1,1,"CHIUSA",42443.581747685188,83007,0,1,"K68141936AD",253,40,0,null,null,42439,16404,14,5502910206,34948]
[5500275873,null,5502911020,5500022788,5529335818,7668679,2,1,"CHIUSA",42443.581678240742,83805,0,1,51965513,58,40,0,null,null,42441,70,1,5502911020,34948]
[5500275873,null,5502911127,5500022895,5529336005,8684250,5,1,"CHIUSA",42443.581678240742,83914,0,6,50927640,107,40,0,null,null,42441,775,14,5502911127,34948]
[5500275873,null,5502911127,5500022895,5529336002,8684250,5,1,"CHIUSA",42443.581678240742,83914,0,5,50927640,107,40,0,null,null,42441,775,14,5502911127,34948]
[5500275873,null,5502911127,5500022895,5529336001,8684250,5,1,"CHIUSA",42443.581678240742,83914,0,4,50927640,107,40,0,null,null,42441,775,14,5502911127,34948]
[5500275873,null,5502911127,5500022895,5529335999,8684250,5,1,"CHIUSA",42443.581678240742,83914,0,3,50927640,107,40,0,null,null,42441,775,14,5502911127,34948]
[5500275873,null,5502911127,5500022895,5529335998,8684250,5,1,"CHIUSA",42443.581678240742,83914,0,2,50927640,107,40,0,null,null,42441,775,14,5502911127,34948]
[5500275873,null,5502911127,5500022895,5529335996,8684250,5,1,"CHIUSA",42443.581678240742,83914,0,1,50927640,107,40,0,null,null,42441,775,14,5502911127,34948]
[5500275873,null,5502911127,5500022895,5529335995,8684250,5,1,"CHIUSA",42443.581678240742,83913,0,20,50927640,107,40,0,null,null,42441,2582,47,5502911127,34948]
[5500275873,null,5502911127,5500022895,5529335994,8684250,5,1,"CHIUSA",42443.581678240742,83913,0,19,50927640,107,40,0,null,null,42441,2582,47,5502911127,34948]
[5500275873,null,5502911127,5500022895,5529335993,8684250,5,1,"CHIUSA",42443.581678240742,83913,0,18,50927640,107,40,0,null,null,42441,2582,47,5502911127,34948]
[5500275873,null,5502911127,5500022895,5529335992,8684250,5,1,"CHIUSA",42443.581678240742,83913,0,17,50927640,107,40,0,null,null,42441,2582,47,5502911127,34948]
[5500275873,null,5502911127,5500022895,5529335991,8684250,5,1,"CHIUSA",42443.581678240742,83913,0,16,50927640,107,40,0,null,null,42441,2582,47,5502911127,34948]
[5500275873,null,5502911127,5500022895,5529335990,8684250,5,1,"CHIUSA",42443.581678240742,83913,0,15,50927640,107,40,0,null,null,42441,2582,47,5502911127,34948]
[5500275873,null,5502911127,5500022895,5529335989,8684250,5,1,"CHIUSA",42443.581678240742,83913,0,14,50927640,107,40,0,null,null,42441,2582,47,5502911127,34948]
[5500275873,null,5502911127,5500022895,5529335988,8684250,5,1,"CHIUSA",42443.581678240742,83913,0,13,50927640,107,40,0,null,null,42441,2582,47,5502911127,34948]
[5500275873,null,5502911127,5500022895,5529335987,8684250,5,1,"CHIUSA",42443.581678240742,83913,0,12,50927640,107,40,0,null,null,42441,2582,47,5502911127,34948]
[5500275873,null,5502911127,5500022895,5529335984,8684250,5,1,"CHIUSA",42443.581678240742,83913,0,11,50927640,107,40,0,null,null,42441,2582,47,5502911127,34948]
[5500275873,null,5502911127,5500022895,5529335972,8684250,5,1,"CHIUSA",42443.581678240742,83913,0,10,50927640,107,40,0,null,null,42441,2582,47,5502911127,34948]
[5500275873,null,5502911127,5500022895,5529335971,8684250,5,1,"CHIUSA",42443.581678240742,83913,0,9,50927640,107,40,0,null,null,42441,2582,47,5502911127,34948]
[5500275873,null,5502911127,5500022895,5529335970,8684250,5,1,"CHIUSA",42443.581678240742,83913,0,8,50927640,107,40,0,null,null,42441,2582,47,5502911127,34948]
[5500275873,null,5502911127,5500022895,5529335969,8684250,5,1,"CHIUSA",42443.581678240742,83913,0,7,50927640,107,40,0,null,null,42441,2582,47,5502911127,34948]
[5500275873,null,5502911127,5500022895,5529335968,8684250,5,1,"CHIUSA",42443.581678240742,83913,0,6,50927640,107,40,0,null,null,42441,2582,47,5502911127,34948]
[5500275873,null,5502911127,5500022895,5529335967,8684250,5,1,"CHIUSA",42443.581678240742,83913,0,5,50927640,107,40,0,null,null,42441,2582,47,5502911127,34948]
[5500275873,null,5502911127,5500022895,5529335966,8684250,5,1,"CHIUSA",42443.581678240742,83913,0,4,50927640,107,40,0,null,null,42441,2582,47,5502911127,34948]
[5500275873,null,5502911127,5500022895,5529335965,8684250,5,1,"CHIUSA",42443.581678240742,83913,0,3,50927640,107,40,0,null,null,42441,2582,47,5502911127,34948]
[5500275873,null,5502911127,5500022895,5529335964,8684250,5,1,"CHIUSA",42443.581678240742,83913,0,2,50927640,107,40,0,null,null,42441,2582,47,5502911127,34948]
[5500275873,null,5502911127,5500022895,5529335963,8684250,5,1,"CHIUSA",42443.581678240742,83913,0,1,50927640,107,40,0,null,null,42441,2582,47,5502911127,34948]
[5500275873,null,5502911128,5500022896,5529336022,8687406,4,1,"CHIUSA",42443.581678240742,83916,0,6,50927640,107,40,0,null,null,42441,775,14,5502911128,34948]
[5500275873,null,5502911128,5500022896,5529336021,8687406,4,1,"CHIUSA",42443.581678240742,83916,0,5,50927640,107,40,0,null,null,42441,775,14,5502911128,34948]
[5500275873,null,5502911128,5500022896,5529336020,8687406,4,1,"CHIUSA",42443.581678240742,83916,0,4,50927640,107,40,0,null,null,42441,775,14,5502911128,34948]
[5500275873,null,5502911128,5500022896,5529336019,8687406,4,1,"CHIUSA",42443.581678240742,83916,0,3,50927640,107,40,0,null,null,42441,775,14,5502911128,34948]
[5500275873,null,5502911128,5500022896,5529336018,8687406,4,1,"CHIUSA",42443.581678240742,83916,0,2,50927640,107,40,0,null,null,42441,775,14,5502911128,34948]
[5500275873,null,5502911128,5500022896,5529336017,8687406,4,1,"CHIUSA",42443.581678240742,83916,0,1,50927640,107,40,0,null,null,42441,775,14,5502911128,34948]
[5500275873,null,5502911128,5500022896,5529336016,8687406,4,1,"CHIUSA",42443.581678240742,83915,0,20,50927640,107,40,0,null,null,42441,2582,47,5502911128,34948]
[5500275873,null,5502911128,5500022896,5529336015,8687406,4,1,"CHIUSA",42443.581678240742,83915,0,19,50927640,107,40,0,null,null,42441,2582,47,5502911128,34948]
[5500275873,null,5502911128,5500022896,5529336014,8687406,4,1,"CHIUSA",42443.581678240742,83915,0,18,50927640,107,40,0,null,null,42441,2582,47,5502911128,34948]
[5500275873,null,5502911128,5500022896,5529336012,8687406,4,1,"CHIUSA",42443.581678240742,83915,0,17,50927640,107,40,0,null,null,42441,2582,47,5502911128,34948]
[5500275873,null,5502911128,5500022896,5529336011,8687406,4,1,"CHIUSA",42443.581678240742,83915,0,16,50927640,107,40,0,null,null,42441,2582,47,5502911128,34948]
[5500275873,null,5502911128,5500022896,5529336010,8687406,4,1,"CHIUSA",42443.581678240742,83915,0,15,50927640,107,40,0,null,null,42441,2582,47,5502911128,34948]
[5500275873,null,5502911128,5500022896,5529336009,8687406,4,1,"CHIUSA",42443.581678240742,83915,0,14,50927640,107,40,0,null,null,42441,2582,47,5502911128,34948]
[5500275873,null,5502911128,5500022896,5529336008,8687406,4,1,"CHIUSA",42443.581678240742,83915,0,13,50927640,107,40,0,null,null,42441,2582,47,5502911128,34948]
[5500275873,null,5502911128,5500022896,5529336006,8687406,4,1,"CHIUSA",42443.581678240742,83915,0,12,50927640,107,40,0,null,null,42441,2582,47,5502911128,34948]
[5500275873,null,5502911128,5500022896,5529336004,8687406,4,1,"CHIUSA",42443.581678240742,83915,0,11,50927640,107,40,0,null,null,42441,2582,47,5502911128,34948]
[5500275873,null,5502911128,5500022896,5529336003,8687406,4,1,"CHIUSA",42443.581678240742,83915,0,10,50927640,107,40,0,null,null,42441,2582,47,5502911128,34948]
[5500275873,null,5502911128,5500022896,5529335997,8687406,4,1,"CHIUSA",42443.581678240742,83915,0,9,50927640,107,40,0,null,null,42441,2582,47,5502911128,34948]
[5500275873,null,5502911128,5500022896,5529335986,8687406,4,1,"CHIUSA",42443.581678240742,83915,0,8,50927640,107,40,0,null,null,42441,2582,47,5502911128,34948]
[5500275873,null,5502911128,5500022896,5529335985,8687406,4,1,"CHIUSA",42443.581678240742,83915,0,7,50927640,107,40,0,null,null,42441,2582,47,5502911128,34948]
[5500275873,null,5502911128,5500022896,5529335983,8687406,4,1,"CHIUSA",42443.581678240742,83915,0,6,50927640,107,40,0,null,null,42441,2582,47,5502911128,34948]
[5500275873,null,5502911128,5500022896,5529335982,8687406,4,1,"CHIUSA",42443.581678240742,83915,0,5,50927640,107,40,0,null,null,42441,2582,47,5502911128,34948]
[5500275873,null,5502911128,5500022896,5529335981,8687406,4,1,"CHIUSA",42443.581678240742,83915,0,4,50927640,107,40,0,null,null,42441,2582,47,5502911128,34948]
[5500275873,null,5502911128,5500022896,5529335980,8687406,4,1,"CHIUSA",42443.581678240742,83915,0,3,50927640,107,40,0,null,null,42441,2582,47,5502911128,34948]
[5500275873,null,5502911128,5500022896,5529335979,8687406,4,1,"CHIUSA",42443.581678240742,83915,0,2,50927640,107,40,0,null,null,42441,2582,47,5502911128,34948]
[5500275873,null,5502911128,5500022896,5529335978,8687406,4,1,"CHIUSA",42443.581678240742,83915,0,1,50927640,107,40,0,null,null,42441,2582,47,5502911128,34948]
[5500275874,null,5502911019,5500022787,5529335811,7315333,1,1,"CHIUSA",42443.581701388888,83804,0,1,51965513,58,40,0,null,null,42441,70,1,5502911019,34948]
[5500275875,null,5502911022,5500022791,5529335839,7017728,7,1,"CHIUSA",42443.585173611114,83807,0,1,51965513,59,40,0,null,null,42441,68,1,5502911022,34948]
[5500275875,null,5502911023,5500022790,5529335813,7061093,8,1,"CHIUSA",42443.585173611114,83809,0,1,51965513,59,40,0,null,null,42441,68,1,5502911023,34948]
[5500275875,null,5502911028,5500022796,5529335867,8700013,2,1,"CHIUSA",42443.585173611114,83824,0,1,735599034,49,40,0,null,null,42441,56,1,5502911028,34948]
[5500275875,null,5502911029,5500022797,5529335885,8700343,13,1,"CHIUSA",42443.585173611114,83812,0,4,51961630,701,40,0,null,null,42441,6138,13,5502911029,34948]
[5500275875,null,5502911029,5500022797,5529335874,8707333,1,1,"CHIUSA",42443.585173611114,83812,0,3,51975489,228,40,0,null,null,42441,6138,13,5502911029,34948]
[5500275875,null,5502911029,5500022797,5529335821,8700343,7,1,"CHIUSA",42443.585173611114,83812,0,2,735598589,452,40,0,null,null,42441,6138,13,5502911029,34948]
[5500275875,null,5502911029,5500022797,5529335814,8690708,1,1,"CHIUSA",42443.585173611114,83812,0,1,"K1SE64HDAAB",4550,40,0,null,null,42441,6138,13,5502911029,34948]
[5500275875,null,5502911084,5500022852,5529335915,8687603,3,1,"CHIUSA",42443.585173611114,83869,0,2,735599060,567,40,0,null,null,42441,1302,5,5502911084,34948]
[5500275875,null,5502911084,5500022852,5529335913,8687603,3,1,"CHIUSA",42443.585173611114,83869,0,1,735599060,567,40,0,null,null,42441,1302,5,5502911084,34948]
[5500275875,null,5502911091,5500022860,5529335933,8700343,14,1,"CHIUSA",42443.585173611114,83877,0,4,51959990,51,40,0,null,null,42441,360,1,5502911091,34948]
[5500275875,null,5502911091,5500022860,5529335926,8700343,12,1,"CHIUSA",42443.585173611114,83877,0,3,735598591,49,40,0,null,null,42441,360,1,5502911091,34948]
[5500275875,null,5502911091,5500022860,5529335907,8700343,9,1,"CHIUSA",42443.585173611114,83877,0,2,735625808,122,40,0,null,null,42441,360,1,5502911091,34948]
[5500275875,null,5502911091,5500022860,5529335901,8700343,15,1,"CHIUSA",42443.585173611114,83877,0,1,51943270,90,40,0,null,null,42441,360,1,5502911091,34948]
[5500275875,null,5502911092,5500022859,5529335952,8700013,6,1,"CHIUSA",42443.585173611114,83876,0,2,100223045,344,40,0,null,null,42441,1655,3,5502911092,34948]
[5500275875,null,5502911092,5500022859,5529335906,8700013,8,1,"CHIUSA",42443.585173611114,83876,0,1,735631085,1095,40,0,null,null,42441,1655,3,5502911092,34948]
[5500275876,null,5502911021,5500022789,5529335829,7787349,2,1,"CHIUSA",42443.585127314815,83806,0,1,51965513,59,40,0,null,null,42441,69,1,5502911021,34948]
[5500275876,null,5502911089,5500022857,5529335912,8681122,1,1,"CHIUSA",42443.585127314815,83873,0,1,"K1CK61TZZAG",1258,40,0,null,null,42441,1523,1,5502911089,34948]
[5500275877,null,5502911024,5500022792,5529335866,8524868,1,1,"CHIUSA",42443.585196759261,83810,0,2,51965513,58,40,0,null,null,42441,140,2,5502911024,34948]
[5500275877,null,5502911024,5500022792,5529335852,7046129,1,1,"CHIUSA",42443.585196759261,83810,0,1,51965513,58,40,0,null,null,42441,140,2,5502911024,34948]
[5500275877,null,5502911125,5500022893,5529336024,8705771,8,1,"CHIUSA",42443.585196759261,83910,0,1,52002406,1010,40,0,null,null,42441,1224,0,5502911125,34948]
[5500275878,null,5502910998,5500022767,5529335605,8640140,2,1,"CHIUSA",42443.585150462961,83779,0,1,"K05171178AC",183,40,0,null,null,42441,229,1,5502910998,34948]
[5500275878,null,5502910999,5500022766,5529335756,8599209,11,1,"CHIUSA",42443.585150462961,83782,0,2,50927606,246,40,0,null,null,42441,455,0,5502910999,34948]
[5500275878,null,5502910999,5500022766,5529335707,8599209,18,1,"CHIUSA",42443.585150462961,83782,0,1,50927661,172,40,0,null,null,42441,455,0,5502910999,34948]
[5500275878,null,5502911002,5500022770,5529335784,7342555,1,1,"CHIUSA",42443.585150462961,83793,0,3,51965513,58,40,0,null,null,42441,427,3,5502911002,34948]
[5500275878,null,5502911002,5500022770,5529335782,7226650,1,1,"CHIUSA",42443.585150462961,83793,0,2,51965513,58,40,0,null,null,42441,427,3,5502911002,34948]
[5500275878,null,5502911002,5500022770,5529335672,8572361,1,1,"CHIUSA",42443.585150462961,83793,0,1,52028704,236,40,0,null,null,42441,427,3,5502911002,34948]
[5500275879,null,5502910995,5500022765,5529335616,8637803,6,1,"CHIUSA",42443.585104166668,83780,0,1,7087808,169,40,0,null,null,42441,205,1,5502910995,34948]
[5500275879,null,5502910997,5500022763,5529335786,7421773,24,1,"CHIUSA",42443.585104166668,83778,0,1,51965513,58,40,0,null,null,42441,70,1,5502910997,34948]
[5500275879,null,5502911008,5500022776,5529335615,8663132,2,1,"CHIUSA",42443.585104166668,83794,0,1,7087808,141,40,0,null,null,42441,171,0,5502911008,34948]
[5500275879,null,5502911086,5500022854,5529335921,8706678,1,1,"CHIUSA",42443.585104166668,83872,0,1,"K05183172AC",496,40,0,null,null,42441,622,0,5502911086,34948]
[5500275880,null,5502910588,5500022356,5529334581,8635881,7,1,"CHIUSA",42443.588576388887,83408,0,3,"K52090402AA",63,40,0,null,null,42440,679,1,5502910588,34948]
[5500275880,null,5502910588,5500022356,5529334533,8589292,3,1,"CHIUSA",42443.588576388887,83408,0,2,"K05116157AA",151,40,0,null,null,42440,679,1,5502910588,34948]
[5500275880,null,5502910588,5500022356,5529334524,8589292,10,1,"CHIUSA",42443.588576388887,83408,0,1,"K05171093AC",332,40,0,null,null,42440,679,1,5502910588,34948]
[5500275880,null,5502910593,5500022361,5529334550,8606014,1,1,"CHIUSA",42443.588576388887,83413,0,1,"K68257791AA",107,40,0,null,null,42440,133,0,5502910593,34948]
[5500275880,null,5502910604,5500022372,5529334594,8635881,4,1,"CHIUSA",42443.588576388887,83424,0,1,"K05093508AA",282,40,0,null,null,42440,282,0,5502910604,34948]
[5500275880,null,5502910675,5500022443,5529334791,8635881,6,1,"CHIUSA",42443.588576388887,83441,0,2,"K57010236AC",16,40,0,null,null,42440,68,0,5502910675,34948]
[5500275880,null,5502910675,5500022443,5529334784,8635881,1,1,"CHIUSA",42443.588576388887,83441,0,1,"K05033307AC",48,40,0,null,null,42440,68,0,5502910675,34948]
[5500275880,null,5502910684,5500022452,5529334840,8403198,3,1,"CHIUSA",42443.588576388887,83551,0,1,51953599,59,40,0,null,null,42440,59,0,5502910684,34948]
[5500275880,null,5502910727,5500022495,5529334866,8665730,3,1,"CHIUSA",42443.588576388887,83497,0,1,51941991,100,40,0,null,null,42440,114,0,5502910727,34948]
[5500275880,null,5502910738,5500022506,5529334849,8665594,7,1,"CHIUSA",42443.588576388887,83490,0,2,51943270,90,40,0,null,null,42440,134,1,5502910738,34948]
[5500275880,null,5502910738,5500022506,5529334842,8665594,2,1,"CHIUSA",42443.588576388887,83490,0,1,735599035,27,40,0,null,null,42440,134,1,5502910738,34948]
[5500275880,null,5502910740,5500022508,5529334830,8589292,11,1,"CHIUSA",42443.588576388887,83500,0,2,"K1MZ76RXFAB",49,40,0,null,null,42440,200,0,5502910740,34948]
[5500275880,null,5502910740,5500022508,5529334824,8635881,2,1,"CHIUSA",42443.588576388887,83500,0,1,"K05085823AC",139,40,0,null,null,42440,200,0,5502910740,34948]
[5500275880,null,5502910756,5500022524,5529334974,8635881,3,1,"CHIUSA",42443.588576388887,83521,0,1,"K05171178AC",91,40,0,null,null,42440,114,1,5502910756,34948]
[5500275880,null,5502910758,5500022526,5529334942,8665730,5,1,"CHIUSA",42443.588576388887,83523,0,1,51953959,278,40,0,null,null,42440,346,2,5502910758,34948]
[5500275880,null,5502910788,5500022556,5529335302,8663194,1,1,"CHIUSA",42443.588576388887,83556,0,1,"K68103198AB",4417,40,0,null,null,42440,4417,6,5502910788,34948]
[5500275880,null,5502910794,5500022562,5529335288,8618845,3,1,"CHIUSA",42443.588576388887,83590,0,1,735603977,86,40,0,null,null,42440,107,0,5502910794,34948]
[5500275880,null,5502910795,5500022563,5529335295,8218016,11,3,"CHIUSA",42443.588576388887,83565,0,1,"K55397130AC",231,40,0,null,null,42440,231,0,5502910795,34948]
[5500275880,null,5502910796,5500022564,5529335300,8665594,3,1,"CHIUSA",42443.588576388887,83563,0,1,735602391,100,40,0,null,null,42440,114,0,5502910796,34948]
[5500275880,null,5502910797,5500022565,5529335315,8474522,1,1,"CHIUSA",42443.588576388887,83572,0,1,52028704,242,40,0,null,null,42440,279,1,5502910797,34948]
[5500275880,null,5502910799,5500022567,5529334995,8665594,8,1,"CHIUSA",42443.588576388887,83592,0,2,100223376,59,40,0,null,null,42440,660,4,5502910799,34948]
[5500275880,null,5502910799,5500022567,5529334965,8665594,12,1,"CHIUSA",42443.588576388887,83592,0,1,51965906,518,40,0,null,null,42440,660,4,5502910799,34948]
[5500275880,null,5502910829,5500022597,5529335455,8572287,1,3,"CHIUSA",42443.588576388887,83611,0,4,50927749,171,40,0,null,null,42440,790,0,5502910829,34948]
[5500275880,null,5502910829,5500022597,5529335454,8572287,1,3,"CHIUSA",42443.588576388887,83611,0,3,50927749,171,40,0,null,null,42440,790,0,5502910829,34948]
[5500275880,null,5502910829,5500022597,5529335453,8572287,1,3,"CHIUSA",42443.588576388887,83611,0,2,50927749,171,40,0,null,null,42440,790,0,5502910829,34948]
[5500275880,null,5502910829,5500022597,5529335452,8572287,1,3,"CHIUSA",42443.588576388887,83611,0,1,50927749,171,40,0,null,null,42440,790,0,5502910829,34948]
[5500275880,null,5502910836,5500022604,5529335403,8665594,4,1,"CHIUSA",42443.588576388887,83606,0,3,"K82210538AB",173,40,0,null,null,42440,401,1,5502910836,34948]
[5500275880,null,5502910836,5500022604,5529335375,8665594,6,1,"CHIUSA",42443.588576388887,83606,0,2,735599036,27,40,0,null,null,42440,401,1,5502910836,34948]
[5500275880,null,5502910836,5500022604,5529335365,8665594,10,1,"CHIUSA",42443.588576388887,83606,0,1,735598598,172,40,0,null,null,42440,401,1,5502910836,34948]
[5500275880,null,5502910842,5500022610,5529335329,8403198,6,1,"CHIUSA",42443.588576388887,83630,0,1,51965513,60,40,0,null,null,42440,68,1,5502910842,34948]
[5500275880,null,5502910843,5500022611,5529335361,8313100,1,1,"CHIUSA",42443.588576388887,83610,0,1,"K55397130AC",116,40,0,null,null,42440,116,0,5502910843,34948]
[5500275880,null,5502910869,5500022637,5529335532,8572287,1,3,"CHIUSA",42443.588576388887,83654,0,1,50927749,171,40,0,null,null,42440,197,0,5502910869,34948]
[5500275880,null,5502910883,5500022651,5529335515,8665730,1,1,"CHIUSA",42443.588576388887,83661,0,1,52015520,119,40,0,null,null,42440,138,0,5502910883,34948]
[5500275880,null,5502910905,5500022673,5529335533,8618845,6,2,"CHIUSA",42443.588576388887,83682,0,1,"K04895483AB",241,40,0,null,null,42440,300,1,5502910905,34948]
[5500275880,null,5502910914,5500022682,5529335585,8385917,2,1,"CHIUSA",42443.588576388887,83701,0,1,51965513,60,40,0,null,null,42440,68,1,5502910914,34948]
[5500275880,null,5502910940,5500022708,5529335711,8681049,1,1,"CHIUSA",42443.588576388887,83724,0,1,"K1TZ94BD1AB",5639,40,0,null,null,42441,7006,4,5502910940,34948]
[5500275880,null,5502910961,5500022729,5529335671,8430082,6,1,"CHIUSA",42443.588576388887,83745,0,1,52028704,242,40,0,null,null,42441,279,1,5502910961,34948]
[5500275880,null,5502911033,5500022801,5529335719,8606014,3,1,"CHIUSA",42443.588576388887,83815,0,1,735613794,47,40,0,null,null,42441,59,0,5502911033,34948]
[5500275880,null,5502911045,5500022813,5529335746,8660983,2,1,"CHIUSA",42443.588576388887,83830,0,1,7087808,147,40,0,null,null,42441,169,0,5502911045,34948]
[5500275880,null,5502911093,5500022861,5529335927,8706066,11,1,"CHIUSA",42443.588576388887,83879,0,2,"K68001386AA",1403,40,0,null,null,42441,5061,3,5502911093,34948]
[5500275880,null,5502911093,5500022861,5529335891,8706066,5,1,"CHIUSA",42443.588576388887,83879,0,1,"K04666129AA",2671,40,0,null,null,42441,5061,3,5502911093,34948]
[5500275880,null,5502911105,5500022873,5529335939,8679681,1,1,"CHIUSA",42443.588576388887,83891,0,1,"K04431997",211,40,0,null,null,42441,263,2,5502911105,34948]
[5500275880,null,5502911106,5500022874,5529335919,8679681,6,1,"CHIUSA",42443.588576388887,83890,0,1,"K68110321AC",882,40,0,null,null,42441,882,0,5502911106,34948]
[5500275880,null,5502911124,5500022892,5529336013,8706877,1,1,"CHIUSA",42443.588576388887,83911,0,1,"KTCBOX614",1448,40,0,null,null,42441,1799,20,5502911124,34948]
[5500275880,null,5502911133,5500022901,5529335892,8430082,8,2,"CHIUSA",42443.588576388887,83920,0,1,51984455,111,40,0,null,null,42441,127,0,5502911133,34948]
[5500275881,null,5502910551,5500022319,5529334448,7039446,1,1,"CHIUSA",42443.599050925928,83372,0,5,50927749,186,40,0,null,null,42440,1016,0,5502910551,34948]
[5500275881,null,5502910551,5500022319,5529334430,7039446,1,1,"CHIUSA",42443.599050925928,83372,0,4,50927749,186,40,0,null,null,42440,1016,0,5502910551,34948]
[5500275881,null,5502910551,5500022319,5529334422,7039446,1,1,"CHIUSA",42443.599050925928,83372,0,3,50927749,186,40,0,null,null,42440,1016,0,5502910551,34948]
[5500275881,null,5502910551,5500022319,5529334403,7039446,1,1,"CHIUSA",42443.599050925928,83372,0,2,50927749,186,40,0,null,null,42440,1016,0,5502910551,34948]
[5500275881,null,5502910551,5500022319,5529334401,7039446,1,1,"CHIUSA",42443.599050925928,83372,0,1,50927749,186,40,0,null,null,42440,1016,0,5502910551,34948]
[5500275881,null,5502910552,5500022320,5529334445,7061088,2,1,"CHIUSA",42443.599050925928,83373,0,5,50927749,186,40,0,null,null,42440,1016,0,5502910552,34948]
[5500275881,null,5502910552,5500022320,5529334440,7061088,2,1,"CHIUSA",42443.599050925928,83373,0,4,50927749,186,40,0,null,null,42440,1016,0,5502910552,34948]
[5500275881,null,5502910552,5500022320,5529334435,7061088,2,1,"CHIUSA",42443.599050925928,83373,0,3,50927749,186,40,0,null,null,42440,1016,0,5502910552,34948]
[5500275881,null,5502910552,5500022320,5529334427,7061088,2,1,"CHIUSA",42443.599050925928,83373,0,2,50927749,186,40,0,null,null,42440,1016,0,5502910552,34948]
[5500275881,null,5502910552,5500022320,5529334419,7061088,2,1,"CHIUSA",42443.599050925928,83373,0,1,50927749,186,40,0,null,null,42440,1016,0,5502910552,34948]
[5500275881,null,5502910558,5500022326,5529334444,7060182,3,1,"CHIUSA",42443.599050925928,83379,0,10,50927749,186,40,0,null,null,42440,2031,0,5502910558,34948]
[5500275881,null,5502910558,5500022326,5529334439,7060182,3,1,"CHIUSA",42443.599050925928,83379,0,9,50927749,186,40,0,null,null,42440,2031,0,5502910558,34948]
[5500275881,null,5502910558,5500022326,5529334434,7060182,3,1,"CHIUSA",42443.599050925928,83379,0,8,50927749,186,40,0,null,null,42440,2031,0,5502910558,34948]
[5500275881,null,5502910558,5500022326,5529334426,7060182,3,1,"CHIUSA",42443.599050925928,83379,0,7,50927749,186,40,0,null,null,42440,2031,0,5502910558,34948]
[5500275881,null,5502910558,5500022326,5529334418,7060182,3,1,"CHIUSA",42443.599050925928,83379,0,6,50927749,186,40,0,null,null,42440,2031,0,5502910558,34948]
[5500275881,null,5502910558,5500022326,5529334412,7060182,3,1,"CHIUSA",42443.599050925928,83379,0,5,50927749,186,40,0,null,null,42440,2031,0,5502910558,34948]
[5500275881,null,5502910558,5500022326,5529334409,7060182,3,1,"CHIUSA",42443.599050925928,83379,0,4,50927749,186,40,0,null,null,42440,2031,0,5502910558,34948]
[5500275881,null,5502910558,5500022326,5529334406,7060182,3,1,"CHIUSA",42443.599050925928,83379,0,3,50927749,186,40,0,null,null,42440,2031,0,5502910558,34948]
[5500275881,null,5502910558,5500022326,5529334399,7060182,3,1,"CHIUSA",42443.599050925928,83379,0,2,50927749,186,40,0,null,null,42440,2031,0,5502910558,34948]
[5500275881,null,5502910558,5500022326,5529334396,7060182,3,1,"CHIUSA",42443.599050925928,83379,0,1,50927749,186,40,0,null,null,42440,2031,0,5502910558,34948]
[5500275881,null,5502910563,5500022331,5529334542,8340737,6,1,"CHIUSA",42443.599050925928,83384,0,1,"K55369587AG",5014,40,0,null,null,42440,5397,10,5502910563,34948]
[5500275881,null,5502910584,5500022352,5529334529,8659323,1,1,"CHIUSA",42443.599050925928,83404,0,1,55263219,494,40,0,null,null,42440,532,1,5502910584,34948]
[5500275881,null,5502910587,5500022355,5529334603,8641810,6,1,"CHIUSA",42443.599050925928,83407,0,1,"K68045708AA",542,40,0,null,null,42440,584,1,5502910587,34948]
[5500275881,null,5502910594,5500022362,5529334564,8573292,1,1,"CHIUSA",42443.599050925928,83414,0,1,"K55079306AE",303,40,0,null,null,42440,327,0,5502910594,34948]
[5500275881,null,5502910596,5500022364,5529334537,8495328,2,1,"CHIUSA",42443.599050925928,83416,0,1,"KCBWPR091AA",186,40,0,null,null,42440,201,0,5502910596,34948]
[5500275881,null,5502910603,5500022371,5529334614,8641810,4,1,"CHIUSA",42443.599050925928,83423,0,1,"K68003402AB",1087,40,0,null,null,42440,1170,2,5502910603,34948]
[5500275881,null,5502910633,5500022401,5529334643,8659015,1,1,"CHIUSA",42443.599050925928,83620,0,1,735599387,1154,40,0,null,null,42440,1242,3,5502910633,34948]
[5500275881,null,5502910644,5500022412,5529334639,8641538,1,1,"CHIUSA",42443.599050925928,83596,0,7,51953123,107,40,0,null,null,42440,1184,12,5502910644,34948]
[5500275881,null,5502910644,5500022412,5529334637,8647842,1,1,"CHIUSA",42443.599050925928,83596,0,6,"KCBXNP143AA",354,40,0,null,null,42440,1184,12,5502910644,34948]
[5500275881,null,5502910644,5500022412,5529334622,8595628,1,1,"CHIUSA",42443.599050925928,83596,0,5,50927640,128,40,0,null,null,42440,1184,12,5502910644,34948]
[5500275881,null,5502910644,5500022412,5529334620,8595628,1,1,"CHIUSA",42443.599050925928,83596,0,4,50927640,128,40,0,null,null,42440,1184,12,5502910644,34948]
[5500275881,null,5502910644,5500022412,5529334618,8595628,1,1,"CHIUSA",42443.599050925928,83596,0,3,50927640,128,40,0,null,null,42440,1184,12,5502910644,34948]
[5500275881,null,5502910644,5500022412,5529334615,8595628,1,1,"CHIUSA",42443.599050925928,83596,0,2,50927640,128,40,0,null,null,42440,1184,12,5502910644,34948]
[5500275881,null,5502910644,5500022412,5529334600,8595628,1,1,"CHIUSA",42443.599050925928,83596,0,1,50927640,128,40,0,null,null,42440,1184,12,5502910644,34948]
[5500275881,null,5502910645,5500022413,5529334647,8659015,5,1,"CHIUSA",42443.599050925928,83597,0,1,735599036,29,40,0,null,null,42440,31,0,5502910645,34948]
[5500275881,null,5502910648,5500022416,5529334663,8641186,1,1,"CHIUSA",42443.599050925928,83600,0,1,55261775,526,40,0,null,null,42440,566,3,5502910648,34948]
[5500275881,null,5502910650,5500022418,5529334709,8641810,8,1,"CHIUSA",42443.599050925928,83602,0,1,"K05154661AC",1037,40,0,null,null,42440,1116,2,5502910650,34948]
[5500275881,null,5502910651,5500022419,5529334684,8662608,2,1,"CHIUSA",42443.599050925928,83543,0,2,51972885,410,40,0,null,null,42440,497,0,5502910651,34948]
[5500275881,null,5502910651,5500022419,5529334684,8646371,2,1,"CHIUSA",42443.599050925928,83543,0,1,735603977,51,40,0,null,null,42440,497,0,5502910651,34948]
[5500275881,null,5502910652,5500022420,5529334642,8643693,1,1,"CHIUSA",42443.599050925928,83544,0,1,51975668,741,40,0,null,null,42440,797,0,5502910652,34948]
[5500275881,null,5502910653,5500022421,5529334645,8643797,3,1,"CHIUSA",42443.599050925928,83545,0,1,51975668,741,40,0,null,null,42440,797,0,5502910653,34948]
[5500275881,null,5502910674,5500022442,5529334610,8662608,1,1,"CHIUSA",42443.599050925928,83445,0,1,55267425,201,40,0,null,null,42440,219,0,5502910674,34948]
[5500275881,null,5502910676,5500022444,5529334802,8641810,3,1,"CHIUSA",42443.599050925928,83444,0,2,"K68083202AC",434,40,0,null,null,42440,806,1,5502910676,34948]
[5500275881,null,5502910676,5500022444,5529334770,8641810,2,1,"CHIUSA",42443.599050925928,83444,0,1,"K05184617AD",345,40,0,null,null,42440,806,1,5502910676,34948]
[5500275881,null,5502910678,5500022446,5529334616,8640397,1,1,"CHIUSA",42443.599050925928,83447,0,1,735612575,49,40,0,null,null,42440,52,0,5502910678,34948]
[5500275881,null,5502910679,5500022447,5529334608,8659453,1,1,"CHIUSA",42443.599050925928,83448,0,1,11084384,29,40,0,null,null,42440,32,0,5502910679,34948]
[5500275881,null,5502910685,5500022453,5529334854,8291712,5,1,"CHIUSA",42443.599050925928,83453,0,1,"K68137706AA",25,40,0,null,null,42440,25,0,5502910685,34948]
[5500275881,null,5502910686,5500022454,5529334883,8598802,1,1,"CHIUSA",42443.599050925928,83451,0,1,"K04720353",8,40,0,null,null,42440,8,0,5502910686,34948]
[5500275881,null,5502910729,5500022497,5529334904,8646371,4,1,"CHIUSA",42443.599050925928,83498,0,1,735598078,812,40,0,null,null,42440,874,2,5502910729,34948]
[5500275881,null,5502910730,5500022498,5529334864,8494594,1,1,"CHIUSA",42443.599050925928,83502,0,2,"K04720353",82,40,0,null,null,42440,194,0,5502910730,34948]
[5500275881,null,5502910730,5500022498,5529334843,8641810,1,1,"CHIUSA",42443.599050925928,83502,0,1,"K05155803AF",105,40,0,null,null,42440,194,0,5502910730,34948]
[5500275881,null,5502910731,5500022499,5529334875,8664343,9,1,"CHIUSA",42443.599050925928,83506,0,1,51938531,694,40,0,null,null,42440,758,2,5502910731,34948]
[5500275881,null,5502910734,5500022502,5529334821,8637497,1,1,"CHIUSA",42443.599050925928,83495,0,1,735628249,126,40,0,null,null,42440,126,0,5502910734,34948]
[5500275881,null,5502910735,5500022503,5529334829,8643797,7,1,"CHIUSA",42443.599050925928,83494,0,1,735598843,112,40,0,null,null,42440,112,0,5502910735,34948]
[5500275881,null,5502910739,5500022507,5529334828,8643693,4,1,"CHIUSA",42443.599050925928,83505,0,1,51974535,177,40,0,null,null,42440,177,0,5502910739,34948]
[5500275881,null,5502910742,5500022510,5529334878,8665638,6,1,"CHIUSA",42443.599050925928,83501,0,1,"K04606093AF",1117,40,0,null,null,42440,1117,0,5502910742,34948]
[5500275881,null,5502910759,5500022527,5529334975,8673977,1,1,"CHIUSA",42443.599050925928,83520,0,1,735613082,255,40,0,null,null,42440,279,1,5502910759,34948]
[5500275881,null,5502910760,5500022528,5529334909,8641810,7,1,"CHIUSA",42443.599050925928,83526,0,1,"K52122362AL",2624,40,0,null,null,42440,2825,18,5502910760,34948]
[5500275881,null,5502910761,5500022529,5529334947,8639716,3,1,"CHIUSA",42443.599050925928,83527,0,1,"K05083285AA",1309,40,0,null,null,42440,1415,7,5502910761,34948]
[5500275881,null,5502910762,5500022530,5529334956,8643797,8,1,"CHIUSA",42443.599050925928,83522,0,1,735599569,151,40,0,null,null,42440,163,2,5502910762,34948]
[5500275881,null,5502910763,5500022531,5529334967,8664343,10,1,"CHIUSA",42443.599050925928,83524,0,1,51965900,505,40,0,null,null,42440,539,3,5502910763,34948]
[5500275881,null,5502910786,5500022554,5529334997,8665638,3,1,"CHIUSA",42443.599050925928,83555,0,3,"K05178272AB",218,40,0,null,null,42440,586,0,5502910786,34948]
[5500275881,null,5502910786,5500022554,5529334996,8665638,5,1,"CHIUSA",42443.599050925928,83555,0,2,"KSPZFR6F11G",189,40,0,null,null,42440,586,0,5502910786,34948]
[5500275881,null,5502910786,5500022554,5529334918,8665638,7,1,"CHIUSA",42443.599050925928,83555,0,1,"K04596198",132,40,0,null,null,42440,586,0,5502910786,34948]
[5500275881,null,5502910789,5500022557,5529335296,8587048,2,1,"CHIUSA",42443.599050925928,83583,0,1,52028704,262,40,0,null,null,42440,287,1,5502910789,34948]
[5500275881,null,5502910790,5500022558,5529335042,8673977,3,1,"CHIUSA",42443.599050925928,83561,0,1,"K52089883AD",656,40,0,null,null,42440,706,2,5502910790,34948]
[5500275881,null,5502910792,5500022560,5529335341,8664343,12,1,"CHIUSA",42443.599050925928,83560,0,3,51958626,17,40,0,null,null,42440,242,1,5502910792,34948]
[5500275881,null,5502910792,5500022560,5529335314,8664343,13,1,"CHIUSA",42443.599050925928,83560,0,2,735537083,143,40,0,null,null,42440,242,1,5502910792,34948]
[5500275881,null,5502910792,5500022560,5529334886,8664343,7,1,"CHIUSA",42443.599050925928,83560,0,1,51940630,76,40,0,null,null,42440,242,1,5502910792,34948]
[5500275881,null,5502910839,5500022608,5529335366,8191749,1,4,"CHIUSA",42443.599050925928,83614,0,1,52041425,164,40,0,null,null,42440,177,0,5502910839,34948]
[5500275881,null,5502910840,5500022607,5529335400,8524653,1,1,"CHIUSA",42443.599050925928,83615,0,1,51978347,543,40,0,null,null,42440,626,0,5502910840,34948]
[5500275881,null,5502910841,5500022609,5529335377,8664343,11,1,"CHIUSA",42443.599050925928,83609,0,1,51958625,17,40,0,null,null,42440,18,0,5502910841,34948]
[5500275881,null,5502910845,5500022613,5529335418,8591782,1,1,"CHIUSA",42443.599050925928,83613,0,1,51977574,2095,40,0,null,null,42440,2265,8,5502910845,34948]
[5500275881,null,5502910846,5500022614,5529335348,8230618,14,2,"CHIUSA",42443.599050925928,83617,0,1,51984455,121,40,0,null,null,42440,130,0,5502910846,34948]
[5500275881,null,5502910882,5500022650,5529335519,8664137,2,1,"CHIUSA",42443.599050925928,83663,0,1,52016540,122,40,0,null,null,42440,134,0,5502910882,34948]
[5500275881,null,5502910885,5500022653,5529335476,8639716,1,1,"CHIUSA",42443.599050925928,83662,0,1,"K05058693AA",467,40,0,null,null,42440,498,0,5502910885,34948]
[5500275881,null,5502910886,5500022654,5529335460,8639716,5,1,"CHIUSA",42443.599050925928,83665,0,2,"K04593914AB",196,40,0,null,null,42440,1707,1,5502910886,34948]
[5500275881,null,5502910886,5500022654,5529335460,8639716,4,1,"CHIUSA",42443.599050925928,83665,0,1,"K68229402AA",1383,40,0,null,null,42440,1707,1,5502910886,34948]
[5500275881,null,5502910887,5500022655,5529335499,8661148,3,1,"CHIUSA",42443.599050925928,83664,0,2,"K05184651AG",125,40,0,null,null,42440,646,2,5502910887,34948]
[5500275881,null,5502910887,5500022655,5529335499,8650210,1,1,"CHIUSA",42443.599050925928,83664,0,1,"K68052386AA",478,40,0,null,null,42440,646,2,5502910887,34948]
[5500275881,null,5502910890,5500022658,5529335442,7882659,3,1,"CHIUSA",42443.599050925928,83668,0,1,52024158,92,40,0,null,null,42440,100,0,5502910890,34948]
[5500275881,null,5502910906,5500022675,5529335578,8132412,1,1,"CHIUSA",42443.599050925928,83687,0,1,51965513,65,40,0,null,null,42440,70,1,5502910906,34948]
[5500275881,null,5502910907,5500022674,5529335510,8664343,4,1,"CHIUSA",42443.599050925928,83691,0,1,51937671,674,40,0,null,null,42440,737,2,5502910907,34948]
[5500275881,null,5502910908,5500022676,5529335492,8643595,2,1,"CHIUSA",42443.599050925928,83695,0,1,55264509,155,40,0,null,null,42440,168,0,5502910908,34948]
[5500275881,null,5502910909,5500022677,5529335449,7468291,1,1,"CHIUSA",42443.599050925928,83694,0,2,52033464,246,40,0,null,null,42440,1262,0,5502910909,34948]
[5500275881,null,5502910909,5500022677,5529335438,8200540,1,2,"CHIUSA",42443.599050925928,83694,0,1,100232869,914,40,0,null,null,42440,1262,0,5502910909,34948]
[5500275881,null,5502910948,5500022716,5529335651,8600056,1,1,"CHIUSA",42443.599050925928,83732,0,2,50512681,29,40,0,null,null,42441,63,0,5502910948,34948]
[5500275881,null,5502910948,5500022716,5529335639,8600172,1,1,"CHIUSA",42443.599050925928,83732,0,1,50512681,29,40,0,null,null,42441,63,0,5502910948,34948]
[5500275881,null,5502910950,5500022718,5529335644,8643693,2,1,"CHIUSA",42443.599050925928,83733,0,1,51974538,44,40,0,null,null,42441,44,0,5502910950,34948]
[5500275881,null,5502910954,5500022722,5529335638,8641810,9,1,"CHIUSA",42443.599050925928,83744,0,1,"K68065446AA",2757,40,0,null,null,42441,2967,9,5502910954,34948]
[5500275881,null,5502910957,5500022725,5529335600,8659453,2,1,"CHIUSA",42443.599050925928,83746,0,1,735599028,271,40,0,null,null,42441,291,1,5502910957,34948]
[5500275881,null,5502910959,5500022727,5529335648,8639716,2,1,"CHIUSA",42443.599050925928,83748,0,1,"K55111302AA",111,40,0,null,null,42441,118,0,5502910959,34948]
[5500275881,null,5502910960,5500022728,5529335666,8518893,1,1,"CHIUSA",42443.599050925928,83750,0,1,100229706,201,40,0,null,null,42441,216,0,5502910960,34948]
[5500275881,null,5502910964,5500022732,5529335654,8599753,1,1,"CHIUSA",42443.599050925928,83751,0,4,50512681,29,40,0,null,null,42441,397,0,5502910964,34948]
[5500275881,null,5502910964,5500022732,5529335652,8601514,1,1,"CHIUSA",42443.599050925928,83751,0,3,55229966,113,40,0,null,null,42441,397,0,5502910964,34948]
[5500275881,null,5502910964,5500022732,5529335649,8601969,1,1,"CHIUSA",42443.599050925928,83751,0,2,55229966,113,40,0,null,null,42441,397,0,5502910964,34948]
[5500275881,null,5502910964,5500022732,5529335647,8601784,1,1,"CHIUSA",42443.599050925928,83751,0,1,55229966,113,40,0,null,null,42441,397,0,5502910964,34948]
[5500275881,null,5502911030,5500022798,5529335705,8548061,1,1,"CHIUSA",42443.599050925928,83816,0,1,55190965,356,40,0,null,null,42441,389,0,5502911030,34948]
[5500275881,null,5502911036,5500022804,5529335694,8230618,20,2,"CHIUSA",42443.599050925928,83826,0,1,51936581,272,40,0,null,null,42441,298,1,5502911036,34948]
[5500275881,null,5502911037,5500022805,5529335733,8641186,2,1,"CHIUSA",42443.599050925928,83819,0,2,"K05149168AI",170,40,0,null,null,42441,738,1,5502911037,34948]
[5500275881,null,5502911037,5500022805,5529335704,8643797,9,1,"CHIUSA",42443.599050925928,83819,0,1,735607764,513,40,0,null,null,42441,738,1,5502911037,34948]
[5500275881,null,5502911046,5500022814,5529335692,8573376,1,1,"CHIUSA",42443.599050925928,83832,0,1,51936581,272,40,0,null,null,42441,298,1,5502911046,34948]
[5500275881,null,5502911049,5500022817,5529335797,8704284,1,1,"CHIUSA",42443.599050925928,83838,0,1,735598843,112,40,0,null,null,42441,112,0,5502911049,34948]
[5500275881,null,5502911050,5500022818,5529335859,7447147,4,1,"CHIUSA",42443.599050925928,83834,0,1,51965513,65,40,0,null,null,42441,70,1,5502911050,34948]
[5500275881,null,5502911051,5500022819,5529335873,8217522,3,1,"CHIUSA",42443.599050925928,83839,0,1,51965513,65,40,0,null,null,42441,70,1,5502911051,34948]
[5500275881,null,5502911052,5500022820,5529335871,7510455,14,1,"CHIUSA",42443.599050925928,83835,0,1,51965513,65,40,0,null,null,42441,70,1,5502911052,34948]
[5500275881,null,5502911053,5500022821,5529335865,8385682,2,1,"CHIUSA",42443.599050925928,83840,0,1,51965513,65,40,0,null,null,42441,70,1,5502911053,34948]
[5500275881,null,5502911055,5500022823,5529335699,8572119,1,1,"CHIUSA",42443.599050925928,83841,0,1,52028704,1308,40,0,null,null,42441,1433,3,5502911055,34948]
[5500275881,null,5502911081,5500022849,5529335881,8537802,2,1,"CHIUSA",42443.599050925928,83865,0,1,51965513,65,40,0,null,null,42441,70,1,5502911081,34948]
[5500275881,null,5502911090,5500022858,5529335936,8664414,1,1,"CHIUSA",42443.599050925928,83874,0,1,51976616,1843,40,0,null,null,42441,1984,8,5502911090,34948]
[5500275881,null,5502911094,5500022862,5529335904,8707430,1,1,"CHIUSA",42443.599050925928,83882,0,1,"K05116266AG",1217,40,0,null,null,42441,1309,1,5502911094,34948]
[5500275881,null,5502911095,5500022863,5529335880,8704284,2,1,"CHIUSA",42443.599050925928,83881,0,1,735631085,1208,40,0,null,null,42441,1300,3,5502911095,34948]
[5500275881,null,5502911096,5500022864,5529335900,8707342,1,1,"CHIUSA",42443.599050925928,83880,0,1,"K68316186AA",1260,40,0,null,null,42441,1366,1,5502911096,34948]
[5500275881,null,5502911101,5500022869,5529335929,8704891,1,1,"CHIUSA",42443.599050925928,83887,0,1,735599035,29,40,0,null,null,42441,31,0,5502911101,34948]
[5500275882,null,5502910590,5500022358,5529334569,8620727,4,1,"CHIUSA",42443.602476851855,83410,0,1,"K68223470AA",250,40,0,null,null,42440,308,1,5502910590,34948]
[5500275882,null,5502910591,5500022359,5529334528,8572199,1,1,"CHIUSA",42443.602476851855,83411,0,2,735603977,44,40,0,null,null,42440,1260,1,5502910591,34948]
[5500275882,null,5502910591,5500022359,5529334511,8620613,3,1,"CHIUSA",42443.602476851855,83411,0,1,"K04861661AB",980,40,0,null,null,42440,1260,1,5502910591,34948]
[5500275882,null,5502910592,5500022360,5529334566,8572389,1,1,"CHIUSA",42443.602476851855,83412,0,1,"KSP149125AE",306,40,0,null,null,42440,377,0,5502910592,34948]
[5500275882,null,5502910647,5500022415,5529334640,8618801,1,1,"CHIUSA",42443.602476851855,83599,0,1,77366607,951,40,0,null,null,42440,1171,1,5502910647,34948]
[5500275882,null,5502910649,5500022417,5529334676,8572318,2,1,"CHIUSA",42443.602476851855,83601,0,1,"K52060058AF",304,40,0,null,null,42440,374,1,5502910649,34948]
[5500275882,null,5502910726,5500022494,5529334822,8620727,1,1,"CHIUSA",42443.602476851855,83492,0,1,"K68144218AE",61,40,0,null,null,42440,75,0,5502910726,34948]
[5500275882,null,5502910728,5500022496,5529334837,8572389,2,1,"CHIUSA",42443.602476851855,83486,0,1,51953346,88,40,0,null,null,42440,101,0,5502910728,34948]
[5500275882,null,5502910741,5500022509,5529334851,8572199,3,1,"CHIUSA",42443.602476851855,83496,0,1,"K68033747AA",146,40,0,null,null,42440,180,1,5502910741,34948]
[5500275882,null,5502910787,5500022555,5529335299,8589614,1,1,"CHIUSA",42443.602476851855,83570,0,1,52028704,758,40,0,null,null,42440,868,2,5502910787,34948]
[5500275882,null,5502910884,5500022652,5529335506,8641101,1,1,"CHIUSA",42443.602476851855,83666,0,1,"K04766479AD",142,40,0,null,null,42440,175,1,5502910884,34948]
[5500275882,null,5502910904,5500022672,5529335577,7928496,2,1,"CHIUSA",42443.602476851855,83685,0,1,51965513,62,40,0,null,null,42440,70,1,5502910904,34948]
[5500275882,null,5502910963,5500022731,5529335678,8572318,6,2,"CHIUSA",42443.602476851855,83743,0,2,52028704,253,40,0,null,null,42441,579,1,5502910963,34948]
[5500275882,null,5502910963,5500022731,5529335676,8572318,6,1,"CHIUSA",42443.602476851855,83743,0,1,52028704,253,40,0,null,null,42441,579,1,5502910963,34948]
[5500275882,null,5502911034,5500022802,5529335804,8109940,2,1,"CHIUSA",42443.602476851855,83822,0,1,51965513,62,40,0,null,null,42441,70,1,5502911034,34948]
[5500275882,null,5502911035,5500022803,5529335862,8706354,1,1,"CHIUSA",42443.602476851855,83814,0,1,"KCBXNP141AC",415,40,0,null,null,42441,510,3,5502911035,34948]
[5500275882,null,5502911042,5500022810,5529335845,8706555,2,1,"CHIUSA",42443.602476851855,83820,0,1,"K68155434AA",842,40,0,null,null,42441,1036,3,5502911042,34948]
[5500275882,null,5502911043,5500022811,5529335795,8657941,4,1,"CHIUSA",42443.602476851855,83827,0,2,51953599,62,40,0,null,null,42441,94,0,5502911043,34948]
[5500275882,null,5502911043,5500022811,5529335724,8706541,1,1,"CHIUSA",42443.602476851855,83827,0,1,735599035,28,40,0,null,null,42441,94,0,5502911043,34948]
[5500275882,null,5502911044,5500022812,5529335710,8588958,1,1,"CHIUSA",42443.602476851855,83829,0,1,50512681,28,40,0,null,null,42441,32,0,5502911044,34948]
[5500275882,null,5502911047,5500022815,5529335734,6740365,1,3,"CHIUSA",42443.602476851855,83831,0,1,51959773,12,40,0,null,null,42441,15,0,5502911047,34948]
[5500275882,null,5502911098,5500022866,5529335955,8681940,1,1,"CHIUSA",42443.602476851855,83885,0,1,"K05058693AA",1174,40,0,null,null,42441,1442,1,5502911098,34948]
[5500275882,null,5502911100,5500022868,5529335962,8706511,1,1,"CHIUSA",42443.602476851855,83886,0,5,"K68048953AB",487,40,0,null,null,42441,2433,90,5502911100,34948]
[5500275882,null,5502911100,5500022868,5529335961,8706511,1,1,"CHIUSA",42443.602476851855,83886,0,4,"K68048953AB",487,40,0,null,null,42441,2433,90,5502911100,34948]
[5500275882,null,5502911100,5500022868,5529335960,8706511,1,1,"CHIUSA",42443.602476851855,83886,0,3,"K68048953AB",487,40,0,null,null,42441,2433,90,5502911100,34948]
[5500275882,null,5502911100,5500022868,5529335959,8706511,1,1,"CHIUSA",42443.602476851855,83886,0,2,"K68048953AB",487,40,0,null,null,42441,2433,90,5502911100,34948]
[5500275882,null,5502911100,5500022868,5529335958,8706511,1,1,"CHIUSA",42443.602476851855,83886,0,1,"K68048953AB",487,40,0,null,null,42441,2433,90,5502911100,34948]
[5500275882,null,5502911103,5500022871,5529335899,8706364,8,1,"CHIUSA",42443.602476851855,83889,0,1,"K05105514AA",765,40,0,null,null,42441,942,13,5502911103,34948]
[5500275882,null,5502911104,5500022872,5529335930,8706364,3,1,"CHIUSA",42443.602476851855,83894,0,1,52028879,207,40,0,null,null,42441,236,4,5502911104,34948]
[5500275883,null,5502910733,5500022501,5529334826,8168777,6,1,"CHIUSA",42443.605925925927,83491,0,1,"K05182346AA",55,40,0,null,null,42440,55,0,5502910733,34948]
[5500275883,null,5502910809,5500022577,5529335344,8524782,2,3,"CHIUSA",42443.605937499997,83562,0,1,50927749,171,40,0,null,null,42440,199,0,5502910809,34948]
[5500275883,null,5502910844,5500022612,5529335313,8664828,1,1,"CHIUSA",42443.605925925927,83627,0,1,51961724,850,40,0,null,null,42440,850,0,5502910844,34948]
[5500275883,null,5502910847,5500022615,5529335391,1192517,13,1,"CHIUSA",42443.605937499997,83629,0,2,52019177,468,40,0,null,null,42440,7364,7,5502910847,34948]
[5500275883,null,5502910847,5500022615,5529335337,1192517,10,1,"CHIUSA",42443.605925925927,83629,0,1,51965907,5971,40,0,null,null,42440,7364,7,5502910847,34948]
[5500275883,null,5502910888,5500022657,5529335402,8664632,1,1,"CHIUSA",42443.605925925927,83670,0,1,51961724,1700,40,0,null,null,42440,1700,0,5502910888,34948]
[5500275883,null,5502910889,5500022656,5529335461,8322897,1,1,"CHIUSA",42443.605937499997,83673,0,1,51953324,23,40,0,null,null,42440,26,0,5502910889,34948]
[5500275883,null,5502910922,5500022690,5529335553,8663388,2,1,"CHIUSA",42443.605937499997,83710,0,1,735599060,609,40,0,null,null,42440,700,3,5502910922,34948]
[5500275883,null,5502911031,5500022799,5529335749,8522884,0,1,"CHIUSA",42443.605925925927,83811,0,1,52016540,113,40,0,null,null,42441,131,0,5502911031,34948]
[5500275883,null,5502911032,5500022800,5529335747,1159883,7,1,"CHIUSA",42443.605925925927,83817,0,1,55247856,84,40,0,null,null,42441,84,0,5502911032,34948]
[5500275883,null,5502911048,5500022816,5529335717,8596004,2,1,"CHIUSA",42443.605937499997,83833,0,1,51927074,39,40,0,null,null,42441,39,0,5502911048,34948]
[5500275883,null,5502911099,5500022867,5529335949,8705997,8,1,"CHIUSA",42443.605937499997,83884,0,2,"K05058693AA",783,40,0,null,null,42441,3242,3,5502911099,34948]
[5500275883,null,5502911099,5500022867,5529335918,8705997,1,1,"CHIUSA",42443.605937499997,83884,0,1,"K68146909AA",1813,40,0,null,null,42441,3242,3,5502911099,34948]
[5500275883,null,5502911132,5500022900,5529336047,8663386,4,1,"CHIUSA",42443.605937499997,83923,0,1,"K68071976AB",1586,40,0,null,null,42441,1982,5,5502911132,34948]
[5500275884,null,5502910732,5500022500,5529334876,8665581,1,1,"CHIUSA",42443.640682870369,83503,0,1,"K56049823AB",504,40,0,null,null,42440,632,0,5502910732,34948]

{"sheet":"Plan3","index":2,"n_rows":0,"n_cols":0,"rows_kept":0,"cut":false,"hidden":false,"merged":[]}